{"text_format":"1","workbook":"xlsx","n_sheets":66,"sheets":["Le Sueur Co","Carlton Cty","Local SUT","Metro Area Transportation","Metro Area Housing","Roseau Co","Koochiching Co","Norman Co","Renville Co","Itasca Cty","Nobles Co","Dodge Co","Goodhue Co","Sherburne Co","Waseca Co","Redwood Co","Winona Co","Pine Co","Polk Co","Mille Lacs Co","Lake Co","Anoka Co","Becker Co","Beltrami Co (Transit)","Beltrami Cty","Carlton Co","Carver Co","Clay Cty","Dakota Co","Douglas Co","Fillmore Co","GKWMLL Sanitary","Hubbard Co","Cook Cty","Cook Co","Kandiyohi Co","Lyon Co","Morrison Co","Mower Co","Nicollet Co","Olmsted Co","Ramsey Co","Rice Co","Hennepin Co","Hennepin Cty","Scott Co","St. Louis Co","Stearns Co","Steele Co","Todd Co","Wadena Co","Washington Co","Wright Co","Freeborn Co","Metro Area Transit Improvement","Blue Earth Co","Brown Co","Cass Co","Chisago Co","Crow Wing Co","Otter Tail Co","Wabasha Co","Isanti Co","Benton Co","Kanabec Co","McLeod Co"],"not_rendered":{"charts":0,"images":0,"macros":1,"external_links":0,"defined_names":13,"comments":0,"pivot_tables":0},"unopened":[],"bounds":{"document_bytes":16777216,"sheet_cells":100000,"rows_first":2000,"rows_last":500,"rows_between":2000,"halvings":0,"cell_chars":16384,"cell_head_chars":4096},"cells_cut":0,"cells_raw":0,"read":"whole","date_system":"1900"}

{"sheet":"Le Sueur Co","index":0,"n_rows":50,"n_cols":22,"rows_kept":50,"cut":false,"hidden":true,"merged":[[49,0,49,19],[1,0,1,19],[0,0,0,25],[2,0,2,20],[17,0,17,20],[32,0,32,19],[47,0,47,21],[48,0,48,22]]}
["Le Sueur County Monthly Detail for Minnesota Local Sales & Use Tax"]
[{"$f":"'Local SUT'!A2","v":"CY 2004-2024"}]
["Le Sueur County Transit Sales Tax (0.5%)"]
["Month",2004,2005,2006,2007,2008,2009,2010,2011,2012,2013,2014,2015,2016,2017,2018,2019,2020,2021,2022,2023,2024]
["January ","-","-","-","-","-","-","-","-","-","-","-","-","-","-","-","-","-","-",124535,134084,140061]
["February","-","-","-","-","-","-","-","-","-","-","-","-","-","-","-","-","-","-",119836,110777,114706]
["March","-","-","-","-","-","-","-","-","-","-","-","-","-","-","-","-","-","-",103013,103478,110446]
["April","-","-","-","-","-","-","-","-","-","-","-","-","-","-","-","-","-",3,121993,125458,124250]
["May","-","-","-","-","-","-","-","-","-","-","-","-","-","-","-","-","-",97370,111312,116730,135630]
["June","-","-","-","-","-","-","-","-","-","-","-","-","-","-","-","-","-",104568,136705,148074,148202]
["July","-","-","-","-","-","-","-","-","-","-","-","-","-","-","-","-","-",122670,146028,164288,144936]
["August","-","-","-","-","-","-","-","-","-","-","-","-","-","-","-","-","-",126780,148922,147336,148381.65]
["September","-","-","-","-","-","-","-","-","-","-","-","-","-","-","-","-","-",125010,152711,152323,149344.01]
["October","-","-","-","-","-","-","-","-","-","-","-","-","-","-","-","-","-",132190,148778,148329,155434.95000000001]
["November ","-","-","-","-","-","-","-","-","-","-","-","-","-","-","-","-","-",120880,136975,134840,143101.51]
["December","-","-","-","-","-","-","-","-","-","-","-","-","-","-","-","-","-",117675,126496,139157,128213.03]
["Total","-","-","-","-","-","-","-","-","-","-","-","-","-","-","-","-","-",{"$f":"SUM(S5:S16)","v":947146},1577304,{"$f":"SUM(U5:U16)","v":1624874},1642706.15]
["Le Sueur County Transit Use Tax (0.5%)"]
["Month",2004,2005,2006,2007,2008,2009,2010,2011,2012,2013,2014,2015,2016,2017,2018,2019,2020,2021,2021,2023,2024]
["January ","-","-","-","-","-","-","-","-","-","-","-","-","-","-","-","-","-","-",7570,5675,8499]
["February","-","-","-","-","-","-","-","-","-","-","-","-","-","-","-","-","-","-",3930,5224,4854]
["March","-","-","-","-","-","-","-","-","-","-","-","-","-","-","-","-","-","-",9726,3834,4735]
["April","-","-","-","-","-","-","-","-","-","-","-","-","-","-","-","-","-",0,3704,5863,5995]
["May","-","-","-","-","-","-","-","-","-","-","-","-","-","-","-","-","-",3903,7058,4340,7911]
["June","-","-","-","-","-","-","-","-","-","-","-","-","-","-","-","-","-",9642,8805,6267,6247]
["July","-","-","-","-","-","-","-","-","-","-","-","-","-","-","-","-","-",7483,9290,8112,6307]
["August","-","-","-","-","-","-","-","-","-","-","-","-","-","-","-","-","-",10288,7991,7397,8046.04]
["September","-","-","-","-","-","-","-","-","-","-","-","-","-","-","-","-","-",7253,11803,12503,9319.0400000000009]
["October","-","-","-","-","-","-","-","-","-","-","-","-","-","-","-","-","-",8640,12206,12736,11931.65]
["November ","-","-","-","-","-","-","-","-","-","-","-","-","-","-","-","-","-",6920,9854,8443,10597.57]
["December","-","-","-","-","-","-","-","-","-","-","-","-","-","-","-","-","-",5799,9244,7376,6206.39]
["Total","-","-","-","-","-","-","-","-","-","-","-","-","-","-","-","-","-",{"$f":"SUM(S20:S31)","v":59928},101181,{"$f":"SUM(U20:U31)","v":87770},90648.689999999988]
["Le Sueur County Transit Refunds"]
["Month",2004,2005,2006,2007,2008,2009,2010,2011,2012,2013,2014,2015,2016,2017,2018,2019,2020,2021,2021,2023,2024]
["January ","-","-","-","-","-","-","-","-","-","-","-","-","-","-","-","-","-","-",0,0,0]
["February","-","-","-","-","-","-","-","-","-","-","-","-","-","-","-","-","-","-",0,0,0]
["March","-","-","-","-","-","-","-","-","-","-","-","-","-","-","-","-","-","-",0,0,-979]
["April","-","-","-","-","-","-","-","-","-","-","-","-","-","-","-","-","-",0,0,0,-43]
["May","-","-","-","-","-","-","-","-","-","-","-","-","-","-","-","-","-",0,0,-45,0]
["June","-","-","-","-","-","-","-","-","-","-","-","-","-","-","-","-","-",0,0,0,0]
["July","-","-","-","-","-","-","-","-","-","-","-","-","-","-","-","-","-",0,0,0,-2]
["August","-","-","-","-","-","-","-","-","-","-","-","-","-","-","-","-","-",0,-1957,-208,0]
["September","-","-","-","-","-","-","-","-","-","-","-","-","-","-","-","-","-",0,-7942,-2553,0]
["October","-","-","-","-","-","-","-","-","-","-","-","-","-","-","-","-","-",0,0,-6292,-0.31]
["November ","-","-","-","-","-","-","-","-","-","-","-","-","-","-","-","-","-",0,0,0,0]
["December","-","-","-","-","-","-","-","-","-","-","-","-","-","-","-","-","-",0,0,-2,-68]
["Total","-","-","-","-","-","-","-","-","-","-","-","-","-","-","-","-","-",{"$f":"SUM(S35:S46)","v":0},-9899,{"$f":"SUM(U35:U46)","v":-9100},-1092.31]
["Hidden columns B-R do not contain any data for CY 2004-2020"]
[{"$f":"'Local SUT'!A78","v":"Source:  Minnesota Department of Revenue, Tax Research Division, November 2025"}]
["end of worksheet"]

{"sheet":"Carlton Cty","index":1,"n_rows":50,"n_cols":22,"rows_kept":50,"cut":false,"hidden":true,"merged":[[48,0,48,19],[49,0,49,19],[0,0,0,19],[1,0,1,19],[2,0,2,19],[17,0,17,19],[32,0,32,19],[47,0,47,19]]}
["Carlton County Monthly Detail for Minnesota Local Sales & Use Tax"]
[{"$f":"'Local SUT'!A2","v":"CY 2004-2024"}]
["Carlton County Sales Tax (0.5%)"]
["Month",2004,2005,2006,2007,2008,2009,2010,2011,2012,2013,2014,2015,2016,2017,2018,2019,2020,2021,2022,2023,2024]
["January ","-","-","-","-","-","-","-","-","-","-","-","-","-","-","-","-","-","-","-","-",205572]
["February","-","-","-","-","-","-","-","-","-","-","-","-","-","-","-","-","-","-","-","-",173749]
["March","-","-","-","-","-","-","-","-","-","-","-","-","-","-","-","-","-","-","-","-",194304]
["April","-","-","-","-","-","-","-","-","-","-","-","-","-","-","-","-","-","-","-","-",193484]
["May","-","-","-","-","-","-","-","-","-","-","-","-","-","-","-","-","-","-","-",143526,178090]
["June","-","-","-","-","-","-","-","-","-","-","-","-","-","-","-","-","-","-","-",192529,204215]
["July","-","-","-","-","-","-","-","-","-","-","-","-","-","-","-","-","-","-","-",211677,222567]
["August","-","-","-","-","-","-","-","-","-","-","-","-","-","-","-","-","-","-","-",195704,223802.94]
["September","-","-","-","-","-","-","-","-","-","-","-","-","-","-","-","-","-","-","-",200745,218451.45]
["October","-","-","-","-","-","-","-","-","-","-","-","-","-","-","-","-","-","-","-",212302,213002.03]
["November ","-","-","-","-","-","-","-","-","-","-","-","-","-","-","-","-","-","-","-",198347,191397.87]
["December","-","-","-","-","-","-","-","-","-","-","-","-","-","-","-","-","-","-","-",206209,182366.12]
["Total","-","-","-","-","-","-","-","-","-","-","-",{"$f":"SUM(M5:M16)","v":0},{"$f":"SUM(N5:N16)","v":0},{"$f":"SUM(O5:O16)","v":0},{"$f":"SUM(P5:P16)","v":0},{"$f":"SUM(Q5:Q16)","v":0},{"$f":"SUM(R5:R16)","v":0},0,0,1561039,{"$f":"SUM(V5:V16)","v":2401001.41}]
["Carlton County Use Tax (0.5%)"]
["Month",2004,2005,2006,2007,2008,2009,2010,2011,2012,2013,2014,2015,2016,2017,2018,2019,2020,2021,2022,2023,2024]
["January ","-","-","-","-","-","-","-","-","-","-","-","-","-","-","-","-","-","-","-","-",16458]
["February","-","-","-","-","-","-","-","-","-","-","-","-","-","-","-","-","-","-","-","-",17035]
["March","-","-","-","-","-","-","-","-","-","-","-","-","-","-","-","-","-","-","-","-",14277]
["April","-","-","-","-","-","-","-","-","-","-","-","-","-","-","-","-","-","-","-","-",9927]
["May","-","-","-","-","-","-","-","-","-","-","-","-","-","-","-","-","-","-","-",7594,8073]
["June","-","-","-","-","-","-","-","-","-","-","-","-","-","-","-","-","-","-","-",10021,15024]
["July","-","-","-","-","-","-","-","-","-","-","-","-","-","-","-","-","-","-","-",20418,19709]
["August","-","-","-","-","-","-","-","-","-","-","-","-","-","-","-","-","-","-","-",20299,21047.74]
["September","-","-","-","-","-","-","-","-","-","-","-","-","-","-","-","-","-","-","-",16336,26402.33]
["October","-","-","-","-","-","-","-","-","-","-","-","-","-","-","-","-","-","-","-",14025,17135.09]
["November ","-","-","-","-","-","-","-","-","-","-","-","-","-","-","-","-","-","-","-",12878,17984.64]
["December","-","-","-","-","-","-","-","-","-","-","-","-","-","-","-","-","-","-","-",11500,14426.04]
["Total","-","-","-","-","-","-","-","-","-","-","-",{"$f":"SUM(M20:M31)","v":0},{"$f":"SUM(N20:N31)","v":0},{"$f":"SUM(O20:O31)","v":0},{"$f":"SUM(P20:P31)","v":0},{"$f":"SUM(Q20:Q31)","v":0},{"$f":"SUM(R20:R31)","v":0},0,0,113071,197498.84]
["Carlton County Refunds "]
["Month",2004,2005,2006,2007,2008,2009,2010,2011,2012,2013,2014,2015,2016,2017,2018,2019,2020,2021,2022,2023,2024]
["January ","-","-","-","-","-","-","-","-","-","-","-","-","-","-","-","-","-","-","-","-",0]
["February","-","-","-","-","-","-","-","-","-","-","-","-","-","-","-","-","-","-","-","-",0]
["March","-","-","-","-","-","-","-","-","-","-","-","-","-","-","-","-","-","-","-","-",0]
["April","-","-","-","-","-","-","-","-","-","-","-","-","-","-","-","-","-","-","-","-",0]
["May","-","-","-","-","-","-","-","-","-","-","-","-","-","-","-","-","-","-","-","-",0]
["June","-","-","-","-","-","-","-","-","-","-","-","-","-","-","-","-","-","-","-","-",0]
["July","-","-","-","-","-","-","-","-","-","-","-","-","-","-","-","-","-","-","-","-",-836]
["August","-","-","-","-","-","-","-","-","-","-","-","-","-","-","-","-","-","-","-","-",-9.6300000000000008]
["September","-","-","-","-","-","-","-","-","-","-","-","-","-","-","-","-","-","-","-","-",0]
["October","-","-","-","-","-","-","-","-","-","-","-","-","-","-","-","-","-","-","-","-",0]
["November ","-","-","-","-","-","-","-","-","-","-","-","-","-","-","-","-","-","-","-","-",0]
["December","-","-","-","-","-","-","-","-","-","-","-","-","-","-","-","-","-","-","-","-",0]
["Total","-","-","-","-","-","-","-","-","-","-","-",{"$f":"SUM(M35:M46)","v":0},{"$f":"SUM(N35:N46)","v":0},{"$f":"SUM(O35:O46)","v":0},{"$f":"SUM(P35:P46)","v":0},{"$f":"SUM(Q35:Q46)","v":0},{"$f":"SUM(R35:R46)","v":0},0,0,0,-845.63]
["Hidden columns B-L do not contain any data for CY 2004-2014"]
[{"$f":"'Local SUT'!A78","v":"Source:  Minnesota Department of Revenue, Tax Research Division, November 2025"}]
["end of worksheet"]

{"sheet":"Local SUT","index":2,"n_rows":79,"n_cols":24,"rows_kept":79,"cut":false,"hidden":false,"merged":[[75,0,75,21],[76,0,76,21],[77,0,77,21],[78,0,78,21],[74,0,74,21],[73,0,73,2],[0,0,0,21],[1,0,1,21],[2,0,2,21],[68,0,68,2],[72,0,72,2]]}
["Table 3. County General Sales & Use Taxes Total Collections"]
["CY 2004-2024"]
["For detail by month through June 2024, double click on links."]
["County","Tax Rate","Year Imposed",2004,2005,2006,2007,2008,2009,2010,2011,2012,2013,"2014\n",2015,2016,2017,2018,2019,2020,2021,2022,2023,2024]
["Non-Transit Taxes:"]
["Beltrami Cty",5.0000000000000001E-3,2024,null,null,null,null,null,null,null,null,null,null,null,null,null,null,null,null,null,null,null,null,{"$f":"'Beltrami Cty'!V17+'Beltrami Cty'!V32","v":2252371}]
["Carlton Cty",5.0000000000000001E-3,2023,null,null,null,null,null,null,null,null,null,null,null,null,null,null,null,null,null,null,null,{"$f":"'Carlton Cty'!U17+'Carlton Cty'!U32","v":1674110},{"$f":"'Carlton Cty'!V17+'Carlton Cty'!V32","v":2598500.25}]
["Cook Cty",0.01," 2010*",{"$f":"'Cook Cty'!B17+'Cook Cty'!B32","v":1002391.34},{"$f":"'Cook Cty'!C17+'Cook Cty'!C32","v":1074549.6499999999},{"$f":"'Cook Cty'!D17+'Cook Cty'!D32","v":1079651.18},{"$f":"'Cook Cty'!E17+'Cook Cty'!E32","v":1181754.5499999998},{"$f":"'Cook Cty'!F17+'Cook Cty'!F32","v":443333.39},{"$f":"'Cook Cty'!G17+'Cook Cty'!G32","v":996.40999999999804},{"$f":"'Cook Cty'!H17+'Cook Cty'!H32","v":767941.64},{"$f":"'Cook Cty'!I17+'Cook Cty'!I32","v":1145291},{"$f":"'Cook Cty'!J17+'Cook Cty'!J32","v":1258563},{"$f":"'Cook Cty'!K17+'Cook Cty'!K32","v":1444164},{"$f":"'Cook Cty'!L17+'Cook Cty'!L32","v":1444056},{"$f":"'Cook Cty'!M17+'Cook Cty'!M32","v":1575952},{"$f":"'Cook Cty'!N17+'Cook Cty'!N32","v":1565320},{"$f":"'Cook Cty'!O17+'Cook Cty'!O32","v":1527365},{"$f":"'Cook Cty'!P17+'Cook Cty'!P32","v":1713673},{"$f":"'Cook Cty'!Q17+'Cook Cty'!Q32","v":1818226},{"$f":"'Cook Cty'!R17+'Cook Cty'!R32","v":1790279},{"$f":"'Cook Cty'!S17+'Cook Cty'!S32","v":2269769},{"$f":"'Cook Cty'!T17+'Cook Cty'!T32","v":2415136},{"$f":"'Cook Cty'!U17+'Cook Cty'!U32","v":2477901},{"$f":"'Cook Cty'!V17+'Cook Cty'!V32","v":2320130.7599999998}]
["Clay Cty",5.0000000000000001E-3,2017,"-","-","-","-","-","-","-","-","-","-","-","-","-",{"$f":"'Clay Cty'!O17+'Clay Cty'!O32","v":361017},{"$f":"'Clay Cty'!P17+'Clay Cty'!P32","v":2566027},{"$f":"'Clay Cty'!Q17+'Clay Cty'!Q32","v":3027941},{"$f":"'Clay Cty'!R17+'Clay Cty'!R32","v":3611748},{"$f":"'Clay Cty'!S17+'Clay Cty'!S32","v":3952672},{"$f":"'Clay Cty'!T17+'Clay Cty'!T32","v":4446884},{"$f":"'Clay Cty'!U17+'Clay Cty'!U32","v":4692510},{"$f":"'Clay Cty'!V17+'Clay Cty'!V32","v":4605176.5900000008}]
["GKWMLL Sanitary District",0.01,2018,null,null,null,null,null,null,null,null,null,null,null,null,null,null,{"$f":"'GKWMLL Sanitary'!P17+'GKWMLL Sanitary'!P32","v":170491},{"$f":"'GKWMLL Sanitary'!Q17+'GKWMLL Sanitary'!Q32","v":186102},{"$f":"'GKWMLL Sanitary'!R17+'GKWMLL Sanitary'!R32","v":223645},{"$f":"'GKWMLL Sanitary'!S17+'GKWMLL Sanitary'!S32","v":275922},{"$f":"'GKWMLL Sanitary'!T17+'GKWMLL Sanitary'!T32","v":263229},{"$f":"'GKWMLL Sanitary'!U17+'GKWMLL Sanitary'!U32","v":323387},{"$f":"'GKWMLL Sanitary'!V17+'GKWMLL Sanitary'!V32","v":418345.39}]
["Hennepin Cty",1.5E-3,2007,"-","-","-",{"$f":"'Hennepin Cty'!E17+'Hennepin Cty'!E32","v":24573565.57},{"$f":"'Hennepin Cty'!F17+'Hennepin Cty'!F32","v":29082573.909999996},{"$f":"'Hennepin Cty'!G17+'Hennepin Cty'!G32","v":28030758},{"$f":"'Hennepin Cty'!H17+'Hennepin Cty'!H32","v":28864673},{"$f":"'Hennepin Cty'!I17+'Hennepin Cty'!I32","v":31063329},{"$f":"'Hennepin Cty'!J17+'Hennepin Cty'!J32","v":32344624},{"$f":"'Hennepin Cty'!K17+'Hennepin Cty'!K32","v":34249703},{"$f":"'Hennepin Cty'!L17+'Hennepin Cty'!L32","v":35052547},{"$f":"'Hennepin Cty'!M17+'Hennepin Cty'!M32","v":36953879},{"$f":"'Hennepin Cty'!N17+'Hennepin Cty'!N32","v":37476228},{"$f":"'Hennepin Cty'!O17+'Hennepin Cty'!O32","v":37858775},{"$f":"'Hennepin Cty'!P17+'Hennepin Cty'!P32","v":39348167},{"$f":"'Hennepin Cty'!Q17+'Hennepin Cty'!Q32","v":43674866},{"$f":"'Hennepin Cty'!R17+'Hennepin Cty'!R32","v":36839329},{"$f":"'Hennepin Cty'!S17+'Hennepin Cty'!S32","v":40943577},{"$f":"'Hennepin Cty'!T17+'Hennepin Cty'!T32","v":45279210},{"$f":"'Hennepin Cty'!U17+'Hennepin Cty'!U32","v":49721888},{"$f":"'Hennepin Cty'!V17+'Hennepin Cty'!V32","v":50175938.289999992}]
["Itasca Cty",0.01,2023,null,null,null,null,null,null,null,null,null,null,null,null,null,null,null,null,null,null,null,{"$f":"'Itasca Cty'!U17+'Itasca Cty'!U32","v":5432230},{"$f":"'Itasca Cty'!V17+'Itasca Cty'!V32","v":8515778.9500000011}]
["Transit Taxes:"]
["Anoka Co",2.5000000000000001E-3,2017,"-","-","-","-","-","-","-","-","-","-","-","-","-",{"$f":"'Anoka Co'!O17+'Anoka Co'!O32","v":1691361},{"$f":"'Anoka Co'!P17+'Anoka Co'!P32","v":11059485},{"$f":"'Anoka Co'!Q17+'Anoka Co'!Q32","v":11811566},{"$f":"'Anoka Co'!R17+'Anoka Co'!R32","v":12410129},{"$f":"'Anoka Co'!S17+'Anoka Co'!S32","v":14111972},{"$f":"'Anoka Co'!T17+'Anoka Co'!T32","v":15474228},{"$f":"'Anoka Co'!U17+'Anoka Co'!U32","v":15622162},{"$f":"'Anoka Co'!V17+'Anoka Co'!V32","v":15456009.179999998}]
["Benton Co",5.0000000000000001E-3,2019,null,null,null,null,null,null,"-","-","-","-","-","-","-","-","-",{"$f":"'Benton Co'!Q17+'Benton Co'!Q32","v":351890},{"$f":"'Benton Co'!R17+'Benton Co'!R32","v":2612258},{"$f":"'Benton Co'!S17+'Benton Co'!S32","v":3293500},{"$f":"'Benton Co'!T17+'Benton Co'!T32","v":3994480},{"$f":"'Benton Co'!U17+'Benton Co'!U32","v":3946587},{"$f":"'Benton Co'!V17+'Benton Co'!V32","v":3870972.5599999996}]
["Becker Co",5.0000000000000001E-3,2014,"-","-","-","-","-","-","-","-","-","-",{"$f":"'Becker Co'!L17+'Becker Co'!L32","v":891621},{"$f":"'Becker Co'!M17+'Becker Co'!M32","v":2132901},{"$f":"'Becker Co'!N17+'Becker Co'!N32","v":2186818},{"$f":"'Becker Co'!O17+'Becker Co'!O32","v":2399674},{"$f":"'Becker Co'!P17+'Becker Co'!P32","v":2668087},{"$f":"'Becker Co'!Q17+'Becker Co'!Q32","v":2697736},{"$f":"'Becker Co'!R17+'Becker Co'!R32","v":2874450},{"$f":"'Becker Co'!S17+'Becker Co'!S32","v":3362649},{"$f":"'Becker Co'!T17+'Becker Co'!T32","v":3758617},{"$f":"'Becker Co'!U17+'Becker Co'!U32","v":3814635},{"$f":"'Becker Co'!V17+'Becker Co'!V32","v":3806839.2199999997}]
["Beltrami Co",5.0000000000000001E-3,2014,"-","-","-","-","-","-","-","-","-","-",{"$f":"'Beltrami Co (Transit)'!L17+'Beltrami Co (Transit)'!L32","v":2019694},{"$f":"'Beltrami Co (Transit)'!M17+'Beltrami Co (Transit)'!M32","v":3422677},{"$f":"'Beltrami Co (Transit)'!N17+'Beltrami Co (Transit)'!N32","v":3658646},{"$f":"'Beltrami Co (Transit)'!O17+'Beltrami Co (Transit)'!O32","v":3465150},{"$f":"'Beltrami Co (Transit)'!P17+'Beltrami Co (Transit)'!P32","v":3408638},{"$f":"'Beltrami Co (Transit)'!Q17+'Beltrami Co (Transit)'!Q32","v":3673226},{"$f":"'Beltrami Co (Transit)'!R17+'Beltrami Co (Transit)'!R32","v":3762681},{"$f":"'Beltrami Co (Transit)'!S17+'Beltrami Co (Transit)'!S32","v":4964667},{"$f":"'Beltrami Co (Transit)'!T17+'Beltrami Co (Transit)'!T32","v":4630409},{"$f":"'Beltrami Co (Transit)'!U17+'Beltrami Co (Transit)'!U32","v":4641045},{"$f":"'Beltrami Co (Transit)'!V17+'Beltrami Co (Transit)'!V32","v":4535106.75}]
["Blue Earth Co",5.0000000000000001E-3,2016,"-","-","-","-","-","-","-","-","-","-","-","-",{"$f":"'Blue Earth Co'!N17+'Blue Earth Co'!N32","v":3961540},{"$f":"'Blue Earth Co'!O17+'Blue Earth Co'!O32","v":6021417},{"$f":"'Blue Earth Co'!P17+'Blue Earth Co'!P32","v":6304952},{"$f":"'Blue Earth Co'!Q17+'Blue Earth Co'!Q32","v":6465266},{"$f":"'Blue Earth Co'!R17+'Blue Earth Co'!R32","v":6511487},{"$f":"'Blue Earth Co'!S17+'Blue Earth Co'!S32","v":7483024},{"$f":"'Blue Earth Co'!T17+'Blue Earth Co'!T32","v":8307204},{"$f":"'Blue Earth Co'!U17+'Blue Earth Co'!U32","v":8752823},{"$f":"'Blue Earth Co'!V17+'Blue Earth Co'!V32","v":8278181.2000000002}]
["Brown Co",5.0000000000000001E-3,2016,"-","-","-","-","-","-","-","-","-","-","-","-",{"$f":"'Brown Co'!N17+'Brown Co'!N32","v":1127216},{"$f":"'Brown Co'!O17+'Brown Co'!O32","v":1663602},{"$f":"'Brown Co'!P17+'Brown Co'!P32","v":1732971},{"$f":"'Brown Co'!Q17+'Brown Co'!Q32","v":1835721},{"$f":"'Brown Co'!R17+'Brown Co'!R32","v":2022609},{"$f":"'Brown Co'!S17+'Brown Co'!S32","v":2272206},{"$f":"'Brown Co'!T17+'Brown Co'!T32","v":2429134},{"$f":"'Brown Co'!U17+'Brown Co'!U32","v":2494447},{"$f":"'Brown Co'!V17+'Brown Co'!V32","v":2452172.4999999995}]
["Carlton Co",5.0000000000000001E-3,2015,"-","-","-","-","-","-","-","-","-","-","-",{"$f":"'Carlton Co'!M17+'Carlton Co'!M32","v":1102758},{"$f":"'Carlton Co'!N17+'Carlton Co'!N32","v":1727802},{"$f":"'Carlton Co'!O17+'Carlton Co'!O32","v":1964660},{"$f":"'Carlton Co'!P17+'Carlton Co'!P32","v":1823878},{"$f":"'Carlton Co'!Q17+'Carlton Co'!Q32","v":1925491},{"$f":"'Carlton Co'!R17+'Carlton Co'!R32","v":2100732},{"$f":"'Carlton Co'!S17+'Carlton Co'!S32","v":3283192},{"$f":"'Carlton Co'!T17+'Carlton Co'!T32","v":2550776},{"$f":"'Carlton Co'!U17+'Carlton Co'!U32","v":2606532},{"$f":"'Carlton Co'!V17+'Carlton Co'!V32","v":2732644.9099999997}]
["Carver Co",5.0000000000000001E-3,2017,"-","-","-","-","-","-","-","-","-","-","-","-","-",{"$f":"'Carver Co'!O17+'Carver Co'!O32","v":892342},{"$f":"'Carver Co'!P17+'Carver Co'!P32","v":7216800},{"$f":"'Carver Co'!Q17+'Carver Co'!Q32","v":8834428},{"$f":"'Carver Co'!R17+'Carver Co'!R32","v":8715038},{"$f":"'Carver Co'!S17+'Carver Co'!S32","v":10080144},{"$f":"'Carver Co'!T17+'Carver Co'!T32","v":12411380},{"$f":"'Carver Co'!U17+'Carver Co'!U32","v":10639996},{"$f":"'Carver Co'!V17+'Carver Co'!V32","v":10859213.880000001}]
["Cass Co",5.0000000000000001E-3,2016,"-","-","-","-","-","-","-","-","-","-","-","-",{"$f":"'Cass Co'!N17+'Cass Co'!N32","v":1296754},{"$f":"'Cass Co'!O17+'Cass Co'!O32","v":1795180},{"$f":"'Cass Co'!P17+'Cass Co'!P32","v":2008434},{"$f":"'Cass Co'!Q17+'Cass Co'!Q32","v":2075251},{"$f":"'Cass Co'!R17+'Cass Co'!R32","v":2380276},{"$f":"'Cass Co'!S17+'Cass Co'!S32","v":3750079},{"$f":"'Cass Co'!T17+'Cass Co'!T32","v":3050824},{"$f":"'Cass Co'!U17+'Cass Co'!U32","v":3102539},{"$f":"'Cass Co'!V17+'Cass Co'!V32","v":3157468.0399999996}]
["Chisago Co",5.0000000000000001E-3,2016,"-","-","-","-","-","-","-","-","-","-","-","-",{"$f":"'Chisago Co'!N17+'Chisago Co'!N32","v":1377569},{"$f":"'Chisago Co'!O17+'Chisago Co'!O32","v":2178378},{"$f":"'Chisago Co'!P17+'Chisago Co'!P32","v":2393599},{"$f":"'Chisago Co'!Q17+'Chisago Co'!Q32","v":2699640},{"$f":"'Chisago Co'!R17+'Chisago Co'!R32","v":2885433},{"$f":"'Chisago Co'!S17+'Chisago Co'!S32","v":3337683},{"$f":"'Chisago Co'!T17+'Chisago Co'!T32","v":3680284},{"$f":"'Chisago Co'!U17+'Chisago Co'!U32","v":3661018},{"$f":"'Chisago Co'!V17+'Chisago Co'!V32","v":3717844.7199999997}]
["Cook Co",5.0000000000000001E-3,2017,"-","-","-","-","-","-","-","-","-","-","-","-","-",{"$f":"'Cook Co'!O17+'Cook Co'!O32","v":677578},{"$f":"'Cook Co'!P17+'Cook Co'!P32","v":829460},{"$f":"'Cook Co'!Q17+'Cook Co'!Q32","v":901315},{"$f":"'Cook Co'!R17+'Cook Co'!R32","v":894655},{"$f":"'Cook Co'!S17+'Cook Co'!S32","v":1136825},{"$f":"'Cook Co'!T17+'Cook Co'!T32","v":1226910},{"$f":"'Cook Co'!U17+'Cook Co'!U32","v":1240096},{"$f":"'Cook Co'!V17+'Cook Co'!V32","v":1163248.77}]
["Crow Wing Co",5.0000000000000001E-3,2016,"-","-","-","-","-","-","-","-","-","-","-","-",{"$f":"'Crow Wing Co'!N17+'Crow Wing Co'!N32","v":4142131},{"$f":"'Crow Wing Co'!O17+'Crow Wing Co'!O32","v":6087433},{"$f":"'Crow Wing Co'!P17+'Crow Wing Co'!P32","v":6489291},{"$f":"'Crow Wing Co'!Q17+'Crow Wing Co'!Q32","v":7032394},{"$f":"'Crow Wing Co'!R17+'Crow Wing Co'!R32","v":7542322},{"$f":"'Crow Wing Co'!S17+'Crow Wing Co'!S32","v":8772839},{"$f":"'Crow Wing Co'!T17+'Crow Wing Co'!T32","v":9602378},{"$f":"'Crow Wing Co'!U17+'Crow Wing Co'!U32","v":9808707},{"$f":"'Crow Wing Co'!V17+'Crow Wing Co'!V32","v":9859208.8000000007}]
["Dakota Co",2.5000000000000001E-3,2017,"-","-","-","-","-","-","-","-","-","-","-","-","-",{"$f":"'Dakota Co'!O17+'Dakota Co'!O32","v":2536993},{"$f":"'Dakota Co'!P17+'Dakota Co'!P32","v":16585084},{"$f":"'Dakota Co'!Q17+'Dakota Co'!Q32","v":17717456},{"$f":"'Dakota Co'!R17+'Dakota Co'!R32","v":17939800},{"$f":"'Dakota Co'!S17+'Dakota Co'!S32","v":19959885},{"$f":"'Dakota Co'!T17+'Dakota Co'!T32","v":22298959},{"$f":"'Dakota Co'!U17+'Dakota Co'!U32","v":23245318},{"$f":"'Dakota Co'!V17+'Dakota Co'!V32","v":23198562.739999998}]
["Dodge Co",5.0000000000000001E-3,2019,null,null,null,null,null,null,"-","-","-","-","-","-","-","-","-",{"$f":"'Dodge Co'!Q17+'Dodge Co'!Q32","v":780842},{"$f":"'Dodge Co'!R17+'Dodge Co'!R32","v":1034229},{"$f":"'Dodge Co'!S17+'Dodge Co'!S32","v":1096501},{"$f":"'Dodge Co'!T17+'Dodge Co'!T32","v":1198270},{"$f":"'Dodge Co'!U17+'Dodge Co'!U32","v":1202948},{"$f":"'Dodge Co'!V17+'Dodge Co'!V32","v":1216696.26}]
["Douglas Co",5.0000000000000001E-3,2014,"-","-","-","-","-","-","-","-","-","-",{"$f":"'Douglas Co'!L17+'Douglas Co'!L32","v":438645},{"$f":"'Douglas Co'!M17+'Douglas Co'!M32","v":3147085},{"$f":"'Douglas Co'!N17+'Douglas Co'!N32","v":3227977},{"$f":"'Douglas Co'!O17+'Douglas Co'!O32","v":3390519},{"$f":"'Douglas Co'!P17+'Douglas Co'!P32","v":3499028},{"$f":"'Douglas Co'!Q17+'Douglas Co'!Q32","v":3690799},{"$f":"'Douglas Co'!R17+'Douglas Co'!R32","v":3787451},{"$f":"'Douglas Co'!S17+'Douglas Co'!S32","v":4330212},{"$f":"'Douglas Co'!T17+'Douglas Co'!T32","v":5020823},{"$f":"'Douglas Co'!U17+'Douglas Co'!U32","v":5126470},{"$f":"'Douglas Co'!V17+'Douglas Co'!V32","v":5039723.1599999992}]
["Fillmore Co",5.0000000000000001E-3,2015,"-","-","-","-","-","-","-","-","-","-","-",{"$f":"'Fillmore Co'!M17+'Fillmore Co'!M32","v":726549},{"$f":"'Fillmore Co'!N17+'Fillmore Co'!N32","v":850283},{"$f":"'Fillmore Co'!O17+'Fillmore Co'!O32","v":875698},{"$f":"'Fillmore Co'!P17+'Fillmore Co'!P32","v":914559},{"$f":"'Fillmore Co'!Q17+'Fillmore Co'!Q32","v":962965},{"$f":"'Fillmore Co'!R17+'Fillmore Co'!R32","v":1053760},{"$f":"'Fillmore Co'!S17+'Fillmore Co'!S32","v":1199762},{"$f":"'Fillmore Co'!T17+'Fillmore Co'!T32","v":1397633},{"$f":"'Fillmore Co'!U17+'Fillmore Co'!U32","v":1458679},{"$f":"'Fillmore Co'!V17+'Fillmore Co'!V32","v":1398981.05}]
["Freeborn Co",5.0000000000000001E-3,2016,"-","-","-","-","-","-","-","-","-","-","-","-",{"$f":"'Freeborn Co'!N17+'Freeborn Co'!N32","v":1694931},{"$f":"'Freeborn Co'!O17+'Freeborn Co'!O32","v":1899193},{"$f":"'Freeborn Co'!P17+'Freeborn Co'!P32","v":2012409},{"$f":"'Freeborn Co'!Q17+'Freeborn Co'!Q32","v":2136124},{"$f":"'Freeborn Co'!R17+'Freeborn Co'!R32","v":2209379},{"$f":"'Freeborn Co'!S17+'Freeborn Co'!S32","v":2424068},{"$f":"'Freeborn Co'!T17+'Freeborn Co'!T32","v":2654600},{"$f":"'Freeborn Co'!U17+'Freeborn Co'!U32","v":2763760},{"$f":"'Freeborn Co'!V17+'Freeborn Co'!V32","v":2677874.6500000004}]
["Goodhue Co",5.0000000000000001E-3,2019,null,null,null,null,null,null,"-","-","-","-","-","-","-","-",null,{"$f":"'Goodhue Co'!Q17+'Goodhue Co'!Q32","v":3030411},{"$f":"'Goodhue Co'!R17+'Goodhue Co'!R32","v":3416433},{"$f":"'Goodhue Co'!S17+'Goodhue Co'!S32","v":3970602},{"$f":"'Goodhue Co'!T17+'Goodhue Co'!T32","v":4338789},{"$f":"'Goodhue Co'!U17+'Goodhue Co'!U32","v":4485127},{"$f":"'Goodhue Co'!V17+'Goodhue Co'!V32","v":4451377.12}]
["Hennepin Co",5.0000000000000001E-3,2017,"-","-","-","-","-","-","-","-","-","-","-","-","-",{"$f":"'Hennepin Co'!O17+'Hennepin Co'!O32","v":19982941},{"$f":"'Hennepin Co'!P17+'Hennepin Co'!P32","v":130059592},{"$f":"'Hennepin Co'!Q17+'Hennepin Co'!Q32","v":136129636},{"$f":"'Hennepin Co'!R17+'Hennepin Co'!R32","v":121825796},{"$f":"'Hennepin Co'!S17+'Hennepin Co'!S32","v":138202176},{"$f":"'Hennepin Co'!T17+'Hennepin Co'!T32","v":160677011},{"$f":"'Hennepin Co'!U17+'Hennepin Co'!U32","v":164564379},{"$f":"'Hennepin Co'!V17+'Hennepin Co'!V32","v":163191027.48000002}]
["Hubbard Co",5.0000000000000001E-3,2015,"-","-","-","-","-","-","-","-","-","-","-",{"$f":"'Hubbard Co'!M17+'Hubbard Co'!M32","v":428043},{"$f":"'Hubbard Co'!N17+'Hubbard Co'!N32","v":929720},{"$f":"'Hubbard Co'!O17+'Hubbard Co'!O32","v":1040001},{"$f":"'Hubbard Co'!P17+'Hubbard Co'!P32","v":1289407},{"$f":"'Hubbard Co'!Q17+'Hubbard Co'!Q32","v":1340277},{"$f":"'Hubbard Co'!R17+'Hubbard Co'!R32","v":1530025},{"$f":"'Hubbard Co'!S17+'Hubbard Co'!S32","v":1953440},{"$f":"'Hubbard Co'!T17+'Hubbard Co'!T32","v":1927335},{"$f":"'Hubbard Co'!U17+'Hubbard Co'!U32","v":1967092},{"$f":"'Hubbard Co'!V17+'Hubbard Co'!V32","v":1970195.78}]
["Isanti Co",5.0000000000000001E-3,2019,null,null,null,null,null,null,"-","-","-","-","-","-","-","-","-",{"$f":"'Isanti Co'!Q17+'Isanti Co'!Q32","v":934458},{"$f":"'Isanti Co'!R17+'Isanti Co'!R32","v":2597705},{"$f":"'Isanti Co'!S17+'Isanti Co'!S32","v":3017128},{"$f":"'Isanti Co'!T17+'Isanti Co'!T32","v":3370250},{"$f":"'Isanti Co'!U17+'Isanti Co'!U32","v":3441871},{"$f":"'Isanti Co'!V17+'Isanti Co'!V32","v":3595883.5500000003}]
["Kanabec Co",5.0000000000000001E-3,2020,null,null,null,null,null,null,"-","-","-","-","-","-","-","-","-","-",{"$f":"'Kanabec Co'!R17+'Kanabec Co'!R32","v":634657},{"$f":"'Kanabec Co'!S17+'Kanabec Co'!S32","v":848929},{"$f":"'Kanabec Co'!T17+'Kanabec Co'!T32","v":1063989},{"$f":"'Kanabec Co'!U17+'Kanabec Co'!U32","v":1014147},{"$f":"'Kanabec Co'!V17+'Kanabec Co'!V32","v":1000774.7800000001}]
["Kandiyohi Co",5.0000000000000001E-3,2018,"-","-","-","-","-","-","-","-","-","-","-","-","-","-",{"$f":"'Kandiyohi Co'!P17+'Kandiyohi Co'!P32","v":2028807},{"$f":"'Kandiyohi Co'!Q17+'Kandiyohi Co'!Q32","v":3168895},{"$f":"'Kandiyohi Co'!R17+'Kandiyohi Co'!R32","v":3419695},{"$f":"'Kandiyohi Co'!S17+'Kandiyohi Co'!S32","v":3899631},{"$f":"'Kandiyohi Co'!T17+'Kandiyohi Co'!T32","v":4532927},{"$f":"'Kandiyohi Co'!U17+'Kandiyohi Co'!U32","v":4706513},{"$f":"'Kandiyohi Co'!V17+'Kandiyohi Co'!V32","v":4658392.1100000003}]
["Koochiching Co",5.0000000000000001E-3,2022,null,null,null,null,null,null,null,null,null,null,null,null,null,null,null,null,null,null,{"$f":"'Koochiching Co'!T17+'Koochiching Co'!T32","v":643539},{"$f":"'Koochiching Co'!U17+'Koochiching Co'!U32","v":953946},{"$f":"'Koochiching Co'!V17+'Koochiching Co'!V32","v":990186.80999999994}]
["Lake Co",5.0000000000000001E-3,2017,"-","-","-","-","-","-","-","-","-","-","-","-","-",{"$f":"'Lake Co'!O17+'Lake Co'!O32","v":534316},{"$f":"'Lake Co'!P17+'Lake Co'!P32","v":918788},{"$f":"'Lake Co'!Q17+'Lake Co'!Q32","v":972984},{"$f":"'Lake Co'!R17+'Lake Co'!R32","v":1018953},{"$f":"'Lake Co'!S17+'Lake Co'!S32","v":1228294},{"$f":"'Lake Co'!T17+'Lake Co'!T32","v":1203250},{"$f":"'Lake Co'!U17+'Lake Co'!U32","v":1265844},{"$f":"'Lake Co'!V17+'Lake Co'!V32","v":1332371.6199999999}]
["Le Sueur Co",5.0000000000000001E-3,2021,null,null,null,null,null,null,"-","-","-","-","-","-","-","-","-","-","-",{"$f":"'Le Sueur Co'!S17+'Le Sueur Co'!S32","v":1007074},{"$f":"'Le Sueur Co'!T17+'Le Sueur Co'!T32","v":1678485},{"$f":"'Le Sueur Co'!U17+'Le Sueur Co'!U32","v":1712644},{"$f":"'Le Sueur Co'!V17+'Le Sueur Co'!V32","v":1733354.8399999999}]
["Lyon Co",5.0000000000000001E-3,2015,"-","-","-","-","-","-","-","-","-","-","-",{"$f":"'Lyon Co'!M17+'Lyon Co'!M32","v":291539},{"$f":"'Lyon Co'!N17+'Lyon Co'!N32","v":1868381},{"$f":"'Lyon Co'!O17+'Lyon Co'!O32","v":1880882},{"$f":"'Lyon Co'!P17+'Lyon Co'!P32","v":1909545},{"$f":"'Lyon Co'!Q17+'Lyon Co'!Q32","v":2080318},{"$f":"'Lyon Co'!R17+'Lyon Co'!R32","v":1083587},{"$f":"'Lyon Co'!S17+'Lyon Co'!S32","v":11328},{"$f":"'Lyon Co'!T17+'Lyon Co'!T32","v":2321},{"$f":"'Lyon Co'!U17+'Lyon Co'!U32","v":-17285},{"$f":"'Lyon Co'!V17+'Lyon Co'!V32","v":1975.1}]
["McLeod Co",5.0000000000000001E-3,2020,null,null,null,null,null,null,"-","-","-","-","-","-","-","-","-","-",{"$f":"'McLeod Co'!R17+'McLeod Co'!R32","v":2300640},{"$f":"'McLeod Co'!S17+'McLeod Co'!S32","v":2885996},{"$f":"'McLeod Co'!T17+'McLeod Co'!T32","v":3260421},{"$f":"'McLeod Co'!U17+'McLeod Co'!U32","v":3265919},{"$f":"'McLeod Co'!V17+'McLeod Co'!V32","v":3313084.96}]
["Mille Lacs Co",5.0000000000000001E-3,2017,"-","-","-","-","-","-","-","-","-","-","-","-","-",{"$f":"'Mille Lacs Co'!O17+'Mille Lacs Co'!O32","v":969168},{"$f":"'Mille Lacs Co'!P17+'Mille Lacs Co'!P32","v":1169438},{"$f":"'Mille Lacs Co'!Q17+'Mille Lacs Co'!Q32","v":1426689},{"$f":"'Mille Lacs Co'!R17+'Mille Lacs Co'!R32","v":1620782},{"$f":"'Mille Lacs Co'!S17+'Mille Lacs Co'!S32","v":1848660},{"$f":"'Mille Lacs Co'!T17+'Mille Lacs Co'!T32","v":1951067},{"$f":"'Mille Lacs Co'!U17+'Mille Lacs Co'!U32","v":1976180},{"$f":"'Mille Lacs Co'!V17+'Mille Lacs Co'!V32","v":2048006.58}]
["Morrison Co",5.0000000000000001E-3,2018,"-","-","-","-","-","-","-","-","-","-","-","-","-","-",{"$f":"'Morrison Co'!P17+'Morrison Co'!P32","v":1290987},{"$f":"'Morrison Co'!Q17+'Morrison Co'!Q32","v":1817735},{"$f":"'Morrison Co'!R17+'Morrison Co'!R32","v":2049453},{"$f":"'Morrison Co'!S17+'Morrison Co'!S32","v":2364437},{"$f":"'Morrison Co'!T17+'Morrison Co'!T32","v":2579863},{"$f":"'Morrison Co'!U17+'Morrison Co'!U32","v":2628396},{"$f":"'Morrison Co'!V17+'Morrison Co'!V32","v":2662904.1300000004}]
["Mower Co",5.0000000000000001E-3,2018,"-","-","-","-","-","-","-","-","-","-","-","-","-","-",{"$f":"'Mower Co'!P17+'Mower Co'!P32","v":1570917},{"$f":"'Mower Co'!Q17+'Mower Co'!Q32","v":1964651},{"$f":"'Mower Co'!R17+'Mower Co'!R32","v":2079572},{"$f":"'Mower Co'!S17+'Mower Co'!S32","v":2288770},{"$f":"'Mower Co'!T17+'Mower Co'!T32","v":2472828},{"$f":"'Mower Co'!U17+'Mower Co'!U32","v":2603159},{"$f":"'Mower Co'!V17+'Mower Co'!V32","v":2711983.74}]
["Nicollet Co",5.0000000000000001E-3,2018,"-","-","-","-","-","-","-","-","-","-","-","-","-","-",{"$f":"'Nicollet Co'!P17+'Nicollet Co'!P32","v":1291514},{"$f":"'Nicollet Co'!Q17+'Nicollet Co'!Q32","v":1531962},{"$f":"'Nicollet Co'!R17+'Nicollet Co'!R32","v":1589294},{"$f":"'Nicollet Co'!S17+'Nicollet Co'!S32","v":1821618},{"$f":"'Nicollet Co'!T17+'Nicollet Co'!T32","v":2124710},{"$f":"'Nicollet Co'!U17+'Nicollet Co'!U32","v":2195920},{"$f":"'Nicollet Co'!V17+'Nicollet Co'!V32","v":2103995.4700000002}]
["Nobles Co",5.0000000000000001E-3,2021,null,null,null,null,null,null,"-","-","-","-","-","-","-","-","-","-","-",{"$f":"'Nobles Co'!S17+'Nobles Co'!S32","v":1362045},{"$f":"'Nobles Co'!T17+'Nobles Co'!T32","v":1686298},{"$f":"'Nobles Co'!U17+'Nobles Co'!U32","v":1743847},{"$f":"'Nobles Co'!V17+'Nobles Co'!V32","v":1603036.8}]
["Norman Co",5.0000000000000001E-3,2022,null,null,null,null,null,null,null,null,null,null,null,null,null,null,null,null,null,null,{"$f":"'Norman Co'!T17+'Norman Co'!T32","v":165791},{"$f":"'Norman Co'!U17+'Norman Co'!U32","v":405973},{"$f":"'Norman Co'!V17+'Norman Co'!V32","v":414010.67000000004}]
["Olmsted Co","0.25%/0.50%","2014/2017","-","-","-","-","-","-","-","-","-","-",{"$f":"'Olmsted Co'!L17+'Olmsted Co'!L32","v":5157046},{"$f":"'Olmsted Co'!M17+'Olmsted Co'!M32","v":6413790},{"$f":"'Olmsted Co'!N17+'Olmsted Co'!N32","v":6678702},{"$f":"'Olmsted Co'!O17+'Olmsted Co'!O32","v":9561943},{"$f":"'Olmsted Co'!P17+'Olmsted Co'!P32","v":14000025},{"$f":"'Olmsted Co'!Q17+'Olmsted Co'!Q32","v":14554044},{"$f":"'Olmsted Co'!R17+'Olmsted Co'!R32","v":14598011},{"$f":"'Olmsted Co'!S17+'Olmsted Co'!S32","v":16326627},{"$f":"'Olmsted Co'!T17+'Olmsted Co'!T32","v":18135194},{"$f":"'Olmsted Co'!U17+'Olmsted Co'!U32","v":18666825},{"$f":"'Olmsted Co'!V17+'Olmsted Co'!V32","v":18381361.909999996}]
["Otter Tail Co",5.0000000000000001E-3,2016,"-","-","-","-","-","-","-","-","-","-","-","-",{"$f":"'Otter Tail Co'!N17+'Otter Tail Co'!N32","v":2927490},{"$f":"'Otter Tail Co'!O17+'Otter Tail Co'!O32","v":3451792},{"$f":"'Otter Tail Co'!P17+'Otter Tail Co'!P32","v":3661933},{"$f":"'Otter Tail Co'!Q17+'Otter Tail Co'!Q32","v":3749202},{"$f":"'Otter Tail Co'!R17+'Otter Tail Co'!R32","v":4145100},{"$f":"'Otter Tail Co'!S17+'Otter Tail Co'!S32","v":4739022},{"$f":"'Otter Tail Co'!T17+'Otter Tail Co'!T32","v":5194900},{"$f":"'Otter Tail Co'!U17+'Otter Tail Co'!U32","v":5564668},{"$f":"'Otter Tail Co'!V17+'Otter Tail Co'!V32","v":5558274.6399999997}]
["Pine Co",5.0000000000000001E-3,2017,"-","-","-","-","-","-","-","-","-","-","-","-","-",{"$f":"'Pine Co'!O17+'Pine Co'!O32","v":896740},{"$f":"'Pine Co'!P17+'Pine Co'!P32","v":1086440},{"$f":"'Pine Co'!Q17+'Pine Co'!Q32","v":1307289},{"$f":"'Pine Co'!R17+'Pine Co'!R32","v":1462905},{"$f":"'Pine Co'!S17+'Pine Co'!S32","v":1754696},{"$f":"'Pine Co'!T17+'Pine Co'!T32","v":1836543},{"$f":"'Pine Co'!U17+'Pine Co'!U32","v":1897209},{"$f":"'Pine Co'!V17+'Pine Co'!V32","v":1985102}]
["Polk Co",2.5000000000000001E-3,2018,"-","-","-","-","-","-","-","-","-","-","-","-","-","-",{"$f":"'Polk Co'!P17+'Polk Co'!P32","v":656264},{"$f":"'Polk Co'!Q17+'Polk Co'!Q32","v":847003},{"$f":"'Polk Co'!R17+'Polk Co'!R32","v":847815},{"$f":"'Polk Co'!S17+'Polk Co'!S32","v":1008635},{"$f":"'Polk Co'!T17+'Polk Co'!T32","v":1032438},{"$f":"'Polk Co'!U17+'Polk Co'!U32","v":1143582},{"$f":"'Polk Co'!V17+'Polk Co'!V32","v":1969918.34}]
["Ramsey Co",5.0000000000000001E-3,2017,"-","-","-","-","-","-","-","-","-","-","-","-","-",{"$f":"'Ramsey Co'!O17+'Ramsey Co'!O32","v":6412847},{"$f":"'Ramsey Co'!P17+'Ramsey Co'!P32","v":42227193},{"$f":"'Ramsey Co'!Q17+'Ramsey Co'!Q32","v":45484627},{"$f":"'Ramsey Co'!R17+'Ramsey Co'!R32","v":41377993},{"$f":"'Ramsey Co'!S17+'Ramsey Co'!S32","v":46236324},{"$f":"'Ramsey Co'!T17+'Ramsey Co'!T32","v":53908962},{"$f":"'Ramsey Co'!U17+'Ramsey Co'!U32","v":54068958},{"$f":"'Ramsey Co'!V17+'Ramsey Co'!V32","v":54263964.179999992}]
["Redwood Co",5.0000000000000001E-3,2019,null,null,null,null,null,null,"-","-","-","-","-","-","-","-","-",{"$f":"'Redwood Co'!Q17+'Redwood Co'!Q32","v":595052},{"$f":"'Redwood Co'!R17+'Redwood Co'!R32","v":916957},{"$f":"'Redwood Co'!S17+'Redwood Co'!S32","v":1071841},{"$f":"'Redwood Co'!T17+'Redwood Co'!T32","v":1203078},{"$f":"'Redwood Co'!U17+'Redwood Co'!U32","v":1258908},{"$f":"'Redwood Co'!V17+'Redwood Co'!V32","v":1273732.0000000002}]
["Renville Co",5.0000000000000001E-3,2023,null,null,null,null,null,null,null,null,null,null,null,null,null,null,null,null,null,null,null,{"$f":"'Renville Co'!U17+'Renville Co'!U32","v":755766},{"$f":"'Renville Co'!V17+'Renville Co'!V32","v":890526}]
["Rice Co",5.0000000000000001E-3,2014,"-","-","-","-","-","-","-","-","-","-",{"$f":"'Rice Co'!L17+'Rice Co'!L32","v":2603853},{"$f":"'Rice Co'!M17+'Rice Co'!M32","v":3054720},{"$f":"'Rice Co'!N17+'Rice Co'!N32","v":3248747},{"$f":"'Rice Co'!O17+'Rice Co'!O32","v":3443765},{"$f":"'Rice Co'!P17+'Rice Co'!P32","v":3557433},{"$f":"'Rice Co'!Q17+'Rice Co'!Q32","v":3893281},{"$f":"'Rice Co'!R17+'Rice Co'!R32","v":4025170},{"$f":"'Rice Co'!S17+'Rice Co'!S32","v":4473022},{"$f":"'Rice Co'!T17+'Rice Co'!T32","v":4963750},{"$f":"'Rice Co'!U17+'Rice Co'!U32","v":4954239},{"$f":"'Rice Co'!V17+'Rice Co'!V32","v":4797877.2300000004}]
["Roseau Co",5.0000000000000001E-3,2022,null,null,null,null,null,null,null,null,null,null,null,null,null,null,null,null,null,null,{"$f":"'Roseau Co'!T17+'Roseau Co'!T32","v":1057790},{"$f":"'Roseau Co'!U17+'Roseau Co'!U32","v":1298906},{"$f":"'Roseau Co'!V17+'Roseau Co'!V32","v":1271157.27}]
["Scott Co",5.0000000000000001E-3,2015,"-","-","-","-","-","-","-","-","-","-","-",{"$f":"'Scott Co'!M17+'Scott Co'!M32","v":1174792},{"$f":"'Scott Co'!N17+'Scott Co'!N32","v":8561335},{"$f":"'Scott Co'!O17+'Scott Co'!O32","v":8696361},{"$f":"'Scott Co'!P17+'Scott Co'!P32","v":9538068},{"$f":"'Scott Co'!Q17+'Scott Co'!Q32","v":10925644},{"$f":"'Scott Co'!R17+'Scott Co'!R32","v":10930449},{"$f":"'Scott Co'!S17+'Scott Co'!S32","v":12636957},{"$f":"'Scott Co'!T17+'Scott Co'!T32","v":14256556},{"$f":"'Scott Co'!U17+'Scott Co'!U32","v":15166115},{"$f":"'Scott Co'!V17+'Scott Co'!V32","v":14556314.740000002}]
["Sherburne Co",5.0000000000000001E-3,2019,null,null,null,null,null,null,"-","-","-","-","-","-","-","-","-",{"$f":"'Sherburne Co'!Q17+'Sherburne Co'!Q32","v":4929930},{"$f":"'Sherburne Co'!R17+'Sherburne Co'!R32","v":6063602},{"$f":"'Sherburne Co'!S17+'Sherburne Co'!S32","v":7219976},{"$f":"'Sherburne Co'!T17+'Sherburne Co'!T32","v":8267432},{"$f":"'Sherburne Co'!U17+'Sherburne Co'!U32","v":8339999},{"$f":"'Sherburne Co'!V17+'Sherburne Co'!V32","v":7836182.8199999994}]
["St. Louis Co",5.0000000000000001E-3,2015,"-","-","-","-","-","-","-","-","-","-","-",{"$f":"'St. Louis Co'!M17+'St. Louis Co'!M32","v":10045950},{"$f":"'St. Louis Co'!N17+'St. Louis Co'!N32","v":14198464},{"$f":"'St. Louis Co'!O17+'St. Louis Co'!O32","v":14461229},{"$f":"'St. Louis Co'!P17+'St. Louis Co'!P32","v":14916136},{"$f":"'St. Louis Co'!Q17+'St. Louis Co'!Q32","v":15935003},{"$f":"'St. Louis Co'!R17+'St. Louis Co'!R32","v":16104469},{"$f":"'St. Louis Co'!S17+'St. Louis Co'!S32","v":18561557},{"$f":"'St. Louis Co'!T17+'St. Louis Co'!T32","v":20152565},{"$f":"'St. Louis Co'!U17+'St. Louis Co'!U32","v":21296742},{"$f":"'St. Louis Co'!V17+'St. Louis Co'!V32","v":21324900.390000001}]
["Stearns Co",2.5000000000000001E-3,2018,"-","-","-","-","-","-","-","-","-","-","-","-","-","-",{"$f":"'Stearns Co'!P17+'Stearns Co'!P32","v":5545659},{"$f":"'Stearns Co'!Q17+'Stearns Co'!Q32","v":6504320},{"$f":"'Stearns Co'!R17+'Stearns Co'!R32","v":6578796},{"$f":"'Stearns Co'!S17+'Stearns Co'!S32","v":7530704},{"$f":"'Stearns Co'!T17+'Stearns Co'!T32","v":8535626},{"$f":"'Stearns Co'!U17+'Stearns Co'!U32","v":8768147},{"$f":"'Stearns Co'!V17+'Stearns Co'!V32","v":8933902.5199999996}]
["Steele Co",5.0000000000000001E-3,2015,"-","-","-","-","-","-","-","-","-","-","-",{"$f":"'Steele Co'!M17+'Steele Co'!M32","v":1574441},{"$f":"'Steele Co'!N17+'Steele Co'!N32","v":2535267},{"$f":"'Steele Co'!O17+'Steele Co'!O32","v":2717876},{"$f":"'Steele Co'!P17+'Steele Co'!P32","v":2765488},{"$f":"'Steele Co'!Q17+'Steele Co'!Q32","v":3078129},{"$f":"'Steele Co'!R17+'Steele Co'!R32","v":3186940},{"$f":"'Steele Co'!S17+'Steele Co'!S32","v":3465220},{"$f":"'Steele Co'!T17+'Steele Co'!T32","v":3851446},{"$f":"'Steele Co'!U17+'Steele Co'!U32","v":3910417},{"$f":"'Steele Co'!V17+'Steele Co'!V32","v":3777959.8600000003}]
["Todd Co",5.0000000000000001E-3,2015,"-","-","-","-","-","-","-","-","-","-","-",{"$f":"'Todd Co'!M17+'Todd Co'!M32","v":601685},{"$f":"'Todd Co'!N17+'Todd Co'!N32","v":722674},{"$f":"'Todd Co'!O17+'Todd Co'!O32","v":794335},{"$f":"'Todd Co'!P17+'Todd Co'!P32","v":844304},{"$f":"'Todd Co'!Q17+'Todd Co'!Q32","v":892553},{"$f":"'Todd Co'!R17+'Todd Co'!R32","v":1025108},{"$f":"'Todd Co'!S17+'Todd Co'!S32","v":1145612},{"$f":"'Todd Co'!T17+'Todd Co'!T32","v":1313216},{"$f":"'Todd Co'!U17+'Todd Co'!U32","v":1327709},{"$f":"'Todd Co'!V17+'Todd Co'!V32","v":1468155.6}]
["Wabasha Co",5.0000000000000001E-3,2016,"-","-","-","-","-","-","-","-","-","-","-","-",{"$f":"'Wabasha Co'!N17+'Wabasha Co'!N32","v":568215},{"$f":"'Wabasha Co'!O17+'Wabasha Co'!O32","v":830490},{"$f":"'Wabasha Co'!P17+'Wabasha Co'!P32","v":929646},{"$f":"'Wabasha Co'!Q17+'Wabasha Co'!Q32","v":1029677},{"$f":"'Wabasha Co'!R17+'Wabasha Co'!R32","v":1092038},{"$f":"'Wabasha Co'!S17+'Wabasha Co'!S32","v":1272914},{"$f":"'Wabasha Co'!T17+'Wabasha Co'!T32","v":1435363},{"$f":"'Wabasha Co'!U17+'Wabasha Co'!U32","v":1478352},{"$f":"'Wabasha Co'!V17+'Wabasha Co'!V32","v":1362253.27}]
["Wadena Co",5.0000000000000001E-3,2014,"-","-","-","-","-","-","-","-","-","-",{"$f":"'Wadena Co'!L17+'Wadena Co'!L32","v":421140},{"$f":"'Wadena Co'!M17+'Wadena Co'!M32","v":667357},{"$f":"'Wadena Co'!N17+'Wadena Co'!N32","v":684352},{"$f":"'Wadena Co'!O17+'Wadena Co'!O32","v":725655},{"$f":"'Wadena Co'!P17+'Wadena Co'!P32","v":750895},{"$f":"'Wadena Co'!Q17+'Wadena Co'!Q32","v":813918},{"$f":"'Wadena Co'!R17+'Wadena Co'!R32","v":868927},{"$f":"'Wadena Co'!S17+'Wadena Co'!S32","v":1016793},{"$f":"'Wadena Co'!T17+'Wadena Co'!T32","v":1054637},{"$f":"'Wadena Co'!U17+'Wadena Co'!U32","v":1072228},{"$f":"'Wadena Co'!V17+'Wadena Co'!V32","v":1090992.1000000001}]
["Waseca Co",5.0000000000000001E-3,2019,null,null,null,null,null,null,"-","-","-","-","-","-","-","-","-",{"$f":"'Waseca Co'!Q17+'Waseca Co'!Q32","v":532391},{"$f":"'Waseca Co'!R17+'Waseca Co'!R32","v":874887},{"$f":"'Waseca Co'!S17+'Waseca Co'!S32","v":1048810},{"$f":"'Waseca Co'!T17+'Waseca Co'!T32","v":1084106},{"$f":"'Waseca Co'!U17+'Waseca Co'!U32","v":1065470},{"$f":"'Waseca Co'!V17+'Waseca Co'!V32","v":1037609.62}]
["Washington Co",2.5000000000000001E-3,2017,"-","-","-","-","-","-","-","-","-","-","-","-","-",{"$f":"'Washington Co'!O17+'Washington Co'!O32","v":1487620},{"$f":"'Washington Co'!P17+'Washington Co'!P32","v":9810444},{"$f":"'Washington Co'!Q17+'Washington Co'!Q32","v":10356093},{"$f":"'Washington Co'!R17+'Washington Co'!R32","v":10669748},{"$f":"'Washington Co'!S17+'Washington Co'!S32","v":14323716},{"$f":"'Washington Co'!T17+'Washington Co'!T32","v":28375059},{"$f":"'Washington Co'!U17+'Washington Co'!U32","v":28406813},{"$f":"'Washington Co'!V17+'Washington Co'!V32","v":27473063.529999997}]
["Winona Co",5.0000000000000001E-3,2017,"-","-","-","-","-","-","-","-","-","-","-","-","-",{"$f":"'Winona Co'!O17+'Winona Co'!O32","v":2527345},{"$f":"'Winona Co'!P17+'Winona Co'!P32","v":2949038},{"$f":"'Winona Co'!Q17+'Winona Co'!Q32","v":3217165},{"$f":"'Winona Co'!R17+'Winona Co'!R32","v":3236602},{"$f":"'Winona Co'!S17+'Winona Co'!S32","v":3629501},{"$f":"'Winona Co'!T17+'Winona Co'!T32","v":4017467},{"$f":"'Winona Co'!U17+'Winona Co'!U32","v":4079325},{"$f":"'Winona Co'!V17+'Winona Co'!V32","v":3973355.09}]
["Wright Co",5.0000000000000001E-3,2017,"-","-","-","-","-","-","-","-","-","-","-","-","-",{"$f":"'Wright Co'!O17+'Wright Co'!O32","v":1003788},{"$f":"'Wright Co'!P17+'Wright Co'!P32","v":7331380},{"$f":"'Wright Co'!Q17+'Wright Co'!Q32","v":8534117},{"$f":"'Wright Co'!R17+'Wright Co'!R32","v":9414392},{"$f":"'Wright Co'!S17+'Wright Co'!S32","v":11165894},{"$f":"'Wright Co'!T17+'Wright Co'!T32","v":12475341},{"$f":"'Wright Co'!U17+'Wright Co'!U32","v":12665904},{"$f":"'Wright Co'!V17+'Wright Co'!V32","v":13072755.719999999}]
["County  Total",null,null,{"$f":"SUM(D8:D68)","v":1002391.34},{"$f":"SUM(E8:E68)","v":1074549.6499999999},{"$f":"SUM(F8:F68)","v":1079651.18},{"$f":"SUM(G8:G68)","v":25755320.120000001},{"$f":"SUM(H8:H68)","v":29525907.299999997},{"$f":"SUM(I8:I68)","v":28031754.41},{"$f":"SUM(J8:J68)","v":29632614.640000001},{"$f":"SUM(K8:K68)","v":32208620},{"$f":"SUM(L8:L68)","v":33603187},{"$f":"SUM(M8:M68)","v":35693867},{"$f":"SUM(N8:N68)","v":48028602},{"$f":"SUM(O8:O68)","v":73314118},{"$f":"SUM(P8:P68)","v":107216562},{"$f":"SUM(Q8:Q68)","v":158705429},{"$f":"SUM(R8:R68)","v":374844374},{"$f":"SUM(S8:S68)","v":415876699},{"$f":"SUM(T8:T68)","v":405788191},{"$f":"SUM(U8:U68)","v":467639097},{"$f":"SUM(V8:V68)","v":541921711},{"$f":"SUM(W7:W68)","v":564549742},{"$f":"SUM(X6:X68)","v":568388909.99000013}]
["Metro Area Transportation",7.4999999999999997E-3,2023,null,null,null,null,null,null,null,null,null,null,null,null,null,null,null,null,null,null,null,{"$f":"'Metro Area Transportation'!U17+'Metro Area Transportation'!U32","v":79291339},{"$f":"'Metro Area Transportation'!V17+'Metro Area Transportation'!V32","v":507375305.4000001}]
["Metro Area Housing",2.5000000000000001E-3,2023,null,null,null,null,null,null,null,null,null,null,null,null,null,null,null,null,null,null,null,{"$f":"'Metro Area Housing'!U17+'Metro Area Housing'!U32","v":26497110},{"$f":"'Metro Area Housing'!V17+'Metro Area Housing'!V32","v":169726731.49000001}]
["Metro Area Transit Improvement",2.5000000000000001E-3,2008,"-","-","-","-",{"$f":"'Metro Area Transit Improvement'!F17+'Metro Area Transit Improvement'!F32","v":34024648.789999999},{"$f":"'Metro Area Transit Improvement'!G17+'Metro Area Transit Improvement'!G32","v":86990821},{"$f":"'Metro Area Transit Improvement'!H17+'Metro Area Transit Improvement'!H32","v":90169253},{"$f":"'Metro Area Transit Improvement'!I17+'Metro Area Transit Improvement'!I32","v":96773584},{"$f":"'Metro Area Transit Improvement'!J17+'Metro Area Transit Improvement'!J32","v":101077456},{"$f":"'Metro Area Transit Improvement'!K17+'Metro Area Transit Improvement'!K32","v":108100932},{"$f":"'Metro Area Transit Improvement'!L17+'Metro Area Transit Improvement'!L32","v":111644146},{"$f":"'Metro Area Transit Improvement'!M17+'Metro Area Transit Improvement'!M32","v":116658872},{"$f":"'Metro Area Transit Improvement'!N17+'Metro Area Transit Improvement'!N32","v":117968786},{"$f":"'Metro Area Transit Improvement'!O17+'Metro Area Transit Improvement'!O32","v":101958755},{"$f":"'Metro Area Transit Improvement'!P17+'Metro Area Transit Improvement'!P32","v":1183679},{"$f":"'Metro Area Transit Improvement'!Q17+'Metro Area Transit Improvement'!Q32","v":5349263},{"$f":"'Metro Area Transit Improvement'!R17+'Metro Area Transit Improvement'!R32","v":642431},{"$f":"'Metro Area Transit Improvement'!S17+'Metro Area Transit Improvement'!S32","v":-742867},{"$f":"'Metro Area Transit Improvement'!T17+'Metro Area Transit Improvement'!T32","v":-4705885},{"$f":"'Metro Area Transit Improvement'!U17+'Metro Area Transit Improvement'!U32","v":-423536},{"$f":"'Metro Area Transit Improvement'!V17+'Metro Area Transit Improvement'!V32","v":56727.83}]
["County & Metro Area Total (excl. Refunds)",null,null,{"$f":"SUM(D69:D72)","v":1002391.34},{"$f":"SUM(E69:E72)","v":1074549.6499999999},{"$f":"SUM(F69:F72)","v":1079651.18},{"$f":"SUM(G69:G72)","v":25755320.120000001},{"$f":"SUM(H69:H72)","v":63550556.089999996},{"$f":"SUM(I69:I72)","v":115022575.41},{"$f":"SUM(J69:J72)","v":119801867.64},{"$f":"SUM(K69:K72)","v":128982204},{"$f":"SUM(L69:L72)","v":134680643},{"$f":"SUM(M69:M72)","v":143794799},{"$f":"SUM(N69:N72)","v":159672748},{"$f":"SUM(O69:O72)","v":189972990},{"$f":"SUM(P69:P72)","v":225185348},{"$f":"SUM(Q69:Q72)","v":260664184},{"$f":"SUM(R69:R72)","v":376028053},{"$f":"SUM(S69:S72)","v":421225962},{"$f":"SUM(T69:T72)","v":406430622},{"$f":"SUM(U69:U72)","v":466896230},{"$f":"SUM(V69:V72)","v":537215826},{"$f":"SUM(W69:W72)","v":669914655},{"$f":"SUM(X69:X72)","v":1245547674.7100003}]
["County & Metro Area Refunds",null,null,"N/A","N/A","N/A","N/A","N/A","N/A",{"$f":"'Cook Cty'!H47+'Hennepin Cty'!H47+'Metro Area Transit Improvement'!H47","v":-2053429},{"$f":"'Cook Cty'!I47+'Hennepin Cty'!I47+'Metro Area Transit Improvement'!I47","v":-4005467},{"$f":"'Cook Cty'!J47+'Hennepin Cty'!J47+'Metro Area Transit Improvement'!J47","v":-3545461},{"$f":"'Cook Cty'!K47+'Hennepin Cty'!K47+'Metro Area Transit Improvement'!K47","v":-3941240},{"$f":"'Cook Cty'!L47+'Hennepin Cty'!L47+'Becker Co'!L47+'Beltrami Co (Transit)'!L47+'Douglas Co'!L47+'Olmsted Co'!L47+'Rice Co'!L47+'Wadena Co'!L47+'Metro Area Transit Improvement'!L47","v":-4356407},{"$f":"'Cook Cty'!M47+'Hennepin Cty'!M47+'Becker Co'!M47+'Beltrami Co (Transit)'!M47+'Carlton Co'!M47+'Douglas Co'!M47+'Fillmore Co'!M47+'Hubbard Co'!M47+'Lyon Co'!M47+'Olmsted Co'!M47+'Rice Co'!M47+'Scott Co'!M47+'St. Louis Co'!M47+'Steele Co'!M47+'Todd Co'!M47+'Wadena Co'!M47+'Metro Area Transit Improvement'!M47","v":-6010309},{"$f":"'Cook Cty'!N47+'Hennepin Cty'!N47+'Becker Co'!N47+'Beltrami Co (Transit)'!N47+'Blue Earth Co'!N47+'Brown Co'!N47+'Carlton Co'!N47+'Cass Co'!N47+'Chisago Co'!N47+'Crow Wing Co'!N47+'Douglas Co'!N47+'Fillmore Co'!N47+'Freeborn Co'!N47+'Hubbard Co'!N47+'Lyon Co'!N47+'Olmsted Co'!N47+'Otter Tail Co'!N47+'Rice Co'!N47+'Scott Co'!N47+'St. Louis Co'!N47+'Steele Co'!N47+'Todd Co'!N47+'Wabasha Co'!N47+'Wadena Co'!N47+'Metro Area Transit Improvement'!N47","v":-5273378},{"$f":"'Cook Cty'!O47+'Clay Cty'!O47+'Hennepin Cty'!O47+'Anoka Co'!O47+'Becker Co'!O47+'Beltrami Co (Transit)'!O47+'Blue Earth Co'!O47+'Brown Co'!O47+'Carlton Co'!O47+'Carver Co'!O47+'Cass Co'!O47+'Chisago Co'!O47+'Cook Co'!O47+'Crow Wing Co'!O47+'Dakota Co'!O47+'Douglas Co'!O47+'Fillmore Co'!O47+'Freeborn Co'!O47+'Hennepin Co'!O47+'Hubbard Co'!O47+'Lake Co'!O47+'Lyon Co'!O47+'Mille Lacs Co'!O47+'Olmsted Co'!O47+'Otter Tail Co'!O47+'Pine Co'!O47+'Ramsey Co'!O47+'Rice Co'!O47+'Scott Co'!O47+'St. Louis Co'!O47+'Steele Co'!O47+'Todd Co'!O47+'Wabasha Co'!O47+'Wadena Co'!O47+'Washington Co'!O47+'Winona Co'!O47+'Wright Co'!O47+'Metro Area Transit Improvement'!O47","v":-4917353},{"$f":"'Cook Cty'!P47+'Clay Cty'!P47+'Hennepin Cty'!P47+'Anoka Co'!P47+'Becker Co'!P47+'Beltrami Co (Transit)'!P47+'Blue Earth Co'!P47+'Brown Co'!P47+'Carlton Co'!P47+'Carver Co'!P47+'Cass Co'!P47+'Chisago Co'!P47+'Cook Co'!P47+'Crow Wing Co'!P47+'Dakota Co'!P47+'Douglas Co'!P47+'Fillmore Co'!P47+'Freeborn Co'!P47+'Hennepin Co'!P47+'Hubbard Co'!P47+'Kandiyohi Co'!P47+'Lake Co'!P47+'Lyon Co'!P47+'Mille Lacs Co'!P47+'Morrison Co'!P47+'Mower Co'!P47+'Nicollet Co'!P47+'Olmsted Co'!P47+'Otter Tail Co'!P47+'Pine Co'!P47+'Polk Co'!P47+'Ramsey Co'!P47+'Rice Co'!P47+'Scott Co'!P47+'St. Louis Co'!P47+'Stearns Co'!P47+'Steele Co'!P47+'Todd Co'!P47+'Wabasha Co'!P47+'Wadena Co'!P47+'Washington Co'!P47+'Winona Co'!P47+'Wright Co'!P47+'Metro Area Transit Improvement'!P47","v":-5162997},{"$f":"'Cook Cty'!Q47+'Clay Cty'!Q47+'Hennepin Cty'!Q47+'Anoka Co'!Q47+'Benton Co'!Q47+'Becker Co'!Q47+'Beltrami Co (Transit)'!Q47+'Blue Earth Co'!Q47+'Brown Co'!Q47+'Carlton Co'!Q47+'Carver Co'!Q47+'Cass Co'!Q47+'Chisago Co'!Q47+'Cook Co'!Q47+'Crow Wing Co'!Q47+'Dakota Co'!Q47+'Dodge Co'!Q47+'Douglas Co'!Q47+'Fillmore Co'!Q47+'Freeborn Co'!Q47+'Goodhue Co'!Q47+'Hennepin Co'!Q47+'Hubbard Co'!Q47+'Isanti Co'!Q47+'Kandiyohi Co'!Q47+'Lake Co'!Q47+'Lyon Co'!Q47+'Mille Lacs Co'!Q47+'Morrison Co'!Q47+'Mower Co'!Q47+'Nicollet Co'!Q47+'Olmsted Co'!Q47+'Otter Tail Co'!Q47+'Pine Co'!Q47+'Polk Co'!Q47+'Ramsey Co'!Q47+'Redwood Co'!Q47+'Rice Co'!Q47+'Scott Co'!Q47+'Sherburne Co'!Q47+'St. Louis Co'!Q47+'Stearns Co'!Q47+'Steele Co'!Q47+'Todd Co'!Q47+'Wabasha Co'!Q47+'Wadena Co'!Q47+'Waseca Co'!Q47+'Washington Co'!Q47+'Winona Co'!Q47+'Wright Co'!Q47+'Metro Area Transit Improvement'!Q47","v":-5864574},{"$f":"'Cook Cty'!R47+'Clay Cty'!R47+'Hennepin Cty'!R47+'Anoka Co'!R47+'Benton Co'!R47+'Becker Co'!R47+'Beltrami Co (Transit)'!R47+'Blue Earth Co'!R47+'Brown Co'!R47+'Carlton Co'!R47+'Carver Co'!R47+'Cass Co'!R47+'Chisago Co'!R47+'Cook Co'!R47+'Crow Wing Co'!R47+'Dakota Co'!R47+'Dodge Co'!R47+'Douglas Co'!R47+'Fillmore Co'!R47+'Freeborn Co'!R47+'Goodhue Co'!R47+'Hennepin Co'!R47+'Hubbard Co'!R47+'Isanti Co'!R47+'Kandiyohi Co'!R47+'Lake Co'!R47+'Lyon Co'!R47+'Mille Lacs Co'!R47+'Morrison Co'!R47+'Mower Co'!R47+'Nicollet Co'!R47+'Olmsted Co'!R47+'Otter Tail Co'!R47+'Pine Co'!R47+'Polk Co'!R47+'Ramsey Co'!R47+'Redwood Co'!R47+'Rice Co'!R47+'Scott Co'!R47+'Sherburne Co'!R47+'St. Louis Co'!R47+'Stearns Co'!R47+'Steele Co'!R47+'Todd Co'!R47+'Wabasha Co'!R47+'Wadena Co'!R47+'Waseca Co'!R47+'Washington Co'!R47+'Winona Co'!R47+'Wright Co'!R47+'Metro Area Transit Improvement'!R47+'Kanabec Co'!R47+'McLeod Co'!R47","v":-8164679},{"$f":"'Cook Cty'!S47+'Clay Cty'!S47+'Hennepin Cty'!S47+'Anoka Co'!S47+'Benton Co'!S47+'Becker Co'!S47+'Beltrami Co (Transit)'!S47+'Blue Earth Co'!S47+'Brown Co'!S47+'Carlton Co'!S47+'Carver Co'!S47+'Cass Co'!S47+'Chisago Co'!S47+'Cook Co'!S47+'Crow Wing Co'!S47+'Dakota Co'!S47+'Dodge Co'!S47+'Douglas Co'!S47+'Fillmore Co'!S47+'Freeborn Co'!S47+'Goodhue Co'!S47+'Hennepin Co'!S47+'Hubbard Co'!S47+'Isanti Co'!S47+'Kandiyohi Co'!S47+'Lake Co'!S47+'Lyon Co'!S47+'Mille Lacs Co'!S47+'Morrison Co'!S47+'Mower Co'!S47+'Nicollet Co'!S47+'Olmsted Co'!S47+'Otter Tail Co'!S47+'Pine Co'!S47+'Polk Co'!S47+'Ramsey Co'!S47+'Redwood Co'!S47+'Rice Co'!S47+'Scott Co'!S47+'Sherburne Co'!S47+'St. Louis Co'!S47+'Stearns Co'!S47+'Steele Co'!S47+'Todd Co'!S47+'Wabasha Co'!S47+'Wadena Co'!S47+'Waseca Co'!S47+'Washington Co'!S47+'Winona Co'!S47+'Wright Co'!S47+'Metro Area Transit Improvement'!S47+'Kanabec Co'!S47+'McLeod Co'!S47+'Le Sueur Co'!S47+'Nobles Co'!S47","v":-7038434},{"$f":"'Cook Cty'!T47+'Clay Cty'!T47+'Hennepin Cty'!T47+'Anoka Co'!T47+'Benton Co'!T47+'Becker Co'!T47+'Beltrami Co (Transit)'!T47+'Blue Earth Co'!T47+'Brown Co'!T47+'Carlton Co'!T47+'Carver Co'!T47+'Cass Co'!T47+'Chisago Co'!T47+'Cook Co'!T47+'Crow Wing Co'!T47+'Dakota Co'!T47+'Dodge Co'!T47+'Douglas Co'!T47+'Fillmore Co'!T47+'Freeborn Co'!T47+'Goodhue Co'!T47+'Hennepin Co'!T47+'Hubbard Co'!T47+'Isanti Co'!T47+'Kandiyohi Co'!T47+'Lake Co'!T47+'Lyon Co'!T47+'Mille Lacs Co'!T47+'Morrison Co'!T47+'Mower Co'!T47+'Nicollet Co'!T47+'Olmsted Co'!T47+'Otter Tail Co'!T47+'Pine Co'!T47+'Polk Co'!T47+'Ramsey Co'!T47+'Redwood Co'!T47+'Rice Co'!T47+'Scott Co'!T47+'Sherburne Co'!T47+'St. Louis Co'!T47+'Stearns Co'!T47+'Steele Co'!T47+'Todd Co'!T47+'Wabasha Co'!T47+'Wadena Co'!T47+'Waseca Co'!T47+'Washington Co'!T47+'Winona Co'!T47+'Wright Co'!T47+'Metro Area Transit Improvement'!T47+'Kanabec Co'!T47+'McLeod Co'!T47+'Le Sueur Co'!T47+'Nobles Co'!T47","v":-6724517},{"$f":"'Cook Cty'!U47+'Clay Cty'!U47+'Hennepin Cty'!U47+'Anoka Co'!U47+'Benton Co'!U47+'Becker Co'!U47+'Beltrami Co (Transit)'!U47+'Blue Earth Co'!U47+'Brown Co'!U47+'Carlton Co'!U47+'Carver Co'!U47+'Cass Co'!U47+'Chisago Co'!U47+'Cook Co'!U47+'Crow Wing Co'!U47+'Dakota Co'!U47+'Dodge Co'!U47+'Douglas Co'!U47+'Fillmore Co'!U47+'Freeborn Co'!U47+'Goodhue Co'!U47+'Hennepin Co'!U47+'Hubbard Co'!U47+'Isanti Co'!U47+'Kandiyohi Co'!U47+'Lake Co'!U47+'Lyon Co'!U47+'Mille Lacs Co'!U47+'Morrison Co'!U47+'Mower Co'!U47+'Nicollet Co'!U47+'Olmsted Co'!U47+'Otter Tail Co'!U47+'Pine Co'!U47+'Polk Co'!U47+'Ramsey Co'!U47+'Redwood Co'!U47+'Rice Co'!U47+'Scott Co'!U47+'Sherburne Co'!U47+'St. Louis Co'!U47+'Stearns Co'!U47+'Steele Co'!U47+'Todd Co'!U47+'Wabasha Co'!U47+'Wadena Co'!U47+'Waseca Co'!U47+'Washington Co'!U47+'Winona Co'!U47+'Wright Co'!U47+'Metro Area Transit Improvement'!U47+'Kanabec Co'!U47+'McLeod Co'!U47+'Le Sueur Co'!U47+'Nobles Co'!U47+'Itasca Cty'!U47+'Carlton Cty'!U47","v":-8709638},{"$f":"'Cook Cty'!V47+'Clay Cty'!V47+'Hennepin Cty'!V47+'Anoka Co'!V47+'Benton Co'!V47+'Becker Co'!V47+'Beltrami Co (Transit)'!V47+'Blue Earth Co'!V47+'Brown Co'!V47+'Carlton Co'!V47+'Carver Co'!V47+'Cass Co'!V47+'Chisago Co'!V47+'Cook Co'!V47+'Crow Wing Co'!V47+'Dakota Co'!V47+'Dodge Co'!V47+'Douglas Co'!V47+'Fillmore Co'!V47+'Freeborn Co'!V47+'Goodhue Co'!V47+'Hennepin Co'!V47+'Hubbard Co'!V47+'Isanti Co'!V47+'Kandiyohi Co'!V47+'Lake Co'!V47+'Lyon Co'!V47+'Mille Lacs Co'!V47+'Morrison Co'!V47+'Mower Co'!V47+'Nicollet Co'!V47+'Olmsted Co'!V47+'Otter Tail Co'!V47+'Pine Co'!V47+'Polk Co'!V47+'Ramsey Co'!V47+'Redwood Co'!V47+'Rice Co'!V47+'Scott Co'!V47+'Sherburne Co'!V47+'St. Louis Co'!V47+'Stearns Co'!V47+'Steele Co'!V47+'Todd Co'!V47+'Wabasha Co'!V47+'Wadena Co'!V47+'Waseca Co'!V47+'Washington Co'!V47+'Winona Co'!V47+'Wright Co'!V47+'Metro Area Transit Improvement'!V47+'Kanabec Co'!V47+'McLeod Co'!V47+'Le Sueur Co'!V47+'Nobles Co'!V47+'Itasca Cty'!V47+'Carlton Cty'!V47+'Roseau Co'!V47+'Koochiching Co'!V47+'Norman Co'!V47+'Renville Co'!V47","v":-8869694.9799999986}]
["Hidden columns D-I contain data for CY 2004-2009."]
["*Also 1994-2008.  Shaded cells show collections received net of refunds paid in months after the local tax in Cook County expired (3/31/08) & before it resumed (4/1/10)."]
["Note: Metro Area Transit Counties are Anoka, Dakota, Hennepin, Ramsey, & Washington."]
["Source:  Minnesota Department of Revenue, Tax Research Division, November 2025"]
["end of worksheet"]

{"sheet":"Metro Area Transportation","index":3,"n_rows":50,"n_cols":22,"rows_kept":50,"cut":false,"hidden":true,"merged":[[48,0,48,22],[49,0,49,19],[0,0,0,25],[1,0,1,19],[2,0,2,20],[17,0,17,20],[32,0,32,19],[47,0,47,21]]}
["Metro Area Transportation Monthly Detail for Minnesota Local Sales & Use Tax"]
[{"$f":"'Local SUT'!A2","v":"CY 2004-2024"}]
["Metro Area Transportation Transit Sales Tax (0.75%)"]
["Month",2004,2005,2006,2007,2008,2009,2010,2011,2012,2013,2014,2015,2016,2017,2018,2019,2020,2021,2022,2023,2024]
["January ","-","-","-","-","-","-","-","-","-","-","-","-","-","-","-","-","-","-","-","-",42328741]
["February","-","-","-","-","-","-","-","-","-","-","-","-","-","-","-","-","-","-","-","-",34304686]
["March","-","-","-","-","-","-","-","-","-","-","-","-","-","-","-","-","-","-","-","-",32293276]
["April","-","-","-","-","-","-","-","-","-","-","-","-","-","-","-","-","-","-","-","-",38514734]
["May","-","-","-","-","-","-","-","-","-","-","-","-","-","-","-","-","-","-","-","-",38295406]
["June","-","-","-","-","-","-","-","-","-","-","-","-","-","-","-","-","-","-","-","-",42131908]
["July","-","-","-","-","-","-","-","-","-","-","-","-","-","-","-","-","-","-","-","-",43301018]
["August","-","-","-","-","-","-","-","-","-","-","-","-","-","-","-","-","-","-","-","-",41819019.469999999]
["September","-","-","-","-","-","-","-","-","-","-","-","-","-","-","-","-","-","-","-","-",42979671.350000001]
["October","-","-","-","-","-","-","-","-","-","-","-","-","-","-","-","-","-","-","-",31522,42341163.490000002]
["November ","-","-","-","-","-","-","-","-","-","-","-","-","-","-","-","-","-","-","-",36727255,40917798.990000002]
["December","-","-","-","-","-","-","-","-","-","-","-","-","-","-","-","-","-","-","-",38206217,39150571.299999997]
["Total","-","-","-","-","-","-","-","-","-","-","-","-","-","-","-","-","-",{"$f":"SUM(S5:S16)","v":0},0,{"$f":"SUM(U5:U16)","v":74964994},478377993.60000008]
["Metro Area Transportation Transit Use Tax (0.75%)"]
["Month",2004,2005,2006,2007,2008,2009,2010,2011,2012,2013,2014,2015,2016,2017,2018,2019,2020,2021,2021,2023,2024]
["January ","-","-","-","-","-","-","-","-","-","-","-","-","-","-","-","-","-","-","-","-",2738156]
["February","-","-","-","-","-","-","-","-","-","-","-","-","-","-","-","-","-","-","-","-",2370557]
["March","-","-","-","-","-","-","-","-","-","-","-","-","-","-","-","-","-","-","-","-",2152061]
["April","-","-","-","-","-","-","-","-","-","-","-","-","-","-","-","-","-","-","-","-",2491549]
["May","-","-","-","-","-","-","-","-","-","-","-","-","-","-","-","-","-","-","-","-",2306175]
["June","-","-","-","-","-","-","-","-","-","-","-","-","-","-","-","-","-","-","-","-",2545749]
["July","-","-","-","-","-","-","-","-","-","-","-","-","-","-","-","-","-","-","-","-",2434725]
["August","-","-","-","-","-","-","-","-","-","-","-","-","-","-","-","-","-","-","-","-",2490718.12]
["September","-","-","-","-","-","-","-","-","-","-","-","-","-","-","-","-","-","-","-","-",2158763.11]
["October","-","-","-","-","-","-","-","-","-","-","-","-","-","-","-","-","-","-","-",1381,2630582.21]
["November ","-","-","-","-","-","-","-","-","-","-","-","-","-","-","-","-","-","-","-",2282882,2652130.98]
["December","-","-","-","-","-","-","-","-","-","-","-","-","-","-","-","-","-","-","-",2042082,2026145.38]
["Total","-","-","-","-","-","-","-","-","-","-","-","-","-","-","-","-","-",{"$f":"SUM(S20:S31)","v":0},0,4326345,28997311.800000001]
["Metro Area Transportation Transit Refunds"]
["Month",2004,2005,2006,2007,2008,2009,2010,2011,2012,2013,2014,2015,2016,2017,2018,2019,2020,2021,2021,2023,2024]
["January ","-","-","-","-","-","-","-","-","-","-","-","-","-","-","-","-","-","-","-","-",-2702]
["February","-","-","-","-","-","-","-","-","-","-","-","-","-","-","-","-","-","-","-","-",-878]
["March","-","-","-","-","-","-","-","-","-","-","-","-","-","-","-","-","-","-","-","-",-2191]
["April","-","-","-","-","-","-","-","-","-","-","-","-","-","-","-","-","-","-","-","-",-8678]
["May","-","-","-","-","-","-","-","-","-","-","-","-","-","-","-","-","-","-","-","-",-9512]
["June","-","-","-","-","-","-","-","-","-","-","-","-","-","-","-","-","-","-","-","-",-5943]
["July","-","-","-","-","-","-","-","-","-","-","-","-","-","-","-","-","-","-","-","-",-13911]
["August","-","-","-","-","-","-","-","-","-","-","-","-","-","-","-","-","-","-","-","-",-11970.17]
["September","-","-","-","-","-","-","-","-","-","-","-","-","-","-","-","-","-","-","-","-",-30057.86]
["October","-","-","-","-","-","-","-","-","-","-","-","-","-","-","-","-","-","-","-",0,-238165.24]
["November ","-","-","-","-","-","-","-","-","-","-","-","-","-","-","-","-","-","-","-",-1256,-50869.13]
["December","-","-","-","-","-","-","-","-","-","-","-","-","-","-","-","-","-","-","-",-138,-403608.26]
["Total","-","-","-","-","-","-","-","-","-","-","-","-","-","-","-","-","-",{"$f":"SUM(S35:S46)","v":0},0,-1394,-778485.66]
["Hidden columns B-P do not contain any data for CY 2004-2018"]
[{"$f":"'Local SUT'!A78","v":"Source:  Minnesota Department of Revenue, Tax Research Division, November 2025"}]
["end of worksheet"]

{"sheet":"Metro Area Housing","index":4,"n_rows":50,"n_cols":22,"rows_kept":50,"cut":false,"hidden":true,"merged":[[48,0,48,22],[49,0,49,19],[0,0,0,25],[1,0,1,19],[2,0,2,20],[17,0,17,20],[32,0,32,19],[47,0,47,21]]}
["Metro Area Housing Monthly Detail for Minnesota Local Sales & Use Tax"]
[{"$f":"'Local SUT'!A2","v":"CY 2004-2024"}]
["Metro Area Housing Transit Sales Tax (0.25%)"]
["Month",2004,2005,2006,2007,2008,2009,2010,2011,2012,2013,2014,2015,2016,2017,2018,2019,2020,2021,2022,2023,2024]
["January ","-","-","-","-","-","-","-","-","-","-","-","-","-","-","-","-","-","-","-",null,14142326]
["February","-","-","-","-","-","-","-","-","-","-","-","-","-","-","-","-","-","-","-",null,11473068]
["March","-","-","-","-","-","-","-","-","-","-","-","-","-","-","-","-","-","-","-",null,10790779]
["April","-","-","-","-","-","-","-","-","-","-","-","-","-","-","-","-","-","-","-",null,12882877]
["May","-","-","-","-","-","-","-","-","-","-","-","-","-","-","-","-","-","-","-",null,12820795]
["June","-","-","-","-","-","-","-","-","-","-","-","-","-","-","-","-","-","-","-",null,14052027]
["July","-","-","-","-","-","-","-","-","-","-","-","-","-","-","-","-","-","-","-",null,14500220]
["August","-","-","-","-","-","-","-","-","-","-","-","-","-","-","-","-","-","-","-",null,13991782.689999999]
["September","-","-","-","-","-","-","-","-","-","-","-","-","-","-","-","-","-","-","-",null,14363464.52]
["October","-","-","-","-","-","-","-","-","-","-","-","-","-","-","-","-","-","-","-",10463,14169830.279999999]
["November ","-","-","-","-","-","-","-","-","-","-","-","-","-","-","-","-","-","-","-",12265812,13677467.039999999]
["December","-","-","-","-","-","-","-","-","-","-","-","-","-","-","-","-","-","-","-",12736141,13097279.08]
["Total","-","-","-","-","-","-","-","-","-","-","-","-","-","-","-","-","-",{"$f":"SUM(S5:S16)","v":0},0,{"$f":"SUM(U5:U16)","v":25012416},159961915.61000001]
["Metro Area Housing Transit Use Tax (0.25%)"]
["Month",2004,2005,2006,2007,2008,2009,2010,2011,2012,2013,2014,2015,2016,2017,2018,2019,2020,2021,2021,2023,2024]
["January ","-","-","-","-","-","-","-","-","-","-","-","-","-","-","-","-","-","-","-",null,906172]
["February","-","-","-","-","-","-","-","-","-","-","-","-","-","-","-","-","-","-","-",null,845886]
["March","-","-","-","-","-","-","-","-","-","-","-","-","-","-","-","-","-","-","-",null,711101]
["April","-","-","-","-","-","-","-","-","-","-","-","-","-","-","-","-","-","-","-",null,831413]
["May","-","-","-","-","-","-","-","-","-","-","-","-","-","-","-","-","-","-","-",null,767884]
["June","-","-","-","-","-","-","-","-","-","-","-","-","-","-","-","-","-","-","-",null,893966]
["July","-","-","-","-","-","-","-","-","-","-","-","-","-","-","-","-","-","-","-",null,812366]
["August","-","-","-","-","-","-","-","-","-","-","-","-","-","-","-","-","-","-","-",null,831603.45]
["September","-","-","-","-","-","-","-","-","-","-","-","-","-","-","-","-","-","-","-",null,731012.48]
["October","-","-","-","-","-","-","-","-","-","-","-","-","-","-","-","-","-","-","-",471,872468.84]
["November ","-","-","-","-","-","-","-","-","-","-","-","-","-","-","-","-","-","-","-",788853,887182.95]
["December","-","-","-","-","-","-","-","-","-","-","-","-","-","-","-","-","-","-","-",695370,673760.16]
["Total","-","-","-","-","-","-","-","-","-","-","-","-","-","-","-","-","-",{"$f":"SUM(S20:S31)","v":0},0,1484694,9764815.879999999]
["Metro Area Housing Transit Refunds"]
["Month",2004,2005,2006,2007,2008,2009,2010,2011,2012,2013,2014,2015,2016,2017,2018,2019,2020,2021,2021,2023,2024]
["January ","-","-","-","-","-","-","-","-","-","-","-","-","-","-","-","-","-","-","-",null,-933]
["February","-","-","-","-","-","-","-","-","-","-","-","-","-","-","-","-","-","-","-",null,-293]
["March","-","-","-","-","-","-","-","-","-","-","-","-","-","-","-","-","-","-","-",null,-730]
["April","-","-","-","-","-","-","-","-","-","-","-","-","-","-","-","-","-","-","-",null,-2837]
["May","-","-","-","-","-","-","-","-","-","-","-","-","-","-","-","-","-","-","-",null,-2993]
["June","-","-","-","-","-","-","-","-","-","-","-","-","-","-","-","-","-","-","-",null,-2270]
["July","-","-","-","-","-","-","-","-","-","-","-","-","-","-","-","-","-","-","-",null,-4974]
["August","-","-","-","-","-","-","-","-","-","-","-","-","-","-","-","-","-","-","-",null,-4319.83]
["September","-","-","-","-","-","-","-","-","-","-","-","-","-","-","-","-","-","-","-",null,-10487.48]
["October","-","-","-","-","-","-","-","-","-","-","-","-","-","-","-","-","-","-","-",0,-80239.81]
["November ","-","-","-","-","-","-","-","-","-","-","-","-","-","-","-","-","-","-","-",-419,-14143.98]
["December","-","-","-","-","-","-","-","-","-","-","-","-","-","-","-","-","-","-","-",-46,-143430.64000000001]
["Total","-","-","-","-","-","-","-","-","-","-","-","-","-","-","-","-","-",{"$f":"SUM(S35:S46)","v":0},0,-465,-267651.74]
["Hidden columns B-P do not contain any data for CY 2004-2018"]
[{"$f":"'Local SUT'!A78","v":"Source:  Minnesota Department of Revenue, Tax Research Division, November 2025"}]
["end of worksheet"]

{"sheet":"Roseau Co","index":5,"n_rows":50,"n_cols":22,"rows_kept":50,"cut":false,"hidden":true,"merged":[[48,0,48,22],[49,0,49,19],[0,0,0,25],[1,0,1,19],[2,0,2,20],[17,0,17,20],[32,0,32,19],[47,0,47,21]]}
["Roseau County Monthly Detail for Minnesota Local Sales & Use Tax"]
[{"$f":"'Local SUT'!A2","v":"CY 2004-2024"}]
["Roseau County Transit Sales Tax (0.5%)"]
["Month",2004,2005,2006,2007,2008,2009,2010,2011,2012,2013,2014,2015,2016,2017,2018,2019,2020,2021,2022,2023,2024]
["January ","-","-","-","-","-","-","-","-","-","-","-","-","-","-","-","-","-",null,2,111735,112185]
["February","-","-","-","-","-","-","-","-","-","-","-","-","-","-","-","-","-",null,73756,85005,91738]
["March","-","-","-","-","-","-","-","-","-","-","-","-","-","-","-","-","-",null,70734,76580,83869]
["April","-","-","-","-","-","-","-","-","-","-","-","-","-","-","-","-","-",null,80289,86350,89225]
["May","-","-","-","-","-","-","-","-","-","-","-","-","-","-","-","-","-",null,87278,88352,111689]
["June","-","-","-","-","-","-","-","-","-","-","-","-","-","-","-","-","-",null,94121,109042,110383]
["July","-","-","-","-","-","-","-","-","-","-","-","-","-","-","-","-","-",null,100815,119979,119573]
["August","-","-","-","-","-","-","-","-","-","-","-","-","-","-","-","-","-",null,95728,115523,103740.71]
["September","-","-","-","-","-","-","-","-","-","-","-","-","-","-","-","-","-",null,105438,121374,104193.85]
["October","-","-","-","-","-","-","-","-","-","-","-","-","-","-","-","-","-",null,114907,126452,112306.81]
["November ","-","-","-","-","-","-","-","-","-","-","-","-","-","-","-","-","-",null,95931,115454,96964.97]
["December","-","-","-","-","-","-","-","-","-","-","-","-","-","-","-","-","-",null,105269,97573,91189.36]
["Total","-","-","-","-","-","-","-","-","-","-","-","-","-","-","-","-","-",{"$f":"SUM(S5:S16)","v":0},1024268,{"$f":"SUM(U5:U16)","v":1253419},1227057.7]
["Roseau County Transit Use Tax (0.5%)"]
["Month",2004,2005,2006,2007,2008,2009,2010,2011,2012,2013,2014,2015,2016,2017,2018,2019,2020,2021,2022,2023,2024]
["January ","-","-","-","-","-","-","-","-","-","-","-","-","-","-","-","-","-",null,0,2476,5291]
["February","-","-","-","-","-","-","-","-","-","-","-","-","-","-","-","-","-",null,2572,4490,1832]
["March","-","-","-","-","-","-","-","-","-","-","-","-","-","-","-","-","-",null,872,1868,2522]
["April","-","-","-","-","-","-","-","-","-","-","-","-","-","-","-","-","-",null,3523,4342,3050]
["May","-","-","-","-","-","-","-","-","-","-","-","-","-","-","-","-","-",null,1984,3601,2247]
["June","-","-","-","-","-","-","-","-","-","-","-","-","-","-","-","-","-",null,4731,7740,8097]
["July","-","-","-","-","-","-","-","-","-","-","-","-","-","-","-","-","-",null,5191,5662,4845]
["August","-","-","-","-","-","-","-","-","-","-","-","-","-","-","-","-","-",null,2753,4161,3243.02]
["September","-","-","-","-","-","-","-","-","-","-","-","-","-","-","-","-","-",null,2469,2307,2187.71]
["October","-","-","-","-","-","-","-","-","-","-","-","-","-","-","-","-","-",null,3421,4213,3761]
["November ","-","-","-","-","-","-","-","-","-","-","-","-","-","-","-","-","-",null,3223,2715,3431.26]
["December","-","-","-","-","-","-","-","-","-","-","-","-","-","-","-","-","-",null,2783,1912,3592.58]
["Total","-","-","-","-","-","-","-","-","-","-","-","-","-","-","-","-","-",{"$f":"SUM(S20:S31)","v":0},33522,45487,44099.570000000007]
["Roseau County Transit Refunds"]
["Month",2004,2005,2006,2007,2008,2009,2010,2011,2012,2013,2014,2015,2016,2017,2018,2019,2020,2021,2022,2023,2024]
["January ","-","-","-","-","-","-","-","-","-","-","-","-","-","-","-","-","-","-","-","-","-"]
["February","-","-","-","-","-","-","-","-","-","-","-","-","-","-","-","-","-","-","-",0,0]
["March","-","-","-","-","-","-","-","-","-","-","-","-","-","-","-","-","-","-","-",-272,0]
["April","-","-","-","-","-","-","-","-","-","-","-","-","-","-","-","-","-","-","-",-804,0]
["May","-","-","-","-","-","-","-","-","-","-","-","-","-","-","-","-","-","-","-",-232,-364]
["June","-","-","-","-","-","-","-","-","-","-","-","-","-","-","-","-","-","-","-",0,0]
["July","-","-","-","-","-","-","-","-","-","-","-","-","-","-","-","-","-","-","-",0,0]
["August","-","-","-","-","-","-","-","-","-","-","-","-","-","-","-","-","-","-","-",0,-93.44]
["September","-","-","-","-","-","-","-","-","-","-","-","-","-","-","-","-","-","-",-245,0,0]
["October","-","-","-","-","-","-","-","-","-","-","-","-","-","-","-","-","-","-","-",0,0]
["November ","-","-","-","-","-","-","-","-","-","-","-","-","-","-","-","-","-","-","-",0,0]
["December","-","-","-","-","-","-","-","-","-","-","-","-","-","-","-","-","-","-","-",0,0]
["Total","-","-","-","-","-","-","-","-","-","-","-","-","-","-","-","-","-",{"$f":"SUM(S35:S46)","v":0},-245,-1308,-457.44]
["Hidden columns B-R do not contain any data for CY 2004-2020"]
[{"$f":"'Local SUT'!A78","v":"Source:  Minnesota Department of Revenue, Tax Research Division, November 2025"}]
["end of worksheet"]

{"sheet":"Koochiching Co","index":6,"n_rows":50,"n_cols":22,"rows_kept":50,"cut":false,"hidden":true,"merged":[[48,0,48,22],[49,0,49,19],[0,0,0,25],[1,0,1,19],[2,0,2,20],[17,0,17,20],[32,0,32,19],[47,0,47,21]]}
["Koochiching County Monthly Detail for Minnesota Local Sales & Use Tax"]
[{"$f":"'Local SUT'!A2","v":"CY 2004-2024"}]
["Koochiching County Transit Sales Tax (0.5%)"]
["Month",2004,2005,2006,2007,2008,2009,2010,2011,2012,2013,2014,2015,2016,2017,2018,2019,2020,2021,2022,2023,2024]
["January ","-","-","-","-","-","-","-","-","-","-","-","-","-","-","-","-","-","-","-",72247,69081]
["February","-","-","-","-","-","-","-","-","-","-","-","-","-","-","-","-","-","-","-",58428,56780]
["March","-","-","-","-","-","-","-","-","-","-","-","-","-","-","-","-","-","-","-",55658,59070]
["April","-","-","-","-","-","-","-","-","-","-","-","-","-","-","-","-","-","-",110,63627,67157]
["May","-","-","-","-","-","-","-","-","-","-","-","-","-","-","-","-","-","-",52651,60668,65582]
["June","-","-","-","-","-","-","-","-","-","-","-","-","-","-","-","-","-","-",65219,82966,84324]
["July","-","-","-","-","-","-","-","-","-","-","-","-","-","-","-","-","-","-",75337,99883,97964]
["August","-","-","-","-","-","-","-","-","-","-","-","-","-","-","-","-","-","-",77002,88802,96896.16]
["September","-","-","-","-","-","-","-","-","-","-","-","-","-","-","-","-","-","-",95263,97384,97116.6]
["October","-","-","-","-","-","-","-","-","-","-","-","-","-","-","-","-","-","-",78876,86615,86111.23]
["November ","-","-","-","-","-","-","-","-","-","-","-","-","-","-","-","-","-","-",66654,60629,76369.53]
["December","-","-","-","-","-","-","-","-","-","-","-","-","-","-","-","-","-","-",64224,64095,68874.429999999993]
["Total","-","-","-","-","-","-","-","-","-","-","-","-","-","-","-","-","-",{"$f":"SUM(S5:S16)","v":0},575336,{"$f":"SUM(U5:U16)","v":891002},925325.95]
["Koochiching County Transit Use Tax (0.5%)"]
["Month",2004,2005,2006,2007,2008,2009,2010,2011,2012,2013,2014,2015,2016,2017,2018,2019,2020,2021,2022,2023,2024]
["January ","-","-","-","-","-","-","-","-","-","-","-","-","-","-","-","-","-","-","-",8323,6888]
["February","-","-","-","-","-","-","-","-","-","-","-","-","-","-","-","-","-","-","-",3446,7171]
["March","-","-","-","-","-","-","-","-","-","-","-","-","-","-","-","-","-","-","-",4285,3071]
["April","-","-","-","-","-","-","-","-","-","-","-","-","-","-","-","-","-","-","-",7567,4148]
["May","-","-","-","-","-","-","-","-","-","-","-","-","-","-","-","-","-","-",9393,4352,5289]
["June","-","-","-","-","-","-","-","-","-","-","-","-","-","-","-","-","-","-",13749,6208,6162]
["July","-","-","-","-","-","-","-","-","-","-","-","-","-","-","-","-","-","-",7627,5679,6122]
["August","-","-","-","-","-","-","-","-","-","-","-","-","-","-","-","-","-","-",8938,3932,5021]
["September","-","-","-","-","-","-","-","-","-","-","-","-","-","-","-","-","-","-",9173,4787,4109]
["October","-","-","-","-","-","-","-","-","-","-","-","-","-","-","-","-","-","-",6788,4968,6475]
["November ","-","-","-","-","-","-","-","-","-","-","-","-","-","-","-","-","-","-",5547,4833,4240]
["December","-","-","-","-","-","-","-","-","-","-","-","-","-","-","-","-","-","-",6988,4564,6164.86]
["Total","-","-","-","-","-","-","-","-","-","-","-","-","-","-","-","-","-",{"$f":"SUM(S20:S31)","v":0},68203,62944,64860.86]
["Koochiching County Transit Refunds"]
["Month",2004,2005,2006,2007,2008,2009,2010,2011,2012,2013,2014,2015,2016,2017,2018,2019,2020,2021,2022,2023,2024]
["January ","-","-","-","-","-","-","-","-","-","-","-","-","-","-","-","-","-","-","-","-",-2]
["February","-","-","-","-","-","-","-","-","-","-","-","-","-","-","-","-","-","-","-",0,0]
["March","-","-","-","-","-","-","-","-","-","-","-","-","-","-","-","-","-","-","-",0,0]
["April","-","-","-","-","-","-","-","-","-","-","-","-","-","-","-","-","-","-","-",0,-3]
["May","-","-","-","-","-","-","-","-","-","-","-","-","-","-","-","-","-","-","-",0,0]
["June","-","-","-","-","-","-","-","-","-","-","-","-","-","-","-","-","-","-","-",0,0]
["July","-","-","-","-","-","-","-","-","-","-","-","-","-","-","-","-","-","-","-",0,0]
["August","-","-","-","-","-","-","-","-","-","-","-","-","-","-","-","-","-","-","-",0,0]
["September","-","-","-","-","-","-","-","-","-","-","-","-","-","-","-","-","-","-","-",0,0]
["October","-","-","-","-","-","-","-","-","-","-","-","-","-","-","-","-","-","-","-",0,0]
["November ","-","-","-","-","-","-","-","-","-","-","-","-","-","-","-","-","-","-","-",-40,0]
["December","-","-","-","-","-","-","-","-","-","-","-","-","-","-","-","-","-","-","-",0,0]
["Total","-","-","-","-","-","-","-","-","-","-","-","-","-","-","-","-","-",{"$f":"SUM(S35:S46)","v":0},0,-40,-5]
["Hidden columns B-R do not contain any data for CY 2004-2020"]
[{"$f":"'Local SUT'!A78","v":"Source:  Minnesota Department of Revenue, Tax Research Division, November 2025"}]
["end of worksheet"]

{"sheet":"Norman Co","index":7,"n_rows":50,"n_cols":22,"rows_kept":50,"cut":false,"hidden":true,"merged":[[48,0,48,22],[49,0,49,19],[0,0,0,25],[1,0,1,19],[2,0,2,20],[17,0,17,20],[32,0,32,19],[47,0,47,21]]}
["Norman County Monthly Detail for Minnesota Local Sales & Use Tax"]
[{"$f":"'Local SUT'!A2","v":"CY 2004-2024"}]
["Norman County Transit Sales Tax (0.5%)"]
["Month",2004,2005,2006,2007,2008,2009,2010,2011,2012,2013,2014,2015,2016,2017,2018,2019,2020,2021,2022,2023,2024]
["January ","-","-","-","-","-","-","-","-","-","-","-","-","-","-","-","-","-","-","-",29495,42775]
["February","-","-","-","-","-","-","-","-","-","-","-","-","-","-","-","-","-","-","-",25472,22744]
["March","-","-","-","-","-","-","-","-","-","-","-","-","-","-","-","-","-","-","-",22310,27118]
["April","-","-","-","-","-","-","-","-","-","-","-","-","-","-","-","-","-","-","-",26116,27897]
["May","-","-","-","-","-","-","-","-","-","-","-","-","-","-","-","-","-","-","-",26146,25784]
["June","-","-","-","-","-","-","-","-","-","-","-","-","-","-","-","-","-","-","-",32035,30698]
["July","-","-","-","-","-","-","-","-","-","-","-","-","-","-","-","-","-","-",12,33655,32088]
["August","-","-","-","-","-","-","-","-","-","-","-","-","-","-","-","-","-","-",28696,28273,31970.75]
["September","-","-","-","-","-","-","-","-","-","-","-","-","-","-","-","-","-","-",26585,39583,36643.86]
["October","-","-","-","-","-","-","-","-","-","-","-","-","-","-","-","-","-","-",25233,38503,35849.53]
["November ","-","-","-","-","-","-","-","-","-","-","-","-","-","-","-","-","-","-",27533,27918,34892.959999999999]
["December","-","-","-","-","-","-","-","-","-","-","-","-","-","-","-","-","-","-",27896,29368,32037.54]
["Total","-","-","-","-","-","-","-","-","-","-","-","-","-","-","-","-","-",{"$f":"SUM(S5:S16)","v":0},135955,{"$f":"SUM(U5:U16)","v":358874},380498.64]
["Norman County Transit Use Tax (0.5%)"]
["Month",2004,2005,2006,2007,2008,2009,2010,2011,2012,2013,2014,2015,2016,2017,2018,2019,2020,2021,2022,2023,2024]
["January ","-","-","-","-","-","-","-","-","-","-","-","-","-","-","-","-","-","-","-",8484,3844]
["February","-","-","-","-","-","-","-","-","-","-","-","-","-","-","-","-","-","-","-",1464,866]
["March","-","-","-","-","-","-","-","-","-","-","-","-","-","-","-","-","-","-","-",3393,2774]
["April","-","-","-","-","-","-","-","-","-","-","-","-","-","-","-","-","-","-","-",2382,2214]
["May","-","-","-","-","-","-","-","-","-","-","-","-","-","-","-","-","-","-","-",3728,4176]
["June","-","-","-","-","-","-","-","-","-","-","-","-","-","-","-","-","-","-","-",7441,2192]
["July","-","-","-","-","-","-","-","-","-","-","-","-","-","-","-","-","-","-",12,7660,4396]
["August","-","-","-","-","-","-","-","-","-","-","-","-","-","-","-","-","-","-",1210,1753,2448]
["September","-","-","-","-","-","-","-","-","-","-","-","-","-","-","-","-","-","-",2879,1644,2843]
["October","-","-","-","-","-","-","-","-","-","-","-","-","-","-","-","-","-","-",3966,4410,1752]
["November ","-","-","-","-","-","-","-","-","-","-","-","-","-","-","-","-","-","-",3490,3365,3121.03]
["December","-","-","-","-","-","-","-","-","-","-","-","-","-","-","-","-","-","-",18279,1375,2886]
["Total","-","-","-","-","-","-","-","-","-","-","-","-","-","-","-","-","-",{"$f":"SUM(S20:S31)","v":0},29836,47099,33512.03]
["Norman County Transit Refunds"]
["Month",2004,2005,2006,2007,2008,2009,2010,2011,2012,2013,2014,2015,2016,2017,2018,2019,2020,2021,2022,2023,2024]
["January ","-","-","-","-","-","-","-","-","-","-","-","-","-","-","-","-","-","-","-","-","-"]
["February","-","-","-","-","-","-","-","-","-","-","-","-","-","-","-","-","-","-","-","-","-"]
["March","-","-","-","-","-","-","-","-","-","-","-","-","-","-","-","-","-","-","-","-","-"]
["April","-","-","-","-","-","-","-","-","-","-","-","-","-","-","-","-","-","-","-","-","-"]
["May","-","-","-","-","-","-","-","-","-","-","-","-","-","-","-","-","-","-","-","-","-"]
["June","-","-","-","-","-","-","-","-","-","-","-","-","-","-","-","-","-","-","-","-","-"]
["July","-","-","-","-","-","-","-","-","-","-","-","-","-","-","-","-","-","-","-","-","-"]
["August","-","-","-","-","-","-","-","-","-","-","-","-","-","-","-","-","-","-","-","-","-"]
["September","-","-","-","-","-","-","-","-","-","-","-","-","-","-","-","-","-","-","-","-","-"]
["October","-","-","-","-","-","-","-","-","-","-","-","-","-","-","-","-","-","-","-","-","-"]
["November ","-","-","-","-","-","-","-","-","-","-","-","-","-","-","-","-","-","-","-","-","-"]
["December","-","-","-","-","-","-","-","-","-","-","-","-","-","-","-","-","-","-","-","-","-"]
["Total","-","-","-","-","-","-","-","-","-","-","-","-","-","-","-","-","-",{"$f":"SUM(S35:S46)","v":0},0,0,0]
["Hidden columns B-R do not contain any data for CY 2004-2020"]
[{"$f":"'Local SUT'!A78","v":"Source:  Minnesota Department of Revenue, Tax Research Division, November 2025"}]
["end of worksheet"]

{"sheet":"Renville Co","index":8,"n_rows":50,"n_cols":22,"rows_kept":50,"cut":false,"hidden":true,"merged":[[48,0,48,22],[49,0,49,19],[0,0,0,25],[1,0,1,19],[2,0,2,20],[17,0,17,20],[32,0,32,19],[47,0,47,21]]}
["Renville County Monthly Detail for Minnesota Local Sales & Use Tax"]
[{"$f":"'Local SUT'!A2","v":"CY 2004-2024"}]
["Renville County Transit Sales Tax (0.5%)"]
["Month",2004,2005,2006,2007,2008,2009,2010,2011,2012,2013,2014,2015,2016,2017,2018,2019,2020,2021,2022,2023,2024]
["January ","-","-","-","-","-","-","-","-","-","-","-","-","-","-","-","-","-","-","-",10,75827]
["February","-","-","-","-","-","-","-","-","-","-","-","-","-","-","-","-","-","-","-",43482,59897]
["March","-","-","-","-","-","-","-","-","-","-","-","-","-","-","-","-","-","-","-",42233,52812]
["April","-","-","-","-","-","-","-","-","-","-","-","-","-","-","-","-","-","-","-",52274,65732]
["May","-","-","-","-","-","-","-","-","-","-","-","-","-","-","-","-","-","-","-",48624,64940]
["June","-","-","-","-","-","-","-","-","-","-","-","-","-","-","-","-","-","-","-",63866,65356]
["July","-","-","-","-","-","-","-","-","-","-","-","-","-","-","-","-","-","-","-",82023,73696]
["August","-","-","-","-","-","-","-","-","-","-","-","-","-","-","-","-","-","-","-",77798,75276.649999999994]
["September","-","-","-","-","-","-","-","-","-","-","-","-","-","-","-","-","-","-","-",86780,72988.52]
["October","-","-","-","-","-","-","-","-","-","-","-","-","-","-","-","-","-","-","-",76829,79227.350000000006]
["November ","-","-","-","-","-","-","-","-","-","-","-","-","-","-","-","-","-","-","-",67422,74530.83]
["December","-","-","-","-","-","-","-","-","-","-","-","-","-","-","-","-","-","-","-",74964,66455.48]
["Total","-","-","-","-","-","-","-","-","-","-","-","-","-","-","-","-","-",{"$f":"SUM(S5:S16)","v":0},0,{"$f":"SUM(U5:U16)","v":716305},826738.83]
["Renville County Transit Use Tax (0.5%)"]
["Month",2004,2005,2006,2007,2008,2009,2010,2011,2012,2013,2014,2015,2016,2017,2018,2019,2020,2021,2022,2023,2024]
["January ","-","-","-","-","-","-","-","-","-","-","-","-","-","-","-","-","-","-","-",0,3280]
["February","-","-","-","-","-","-","-","-","-","-","-","-","-","-","-","-","-","-","-",840,3034]
["March","-","-","-","-","-","-","-","-","-","-","-","-","-","-","-","-","-","-","-",5031,2743]
["April","-","-","-","-","-","-","-","-","-","-","-","-","-","-","-","-","-","-","-",2272,5686]
["May","-","-","-","-","-","-","-","-","-","-","-","-","-","-","-","-","-","-","-",3081,4378]
["June","-","-","-","-","-","-","-","-","-","-","-","-","-","-","-","-","-","-","-",1968,4632]
["July","-","-","-","-","-","-","-","-","-","-","-","-","-","-","-","-","-","-","-",6163,4194]
["August","-","-","-","-","-","-","-","-","-","-","-","-","-","-","-","-","-","-","-",4218,7324.1]
["September","-","-","-","-","-","-","-","-","-","-","-","-","-","-","-","-","-","-","-",4324,10441.06]
["October","-","-","-","-","-","-","-","-","-","-","-","-","-","-","-","-","-","-","-",4053,7383.64]
["November ","-","-","-","-","-","-","-","-","-","-","-","-","-","-","-","-","-","-","-",3752,5452.06]
["December","-","-","-","-","-","-","-","-","-","-","-","-","-","-","-","-","-","-","-",3759,5239.3100000000004]
["Total","-","-","-","-","-","-","-","-","-","-","-","-","-","-","-","-","-",{"$f":"SUM(S20:S31)","v":0},0,39461,63787.169999999991]
["Renville County Transit Refunds"]
["Month",2004,2005,2006,2007,2008,2009,2010,2011,2012,2013,2014,2015,2016,2017,2018,2019,2020,2021,2022,2023,2024]
["January ","-","-","-","-","-","-","-","-","-","-","-","-","-","-","-","-","-","-","-","-","-"]
["February","-","-","-","-","-","-","-","-","-","-","-","-","-","-","-","-","-","-","-","-","-"]
["March","-","-","-","-","-","-","-","-","-","-","-","-","-","-","-","-","-","-","-","-","-"]
["April","-","-","-","-","-","-","-","-","-","-","-","-","-","-","-","-","-","-","-","-","-"]
["May","-","-","-","-","-","-","-","-","-","-","-","-","-","-","-","-","-","-","-","-","-"]
["June","-","-","-","-","-","-","-","-","-","-","-","-","-","-","-","-","-","-","-","-","-"]
["July","-","-","-","-","-","-","-","-","-","-","-","-","-","-","-","-","-","-","-","-","-"]
["August","-","-","-","-","-","-","-","-","-","-","-","-","-","-","-","-","-","-","-","-","-"]
["September","-","-","-","-","-","-","-","-","-","-","-","-","-","-","-","-","-","-","-","-","-"]
["October","-","-","-","-","-","-","-","-","-","-","-","-","-","-","-","-","-","-","-","-","-"]
["November ","-","-","-","-","-","-","-","-","-","-","-","-","-","-","-","-","-","-","-","-","-"]
["December","-","-","-","-","-","-","-","-","-","-","-","-","-","-","-","-","-","-","-","-","-"]
["Total","-","-","-","-","-","-","-","-","-","-","-","-","-","-","-","-","-",{"$f":"SUM(S35:S46)","v":0},0,0,0]
["Hidden columns B-R do not contain any data for CY 2004-2020"]
[{"$f":"'Local SUT'!A78","v":"Source:  Minnesota Department of Revenue, Tax Research Division, November 2025"}]
["end of worksheet"]

{"sheet":"Itasca Cty","index":9,"n_rows":50,"n_cols":22,"rows_kept":50,"cut":false,"hidden":true,"merged":[[48,0,48,21],[49,0,49,19],[0,0,0,21],[1,0,1,19],[2,0,2,19],[17,0,17,20],[32,0,32,19],[47,0,47,20]]}
["Itasca County Monthly Detail for Minnesota Local Sales & Use Tax"]
[{"$f":"'Local SUT'!A2","v":"CY 2004-2024"}]
["Itasca County Transit Sales Tax (1.0%)"]
["Month",2004,2005,2006,2007,2008,2009,2010,2011,2012,2013,2014,2015,2016,2017,2018,2019,2020,2021,2022,2023,2024]
["January ","-","-","-","-","-","-","-","-","-","-","-","-","-","-","-",0,0,0,0,0,671660]
["February","-","-","-","-","-","-","-","-","-","-","-","-","-","-","-",0,0,0,0,0,544248]
["March","-","-","-","-","-","-","-","-","-","-","-","-","-","-","-",0,0,0,0,0,513752]
["April","-","-","-","-","-","-","-","-","-","-","-","-","-","-","-",0,0,0,0,77,566560]
["May","-","-","-","-","-","-","-","-","-","-","-","-","-","-","-",0,0,0,0,467740,594887]
["June","-","-","-","-","-","-","-","-","-","-","-","-","-","-","-",0,0,0,0,674722,767830]
["July","-","-","-","-","-","-","-","-","-","-","-","-","-","-","-",0,0,0,0,750065,762268]
["August","-","-","-","-","-","-","-","-","-","-","-","-","-","-","-",0,0,0,0,729487,790253.49]
["September","-","-","-","-","-","-","-","-","-","-","-","-","-","-","-",0,0,0,0,701359,766934.45]
["October","-","-","-","-","-","-","-","-","-","-","-","-","-","-","-",0,0,0,0,677090,737412.45]
["November ","-","-","-","-","-","-","-","-","-","-","-","-","-","-","-",0,0,0,0,629581,696462.25]
["December","-","-","-","-","-","-","-","-","-","-","-","-","-","-","-",0,0,0,0,592586,621109.31999999995]
["Total","-","-","-","-","-","-","-","-","-","-","-","-",{"$f":"SUM(N5:N16)","v":0},{"$f":"SUM(O5:O16)","v":0},{"$f":"SUM(P5:P16)","v":0},{"$f":"SUM(Q5:Q16)","v":0},{"$f":"SUM(R5:R16)","v":0},0,0,5222707,8033376.9600000009]
["Itasca County Transit Use Tax (1.0%)"]
["Month",2004,2005,2006,2007,2008,2009,2010,2011,2012,2013,2014,2015,2016,2017,2018,2019,2020,2021,2022,2023,2024]
["January ","-","-","-","-","-","-","-","-","-","-","-","-","-","-","-",0,0,0,0,0,31715]
["February","-","-","-","-","-","-","-","-","-","-","-","-","-","-","-",0,0,0,0,0,34904]
["March","-","-","-","-","-","-","-","-","-","-","-","-","-","-","-",0,0,0,0,0,29520]
["April","-","-","-","-","-","-","-","-","-","-","-","-","-","-","-",0,0,0,0,0,31038]
["May","-","-","-","-","-","-","-","-","-","-","-","-","-","-","-",0,0,0,0,15355,21300]
["June","-","-","-","-","-","-","-","-","-","-","-","-","-","-","-",0,0,0,0,30813,28865]
["July","-","-","-","-","-","-","-","-","-","-","-","-","-","-","-",0,0,0,0,30331,30125]
["August","-","-","-","-","-","-","-","-","-","-","-","-","-","-","-",0,0,0,0,22443,29816.5]
["September","-","-","-","-","-","-","-","-","-","-","-","-","-","-","-",0,0,0,0,29795,98259.59]
["October","-","-","-","-","-","-","-","-","-","-","-","-","-","-","-",0,0,0,0,28770,32859.43]
["November ","-","-","-","-","-","-","-","-","-","-","-","-","-","-","-",0,0,0,0,30407,33977.57]
["December","-","-","-","-","-","-","-","-","-","-","-","-","-","-","-",0,0,0,0,21609,80021.899999999994]
["Total","-","-","-","-","-","-","-","-","-","-","-","-",{"$f":"SUM(N20:N31)","v":0},{"$f":"SUM(O20:O31)","v":0},{"$f":"SUM(P20:P31)","v":0},{"$f":"SUM(Q20:Q31)","v":0},{"$f":"SUM(R20:R31)","v":0},0,0,209523,482401.99]
["Itasca County Transit Refunds"]
["Month",2004,2005,2006,2007,2008,2009,2010,2011,2012,2013,2014,2015,2016,2017,2018,2019,2020,2021,2022,2023,2024]
["January ","-","-","-","-","-","-","-","-","-","-","-","-","-","-","-",0,0,0,0,0,-56]
["February","-","-","-","-","-","-","-","-","-","-","-","-","-","-","-",0,0,0,0,0,-62]
["March","-","-","-","-","-","-","-","-","-","-","-","-","-","-","-",0,0,0,0,0,0]
["April","-","-","-","-","-","-","-","-","-","-","-","-","-","-","-",0,0,0,0,0,-57]
["May","-","-","-","-","-","-","-","-","-","-","-","-","-","-","-",0,0,0,0,0,0]
["June","-","-","-","-","-","-","-","-","-","-","-","-","-","-","-",0,0,0,0,0,-1057]
["July","-","-","-","-","-","-","-","-","-","-","-","-","-","-","-",0,0,0,0,0,0]
["August","-","-","-","-","-","-","-","-","-","-","-","-","-","-","-",0,0,0,0,-792,-3]
["September","-","-","-","-","-","-","-","-","-","-","-","-","-","-","-",0,0,0,0,0,-61.13]
["October","-","-","-","-","-","-","-","-","-","-","-","-","-","-","-",0,0,0,0,0,-159.58000000000001]
["November ","-","-","-","-","-","-","-","-","-","-","-","-","-","-","-",0,0,0,0,0,0]
["December","-","-","-","-","-","-","-","-","-","-","-","-","-","-","-",0,0,0,0,-112,0]
["Total","-","-","-","-","-","-","-","-","-","-","-","-",{"$f":"SUM(N35:N46)","v":0},{"$f":"SUM(O35:O46)","v":0},{"$f":"SUM(P35:P46)","v":0},{"$f":"SUM(Q35:Q46)","v":0},{"$f":"SUM(R35:R46)","v":0},0,0,-904,-1455.71]
["Hidden columns B-P do not contain any data for CY 2004-2018"]
[{"$f":"'Local SUT'!A78","v":"Source:  Minnesota Department of Revenue, Tax Research Division, November 2025"}]
["end of worksheet"]

{"sheet":"Nobles Co","index":10,"n_rows":50,"n_cols":22,"rows_kept":50,"cut":false,"hidden":true,"merged":[[49,0,49,19],[1,0,1,19],[0,0,0,24],[2,0,2,20],[17,0,17,20],[32,0,32,19],[47,0,47,21],[48,0,48,22]]}
["Nobles County Monthly Detail for Minnesota Local Sales & Use Tax"]
[{"$f":"'Local SUT'!A2","v":"CY 2004-2024"}]
["Nobles County Transit Sales Tax (0.5%)"]
["Month",2004,2005,2006,2007,2008,2009,2010,2011,2012,2013,2014,2015,2016,2017,2018,2019,2020,2021,2022,2023,2024]
["January ","-","-","-","-","-","-","-","-","-","-","-","-","-","-","-","-","-",771,137410,141133,139992]
["February","-","-","-","-","-","-","-","-","-","-","-","-","-","-","-","-","-",83499,106390,107136,117829]
["March","-","-","-","-","-","-","-","-","-","-","-","-","-","-","-","-","-",79249,109439,113514,109974]
["April","-","-","-","-","-","-","-","-","-","-","-","-","-","-","-","-","-",108220,124197,118651,123683]
["May","-","-","-","-","-","-","-","-","-","-","-","-","-","-","-","-","-",108320,111735,127709,119412]
["June","-","-","-","-","-","-","-","-","-","-","-","-","-","-","-","-","-",111199,130828,147472,137676]
["July","-","-","-","-","-","-","-","-","-","-","-","-","-","-","-","-","-",128972,149600,155040,122901]
["August","-","-","-","-","-","-","-","-","-","-","-","-","-","-","-","-","-",133468,129796,126491,140420.51999999999]
["September","-","-","-","-","-","-","-","-","-","-","-","-","-","-","-","-","-",112310,154802,144907,119828.81]
["October","-","-","-","-","-","-","-","-","-","-","-","-","-","-","-","-","-",129388,157500,147156,129693.74]
["November ","-","-","-","-","-","-","-","-","-","-","-","-","-","-","-","-","-",121377,129100,131056,126018.53]
["December","-","-","-","-","-","-","-","-","-","-","-","-","-","-","-","-","-",121080,135927,130991,126479.74]
["Total","-","-","-","-","-","-","-","-","-","-","-","-","-","-","-","-","-",{"$f":"SUM(S5:S16)","v":1237853},1576724,{"$f":"SUM(U5:U16)","v":1591256},1513908.34]
["Nobles County Transit Use Tax (0.5%)"]
["Month",2004,2005,2006,2007,2008,2009,2010,2011,2012,2013,2014,2015,2016,2017,2018,2019,2020,2021,2022,2023,2024]
["January ","-","-","-","-","-","-","-","-","-","-","-","-","-","-","-","-","-",0,12740,9278,9402]
["February","-","-","-","-","-","-","-","-","-","-","-","-","-","-","-","-","-",35604,8012,34941,5817]
["March","-","-","-","-","-","-","-","-","-","-","-","-","-","-","-","-","-",3932,2670,30387,4515]
["April","-","-","-","-","-","-","-","-","-","-","-","-","-","-","-","-","-",7734,6747,12070,5859]
["May","-","-","-","-","-","-","-","-","-","-","-","-","-","-","-","-","-",4606,3376,5404,6365]
["June","-","-","-","-","-","-","-","-","-","-","-","-","-","-","-","-","-",5742,8208,5424,8770]
["July","-","-","-","-","-","-","-","-","-","-","-","-","-","-","-","-","-",4932,9080,15526,5829]
["August","-","-","-","-","-","-","-","-","-","-","-","-","-","-","-","-","-",6072,6253,6053,6863.05]
["September","-","-","-","-","-","-","-","-","-","-","-","-","-","-","-","-","-",9602,6050,9156,14532.02]
["October","-","-","-","-","-","-","-","-","-","-","-","-","-","-","-","-","-",7188,5529,11022,4699]
["November ","-","-","-","-","-","-","-","-","-","-","-","-","-","-","-","-","-",28616,5769,7670,8042.03]
["December","-","-","-","-","-","-","-","-","-","-","-","-","-","-","-","-","-",10164,35140,5660,8435.36]
["Total","-","-","-","-","-","-","-","-","-","-","-","-","-","-","-","-","-",{"$f":"SUM(S20:S31)","v":124192},109574,{"$f":"SUM(U20:U31)","v":152591},89128.46]
["Nobles County Transit Refunds"]
["Month",2004,2005,2006,2007,2008,2009,2010,2011,2012,2013,2014,2015,2016,2017,2018,2019,2020,2021,2022,2023,2024]
["January ","-","-","-","-","-","-","-","-","-","-","-","-","-","-","-","-","-",0,-38,0,0]
["February","-","-","-","-","-","-","-","-","-","-","-","-","-","-","-","-","-",0,0,0,0]
["March","-","-","-","-","-","-","-","-","-","-","-","-","-","-","-","-","-",0,0,0,0]
["April","-","-","-","-","-","-","-","-","-","-","-","-","-","-","-","-","-",0,0,0,0]
["May","-","-","-","-","-","-","-","-","-","-","-","-","-","-","-","-","-",0,0,-10,0]
["June","-","-","-","-","-","-","-","-","-","-","-","-","-","-","-","-","-",0,0,0,0]
["July","-","-","-","-","-","-","-","-","-","-","-","-","-","-","-","-","-",0,0,0,-4]
["August","-","-","-","-","-","-","-","-","-","-","-","-","-","-","-","-","-",0,0,0,0]
["September","-","-","-","-","-","-","-","-","-","-","-","-","-","-","-","-","-",0,0,0,0]
["October","-","-","-","-","-","-","-","-","-","-","-","-","-","-","-","-","-",0,0,0,0]
["November ","-","-","-","-","-","-","-","-","-","-","-","-","-","-","-","-","-",0,0,0,0]
["December","-","-","-","-","-","-","-","-","-","-","-","-","-","-","-","-","-",0,0,-1835,0]
["Total","-","-","-","-","-","-","-","-","-","-","-","-","-","-","-","-","-",{"$f":"SUM(S35:S46)","v":0},-38,{"$f":"SUM(U35:U46)","v":-1845},-4]
["Hidden columns B-R do not contain any data for CY 2004-2020"]
[{"$f":"'Local SUT'!A78","v":"Source:  Minnesota Department of Revenue, Tax Research Division, November 2025"}]
["end of worksheet"]

{"sheet":"Dodge Co","index":11,"n_rows":50,"n_cols":22,"rows_kept":50,"cut":false,"hidden":true,"merged":[[49,0,49,19],[17,0,17,20],[32,0,32,20],[1,0,1,19],[0,0,0,21],[2,0,2,19],[47,0,47,20],[48,0,48,22]]}
["Dodge County Monthly Detail for Minnesota Local Sales & Use Tax"]
[{"$f":"'Local SUT'!A2","v":"CY 2004-2024"}]
["Dodge County Transit Sales Tax (0.5%)"]
["Month",2004,2005,2006,2007,2008,2009,2010,2011,2012,2013,2014,2015,2016,2017,2018,2019,2020,2021,2022,2023,2024]
["January ","-","-","-","-","-","-","-","-","-","-","-","-","-","-","-",0,82075,93388,104183,101843,112161]
["February","-","-","-","-","-","-","-","-","-","-","-","-","-","-","-",45005,68911,69161,73959,77198,82049]
["March","-","-","-","-","-","-","-","-","-","-","-","-","-","-","-",48508,60021,64764,74593,72991,84093]
["April","-","-","-","-","-","-","-","-","-","-","-","-","-","-","-",60209,72532,86534,123694,94214,100836]
["May","-","-","-","-","-","-","-","-","-","-","-","-","-","-","-",61958,102119,89668,112491,78858,91387]
["June","-","-","-","-","-","-","-","-","-","-","-","-","-","-","-",68935,80232,90093,89626,91087,90673]
["July","-","-","-","-","-","-","-","-","-","-","-","-","-","-","-",78491,83253,99768,88455,102717,91820]
["August","-","-","-","-","-","-","-","-","-","-","-","-","-","-","-",86680,112679,88217,84686,86388,95409.46]
["September","-","-","-","-","-","-","-","-","-","-","-","-","-","-","-",76985,76588,90602,98904,122098,90563.22]
["October","-","-","-","-","-","-","-","-","-","-","-","-","-","-","-",78659,85032,105491,90357,104379,113256.55]
["November ","-","-","-","-","-","-","-","-","-","-","-","-","-","-","-",76399,87677,88339,101784,103745,111665.98]
["December","-","-","-","-","-","-","-","-","-","-","-","-","-","-","-",68586,82421,90469,96459,104821,93642.01]
["Total","-","-","-","-","-","-","-","-","-","-","-","-","-","-","-",{"$f":"SUM(Q5:Q16)","v":750415},{"$f":"SUM(R5:R16)","v":993540},{"$f":"SUM(S5:S16)","v":1056494},1139191,{"$f":"SUM(U5:U16)","v":1140339},1157556.22]
["Dodge County Transit Use Tax (0.5%)"]
["Month",2004,2005,2006,2007,2008,2009,2010,2011,2012,2013,2014,2015,2016,2017,2018,2019,2020,2021,2022,2023,2024]
["January ","-","-","-","-","-","-","-","-","-","-","-","-","-","-","-",0,6597,14763,5734,5927,7043]
["February","-","-","-","-","-","-","-","-","-","-","-","-","-","-","-",1488,3874,-6382,3842,6622,4310]
["March","-","-","-","-","-","-","-","-","-","-","-","-","-","-","-",928,2082,1669,5594,3730,3028]
["April","-","-","-","-","-","-","-","-","-","-","-","-","-","-","-",2440,3677,4280,8003,4970,3983]
["May","-","-","-","-","-","-","-","-","-","-","-","-","-","-","-",1741,2681,2944,3935,4663,4030]
["June","-","-","-","-","-","-","-","-","-","-","-","-","-","-","-",2428,3340,2309,3693,3871,5475]
["July","-","-","-","-","-","-","-","-","-","-","-","-","-","-","-",3619,3282,3019,4097,5872,7839]
["August","-","-","-","-","-","-","-","-","-","-","-","-","-","-","-",3523,2269,3096,3851,4327,5756.16]
["September","-","-","-","-","-","-","-","-","-","-","-","-","-","-","-",2645,1669,2477,6167,8891,4267.09]
["October","-","-","-","-","-","-","-","-","-","-","-","-","-","-","-",5235,3676,3778,4467,4873,5282.77]
["November ","-","-","-","-","-","-","-","-","-","-","-","-","-","-","-",3517,2710,4487,4451,4616,4591.24]
["December","-","-","-","-","-","-","-","-","-","-","-","-","-","-","-",2863,4832,3567,5245,4247,3534.78]
["Total","-","-","-","-","-","-","-","-","-","-","-","-","-","-","-",{"$f":"SUM(Q20:Q31)","v":30427},{"$f":"SUM(R20:R31)","v":40689},{"$f":"SUM(S20:S31)","v":40007},59079,{"$f":"SUM(U20:U31)","v":62609},59140.04]
["Dodge County Transit Refunds"]
["Month",2004,2005,2006,2007,2008,2009,2010,2011,2012,2013,2014,2015,2016,2017,2018,2019,2020,2021,2022,2023,2024]
["January ","-","-","-","-","-","-","-","-","-","-","-","-","-","-","-",0,0,0,-2766,0,-19]
["February","-","-","-","-","-","-","-","-","-","-","-","-","-","-","-",0,-4766,-8199,-49,0,0]
["March","-","-","-","-","-","-","-","-","-","-","-","-","-","-","-",0,0,0,0,-1593,-130]
["April","-","-","-","-","-","-","-","-","-","-","-","-","-","-","-",0,0,-497,0,-13027,0]
["May","-","-","-","-","-","-","-","-","-","-","-","-","-","-","-",0,-7734,-1158,-14,-139,0]
["June","-","-","-","-","-","-","-","-","-","-","-","-","-","-","-",0,0,0,0,0,0]
["July","-","-","-","-","-","-","-","-","-","-","-","-","-","-","-",0,0,0,-278,0,0]
["August","-","-","-","-","-","-","-","-","-","-","-","-","-","-","-",0,-3735,0,0,0,-748.72]
["September","-","-","-","-","-","-","-","-","-","-","-","-","-","-","-",0,0,0,0,-5728,0]
["October","-","-","-","-","-","-","-","-","-","-","-","-","-","-","-",0,-29458,0,0,0,-17407.96]
["November ","-","-","-","-","-","-","-","-","-","-","-","-","-","-","-",-766,0,0,0,0,-120.18]
["December","-","-","-","-","-","-","-","-","-","-","-","-","-","-","-",0,-162,0,0,0,0]
["Total","-","-","-","-","-","-","-","-","-","-","-","-","-","-","-",{"$f":"SUM(Q35:Q46)","v":-766},{"$f":"SUM(R35:R46)","v":-45855},{"$f":"SUM(S35:S46)","v":-9854},-3107,{"$f":"SUM(U35:U46)","v":-20487},-18425.86]
["Hidden columns B-P do not contain any data for CY 2004-2018"]
[{"$f":"'Local SUT'!A78","v":"Source:  Minnesota Department of Revenue, Tax Research Division, November 2025"}]
["end of worksheet"]

{"sheet":"Goodhue Co","index":12,"n_rows":50,"n_cols":22,"rows_kept":50,"cut":false,"hidden":true,"merged":[[49,0,49,19],[17,0,17,20],[32,0,32,20],[1,0,1,19],[0,0,0,22],[2,0,2,19],[47,0,47,20],[48,0,48,22]]}
["Goodhue County Monthly Detail for Minnesota Local Sales & Use Tax"]
[{"$f":"'Local SUT'!A2","v":"CY 2004-2024"}]
["Goodhue County Transit Sales Tax (0.5%)"]
["Month",2004,2005,2006,2007,2008,2009,2010,2011,2012,2013,2014,2015,2016,2017,2018,2019,2020,2021,2022,2023,2024]
["January ","-","-","-","-","-","-","-","-","-","-","-","-","-","-","-",1,277480,310191,341943,363583,381809]
["February","-","-","-","-","-","-","-","-","-","-","-","-","-","-","-",198838,222678,244478,267509,274040,275045]
["March","-","-","-","-","-","-","-","-","-","-","-","-","-","-","-",181143,199554,234190,248423,263502,265460]
["April","-","-","-","-","-","-","-","-","-","-","-","-","-","-","-",228459,232379,315114,313843,326360,308508]
["May","-","-","-","-","-","-","-","-","-","-","-","-","-","-","-",245895,243687,291545,290755,328372,319072]
["June","-","-","-","-","-","-","-","-","-","-","-","-","-","-","-",292220,283623,312221,394766,378189,355975]
["July","-","-","-","-","-","-","-","-","-","-","-","-","-","-","-",272049,276482,327315,368338,403401,349943]
["August","-","-","-","-","-","-","-","-","-","-","-","-","-","-","-",296955,318309,319156,349148,346560,339727.56]
["September","-","-","-","-","-","-","-","-","-","-","-","-","-","-","-",283049,274062,332953,368134,363933,342582.74]
["October","-","-","-","-","-","-","-","-","-","-","-","-","-","-","-",272743,283521,335607,351794,362562,357825.61]
["November ","-","-","-","-","-","-","-","-","-","-","-","-","-","-","-",252300,262934,296517,337701,331658,334939]
["December","-","-","-","-","-","-","-","-","-","-","-","-","-","-","-",237653,263599,315670,358368,335575,324431.06]
["Total","-","-","-","-","-","-","-","-","-","-","-","-","-","-","-",{"$f":"SUM(Q5:Q16)","v":2761305},{"$f":"SUM(R5:R16)","v":3138308},{"$f":"SUM(S5:S16)","v":3634957},3990722,{"$f":"SUM(U5:U16)","v":4077735},3955317.9699999997]
["Goodhue County Transit Use Tax (0.5%)"]
["Month",2004,2005,2006,2007,2008,2009,2010,2011,2012,2013,2014,2015,2016,2017,2018,2019,2020,2021,2022,2023,2024]
["January ","-","-","-","-","-","-","-","-","-","-","-","-","-","-","-",0,33519,28682,36305,42284,42899]
["February","-","-","-","-","-","-","-","-","-","-","-","-","-","-","-",20444,19076,12029,30430,27775,38703]
["March","-","-","-","-","-","-","-","-","-","-","-","-","-","-","-",25285,14665,16125,19931,24246,48476]
["April","-","-","-","-","-","-","-","-","-","-","-","-","-","-","-",25309,35845,18370,24994,27783,49416]
["May","-","-","-","-","-","-","-","-","-","-","-","-","-","-","-",28528,14553,54899,20747,29611,44477]
["June","-","-","-","-","-","-","-","-","-","-","-","-","-","-","-",22122,32977,17656,24841,29050,43169]
["July","-","-","-","-","-","-","-","-","-","-","-","-","-","-","-",11759,13305,22928,46238,37061,36373]
["August","-","-","-","-","-","-","-","-","-","-","-","-","-","-","-",23020,19395,30400,27420,32736,33841.800000000003]
["September","-","-","-","-","-","-","-","-","-","-","-","-","-","-","-",19583,23414,18100,25471,33085,36534.720000000001]
["October","-","-","-","-","-","-","-","-","-","-","-","-","-","-","-",25212,20757,31552,26587,43001,41885.839999999997]
["November ","-","-","-","-","-","-","-","-","-","-","-","-","-","-","-",22540,22313,49232,24371,36959,52359.05]
["December","-","-","-","-","-","-","-","-","-","-","-","-","-","-","-",45304,28306,35672,40732,43801,27924.74]
["Total","-","-","-","-","-","-","-","-","-","-","-","-","-","-","-",{"$f":"SUM(Q20:Q31)","v":269106},{"$f":"SUM(R20:R31)","v":278125},{"$f":"SUM(S20:S31)","v":335645},348067,{"$f":"SUM(U20:U31)","v":407392},496059.14999999997]
["Goodhue County Transit Refunds"]
["Month",2004,2005,2006,2007,2008,2009,2010,2011,2012,2013,2014,2015,2016,2017,2018,2019,2020,2021,2022,2023,2024]
["January ","-","-","-","-","-","-","-","-","-","-","-","-","-","-","-",0,0,0,-299,-850,-1]
["February","-","-","-","-","-","-","-","-","-","-","-","-","-","-","-",0,-2,0,0,-8441,0]
["March","-","-","-","-","-","-","-","-","-","-","-","-","-","-","-",0,-44,-223,-271,0,-1262]
["April","-","-","-","-","-","-","-","-","-","-","-","-","-","-","-",0,-189,0,-1049,0,-7959]
["May","-","-","-","-","-","-","-","-","-","-","-","-","-","-","-",0,-2,0,-68,-397,0]
["June","-","-","-","-","-","-","-","-","-","-","-","-","-","-","-",-212,-43,0,0,0,0]
["July","-","-","-","-","-","-","-","-","-","-","-","-","-","-","-",0,0,0,-1192,0,0]
["August","-","-","-","-","-","-","-","-","-","-","-","-","-","-","-",0,0,-1587,-3,0,-4599.08]
["September","-","-","-","-","-","-","-","-","-","-","-","-","-","-","-",0,0,0,0,-8,-50.41]
["October","-","-","-","-","-","-","-","-","-","-","-","-","-","-","-",0,0,0,-2540,-258,-2696.28]
["November ","-","-","-","-","-","-","-","-","-","-","-","-","-","-","-",0,0,-30,-1555,0,0]
["December","-","-","-","-","-","-","-","-","-","-","-","-","-","-","-",0,0,0,0,-42,0]
["Total","-","-","-","-","-","-","-","-","-","-","-","-","-","-","-",{"$f":"SUM(Q35:Q46)","v":-212},{"$f":"SUM(R35:R46)","v":-280},{"$f":"SUM(S35:S46)","v":-1840},-6977,{"$f":"SUM(U35:U46)","v":-9996},-16567.77]
["Hidden columns B-P do not contain any data for CY 2004-2018"]
[{"$f":"'Local SUT'!A78","v":"Source:  Minnesota Department of Revenue, Tax Research Division, November 2025"}]
["end of worksheet"]

{"sheet":"Sherburne Co","index":13,"n_rows":50,"n_cols":22,"rows_kept":50,"cut":false,"hidden":true,"merged":[[49,0,49,19],[1,0,1,19],[0,0,0,22],[2,0,2,19],[17,0,17,19],[32,0,32,19],[47,0,47,19],[48,0,48,19]]}
["Sherburne County Monthly Detail for Minnesota Local Sales & Use Tax"]
[{"$f":"'Local SUT'!A2","v":"CY 2004-2024"}]
["Sherburne County Transit Sales Tax (0.5%)"]
["Month",2004,2005,2006,2007,2008,2009,2010,2011,2012,2013,2014,2015,2016,2017,2018,2019,2020,2021,2022,2023,2024]
["January ","-","-","-","-","-","-","-","-","-","-","-","-","-","-","-",546,515544,576141,700738,643992,688868]
["February","-","-","-","-","-","-","-","-","-","-","-","-","-","-","-",287974,405968,449278,491760,540961,502196]
["March","-","-","-","-","-","-","-","-","-","-","-","-","-","-","-",345404,363294,435587,453101,518692,555077]
["April","-","-","-","-","-","-","-","-","-","-","-","-","-","-","-",383834,398346,534729,590803,588789,562864]
["May","-","-","-","-","-","-","-","-","-","-","-","-","-","-","-",385870,462524,539231,573009,562044,592326]
["June","-","-","-","-","-","-","-","-","-","-","-","-","-","-","-",459349,516683,589967,726516,778687,725664]
["July","-","-","-","-","-","-","-","-","-","-","-","-","-","-","-",414898,473272,585852,794098,797899,707921]
["August","-","-","-","-","-","-","-","-","-","-","-","-","-","-","-",515767,671249,646168,692503,674686,664467.22]
["September","-","-","-","-","-","-","-","-","-","-","-","-","-","-","-",483113,487663,658496,733764,730915,684755.5]
["October","-","-","-","-","-","-","-","-","-","-","-","-","-","-","-",477840,500923,600618,726727,770476,611534.46]
["November ","-","-","-","-","-","-","-","-","-","-","-","-","-","-","-",448499,482590,687430,752513,650973,662907.17000000004]
["December","-","-","-","-","-","-","-","-","-","-","-","-","-","-","-",430582,486157,540274,672182,626632,617215.55000000005]
["Total","-","-","-","-","-","-","-","-","-","-","-","-","-","-","-",{"$f":"SUM(Q5:Q16)","v":4633676},{"$f":"SUM(R5:R16)","v":5764213},{"$f":"SUM(S5:S16)","v":6843771},7907714,{"$f":"SUM(U5:U16)","v":7884746},7575795.8999999994]
["Sherburne County Transit Use Tax (0.5%)"]
["Month",2004,2005,2006,2007,2008,2009,2010,2011,2012,2013,2014,2015,2016,2017,2018,2019,2020,2021,2022,2023,2024]
["January ","-","-","-","-","-","-","-","-","-","-","-","-","-","-","-",24,29798,29928,41495,32675,68225]
["February","-","-","-","-","-","-","-","-","-","-","-","-","-","-","-",15432,19118,41742,26775,93033,21197]
["March","-","-","-","-","-","-","-","-","-","-","-","-","-","-","-",20651,21398,19278,19182,25103,-57389]
["April","-","-","-","-","-","-","-","-","-","-","-","-","-","-","-",21338,31145,23862,47594,38319,-8019]
["May","-","-","-","-","-","-","-","-","-","-","-","-","-","-","-",41350,20289,30625,33201,34589,27480]
["June","-","-","-","-","-","-","-","-","-","-","-","-","-","-","-",21389,20146,28208,27035,40725,34873]
["July","-","-","-","-","-","-","-","-","-","-","-","-","-","-","-",46255,21351,39865,31236,47969,44894]
["August","-","-","-","-","-","-","-","-","-","-","-","-","-","-","-",25447,24558,27731,41702,32951,30159.65]
["September","-","-","-","-","-","-","-","-","-","-","-","-","-","-","-",21035,35150,31585,8674,32739,25633.42]
["October","-","-","-","-","-","-","-","-","-","-","-","-","-","-","-",25845,25354,39836,20621,20706,26925.9]
["November ","-","-","-","-","-","-","-","-","-","-","-","-","-","-","-",28870,29941,30649,28662,25608,20883.14]
["December","-","-","-","-","-","-","-","-","-","-","-","-","-","-","-",28618,21141,32896,33541,30836,25523.81]
["Total","-","-","-","-","-","-","-","-","-","-","-","-","-","-","-",{"$f":"SUM(Q20:Q31)","v":296254},{"$f":"SUM(R20:R31)","v":299389},{"$f":"SUM(S20:S31)","v":376205},359718,{"$f":"SUM(U20:U31)","v":455253},260386.91999999998]
["Sherburne County Transit Refunds"]
["Month",2004,2005,2006,2007,2008,2009,2010,2011,2012,2013,2014,2015,2016,2017,2018,2019,2020,2021,2022,2023,2024]
["January ","-","-","-","-","-","-","-","-","-","-","-","-","-","-","-",0,-15,0,-24021,-3864,-18093]
["February","-","-","-","-","-","-","-","-","-","-","-","-","-","-","-",0,0,-257,-54,-6,-10928]
["March","-","-","-","-","-","-","-","-","-","-","-","-","-","-","-",0,-774,-5046,-19736,-288,-318415]
["April","-","-","-","-","-","-","-","-","-","-","-","-","-","-","-",0,0,0,-106,-9150,-17449]
["May","-","-","-","-","-","-","-","-","-","-","-","-","-","-","-",0,-3643,-164,-4969,-69,-152]
["June","-","-","-","-","-","-","-","-","-","-","-","-","-","-","-",-53,-492,-8,-7103,-1,-116391]
["July","-","-","-","-","-","-","-","-","-","-","-","-","-","-","-",-111,-607,0,0,-2609,-2473]
["August","-","-","-","-","-","-","-","-","-","-","-","-","-","-","-",0,-3605,0,-31,-1175,-326.63]
["September","-","-","-","-","-","-","-","-","-","-","-","-","-","-","-",0,0,0,-477,-1118,-67.099999999999994]
["October","-","-","-","-","-","-","-","-","-","-","-","-","-","-","-",0,-2701,-7268,-5,-12406,-4884.08]
["November ","-","-","-","-","-","-","-","-","-","-","-","-","-","-","-",-323,0,-527,-5303,-855,0]
["December","-","-","-","-","-","-","-","-","-","-","-","-","-","-","-",0,-189,-65,-1937,-79051,-36.950000000000003]
["Total","-","-","-","-","-","-","-","-","-","-","-","-","-","-","-",{"$f":"SUM(Q35:Q46)","v":-487},{"$f":"SUM(R35:R46)","v":-12026},{"$f":"SUM(S35:S46)","v":-13335},-63742,{"$f":"SUM(U35:U46)","v":-110592},-489215.76]
["Hidden columns B-P do not contain any data for CY 2004-2018"]
[{"$f":"'Local SUT'!A78","v":"Source:  Minnesota Department of Revenue, Tax Research Division, November 2025"}]
["end of worksheet"]

{"sheet":"Waseca Co","index":14,"n_rows":50,"n_cols":22,"rows_kept":50,"cut":false,"hidden":true,"merged":[[49,0,49,19],[1,0,1,19],[0,0,0,21],[2,0,2,19],[32,0,32,19],[17,0,17,19],[48,0,48,19],[47,0,47,19]]}
["Waseca County Monthly Detail for Minnesota Local Sales & Use Tax"]
[{"$f":"'Local SUT'!A2","v":"CY 2004-2024"}]
["Waseca County Transit Sales Tax (0.5%)"]
["Month",2004,2005,2006,2007,2008,2009,2010,2011,2012,2013,2014,2015,2016,2017,2018,2019,2020,2021,2022,2023,2024]
["January ","-","-","-","-","-","-","-","-","-","-","-","-","-","-","-","-",69318,82502,97153,88595,94860]
["February","-","-","-","-","-","-","-","-","-","-","-","-","-","-","-","-",60852,67839,73821,73759,70619]
["March","-","-","-","-","-","-","-","-","-","-","-","-","-","-","-","-",53427,66667,68225,67701,67925]
["April","-","-","-","-","-","-","-","-","-","-","-","-","-","-","-",0,58596,84486,79310,81485,81769]
["May","-","-","-","-","-","-","-","-","-","-","-","-","-","-","-",50312,66469,77093,75510,78007,79684]
["June","-","-","-","-","-","-","-","-","-","-","-","-","-","-","-",57094,72190,87135,92240,90325,85683]
["July","-","-","-","-","-","-","-","-","-","-","-","-","-","-","-",64706,79201,90654,91528,95141,88048]
["August","-","-","-","-","-","-","-","-","-","-","-","-","-","-","-",69557,78561,82420,86240,88075,87348.95]
["September","-","-","-","-","-","-","-","-","-","-","-","-","-","-","-",64782,77402,83608,89094,88566,85298.14]
["October","-","-","-","-","-","-","-","-","-","-","-","-","-","-","-",70996,71428,87887,88964,88433,84339.42]
["November ","-","-","-","-","-","-","-","-","-","-","-","-","-","-","-",61079,69896,82851,81817,80537,85339.36]
["December","-","-","-","-","-","-","-","-","-","-","-","-","-","-","-",66853,81759,86652,86182,87507,82196.53]
["Total","-","-","-","-","-","-","-","-","-","-","-","-","-","-","-",{"$f":"SUM(Q5:Q16)","v":505379},{"$f":"SUM(R5:R16)","v":839099},{"$f":"SUM(S5:S16)","v":979794},1010084,{"$f":"SUM(U5:U16)","v":1008131},993110.4]
["Waseca County Transit Use Tax (0.5%)"]
["Month",2004,2005,2006,2007,2008,2009,2010,2011,2012,2013,2014,2015,2016,2017,2018,2019,2020,2021,2022,2023,2024]
["January ","-","-","-","-","-","-","-","-","-","-","-","-","-","-","-","-",2409,5365,5794,6003,4712]
["February","-","-","-","-","-","-","-","-","-","-","-","-","-","-","-","-",3415,2656,3594,4383,5979]
["March","-","-","-","-","-","-","-","-","-","-","-","-","-","-","-","-",2103,1736,13224,2088,-10300]
["April","-","-","-","-","-","-","-","-","-","-","-","-","-","-","-",0,2004,4419,4744,4283,5121]
["May","-","-","-","-","-","-","-","-","-","-","-","-","-","-","-",1043,1788,5641,4839,5042,1036]
["June","-","-","-","-","-","-","-","-","-","-","-","-","-","-","-",2807,3445,5738,6948,6230,9171]
["July","-","-","-","-","-","-","-","-","-","-","-","-","-","-","-",7562,5912,7246,5690,6540,5469]
["August","-","-","-","-","-","-","-","-","-","-","-","-","-","-","-",1878,2548,7712,8036,5060,4187.3999999999996]
["September","-","-","-","-","-","-","-","-","-","-","-","-","-","-","-",4460,3268,7706,5734,4154,4410.1000000000004]
["October","-","-","-","-","-","-","-","-","-","-","-","-","-","-","-",4366,3291,7658,5920,4018,4971]
["November ","-","-","-","-","-","-","-","-","-","-","-","-","-","-","-",2640,1888,6689,5373,5744,6093.14]
["December","-","-","-","-","-","-","-","-","-","-","-","-","-","-","-",2256,3717,6450,4126,3794,3649.58]
["Total","-","-","-","-","-","-","-","-","-","-","-","-","-","-","-",{"$f":"SUM(Q20:Q31)","v":27012},{"$f":"SUM(R20:R31)","v":35788},{"$f":"SUM(S20:S31)","v":69016},74022,{"$f":"SUM(U20:U31)","v":57339},44499.22]
["Waseca County Transit Refunds"]
["Month",2004,2005,2006,2007,2008,2009,2010,2011,2012,2013,2014,2015,2016,2017,2018,2019,2020,2021,2022,2023,2024]
["January ","-","-","-","-","-","-","-","-","-","-","-","-","-","-","-","-",0,0,0,0,0]
["February","-","-","-","-","-","-","-","-","-","-","-","-","-","-","-","-",0,-37,-144,0,0]
["March","-","-","-","-","-","-","-","-","-","-","-","-","-","-","-","-",-72,-46,-246,-34,-10884]
["April","-","-","-","-","-","-","-","-","-","-","-","-","-","-","-",0,-102,0,0,0,-502]
["May","-","-","-","-","-","-","-","-","-","-","-","-","-","-","-",0,0,0,-131,-199,0]
["June","-","-","-","-","-","-","-","-","-","-","-","-","-","-","-",0,-7,-66,0,-95,-1165]
["July","-","-","-","-","-","-","-","-","-","-","-","-","-","-","-",0,-72,0,-12,0,-707]
["August","-","-","-","-","-","-","-","-","-","-","-","-","-","-","-",-20,0,0,0,0,0]
["September","-","-","-","-","-","-","-","-","-","-","-","-","-","-","-",0,0,0,0,-32,0]
["October","-","-","-","-","-","-","-","-","-","-","-","-","-","-","-",0,0,0,0,0,-7859.27]
["November ","-","-","-","-","-","-","-","-","-","-","-","-","-","-","-",0,0,0,0,0,0]
["December","-","-","-","-","-","-","-","-","-","-","-","-","-","-","-",-102,-2,0,0,0,0]
["Total","-","-","-","-","-","-","-","-","-","-","-","-","-","-","-",{"$f":"SUM(Q35:Q46)","v":-122},{"$f":"SUM(R35:R46)","v":-255},{"$f":"SUM(S35:S46)","v":-149},-533,{"$f":"SUM(U35:U46)","v":-360},-21117.27]
["Hidden columns B-P do not contain any data for CY 2004-2018"]
[{"$f":"'Local SUT'!A78","v":"Source:  Minnesota Department of Revenue, Tax Research Division, November 2025"}]
["end of worksheet"]

{"sheet":"Redwood Co","index":15,"n_rows":50,"n_cols":22,"rows_kept":50,"cut":false,"hidden":true,"merged":[[49,0,49,19],[1,0,1,19],[0,0,0,22],[2,0,2,19],[17,0,17,19],[32,0,32,19],[47,0,47,19],[48,0,48,19]]}
["Redwood County Monthly Detail for Minnesota Local Sales & Use Tax"]
[{"$f":"'Local SUT'!A2","v":"CY 2004-2024"}]
["Redwood County Transit Sales Tax (0.5%)"]
["Month",2004,2005,2006,2007,2008,2009,2010,2011,2012,2013,2014,2015,2016,2017,2018,2019,2020,2021,2022,2023,2024]
["January ","-","-","-","-","-","-","-","-","-","-","-","-","-","-","-","-",82612,81092,106676,99972,106593]
["February","-","-","-","-","-","-","-","-","-","-","-","-","-","-","-","-",60741,68495,73980,82093,90604]
["March","-","-","-","-","-","-","-","-","-","-","-","-","-","-","-","-",57072,61621,71879,75556,81789]
["April","-","-","-","-","-","-","-","-","-","-","-","-","-","-","-",35,65693,84423,88135,93951,91153]
["May","-","-","-","-","-","-","-","-","-","-","-","-","-","-","-",55805,65897,79018,80221,95830,97033]
["June","-","-","-","-","-","-","-","-","-","-","-","-","-","-","-",65799,81855,84498,93148,106866,104153]
["July","-","-","-","-","-","-","-","-","-","-","-","-","-","-","-",70527,75435,94911,120859,128126,116958]
["August","-","-","-","-","-","-","-","-","-","-","-","-","-","-","-",78095,87044,97256,110716,106177,97242.9]
["September","-","-","-","-","-","-","-","-","-","-","-","-","-","-","-",82309,80737,99418,108145,116782,109465.83]
["October","-","-","-","-","-","-","-","-","-","-","-","-","-","-","-",75070,84096,98519,107868,111747,124674.8]
["November ","-","-","-","-","-","-","-","-","-","-","-","-","-","-","-",78692,74057,95036,98806,100356,113167.59]
["December","-","-","-","-","-","-","-","-","-","-","-","-","-","-","-",70836,73810,87345,96980,98144,99295.06]
["Total","-","-","-","-","-","-","-","-","-","-","-","-","-","-","-",{"$f":"SUM(Q5:Q16)","v":577168},{"$f":"SUM(R5:R16)","v":889049},{"$f":"SUM(S5:S16)","v":1031632},1157413,{"$f":"SUM(U5:U16)","v":1215600},1232129.1800000002]
["Redwood County Transit Use Tax (0.5%)"]
["Month",2004,2005,2006,2007,2008,2009,2010,2011,2012,2013,2014,2015,2016,2017,2018,2019,2020,2021,2022,2023,2024]
["January ","-","-","-","-","-","-","-","-","-","-","-","-","-","-","-","-",2262,5945,2142,3760,3419]
["February","-","-","-","-","-","-","-","-","-","-","-","-","-","-","-","-",1826,1553,2435,2195,1676]
["March","-","-","-","-","-","-","-","-","-","-","-","-","-","-","-","-",1335,1853,1682,2483,2945]
["April","-","-","-","-","-","-","-","-","-","-","-","-","-","-","-",0,2005,2592,2698,3935,2650]
["May","-","-","-","-","-","-","-","-","-","-","-","-","-","-","-",1224,1294,6142,3202,3434,1833]
["June","-","-","-","-","-","-","-","-","-","-","-","-","-","-","-",1274,1293,2570,2467,3394,4339]
["July","-","-","-","-","-","-","-","-","-","-","-","-","-","-","-",2371,1808,4373,3228,3702,7934]
["August","-","-","-","-","-","-","-","-","-","-","-","-","-","-","-",2665,2792,3697,8476,3863,3459.12]
["September","-","-","-","-","-","-","-","-","-","-","-","-","-","-","-",3475,3239,3115,5272,3378,2619]
["October","-","-","-","-","-","-","-","-","-","-","-","-","-","-","-",4544,2396,3821,3830,6612,4082]
["November ","-","-","-","-","-","-","-","-","-","-","-","-","-","-","-",1207,5900,2572,5123,2709,3761.03]
["December","-","-","-","-","-","-","-","-","-","-","-","-","-","-","-",1124,1758,1976,5110,3843,2885.67]
["Total","-","-","-","-","-","-","-","-","-","-","-","-","-","-","-",{"$f":"SUM(Q20:Q31)","v":17884},{"$f":"SUM(R20:R31)","v":27908},{"$f":"SUM(S20:S31)","v":40209},45665,{"$f":"SUM(U20:U31)","v":43308},41602.819999999992]
["Redwood County Transit Refunds"]
["Month",2004,2005,2006,2007,2008,2009,2010,2011,2012,2013,2014,2015,2016,2017,2018,2019,2020,2021,2022,2023,2024]
["January ","-","-","-","-","-","-","-","-","-","-","-","-","-","-","-","-",0,0,0,0,0]
["February","-","-","-","-","-","-","-","-","-","-","-","-","-","-","-","-",0,-394,0,0,0]
["March","-","-","-","-","-","-","-","-","-","-","-","-","-","-","-","-",-2,0,0,0,0]
["April","-","-","-","-","-","-","-","-","-","-","-","-","-","-","-",0,0,-41,0,0,-48]
["May","-","-","-","-","-","-","-","-","-","-","-","-","-","-","-",0,0,0,-1,-4,0]
["June","-","-","-","-","-","-","-","-","-","-","-","-","-","-","-",0,-2,-12,0,0,0]
["July","-","-","-","-","-","-","-","-","-","-","-","-","-","-","-",0,0,0,-24,-2055,0]
["August","-","-","-","-","-","-","-","-","-","-","-","-","-","-","-",0,0,0,0,0,0]
["September","-","-","-","-","-","-","-","-","-","-","-","-","-","-","-",0,0,0,-6432,0,0]
["October","-","-","-","-","-","-","-","-","-","-","-","-","-","-","-",0,0,0,0,0,-8671.4699999999993]
["November ","-","-","-","-","-","-","-","-","-","-","-","-","-","-","-",0,0,-3053,0,-132,0]
["December","-","-","-","-","-","-","-","-","-","-","-","-","-","-","-",0,-1906,0,0,0,0]
["Total","-","-","-","-","-","-","-","-","-","-","-","-","-","-","-",{"$f":"SUM(Q35:Q46)","v":0},{"$f":"SUM(R35:R46)","v":-1910},{"$f":"SUM(S35:S46)","v":-3500},-6457,{"$f":"SUM(U35:U46)","v":-2191},-8719.4699999999993]
["Hidden columns B-P do not contain any data for CY 2004-2018"]
[{"$f":"'Local SUT'!A78","v":"Source:  Minnesota Department of Revenue, Tax Research Division, November 2025"}]
["end of worksheet"]

{"sheet":"Winona Co","index":16,"n_rows":50,"n_cols":22,"rows_kept":50,"cut":false,"hidden":true,"merged":[[0,0,0,19],[32,0,32,19],[47,0,47,19],[48,0,48,19],[49,0,49,19],[1,0,1,19],[2,0,2,19],[17,0,17,19]]}
["Winona County Monthly Detail for Minnesota Local Sales & Use Tax"]
[{"$f":"'Local SUT'!A2","v":"CY 2004-2024"}]
["Winona County Transit Sales Tax (0.5%)"]
["Month",2004,2005,2006,2007,2008,2009,2010,2011,2012,2013,2014,2015,2016,2017,2018,2019,2020,2021,2022,2023,2024]
["January ","-","-","-","-","-","-","-","-","-","-","-","-","-",0,236044,270705,294485,297037,378680,365025,329391]
["February","-","-","-","-","-","-","-","-","-","-","-","-","-",146065,200393,207447,230662,235457,270564,273398,252445]
["March","-","-","-","-","-","-","-","-","-","-","-","-","-",166411,172740,207493,202626,229219,262051,263154,258989]
["April","-","-","-","-","-","-","-","-","-","-","-","-","-",196559,209371,223053,217017,300848,298942,314303,284075]
["May","-","-","-","-","-","-","-","-","-","-","-","-","-",199685,197653,227737,209631,270749,330700,405251,287756]
["June","-","-","-","-","-","-","-","-","-","-","-","-","-",238977,236427,255436,252046,287868,332129,336103,349088]
["July","-","-","-","-","-","-","-","-","-","-","-","-","-",191635,205593,242974,228126,308541,320976,343738,314500]
["August","-","-","-","-","-","-","-","-","-","-","-","-","-",254950,273910,282716,307512,303548,309219,302056,314560.83]
["September","-","-","-","-","-","-","-","-","-","-","-","-","-",241983,269109,289486,290329,298146,342493,347980,333812.55]
["October","-","-","-","-","-","-","-","-","-","-","-","-","-",225865,233619,253936,272462,308719,266342,308129,299788.03000000003]
["November ","-","-","-","-","-","-","-","-","-","-","-","-","-",218681,246276,260037,263395,315642,325418,293790,323761.07]
["December","-","-","-","-","-","-","-","-","-","-","-","-","-",208793,248267,240340,268298,290247,363635,293122,359624.15]
["Total","-","-","-","-","-","-","-","-","-","-","-","-","-",{"$f":"SUM(O5:O16)","v":2289604},{"$f":"SUM(P5:P16)","v":2729402},{"$f":"SUM(Q5:Q16)","v":2961360},{"$f":"SUM(R5:R16)","v":3036589},{"$f":"SUM(S5:S16)","v":3446021},3801149,{"$f":"SUM(U5:U16)","v":3846049},3707790.63]
["Winona County Transit Use Tax (0.5%)"]
["Month",2004,2005,2006,2007,2008,2009,2010,2011,2012,2013,2014,2015,2016,2017,2018,2019,2020,2021,2022,2023,2024]
["January ","-","-","-","-","-","-","-","-","-","-","-","-","-",0,10204,26040,32225,17533,23624,24049,21184]
["February","-","-","-","-","-","-","-","-","-","-","-","-","-",10856,14880,19685,22626,13850,25131,17746,16180]
["March","-","-","-","-","-","-","-","-","-","-","-","-","-",7948,16345,20292,9161,14459,10750,17567,13946]
["April","-","-","-","-","-","-","-","-","-","-","-","-","-",37638,31580,14584,19783,12846,10086,18909,17652]
["May","-","-","-","-","-","-","-","-","-","-","-","-","-",12575,13836,13615,10077,27733,13667,15113,16022]
["June","-","-","-","-","-","-","-","-","-","-","-","-","-",17980,35306,35710,12532,12324,2705,21078,17353]
["July","-","-","-","-","-","-","-","-","-","-","-","-","-",40248,17978,18840,13532,13558,12472,23441,19073]
["August","-","-","-","-","-","-","-","-","-","-","-","-","-",13308,15487,19353,12920,12572,12236,11549,20226.23]
["September","-","-","-","-","-","-","-","-","-","-","-","-","-",28283,17140,34911,15887,14313,15765,17550,50029.13]
["October","-","-","-","-","-","-","-","-","-","-","-","-","-",33276,13760,31878,13897,20433,23222,29725,30290.79]
["November ","-","-","-","-","-","-","-","-","-","-","-","-","-",18466,14261,2350,13933,7712,16251,18451,19813.47]
["December","-","-","-","-","-","-","-","-","-","-","-","-","-",17163,18859,18547,23440,16147,50409,18098,23794.84]
["Total","-","-","-","-","-","-","-","-","-","-","-","-","-",{"$f":"SUM(O20:O31)","v":237741},{"$f":"SUM(P20:P31)","v":219636},{"$f":"SUM(Q20:Q31)","v":255805},{"$f":"SUM(R20:R31)","v":200013},{"$f":"SUM(S20:S31)","v":183480},216318,{"$f":"SUM(U20:U31)","v":233276},265564.46000000002]
["Winona County Transit Refunds"]
["Month",2004,2005,2006,2007,2008,2009,2010,2011,2012,2013,2014,2015,2016,2017,2018,2019,2020,2021,2022,2023,2024]
["January ","-","-","-","-","-","-","-","-","-","-","-","-","-",0,-4,-412,-587,-368,-6,-62869,-47]
["February","-","-","-","-","-","-","-","-","-","-","-","-","-",0,0,0,-4726,-919,0,-7,-36]
["March","-","-","-","-","-","-","-","-","-","-","-","-","-",0,-573,0,-6,-3117,0,0,-507]
["April","-","-","-","-","-","-","-","-","-","-","-","-","-",0,-4,-1046,-527,-477,0,0,-674]
["May","-","-","-","-","-","-","-","-","-","-","-","-","-",0,0,0,0,-155,0,-9,0]
["June","-","-","-","-","-","-","-","-","-","-","-","-","-",0,-1,0,-905,-36217,0,-140,0]
["July","-","-","-","-","-","-","-","-","-","-","-","-","-",0,-3,-3135,-8,-195,-2961,-108698,-6]
["August","-","-","-","-","-","-","-","-","-","-","-","-","-",0,0,-250,0,-385,-663,0,0]
["September","-","-","-","-","-","-","-","-","-","-","-","-","-",0,0,0,0,0,-6610,-15,0]
["October","-","-","-","-","-","-","-","-","-","-","-","-","-",0,0,-3174,-191,0,-1617,-1276,-67.02]
["November ","-","-","-","-","-","-","-","-","-","-","-","-","-",0,-707,-5,-2,-79720,-163,0,0]
["December","-","-","-","-","-","-","-","-","-","-","-","-","-",-82,-39,0,0,0,-10,-1295,0]
["Total","-","-","-","-","-","-","-","-","-","-","-","-","-",{"$f":"SUM(O35:O46)","v":-82},{"$f":"SUM(P35:P46)","v":-1331},{"$f":"SUM(Q35:Q46)","v":-8022},{"$f":"SUM(R35:R46)","v":-6952},{"$f":"SUM(S35:S46)","v":-121553},-12030,{"$f":"SUM(U35:U46)","v":-174309},-1337.02]
["Hidden columns B-N do not contain any data for CY 2004-2016"]
[{"$f":"'Local SUT'!A78","v":"Source:  Minnesota Department of Revenue, Tax Research Division, November 2025"}]
["end of worksheet"]

{"sheet":"Pine Co","index":17,"n_rows":50,"n_cols":22,"rows_kept":50,"cut":false,"hidden":true,"merged":[[0,0,0,19],[1,0,1,19],[2,0,2,19],[17,0,17,19],[49,0,49,19],[32,0,32,19],[47,0,47,19],[48,0,48,19]]}
["Pine County Monthly Detail for Minnesota Local Sales & Use Tax"]
[{"$f":"'Local SUT'!A2","v":"CY 2004-2024"}]
["Pine County Transit Sales Tax (0.5%)"]
["Month",2004,2005,2006,2007,2008,2009,2010,2011,2012,2013,2014,2015,2016,2017,2018,2019,2020,2021,2022,2023,2024]
["January ","-","-","-","-","-","-","-","-","-","-","-","-","-",0,79047,90202,114367,120486,152691,152704,163243]
["February","-","-","-","-","-","-","-","-","-","-","-","-","-",64002,65723,85141,93256,143120,112442,120242,123474]
["March","-","-","-","-","-","-","-","-","-","-","-","-","-",60096,59685,79835,86945,98006,110025,115822,123192]
["April","-","-","-","-","-","-","-","-","-","-","-","-","-",68767,69045,91934,93291,131140,127886,131609,136849]
["May","-","-","-","-","-","-","-","-","-","-","-","-","-",68484,67000,92549,102633,130775,126000,134307,144994]
["June","-","-","-","-","-","-","-","-","-","-","-","-","-",83093,88500,111043,142248,186450,154773,166148,173172]
["July","-","-","-","-","-","-","-","-","-","-","-","-","-",80871,97936,116217,128095,152052,173000,182993,177777]
["August","-","-","-","-","-","-","-","-","-","-","-","-","-",102927,123273,130960,145038,165084,168647,170838,184073.24]
["September","-","-","-","-","-","-","-","-","-","-","-","-","-",92968,103520,126040,129825,156039,166904,175441,181278.7]
["October","-","-","-","-","-","-","-","-","-","-","-","-","-",89860,94951,123355,132807,152010,172290,173455,173452.57]
["November ","-","-","-","-","-","-","-","-","-","-","-","-","-",78129,93644,108020,124693,143120,156842,155005,172999.41]
["December","-","-","-","-","-","-","-","-","-","-","-","-","-",73600,84061,104267,121351,137751,147417,149746,157311.85]
["Total","-","-","-","-","-","-","-","-","-","-","-","-","-",{"$f":"SUM(O5:O16)","v":862797},{"$f":"SUM(P5:P16)","v":1026385},{"$f":"SUM(Q5:Q16)","v":1259563},{"$f":"SUM(R5:R16)","v":1414549},{"$f":"SUM(S5:S16)","v":1716033},1768917,{"$f":"SUM(U5:U16)","v":1828310},1911816.77]
["Pine County Transit Use Tax (0.5%)"]
["Month",2004,2005,2006,2007,2008,2009,2010,2011,2012,2013,2014,2015,2016,2017,2018,2019,2020,2021,2022,2023,2024]
["January ","-","-","-","-","-","-","-","-","-","-","-","-","-",0,2964,7659,4634,4306,7743,7485,8788]
["February","-","-","-","-","-","-","-","-","-","-","-","-","-",1250,3692,3692,4929,4440,4950,4327,4494]
["March","-","-","-","-","-","-","-","-","-","-","-","-","-",2030,2382,3536,2605,3795,2802,4274,3423]
["April","-","-","-","-","-","-","-","-","-","-","-","-","-",2104,2841,2434,3175,3640,9634,6090,4051]
["May","-","-","-","-","-","-","-","-","-","-","-","-","-",2462,3969,2732,2410,4244,2212,7205,3383]
["June","-","-","-","-","-","-","-","-","-","-","-","-","-",2444,4705,2562,5888,5067,4127,6806,4480]
["July","-","-","-","-","-","-","-","-","-","-","-","-","-",7794,4357,4369,5214,5044,10973,5994,7354]
["August","-","-","-","-","-","-","-","-","-","-","-","-","-",4068,4105,4373,3971,3528,4230,3926,6169.44]
["September","-","-","-","-","-","-","-","-","-","-","-","-","-",3366,6211,4019,3250,6347,5003,4905,6775.54]
["October","-","-","-","-","-","-","-","-","-","-","-","-","-",3209,7263,3508,4287,6657,6907,7247,9096.69]
["November ","-","-","-","-","-","-","-","-","-","-","-","-","-",2427,6676,5874,4648,-13612,5181,4507,9268.42]
["December","-","-","-","-","-","-","-","-","-","-","-","-","-",2789,10890,2968,3345,5207,3864,6133,6002.14]
["Total","-","-","-","-","-","-","-","-","-","-","-","-","-",{"$f":"SUM(O20:O31)","v":33943},{"$f":"SUM(P20:P31)","v":60055},{"$f":"SUM(Q20:Q31)","v":47726},{"$f":"SUM(R20:R31)","v":48356},{"$f":"SUM(S20:S31)","v":38663},67626,{"$f":"SUM(U20:U31)","v":68899},73285.23000000001]
["Pine County Transit Refunds"]
["Month",2004,2005,2006,2007,2008,2009,2010,2011,2012,2013,2014,2015,2016,2017,2018,2019,2020,2021,2022,2023,2024]
["January ","-","-","-","-","-","-","-","-","-","-","-","-","-",0,-2,0,0,0,0,0,-48]
["February","-","-","-","-","-","-","-","-","-","-","-","-","-",0,0,0,-503,0,0,-1,-66]
["March","-","-","-","-","-","-","-","-","-","-","-","-","-",0,0,-1,0,-134,-25,0,0]
["April","-","-","-","-","-","-","-","-","-","-","-","-","-",0,0,0,0,-368,0,0,0]
["May","-","-","-","-","-","-","-","-","-","-","-","-","-",0,-1,0,0,0,-36,0,0]
["June","-","-","-","-","-","-","-","-","-","-","-","-","-",0,-2,0,-503,0,0,0,0]
["July","-","-","-","-","-","-","-","-","-","-","-","-","-",0,-946,0,0,0,-123,0,-4]
["August","-","-","-","-","-","-","-","-","-","-","-","-","-",0,0,0,0,-19,0,0,-31.94]
["September","-","-","-","-","-","-","-","-","-","-","-","-","-",0,0,0,0,0,0,0,-13.81]
["October","-","-","-","-","-","-","-","-","-","-","-","-","-",0,0,0,-1,0,0,-11,-1.48]
["November ","-","-","-","-","-","-","-","-","-","-","-","-","-",0,0,0,0,-37,-123,0,-2421.7199999999998]
["December","-","-","-","-","-","-","-","-","-","-","-","-","-",0,0,0,-211,0,-1,-791,0]
["Total","-","-","-","-","-","-","-","-","-","-","-","-","-",{"$f":"SUM(O35:O46)","v":0},0,0,{"$f":"SUM(R35:R46)","v":-1218},{"$f":"SUM(S35:S46)","v":-558},-308,{"$f":"SUM(U35:U46)","v":-803},-2586.9499999999998]
["Hidden columns B-N do not contain any data for CY 2004-2016"]
[{"$f":"'Local SUT'!A78","v":"Source:  Minnesota Department of Revenue, Tax Research Division, November 2025"}]
["end of worksheet"]

{"sheet":"Polk Co","index":18,"n_rows":51,"n_cols":22,"rows_kept":51,"cut":false,"hidden":true,"merged":[[0,0,0,20],[48,0,48,20],[50,0,50,19],[47,0,47,19],[1,0,1,19],[17,0,17,19],[32,0,32,19],[2,0,2,19]]}
["Polk County Monthly Detail for Minnesota Local Sales & Use Tax"]
[{"$f":"'Local SUT'!A2","v":"CY 2004-2024"}]
["Polk County Transit Sales Tax (0.5%)"]
["Month",2004,2005,2006,2007,2008,2009,2010,2011,2012,2013,2014,2015,2016,2017,2018,2019,2020,2021,2022,2023,2024]
["January ","-","-","-","-","-","-","-","-","-","-","-","-","-","-",203,63369,69931,75894,85786,82057,92664]
["February","-","-","-","-","-","-","-","-","-","-","-","-","-","-",36195,57733,55115,60004,65079,71354,73213]
["March","-","-","-","-","-","-","-","-","-","-","-","-","-","-",40009,49563,51147,70645,63869,69650,71103]
["April","-","-","-","-","-","-","-","-","-","-","-","-","-","-",49415,58022,63541,79130,80269,83131,86718]
["May","-","-","-","-","-","-","-","-","-","-","-","-","-","-",50309,58696,57763,70741,70864,82005,172013]
["June","-","-","-","-","-","-","-","-","-","-","-","-","-","-",56897,69237,68471,78885,84562,98387,197071]
["July","-","-","-","-","-","-","-","-","-","-","-","-","-","-",58595,69744,75652,93382,94659,109356,207854]
["August","-","-","-","-","-","-","-","-","-","-","-","-","-","-",64928,78316,76442,101044,88841,102095,214940.04]
["September","-","-","-","-","-","-","-","-","-","-","-","-","-","-",64758,68744,74265,88295,89247,100546,200437.28]
["October","-","-","-","-","-","-","-","-","-","-","-","-","-","-",66052,66555,72637,92516,93279,96579,198699.2]
["November ","-","-","-","-","-","-","-","-","-","-","-","-","-","-",58974,63725,72596,79585,81350,97643,180143.58]
["December","-","-","-","-","-","-","-","-","-","-","-","-","-","-",58205,64726,67680,73479,88893,86240,166148.56]
["Total","-","-","-","-","-","-","-","-","-","-","-","-","-","-",{"$f":"SUM(P5:P16)","v":604540},{"$f":"SUM(Q5:Q16)","v":768430},{"$f":"SUM(R5:R16)","v":805240},{"$f":"SUM(S5:S16)","v":963600},986698,{"$f":"SUM(U5:U16)","v":1079043},1861004.6600000001]
["Polk County Transit Use Tax (0.5%)"]
["Month",2004,2005,2006,2007,2008,2009,2010,2011,2012,2013,2014,2015,2016,2017,2018,2019,2020,2021,2022,2023,2024]
["January ","-","-","-","-","-","-","-","-","-","-","-","-","-","-",0,5557,4987,-839,4432,7495,7290]
["February","-","-","-","-","-","-","-","-","-","-","-","-","-","-",2272,3252,4028,2087,-5231,4218,2358]
["March","-","-","-","-","-","-","-","-","-","-","-","-","-","-",5979,5072,3778,4330,2210,3874,4212]
["April","-","-","-","-","-","-","-","-","-","-","-","-","-","-",4589,7979,5881,6737,4897,4369,4255]
["May","-","-","-","-","-","-","-","-","-","-","-","-","-","-",3361,5902,-3462,4279,3586,2709,6248]
["June","-","-","-","-","-","-","-","-","-","-","-","-","-","-",3329,5693,4817,3350,5729,7158,10329]
["July","-","-","-","-","-","-","-","-","-","-","-","-","-","-",3781,11008,6381,4981,6340,9677,11478]
["August","-","-","-","-","-","-","-","-","-","-","-","-","-","-",6111,8582,369,3539,-4459,1247,11675]
["September","-","-","-","-","-","-","-","-","-","-","-","-","-","-",5202,7301,5686,2773,7160,8103,14681.72]
["October","-","-","-","-","-","-","-","-","-","-","-","-","-","-",7056,6420,4042,5929,10618,3328,10953.01]
["November ","-","-","-","-","-","-","-","-","-","-","-","-","-","-",5061,8076,2917,4662,7041,6046,17242.37]
["December","-","-","-","-","-","-","-","-","-","-","-","-","-","-",4983,3731,3151,3207,3417,6315,8191.58]
["Total","-","-","-","-","-","-","-","-","-","-","-","-","-","-",{"$f":"SUM(P20:P31)","v":51724},{"$f":"SUM(Q20:Q31)","v":78573},{"$f":"SUM(R20:R31)","v":42575},{"$f":"SUM(S20:S31)","v":45035},45740,{"$f":"SUM(U20:U31)","v":64539},108913.68]
["Polk County Transit Refunds"]
["Month",2004,2005,2006,2007,2008,2009,2010,2011,2012,2013,2014,2015,2016,2017,2018,2019,2020,2021,2022,2023,2024]
["January ","-","-","-","-","-","-","-","-","-","-","-","-","-","-",0,0,0,-8,-508,-610,-9946]
["February","-","-","-","-","-","-","-","-","-","-","-","-","-","-",0,0,0,0,-17021,0,0]
["March","-","-","-","-","-","-","-","-","-","-","-","-","-","-",0,-4988,-1180,-188,-3,0,0]
["April","-","-","-","-","-","-","-","-","-","-","-","-","-","-",-2,0,0,-28,-402,0,0]
["May","-","-","-","-","-","-","-","-","-","-","-","-","-","-",0,0,-819,0,-6,-1180,-45]
["June","-","-","-","-","-","-","-","-","-","-","-","-","-","-",0,-3561,-4266,-1131,0,0,-3807]
["July","-","-","-","-","-","-","-","-","-","-","-","-","-","-",0,0,-1180,-5782,-412,-71,-2]
["August","-","-","-","-","-","-","-","-","-","-","-","-","-","-",0,-10,-789,0,0,0,-295.85000000000002]
["September","-","-","-","-","-","-","-","-","-","-","-","-","-","-",0,0,0,0,-17467,-6973,-604.28]
["October","-","-","-","-","-","-","-","-","-","-","-","-","-","-",-109,0,-209,-36,0,-3457,0]
["November ","-","-","-","-","-","-","-","-","-","-","-","-","-","-",0,0,-9289,-404,0,0,0]
["December","-","-","-","-","-","-","-","-","-","-","-","-","-","-",0,0,0,0,0,0,-11262.72]
["Total","-","-","-","-","-","-","-","-","-","-","-","-","-","-",{"$f":"SUM(P35:P46)","v":-111},{"$f":"SUM(Q35:Q46)","v":-8559},{"$f":"SUM(R35:R46)","v":-17732},{"$f":"SUM(S35:S46)","v":-7577},-35819,{"$f":"SUM(U35:U46)","v":-12291},-25962.85]
["Hidden columns B-O do not contain any data for CY 2004-2017"]
[{"$f":"'Local SUT'!A78","v":"Source:  Minnesota Department of Revenue, Tax Research Division, November 2025"}]
["Sales and Use Tax rate increased in 2024 to 0.5%."]
["end of worksheet"]

{"sheet":"Mille Lacs Co","index":19,"n_rows":50,"n_cols":22,"rows_kept":50,"cut":false,"hidden":true,"merged":[[0,0,0,19],[49,0,49,19],[1,0,1,19],[2,0,2,19],[17,0,17,19],[32,0,32,19],[47,0,47,19],[48,0,48,19]]}
["Mille Lacs County Monthly Detail for Minnesota Local Sales & Use Tax"]
[{"$f":"'Local SUT'!A2","v":"CY 2004-2024"}]
["Mille Lacs County Transit Sales Tax (0.5%)"]
["Month",2004,2005,2006,2007,2008,2009,2010,2011,2012,2013,2014,2015,2016,2017,2018,2019,2020,2021,2022,2023,2024]
["January ","-","-","-","-","-","-","-","-","-","-","-","-","-",0,85144,101480,125788,138128,151253,156611,169655]
["February","-","-","-","-","-","-","-","-","-","-","-","-","-",64242,81297,95384,104831,128612,131114,133737,134565]
["March","-","-","-","-","-","-","-","-","-","-","-","-","-",64691,68392,84457,100190,137572,121553,120359,129912]
["April","-","-","-","-","-","-","-","-","-","-","-","-","-",75415,79678,102499,105542,143165,143421,137956,153091]
["May","-","-","-","-","-","-","-","-","-","-","-","-","-",71437,76045,98368,111043,150265,137820,139935,145024]
["June","-","-","-","-","-","-","-","-","-","-","-","-","-",92305,102239,123690,149444,158336,171353,176243,168158]
["July","-","-","-","-","-","-","-","-","-","-","-","-","-",85352,99021,120421,131333,153723,213309,195187,188841]
["August","-","-","-","-","-","-","-","-","-","-","-","-","-",112929,120455,149979,169921,178613,154547,174281,178972.95]
["September","-","-","-","-","-","-","-","-","-","-","-","-","-",94473,103491,134602,143040,154210,175408,172271,208053.87]
["October","-","-","-","-","-","-","-","-","-","-","-","-","-",94682,109077,125689,146446,154717,161771,189240,175988.87]
["November ","-","-","-","-","-","-","-","-","-","-","-","-","-",80603,96749,118382,129549,147003,159180,162340,168807.3]
["December","-","-","-","-","-","-","-","-","-","-","-","-","-",77678,90576,107914,131065,140150,145201,155752,155097.38]
["Total","-","-","-","-","-","-","-","-","-","-","-","-","-",{"$f":"SUM(O5:O16)","v":913807},{"$f":"SUM(P5:P16)","v":1112164},{"$f":"SUM(Q5:Q16)","v":1362865},{"$f":"SUM(R5:R16)","v":1548192},{"$f":"SUM(S5:S16)","v":1784494},1865930,{"$f":"SUM(U5:U16)","v":1913912},1976166.37]
["Mille Lacs County Transit Use (0.5%)"]
["Month",2004,2005,2006,2007,2008,2009,2010,2011,2012,2013,2014,2015,2016,2017,2018,2019,2020,2021,2022,2023,2024]
["January ","-","-","-","-","-","-","-","-","-","-","-","-","-",0,6748,5480,9118,7797,8270,9637,8130]
["February","-","-","-","-","-","-","-","-","-","-","-","-","-",2112,4254,4701,13176,4831,6177,3777,4388]
["March","-","-","-","-","-","-","-","-","-","-","-","-","-",3293,3120,3396,3825,4621,4274,4932,2235]
["April","-","-","-","-","-","-","-","-","-","-","-","-","-",4549,3752,6135,3060,4369,14362,4507,4954]
["May","-","-","-","-","-","-","-","-","-","-","-","-","-",4269,2578,4724,8233,4453,2385,3310,4792]
["June","-","-","-","-","-","-","-","-","-","-","-","-","-",4656,5306,6829,3453,5027,2408,4192,5427]
["July","-","-","-","-","-","-","-","-","-","-","-","-","-",6784,4270,6621,5723,8714,8101,4628,5197]
["August","-","-","-","-","-","-","-","-","-","-","-","-","-",7563,8288,8603,6570,5448,6715,4355,5701.94]
["September","-","-","-","-","-","-","-","-","-","-","-","-","-",6915,4815,-1240,5825,3588,8080,6544,9248.39]
["October","-","-","-","-","-","-","-","-","-","-","-","-","-",6561,4600,10308,4419,5400,8138,6375,10568.32]
["November ","-","-","-","-","-","-","-","-","-","-","-","-","-",4490,5508,5455,4636,4271,11467,5523,5559.13]
["December","-","-","-","-","-","-","-","-","-","-","-","-","-",4169,4035,2812,4552,5647,4760,4488,5639.43]
["Total","-","-","-","-","-","-","-","-","-","-","-","-","-",{"$f":"SUM(O20:O31)","v":55361},{"$f":"SUM(P20:P31)","v":57274},{"$f":"SUM(Q20:Q31)","v":63824},{"$f":"SUM(R20:R31)","v":72590},{"$f":"SUM(S20:S31)","v":64166},85137,{"$f":"SUM(U20:U31)","v":62268},71840.209999999992]
["Mille Lacs County Transit Refunds"]
["Month",2004,2005,2006,2007,2008,2009,2010,2011,2012,2013,2014,2015,2016,2017,2018,2019,2020,2021,2022,2023,2024]
["January ","-","-","-","-","-","-","-","-","-","-","-","-","-",0,-9,-148,0,0,0,0,0]
["February","-","-","-","-","-","-","-","-","-","-","-","-","-",0,0,-2,-270,0,-6,-1,-4]
["March","-","-","-","-","-","-","-","-","-","-","-","-","-",0,-78,-131,-239,-4298,0,0,0]
["April","-","-","-","-","-","-","-","-","-","-","-","-","-",0,-11,0,0,0,-161,-1082,0]
["May","-","-","-","-","-","-","-","-","-","-","-","-","-",0,0,0,0,0,-47,0,-2314]
["June","-","-","-","-","-","-","-","-","-","-","-","-","-",0,0,0,-198,-1,-87,0,0]
["July","-","-","-","-","-","-","-","-","-","-","-","-","-",0,0,0,-45,0,0,0,-1]
["August","-","-","-","-","-","-","-","-","-","-","-","-","-",0,-58,0,-286,-12,-270,0,-14.31]
["September","-","-","-","-","-","-","-","-","-","-","-","-","-",0,0,0,0,0,0,-426,-2.2200000000000002]
["October","-","-","-","-","-","-","-","-","-","-","-","-","-",-6,0,0,-37,0,-583,-5,-11.07]
["November ","-","-","-","-","-","-","-","-","-","-","-","-","-",0,0,-270,-7,-1,0,0,0]
["December","-","-","-","-","-","-","-","-","-","-","-","-","-",-62,0,0,-832,0,-6,0,0]
["Total","-","-","-","-","-","-","-","-","-","-","-","-","-",{"$f":"SUM(O35:O46)","v":-68},{"$f":"SUM(P35:P46)","v":-156},{"$f":"SUM(Q35:Q46)","v":-551},{"$f":"SUM(R35:R46)","v":-1914},{"$f":"SUM(S35:S46)","v":-4312},-1160,{"$f":"SUM(U35:U46)","v":-1514},-2346.6]
["Hidden columns B-N do not contatin any data for CY 2004-2016"]
[{"$f":"'Local SUT'!A78","v":"Source:  Minnesota Department of Revenue, Tax Research Division, November 2025"}]
["end of worksheet"]

{"sheet":"Lake Co","index":20,"n_rows":50,"n_cols":22,"rows_kept":50,"cut":false,"hidden":true,"merged":[[0,0,0,19],[1,0,1,19],[2,0,2,19],[17,0,17,19],[49,0,49,19],[32,0,32,19],[47,0,47,19],[48,0,48,19]]}
["Lake County Monthly Detail for Minnesota Local Sales & Use Tax"]
[{"$f":"'Local SUT'!A2","v":"CY 2004-2024"}]
["Lake County Transit Sales Tax (0.5%)"]
["Month",2004,2005,2006,2007,2008,2009,2010,2011,2012,2013,2014,2015,2016,2017,2018,2019,2020,2021,2022,2023,2024]
["January ","-","-","-","-","-","-","-","-","-","-","-","-","-","-",55111,63297,65515,78419,80320,88728,104935]
["February","-","-","-","-","-","-","-","-","-","-","-","-","-","-",41170,52411,51387,61320,62528,67899,67521]
["March","-","-","-","-","-","-","-","-","-","-","-","-","-","-",38918,52788,52824,61452,62392,71804,65297]
["April","-","-","-","-","-","-","-","-","-","-","-","-","-",0,44056,54590,59249,83701,73796,74981,75030]
["May","-","-","-","-","-","-","-","-","-","-","-","-","-",31927,38560,52053,48521,74060,61504,61219,71529]
["June","-","-","-","-","-","-","-","-","-","-","-","-","-",48905,53828,61307,59569,86257,83610,88515,93856]
["July","-","-","-","-","-","-","-","-","-","-","-","-","-",60172,66480,83197,91756,103969,109514,116096,119628]
["August","-","-","-","-","-","-","-","-","-","-","-","-","-",73576,92773,92803,102955,120947,119522,129131,119991.25]
["September","-","-","-","-","-","-","-","-","-","-","-","-","-",74571,87422,93066,107235,106208,124029,125638,129311.43]
["October","-","-","-","-","-","-","-","-","-","-","-","-","-",73075,82695,84580,105235,106780,118208,122368,118096.8]
["November ","-","-","-","-","-","-","-","-","-","-","-","-","-",59049,74787,68470,88079,86596,99885,98665,104611.64]
["December","-","-","-","-","-","-","-","-","-","-","-","-","-",53532,54814,58662,67292,67901,71933,75729,74997.039999999994]
["Total","-","-","-","-","-","-","-","-","-","-","-","-","-",{"$f":"SUM(O5:O16)","v":474807},{"$f":"SUM(P5:P16)","v":730614},{"$f":"SUM(Q5:Q16)","v":817224},{"$f":"SUM(R5:R16)","v":899617},{"$f":"SUM(S5:S16)","v":1037610},1067241,{"$f":"SUM(U5:U16)","v":1120773},1144804.1599999999]
["Lake County Transit Use Tax (0.5%)"]
["Month",2004,2005,2006,2007,2008,2009,2010,2011,2012,2013,2014,2015,2016,2017,2018,2019,2020,2021,2022,2023,2024]
["January ","-","-","-","-","-","-","-","-","-","-","-","-","-","-",7921,25713,19549,44695,16443,12923,10196]
["February","-","-","-","-","-","-","-","-","-","-","-","-","-","-",7974,21329,10084,8099,14915,8596,12418]
["March","-","-","-","-","-","-","-","-","-","-","-","-","-","-",7697,12586,7809,13837,12522,11698,9777]
["April","-","-","-","-","-","-","-","-","-","-","-","-","-",0,9537,20897,10007,13893,14242,12643,10933]
["May","-","-","-","-","-","-","-","-","-","-","-","-","-",6448,21397,15299,5639,12967,9447,9313,10123]
["June","-","-","-","-","-","-","-","-","-","-","-","-","-",10602,8264,8206,3366,11782,17707,10143,37055]
["July","-","-","-","-","-","-","-","-","-","-","-","-","-",6644,8952,9358,9915,17192,11403,11898,17333]
["August","-","-","-","-","-","-","-","-","-","-","-","-","-",4356,32846,12370,5034,19720,7112,17427,15987.77]
["September","-","-","-","-","-","-","-","-","-","-","-","-","-",9719,10530,8097,6375,16271,10013,12538,17601]
["October","-","-","-","-","-","-","-","-","-","-","-","-","-",7713,24632,7688,15887,8050,8846,13881,15049.93]
["November ","-","-","-","-","-","-","-","-","-","-","-","-","-",7907,34852,7505,11668,12381,5850,13321,16182.03]
["December","-","-","-","-","-","-","-","-","-","-","-","-","-",6120,13572,6712,14003,11797,7509,10690,14911.73]
["Total","-","-","-","-","-","-","-","-","-","-","-","-","-",{"$f":"SUM(O20:O31)","v":59509},{"$f":"SUM(P20:P31)","v":188174},{"$f":"SUM(Q20:Q31)","v":155760},{"$f":"SUM(R20:R31)","v":119336},{"$f":"SUM(S20:S31)","v":190684},136009,{"$f":"SUM(U20:U31)","v":145071},187567.46000000002]
["Lake County Transit Refunds"]
["Month",2004,2005,2006,2007,2008,2009,2010,2011,2012,2013,2014,2015,2016,2017,2018,2019,2020,2021,2022,2023,2024]
["January ","-","-","-","-","-","-","-","-","-","-","-","-","-","-",0,0,0,-7660,0,0,0]
["February","-","-","-","-","-","-","-","-","-","-","-","-","-","-",0,0,0,0,-1917,-345,0]
["March","-","-","-","-","-","-","-","-","-","-","-","-","-","-",0,0,-8,0,-8,-632,0]
["April","-","-","-","-","-","-","-","-","-","-","-","-","-",0,0,0,-167355,0,0,0,0]
["May","-","-","-","-","-","-","-","-","-","-","-","-","-",0,0,0,-1075,0,-20,0,0]
["June","-","-","-","-","-","-","-","-","-","-","-","-","-",0,0,0,-8,0,-350,0,-1628]
["July","-","-","-","-","-","-","-","-","-","-","-","-","-",0,0,0,0,0,0,0,-503]
["August","-","-","-","-","-","-","-","-","-","-","-","-","-",0,0,0,-168430,-15,0,0,0]
["September","-","-","-","-","-","-","-","-","-","-","-","-","-",0,0,0,0,0,-19,-18,0]
["October","-","-","-","-","-","-","-","-","-","-","-","-","-",0,0,0,0,0,0,-18,0]
["November ","-","-","-","-","-","-","-","-","-","-","-","-","-",0,0,0,0,0,-2112,0,-30.35]
["December","-","-","-","-","-","-","-","-","-","-","-","-","-",0,0,0,-37,-2653,-3,-7427,0]
["Total","-","-","-","-","-","-","-","-","-","-","-","-","-",{"$f":"SUM(O35:O46)","v":0},{"$f":"SUM(P35:P46)","v":0},{"$f":"SUM(Q35:Q46)","v":0},{"$f":"SUM(R35:R46)","v":-336913},{"$f":"SUM(S35:S46)","v":-10328},-4429,{"$f":"SUM(U35:U46)","v":-8440},-2161.35]
["Hidden columns B-N do not contain any data for CY 2004-2016"]
[{"$f":"'Local SUT'!A78","v":"Source:  Minnesota Department of Revenue, Tax Research Division, November 2025"}]
["end of worksheet"]

{"sheet":"Anoka Co","index":21,"n_rows":50,"n_cols":22,"rows_kept":50,"cut":false,"hidden":true,"merged":[[0,0,0,19],[49,0,49,19],[1,0,1,19],[2,0,2,19],[17,0,17,19],[32,0,32,19],[47,0,47,19],[48,0,48,19]]}
["Anoka County Monthly Detail for Minnesota Local Sales & Use Tax"]
[{"$f":"'Local SUT'!A2","v":"CY 2004-2024"}]
["Anoka County Transit Sales Tax (0.25%)"]
["Month",2004,2005,2006,2007,2008,2009,2010,2011,2012,2013,2014,2015,2016,2017,2018,2019,2020,2021,2022,2023,2024]
["January ","-","-","-","-","-","-","-","-","-","-","-","-","-","-",912390,1001604,1077717,1203651,1197456,1323984,1313110]
["February","-","-","-","-","-","-","-","-","-","-","-","-","-","-",749197,780360,846438,932758,1028947,1060175,1077646]
["March","-","-","-","-","-","-","-","-","-","-","-","-","-","-",685732,723522,796512,903115,992493,1002778,1029884]
["April","-","-","-","-","-","-","-","-","-","-","-","-","-","-",826900,871289,881440,1171795,1267832,1233285,1192194]
["May","-","-","-","-","-","-","-","-","-","-","-","-","-","-",795716,896742,865232,1093360,1108499,1154354,1194335]
["June","-","-","-","-","-","-","-","-","-","-","-","-","-","-",958110,996328,1033117,1153971,1502934,1477204,1292848]
["July","-","-","-","-","-","-","-","-","-","-","-","-","-",0,826085,925038,1006110,1159428,1295702,1439329,1332155]
["August","-","-","-","-","-","-","-","-","-","-","-","-","-",0,1066250,1090077,1180618,1288163,1240126,1257124,1282138.72]
["September","-","-","-","-","-","-","-","-","-","-","-","-","-",14,937821,1016436,1043765,1117165,1291104,1292275,1292105.81]
["October","-","-","-","-","-","-","-","-","-","-","-","-","-",352,898433,988481,1071318,1204362,1264468,1293287,1251106.45]
["November ","-","-","-","-","-","-","-","-","-","-","-","-","-",781505,923714,975579,998879,1113090,1182561,1189484,1289575.29]
["December","-","-","-","-","-","-","-","-","-","-","-","-","-",834628,923252,947268,1042756,1131113,1408473,1205799,1218347.1299999999]
["Total","-","-","-","-","-","-","-","-","-","-","-","-","-",{"$f":"SUM(O5:O16)","v":1616499},{"$f":"SUM(P5:P16)","v":10503600},{"$f":"SUM(Q5:Q16)","v":11212724},{"$f":"SUM(R5:R16)","v":11843902},{"$f":"SUM(S5:S16)","v":13471971},14780595,{"$f":"SUM(U5:U16)","v":14929078},14765445.399999999]
["Anoka County Transit Use Tax (0.25%)"]
["Month",2004,2005,2006,2007,2008,2009,2010,2011,2012,2013,2014,2015,2016,2017,2018,2019,2020,2021,2022,2023,2024]
["January ","-","-","-","-","-","-","-","-","-","-","-","-","-","-",56108,59777,63089,53781,55652,66668,67235]
["February","-","-","-","-","-","-","-","-","-","-","-","-","-","-",48938,43945,45082,45309,42600,49839,66026]
["March","-","-","-","-","-","-","-","-","-","-","-","-","-","-",35128,30461,36784,36404,38309,59823,41099]
["April","-","-","-","-","-","-","-","-","-","-","-","-","-","-",41890,45954,56222,53042,19026,55167,18179]
["May","-","-","-","-","-","-","-","-","-","-","-","-","-","-",38920,50311,46181,56748,96286,43605,54591]
["June","-","-","-","-","-","-","-","-","-","-","-","-","-","-",51455,46457,39301,43391,80158,54158,66021]
["July","-","-","-","-","-","-","-","-","-","-","-","-","-",802,50810,48198,43937,49532,56238,67236,74544]
["August","-","-","-","-","-","-","-","-","-","-","-","-","-",0,46315,69014,51920,60519,67228,57528,61623.32]
["September","-","-","-","-","-","-","-","-","-","-","-","-","-",0,43322,56178,48255,46550,62331,59476,23528.27]
["October","-","-","-","-","-","-","-","-","-","-","-","-","-",487,53109,53249,49191,61188,73069,61059,75725.399999999994]
["November ","-","-","-","-","-","-","-","-","-","-","-","-","-",36695,46787,50116,40745,82557,33571,62555,88397.97]
["December","-","-","-","-","-","-","-","-","-","-","-","-","-",36878,43103,45182,45520,50980,69165,55970,53593.82]
["Total","-","-","-","-","-","-","-","-","-","-","-","-","-",{"$f":"SUM(O20:O31)","v":74862},{"$f":"SUM(P20:P31)","v":555885},{"$f":"SUM(Q20:Q31)","v":598842},{"$f":"SUM(R20:R31)","v":566227},{"$f":"SUM(S20:S31)","v":640001},693633,{"$f":"SUM(U20:U31)","v":693084},690563.77999999991]
["Anoka County Transit Refunds"]
["Month",2004,2005,2006,2007,2008,2009,2010,2011,2012,2013,2014,2015,2016,2017,2018,2019,2020,2021,2022,2023,2024]
["January ","-","-","-","-","-","-","-","-","-","-","-","-","-","-",-231,-245,-951,-81,-5119,-210,-2549]
["February","-","-","-","-","-","-","-","-","-","-","-","-","-","-",0,-4185,-3966,-8179,-8677,-5909,-888]
["March","-","-","-","-","-","-","-","-","-","-","-","-","-","-",-10,-479,-15843,-1466,-5116,-660,-6978]
["April","-","-","-","-","-","-","-","-","-","-","-","-","-","-",-95,-4748,-1105,-105,-81,-474,-5061]
["May","-","-","-","-","-","-","-","-","-","-","-","-","-","-",-251,-1176,-7267,-1479,-1077,-808,-2184]
["June","-","-","-","-","-","-","-","-","-","-","-","-","-","-",-31,-90,-9340,-2209,-4514,-287,-2490]
["July","-","-","-","-","-","-","-","-","-","-","-","-","-",0,-719,-531,-3952,-2566,-1544,-2752,-24394]
["August","-","-","-","-","-","-","-","-","-","-","-","-","-",0,-227,-943,-3429,-342,-910,-2144,-17009.810000000001]
["September","-","-","-","-","-","-","-","-","-","-","-","-","-",0,-712,-176,-601,-805,-2,-1577,-4209.3100000000004]
["October","-","-","-","-","-","-","-","-","-","-","-","-","-",0,-107,-1222,-4417,-341,-11338,-11727,-40.56]
["November ","-","-","-","-","-","-","-","-","-","-","-","-","-",-99,-21,-3031,-2680,-1134,-2293,-50866,-851.76]
["December","-","-","-","-","-","-","-","-","-","-","-","-","-",-1,-8660,-750,-2140,-248,-1748,-9700,-2309.25]
["Total","-","-","-","-","-","-","-","-","-","-","-","-","-",{"$f":"SUM(O35:O46)","v":-100},{"$f":"SUM(P35:P46)","v":-11064},{"$f":"SUM(Q35:Q46)","v":-17576},{"$f":"SUM(R35:R46)","v":-55691},{"$f":"SUM(S35:S46)","v":-18955},-42419,{"$f":"SUM(U35:U46)","v":-87114},-68964.689999999988]
["Hidden columns B-N do not contain any data for CY 2004-2016"]
[{"$f":"'Local SUT'!A78","v":"Source:  Minnesota Department of Revenue, Tax Research Division, November 2025"}]
["end of worksheet"]

{"sheet":"Becker Co","index":22,"n_rows":50,"n_cols":22,"rows_kept":50,"cut":false,"hidden":true,"merged":[[0,0,0,19],[1,0,1,19],[2,0,2,19],[17,0,17,19],[49,0,49,19],[32,0,32,19],[47,0,47,19],[48,0,48,19]]}
["Becker County Monthly Detail for Minnesota Local Sales & Use Tax"]
[{"$f":"'Local SUT'!A2","v":"CY 2004-2024"}]
["Becker County Transit Sales Tax (0.5%)"]
["Month",2004,2005,2006,2007,2008,2009,2010,2011,2012,2013,2014,2015,2016,2017,2018,2019,2020,2021,2022,2023,2024]
["January ","-","-","-","-","-","-","-","-","-","-","-",159340,179816,180937,176175,203332,203709,232846,257357,261663,294438]
["February","-","-","-","-","-","-","-","-","-","-","-",127198,121226,139194,147484,152367,178871,194661,211787,239287,227709]
["March","-","-","-","-","-","-","-","-","-","-","-",132717,120286,136501,119616,147717,185015,199681,251657,213272,225475]
["April","-","-","-","-","-","-","-","-","-","-","-",149302,146615,159923,163213,180745,174928,251907,266405,252834,259704]
["May","-","-","-","-","-","-","-","-","-","-","-",157083,160947,188513,164730,188651,198083,272164,250572,256757,271125]
["June","-","-","-","-","-","-","-","-","-","-","-",182924,192464,215357,248228,241235,268456,322759,375778,367813,363977]
["July","-","-","-","-","-","-","-","-","-","-",125,169827,175124,197779,204029,258852,246500,316228,388371,416459,380099]
["August","-","-","-","-","-","-","-","-","-","-",165479,245966,275360,292885,452260,287662,353411,360392,376438,367939,379068.73]
["September","-","-","-","-","-","-","-","-","-","-",194749,190904,212174,223944,247904,265030,266234,324613,365609,388122,362940.57]
["October","-","-","-","-","-","-","-","-","-","-",166407,185436,194615,202783,213514,229811,246335,283609,324698,324805,325313.43]
["November ","-","-","-","-","-","-","-","-","-","-",176918,161583,162216,186443,202920,212412,218710,262291,289863,272478,288839.92]
["December","-","-","-","-","-","-","-","-","-","-",141400,143660,156367,158392,180405,197008,203471,216302,258373,275507,264249.5]
["Total","-","-","-","-","-","-","-","-","-","-",{"$f":"SUM(L5:L16)","v":845078},2005940,2097210,2282651,2520478,2564822,{"$f":"SUM(R5:R16)","v":2743723},{"$f":"SUM(S5:S16)","v":3237453},3616908,{"$f":"SUM(U5:U16)","v":3636936},3642939.15]
["Becker County Transit Use Tax (0.5%)"]
["Month",2004,2005,2006,2007,2008,2009,2010,2011,2012,2013,2014,2015,2016,2017,2018,2019,2020,2021,2022,2023,2024]
["January ","-","-","-","-","-","-","-","-","-","-","-",11841,9688,8955,17171,15104,13270,16579,19073,13590,12144]
["February","-","-","-","-","-","-","-","-","-","-","-",7770,7583,9122,28753,9043,12279,7620,8605,9696,12374]
["March","-","-","-","-","-","-","-","-","-","-","-",10194,5019,4443,6854,9497,7100,7219,7133,9584,8131]
["April","-","-","-","-","-","-","-","-","-","-","-",13724,5619,6292,7199,8062,8198,11117,11079,11185,9519]
["May","-","-","-","-","-","-","-","-","-","-","-",10353,6372,5241,6846,7787,7085,10518,7905,8952,9794]
["June","-","-","-","-","-","-","-","-","-","-","-",20818,9418,12805,9514,9473,10780,13743,10440,13342,17665]
["July","-","-","-","-","-","-","-","-","-","-",0,11778,9387,12645,11276,12062,14025,14999,13704,29425,19877]
["August","-","-","-","-","-","-","-","-","-","-",9291,11077,11144,13898,14802,19172,14945,10236,10037,13674,17885.099999999999]
["September","-","-","-","-","-","-","-","-","-","-",6793,7544,7023,10741,9501,10892,11614,7283,14591,18927,19486.37]
["October","-","-","-","-","-","-","-","-","-","-",14467,8340,6934,10523,9783,11515,11488,10384,15317,20070,12873.53]
["November ","-","-","-","-","-","-","-","-","-","-",7579,8764,5525,8010,13256,12844,10846,3031,13167,13587,12153.17]
["December","-","-","-","-","-","-","-","-","-","-",8413,4758,5896,14348,12654,7463,9097,12467,10658,15667,11997.9]
["Total","-","-","-","-","-","-","-","-","-","-",{"$f":"SUM(L20:L31)","v":46543},126961,89608,117023,147609,132914,{"$f":"SUM(R20:R31)","v":130727},{"$f":"SUM(S20:S31)","v":125196},141709,{"$f":"SUM(U20:U31)","v":177699},163900.07]
["Becker County Transit Refunds "]
["Month",2004,2005,2006,2007,2008,2009,2010,2011,2012,2013,2014,2015,2016,2017,2018,2019,2020,2021,2022,2023,2024]
["January ","-","-","-","-","-","-","-","-","-","-","-",0,-79,-8,-4,0,0,0,0,0,-4823]
["February","-","-","-","-","-","-","-","-","-","-","-",-2205,-3899,-68,0,-11,-588,-126,-133,0,-9]
["March","-","-","-","-","-","-","-","-","-","-","-",0,-389,0,0,0,-39,0,0,0,0]
["April","-","-","-","-","-","-","-","-","-","-","-",-9,-15340,0,-40,-3278,0,-427,-215,-239,-1722]
["May","-","-","-","-","-","-","-","-","-","-","-",0,0,0,-123,0,-55,0,-61,0,-819]
["June","-","-","-","-","-","-","-","-","-","-","-",-11,-333,-561,-372,0,0,0,-182,0,-1097]
["July","-","-","-","-","-","-","-","-","-","-",0,-3037,-498,0,-249,0,-341,0,-4,-121,-1899]
["August","-","-","-","-","-","-","-","-","-","-",0,-1042,0,-152,0,0,-236,-5534,-3,-4088,-0.65]
["September","-","-","-","-","-","-","-","-","-","-",0,-1,-5397,0,0,0,0,0,0,-3941,-4415.3900000000003]
["October","-","-","-","-","-","-","-","-","-","-",0,0,0,0,0,0,-505,-979,0,-10141,-346.78]
["November ","-","-","-","-","-","-","-","-","-","-",0,0,0,-740,0,-588,-8,0,-2039,0,-354.58]
["December","-","-","-","-","-","-","-","-","-","-",-2941,0,-53,-61,-12,-39,0,-1001,-8,-115,386.9]
["Total","-","-","-","-","-","-","-","-","-","-",{"$f":"SUM(L35:L46)","v":-2941},-6305,-25988,-1590,-800,-3916,{"$f":"SUM(R35:R46)","v":-1772},{"$f":"SUM(S35:S46)","v":-8067},-2645,{"$f":"SUM(U35:U46)","v":-18645},-15099.500000000002]
["Hidden columns B-K do not contain any data for CY 2004-2013"]
[{"$f":"'Local SUT'!A78","v":"Source:  Minnesota Department of Revenue, Tax Research Division, November 2025"}]
["end of worksheet"]

{"sheet":"Beltrami Co (Transit)","index":23,"n_rows":50,"n_cols":22,"rows_kept":50,"cut":false,"hidden":true,"merged":[[0,0,0,19],[1,0,1,19],[2,0,2,19],[17,0,17,19],[49,0,49,19],[32,0,32,19],[47,0,47,19],[48,0,48,19]]}
["Beltrami County Monthly Detail for Minnesota Local Sales & Use Tax"]
[{"$f":"'Local SUT'!A2","v":"CY 2004-2024"}]
["Beltrami County Transit Sales Tax (0.5%)"]
["Month",2004,2005,2006,2007,2008,2009,2010,2011,2012,2013,2014,2015,2016,2017,2018,2019,2020,2021,2022,2023,2024]
["January ","-","-","-","-","-","-","-","-","-","-","-",255003,277762,278259,271869,306104,315370,359541,346366,385398,399224]
["February","-","-","-","-","-","-","-","-","-","-","-",206003,207425,209164,213817,236072,237216,302560,293675,312800,304182]
["March","-","-","-","-","-","-","-","-","-","-","-",220091,204900,204569,202314,220589,236686,289896,290327,288790,304957]
["April","-","-","-","-","-","-","-","-","-","-","-",219466,237455,234070,264245,264117,245540,365071,341434,337716,323925]
["May","-","-","-","-","-","-","-","-","-","-",170028,222213,228718,236548,242478,262542,259089,333845,316623,320652,338507]
["June","-","-","-","-","-","-","-","-","-","-",243203,261085,261493,271459,303750,316287,331902,373458,445684,405057,398795]
["July","-","-","-","-","-","-","-","-","-","-",230301,235717,248048,254255,264870,314021,320943,392633,420118,449092,413095]
["August","-","-","-","-","-","-","-","-","-","-",285126,332290,312714,328176,360354,357376,393490,435678,423152,428201,395290.35]
["September","-","-","-","-","-","-","-","-","-","-",252907,274125,273145,287655,304481,325557,335009,373824,393680,412890,401191.83]
["October","-","-","-","-","-","-","-","-","-","-",252324,263421,271404,269817,284915,311551,343665,404458,389789,394535,371037.2]
["November ","-","-","-","-","-","-","-","-","-","-",236177,249186,253745,253605,278586,287829,311988,348364,374318,371079,363403.01]
["December","-","-","-","-","-","-","-","-","-","-",225613,220934,237455,245306,266524,265060,292833,324534,410976,343258,342649.64]
["Total","-","-","-","-","-","-","-","-","-","-",{"$f":"SUM(L5:L16)","v":1895679},2959534,3014264,3072883,3258203,3467105,{"$f":"SUM(R5:R16)","v":3623731},{"$f":"SUM(S5:S16)","v":4303862},4446142,{"$f":"SUM(U5:U16)","v":4449468},4356257.03]
["Beltrami County Transit Use Tax (0.5%)"]
["Month",2004,2005,2006,2007,2008,2009,2010,2011,2012,2013,2014,2015,2016,2017,2018,2019,2020,2021,2022,2023,2024]
["January ","-","-","-","-","-","-","-","-","-","-","-",31539,138189,14699,10072,25727,17350,20392,17569,12075,16863]
["February","-","-","-","-","-","-","-","-","-","-","-",181035,19076,11757,8541,11982,17099,19263,15145,15524,19517]
["March","-","-","-","-","-","-","-","-","-","-","-",9310,50353,6802,7605,13653,6963,29603,13379,8526,10434]
["April","-","-","-","-","-","-","-","-","-","-","-",12159,296187,207476,11274,8772,7554,27855,12328,23548,9427]
["May","-","-","-","-","-","-","-","-","-","-",6463,94917,38493,9661,15076,8886,6356,18896,14563,9107,12632]
["June","-","-","-","-","-","-","-","-","-","-",10156,15463,18761,23255,11573,8669,7387,16688,20999,14798,14954]
["July","-","-","-","-","-","-","-","-","-","-",12385,16842,21866,12946,11257,25427,10362,414072,19787,20650,11650]
["August","-","-","-","-","-","-","-","-","-","-",22159,15710,13659,13036,15749,14047,12188,27595,19236,16419,24228.58]
["September","-","-","-","-","-","-","-","-","-","-",19874,10368,14009,53827,9338,18098,12521,29399,10127,20833,18082.63]
["October","-","-","-","-","-","-","-","-","-","-",23451,15945,15824,13078,17209,28596,17133,35491,14120,17811,18766]
["November ","-","-","-","-","-","-","-","-","-","-",15477,35302,9308,14842,19421,25767,11767,8727,14102,17275,14258.04]
["December","-","-","-","-","-","-","-","-","-","-",14050,24553,8657,10888,13320,16497,12270,12824,12912,15011,8037.47]
["Total","-","-","-","-","-","-","-","-","-","-",{"$f":"SUM(L20:L31)","v":124015},463143,644382,392267,150435,206121,{"$f":"SUM(R20:R31)","v":138950},{"$f":"SUM(S20:S31)","v":660805},184267,{"$f":"SUM(U20:U31)","v":191577},178849.72]
["Beltrami County Transit Refunds"]
["Month",2004,2005,2006,2007,2008,2009,2010,2011,2012,2013,2014,2015,2016,2017,2018,2019,2020,2021,2022,2023,2024]
["January ","-","-","-","-","-","-","-","-","-","-","-",0,-22,-8,-89,-6,-15,0,0,0,-158]
["February","-","-","-","-","-","-","-","-","-","-","-",0,-439,-153,0,-258,0,0,0,-4,0]
["March","-","-","-","-","-","-","-","-","-","-","-",-510,-397,-2719,-9409,0,-77,-14,-2278,0,-653]
["April","-","-","-","-","-","-","-","-","-","-","-",0,-146,-6444,-149,-63,-15,0,0,0,-390]
["May","-","-","-","-","-","-","-","-","-","-",0,-15,0,-13720,-449,0,-77,0,-1369,0,0]
["June","-","-","-","-","-","-","-","-","-","-",0,-90,-2826,-4974,-64,-1,-264,-496,-9943,-66,0]
["July","-","-","-","-","-","-","-","-","-","-",0,0,0,-51,0,-1041,-27,0,-9,-410,-786]
["August","-","-","-","-","-","-","-","-","-","-",0,-35,-1083,-70,0,-405,-77,0,0,0,-0.02]
["September","-","-","-","-","-","-","-","-","-","-",0,-1,-806,-2821,0,-1,0,0,0,0,-3.09]
["October","-","-","-","-","-","-","-","-","-","-",-1260,-1695,-60,-197,-90,0,0,-54,0,-1486,-4.45]
["November ","-","-","-","-","-","-","-","-","-","-",0,0,0,-39,0,0,-291,-9,0,-11059,0]
["December","-","-","-","-","-","-","-","-","-","-",-11488,-5635,0,-1498,0,0,0,0,-14,0,-4203.67]
["Total","-","-","-","-","-","-","-","-","-","-",{"$f":"SUM(L35:L46)","v":-12748},-7981,-5779,-32694,-10250,-1775,{"$f":"SUM(R35:R46)","v":-843},{"$f":"SUM(S35:S46)","v":-573},-13613,{"$f":"SUM(U35:U46)","v":-13025},-6198.23]
["Hidden columns B-K do not contain any data for CY 2004-2013"]
[{"$f":"'Local SUT'!A78","v":"Source:  Minnesota Department of Revenue, Tax Research Division, November 2025"}]
["end of worksheet"]

{"sheet":"Beltrami Cty","index":24,"n_rows":50,"n_cols":22,"rows_kept":50,"cut":false,"hidden":true,"merged":[[48,0,48,19],[49,0,49,19],[0,0,0,19],[1,0,1,19],[2,0,2,19],[17,0,17,19],[32,0,32,19],[47,0,47,19]]}
["Beltrami County Monthly Detail for Minnesota Local Sales & Use Tax"]
[{"$f":"'Local SUT'!A2","v":"CY 2004-2024"}]
["Beltrami County Transit Sales Tax (0.5%)"]
["Month",2004,2005,2006,2007,2008,2009,2010,2011,2012,2013,2014,2015,2016,2017,2018,2019,2020,2021,2022,2023,2024]
["January ","-","-","-","-","-","-","-","-","-","-","-","-","-","-","-","-","-","-","-","-","-"]
["February","-","-","-","-","-","-","-","-","-","-","-","-","-","-","-","-","-","-","-","-","-"]
["March","-","-","-","-","-","-","-","-","-","-","-","-","-","-","-","-","-","-","-","-","-"]
["April","-","-","-","-","-","-","-","-","-","-","-","-","-","-","-","-","-","-","-","-","-"]
["May","-","-","-","-","-","-","-","-","-","-","-","-","-","-","-","-","-","-","-","-","-"]
["June","-","-","-","-","-","-","-","-","-","-","-","-","-","-","-","-","-","-","-","-","-"]
["July","-","-","-","-","-","-","-","-","-","-","-","-","-","-","-","-","-","-","-","-",212]
["August","-","-","-","-","-","-","-","-","-","-","-","-","-","-","-","-","-","-","-","-",446406]
["September","-","-","-","-","-","-","-","-","-","-","-","-","-","-","-","-","-","-","-","-",464770]
["October","-","-","-","-","-","-","-","-","-","-","-","-","-","-","-","-","-","-","-","-",441782]
["November ","-","-","-","-","-","-","-","-","-","-","-","-","-","-","-","-","-","-","-","-",425603]
["December","-","-","-","-","-","-","-","-","-","-","-","-","-","-","-","-","-","-","-","-",411168]
["Total","-","-","-","-","-","-","-","-","-","-",{"$f":"SUM(L5:L16)","v":0},0,0,0,0,0,0,0,0,0,2189941]
["Beltrami County Transit Use Tax (0.5%)"]
["Month",2004,2005,2006,2007,2008,2009,2010,2011,2012,2013,2014,2015,2016,2017,2018,2019,2020,2021,2022,2023,2024]
["January ","-","-","-","-","-","-","-","-","-","-","-","-","-","-","-","-","-","-","-","-","-"]
["February","-","-","-","-","-","-","-","-","-","-","-","-","-","-","-","-","-","-","-","-","-"]
["March","-","-","-","-","-","-","-","-","-","-","-","-","-","-","-","-","-","-","-","-","-"]
["April","-","-","-","-","-","-","-","-","-","-","-","-","-","-","-","-","-","-","-","-","-"]
["May","-","-","-","-","-","-","-","-","-","-","-","-","-","-","-","-","-","-","-","-","-"]
["June","-","-","-","-","-","-","-","-","-","-","-","-","-","-","-","-","-","-","-","-","-"]
["July","-","-","-","-","-","-","-","-","-","-","-","-","-","-","-","-","-","-","-","-",0]
["August","-","-","-","-","-","-","-","-","-","-","-","-","-","-","-","-","-","-","-","-",13513]
["September","-","-","-","-","-","-","-","-","-","-","-","-","-","-","-","-","-","-","-","-",15244]
["October","-","-","-","-","-","-","-","-","-","-","-","-","-","-","-","-","-","-","-","-",16550]
["November ","-","-","-","-","-","-","-","-","-","-","-","-","-","-","-","-","-","-","-","-",10127]
["December","-","-","-","-","-","-","-","-","-","-","-","-","-","-","-","-","-","-","-","-",6996]
["Total","-","-","-","-","-","-","-","-","-","-",{"$f":"SUM(L20:L31)","v":0},0,0,0,0,0,0,0,0,0,62430]
["Beltrami County Transit Refunds"]
["Month",2004,2005,2006,2007,2008,2009,2010,2011,2012,2013,2014,2015,2016,2017,2018,2019,2020,2021,2022,2023,2024]
["January ","-","-","-","-","-","-","-","-","-","-","-","-","-","-","-","-","-","-","-","-","-"]
["February","-","-","-","-","-","-","-","-","-","-","-","-","-","-","-","-","-","-","-","-","-"]
["March","-","-","-","-","-","-","-","-","-","-","-","-","-","-","-","-","-","-","-","-","-"]
["April","-","-","-","-","-","-","-","-","-","-","-","-","-","-","-","-","-","-","-","-","-"]
["May","-","-","-","-","-","-","-","-","-","-","-","-","-","-","-","-","-","-","-","-","-"]
["June","-","-","-","-","-","-","-","-","-","-","-","-","-","-","-","-","-","-","-","-","-"]
["July","-","-","-","-","-","-","-","-","-","-","-","-","-","-","-","-","-","-","-","-","-"]
["August","-","-","-","-","-","-","-","-","-","-","-","-","-","-","-","-","-","-","-","-","-"]
["September","-","-","-","-","-","-","-","-","-","-","-","-","-","-","-","-","-","-","-","-","-"]
["October","-","-","-","-","-","-","-","-","-","-","-","-","-","-","-","-","-","-","-","-","-"]
["November ","-","-","-","-","-","-","-","-","-","-","-","-","-","-","-","-","-","-","-","-","-"]
["December","-","-","-","-","-","-","-","-","-","-","-","-","-","-","-","-","-","-","-","-","-"]
["Total","-","-","-","-","-","-","-","-","-","-",{"$f":"SUM(L35:L46)","v":0},0,0,0,0,0,0,0,0,0,0]
["Hidden columns B-K do not contain any data for CY 2004-2013"]
[{"$f":"'Local SUT'!A78","v":"Source:  Minnesota Department of Revenue, Tax Research Division, November 2025"}]
["end of worksheet"]

{"sheet":"Carlton Co","index":25,"n_rows":50,"n_cols":22,"rows_kept":50,"cut":false,"hidden":true,"merged":[[32,0,32,19],[47,0,47,19],[48,0,48,19],[49,0,49,19],[0,0,0,19],[1,0,1,19],[2,0,2,19],[17,0,17,19]]}
["Carlton County Transit Monthly Detail for Minnesota Local Sales & Use Tax"]
[{"$f":"'Local SUT'!A2","v":"CY 2004-2024"}]
["Carlton County Transit Sales Tax (0.5%)"]
["Month",2004,2005,2006,2007,2008,2009,2010,2011,2012,2013,2014,2015,2016,2017,2018,2019,2020,2021,2022,2023,2024]
["January ","-","-","-","-","-","-","-","-","-","-","-","-",137209,148276,143142,149544,176267,200162,196136,217149,219019]
["February","-","-","-","-","-","-","-","-","-","-","-","-",109839,111975,107318,124761,130136,166345,166965,167978,179357]
["March","-","-","-","-","-","-","-","-","-","-","-","-",105126,100880,98738,113832,117400,154421,151311,156476,202975]
["April","-","-","-","-","-","-","-","-","-","-","-",20,118932,117962,125946,129078,142537,212875,176509,178967,207436]
["May","-","-","-","-","-","-","-","-","-","-","-",89191,114819,114579,111947,127781,136351,188076,169077,165774,183997]
["June","-","-","-","-","-","-","-","-","-","-","-",117427,131430,134829,149757,157285,181078,201756,208680,211162,215342]
["July","-","-","-","-","-","-","-","-","-","-","-",116923,132300,147750,142475,157464,176202,208902,222262,229158,235639]
["August","-","-","-","-","-","-","-","-","-","-","-",131805,146105,147496,156554,164732,190155,211601,214588,207687,233488.2]
["September","-","-","-","-","-","-","-","-","-","-","-",123123,134871,141742,144815,157219,176724,204264,224443,211731,218451.45]
["October","-","-","-","-","-","-","-","-","-","-","-",130075,136313,152505,145877,149984,173987,217801,204647,223330,208847.42]
["November ","-","-","-","-","-","-","-","-","-","-","-",127257,131088,128102,153428,144400,166812,191595,197743,214117,200625.92000000001]
["December","-","-","-","-","-","-","-","-","-","-","-",112479,129006,122169,134814,144564,167649,187078,187736,212138,187402.16]
["Total","-","-","-","-","-","-","-","-","-","-","-",{"$f":"SUM(M5:M16)","v":948300},{"$f":"SUM(N5:N16)","v":1527038},{"$f":"SUM(O5:O16)","v":1568265},{"$f":"SUM(P5:P16)","v":1614811},{"$f":"SUM(Q5:Q16)","v":1720644},{"$f":"SUM(R5:R16)","v":1935298},{"$f":"SUM(S5:S16)","v":2344876},2320097,{"$f":"SUM(U5:U16)","v":2395667},2492580.15]
["Carlton County Transit Use Tax (0.5%)"]
["Month",2004,2005,2006,2007,2008,2009,2010,2011,2012,2013,2014,2015,2016,2017,2018,2019,2020,2021,2022,2023,2024]
["January ","-","-","-","-","-","-","-","-","-","-","-","-",40427,13951,16286,15849,14024,30457,19616,28063,16254]
["February","-","-","-","-","-","-","-","-","-","-","-","-",10342,13191,43911,15225,7861,18698,19285,19835,19359]
["March","-","-","-","-","-","-","-","-","-","-","-","-",21037,9874,16365,33264,11027,27591,15170,18415,15637]
["April","-","-","-","-","-","-","-","-","-","-","-",0,26465,12765,22859,14631,10086,22934,13212,18509,11921]
["May","-","-","-","-","-","-","-","-","-","-","-",20944,10891,12828,11625,10220,7817,19542,16864,15023,11567]
["June","-","-","-","-","-","-","-","-","-","-","-",21717,9518,16292,14426,13344,21898,21774,14055,22693,14310]
["July","-","-","-","-","-","-","-","-","-","-","-",36033,10653,16678,15282,10172,17700,661400,20749,-17371,22287]
["August","-","-","-","-","-","-","-","-","-","-","-",33456,15345,98241,18125,28553,10564,30758,25434,18783,34604.959999999999]
["September","-","-","-","-","-","-","-","-","-","-","-",10052,11313,77804,10886,13629,20054,32546,23709,20082,29406.560000000001]
["October","-","-","-","-","-","-","-","-","-","-","-",12059,16247,34115,14119,25540,19382,28125,21523,26734,22340.89]
["November ","-","-","-","-","-","-","-","-","-","-","-",9875,13755,79036,13087,13605,12799,22707,19662,21501,24577.21]
["December","-","-","-","-","-","-","-","-","-","-","-",10322,14771,11620,12096,10815,12222,21784,21400,18598,17800.14]
["Total","-","-","-","-","-","-","-","-","-","-","-",{"$f":"SUM(M20:M31)","v":154458},{"$f":"SUM(N20:N31)","v":200764},{"$f":"SUM(O20:O31)","v":396395},{"$f":"SUM(P20:P31)","v":209067},{"$f":"SUM(Q20:Q31)","v":204847},{"$f":"SUM(R20:R31)","v":165434},{"$f":"SUM(S20:S31)","v":938316},230679,{"$f":"SUM(U20:U31)","v":210865},240064.75999999995]
["Carlton County Transit Refunds "]
["Month",2004,2005,2006,2007,2008,2009,2010,2011,2012,2013,2014,2015,2016,2017,2018,2019,2020,2021,2022,2023,2024]
["January ","-","-","-","-","-","-","-","-","-","-","-","-",-39,0,-1,0,-5520,-15,0,0,0]
["February","-","-","-","-","-","-","-","-","-","-","-","-",-24495,0,0,-35,0,0,0,0,0]
["March","-","-","-","-","-","-","-","-","-","-","-","-",-52,0,0,0,0,-6,0,0,0]
["April","-","-","-","-","-","-","-","-","-","-","-",0,-4,-10,-915,-1993,-611,0,0,0,0]
["May","-","-","-","-","-","-","-","-","-","-","-",0,0,7,0,0,-11359,0,-16,0,0]
["June","-","-","-","-","-","-","-","-","-","-","-",0,-6655,0,-37,-149,0,-39,0,0,0]
["July","-","-","-","-","-","-","-","-","-","-","-",0,-1633,-49,0,0,-611,-269,-115,-9,-4217]
["August","-","-","-","-","-","-","-","-","-","-","-",0,-76,-34,0,-133,0,-30,0,-8678,-79.430000000000007]
["September","-","-","-","-","-","-","-","-","-","-","-",0,0,0,0,-549,0,0,0,0,-5.95]
["October","-","-","-","-","-","-","-","-","-","-","-",0,0,-895,0,0,0,-42,0,-11,0]
["November ","-","-","-","-","-","-","-","-","-","-","-",-33,0,0,0,0,-2600,0,0,0,0]
["December","-","-","-","-","-","-","-","-","-","-","-",0,0,0,-2,0,-27,0,0,-238,0]
["Total","-","-","-","-","-","-","-","-","-","-","-",{"$f":"SUM(M35:M46)","v":-33},{"$f":"SUM(N35:N46)","v":-32954},{"$f":"SUM(O35:O46)","v":-981},{"$f":"SUM(P35:P46)","v":-955},{"$f":"SUM(Q35:Q46)","v":-2859},{"$f":"SUM(R35:R46)","v":-20728},{"$f":"SUM(S35:S46)","v":-401},-131,{"$f":"SUM(U35:U46)","v":-8936},-4302.38]
["Hidden columns B-L do not contain any data for CY 2004-2014"]
[{"$f":"'Local SUT'!A78","v":"Source:  Minnesota Department of Revenue, Tax Research Division, November 2025"}]
["end of worksheet"]

{"sheet":"Carver Co","index":26,"n_rows":50,"n_cols":22,"rows_kept":50,"cut":false,"hidden":true,"merged":[[0,0,0,19],[32,0,32,19],[47,0,47,19],[48,0,48,19],[49,0,49,19],[1,0,1,19],[2,0,2,19],[17,0,17,19]]}
["Carver County Monthly Detail for Minnesota Local Sales & Use Tax"]
[{"$f":"'Local SUT'!A2","v":"CY 2004-2024"}]
["Carver County Transit Sales Tax (0.5%)"]
["Month",2004,2005,2006,2007,2008,2009,2010,2011,2012,2013,2014,2015,2016,2017,2018,2019,2020,2021,2022,2023,2024]
["January ","-","-","-","-","-","-","-","-","-","-","-","-","-","-",623312,779640,1009665,811084,968459,914988,941926]
["February","-","-","-","-","-","-","-","-","-","-","-","-","-","-",441698,522180,689074,665618,840924,680350,821997]
["March","-","-","-","-","-","-","-","-","-","-","-","-","-","-",529116,533525,554218,834016,864889,685128,652101]
["April","-","-","-","-","-","-","-","-","-","-","-","-","-","-",522520,547674,645195,807051,965656,823241,728185]
["May","-","-","-","-","-","-","-","-","-","-","-","-","-","-",445481,587767,574624,676899,1054154,720562,834757]
["June","-","-","-","-","-","-","-","-","-","-","-","-","-","-",545926,754345,625914,764086,1048127,899954,901245]
["July","-","-","-","-","-","-","-","-","-","-","-","-","-","-",490062,672105,637990,767649,919899,1022618,914745]
["August","-","-","-","-","-","-","-","-","-","-","-","-","-","-",633221,719859,785964,839538,873390,862558,857102.98]
["September","-","-","-","-","-","-","-","-","-","-","-","-","-","-",598993,675203,689276,777078,931673,868915,941399.68]
["October","-","-","-","-","-","-","-","-","-","-","-","-","-",169,560477,685939,687917,838896,865897,935607,861628.38]
["November ","-","-","-","-","-","-","-","-","-","-","-","-","-",411541,573040,705539,610057,718273,887488,794300,863342.48]
["December","-","-","-","-","-","-","-","-","-","-","-","-","-",451170,611284,656676,625476,932981,1065319,824264,820486.19]
["Total","-","-","-","-","-","-","-","-","-","-","-","-","-",{"$f":"SUM(O5:O16)","v":862880},{"$f":"SUM(P5:P16)","v":6575130},{"$f":"SUM(Q5:Q16)","v":7840452},{"$f":"SUM(R5:R16)","v":8135370},{"$f":"SUM(S5:S16)","v":9433169},11285875,{"$f":"SUM(U5:U16)","v":10032485},10138915.710000001]
["Carver County Transit Use (0.5%)"]
["Month",2004,2005,2006,2007,2008,2009,2010,2011,2012,2013,2014,2015,2016,2017,2018,2019,2020,2021,2022,2023,2024]
["January ","-","-","-","-","-","-","-","-","-","-","-","-","-","-",100166,49454,62860,56523,75902,53719,80208]
["February","-","-","-","-","-","-","-","-","-","-","-","-","-","-",45810,98351,63311,4039,72936,55773,36167]
["March","-","-","-","-","-","-","-","-","-","-","-","-","-","-",35696,47365,59543,138302,71159,44903,56532]
["April","-","-","-","-","-","-","-","-","-","-","-","-","-","-",26660,87624,52436,45821,101098,56786,53238]
["May","-","-","-","-","-","-","-","-","-","-","-","-","-","-",14376,67013,45698,51780,155016,39626,23484]
["June","-","-","-","-","-","-","-","-","-","-","-","-","-","-",49514,134751,-8136,27431,159914,41181,44977]
["July","-","-","-","-","-","-","-","-","-","-","-","-","-","-",26844,47121,37699,29810,91259,61447,54544]
["August","-","-","-","-","-","-","-","-","-","-","-","-","-","-",154834,90645,73248,46636,81908,41674,58981.88]
["September","-","-","-","-","-","-","-","-","-","-","-","-","-","-",37995,130292,104619,11726,74835,36298,58518.87]
["October","-","-","-","-","-","-","-","-","-","-","-","-","-",5,34460,97197,52738,65710,72747,37494,114065.07]
["November ","-","-","-","-","-","-","-","-","-","-","-","-","-",15793,63002,104301,48418,2627,69951,73817,90361.97]
["December","-","-","-","-","-","-","-","-","-","-","-","-","-",13664,52313,39862,-12766,166570,98780,64793,49220.38]
["Total","-","-","-","-","-","-","-","-","-","-","-","-","-",{"$f":"SUM(O20:O31)","v":29462},{"$f":"SUM(P20:P31)","v":641670},{"$f":"SUM(Q20:Q31)","v":993976},{"$f":"SUM(R20:R31)","v":579668},{"$f":"SUM(S20:S31)","v":646975},1125505,{"$f":"SUM(U20:U31)","v":607511},720298.17]
["Carver County Transit Refunds"]
["Month",2004,2005,2006,2007,2008,2009,2010,2011,2012,2013,2014,2015,2016,2017,2018,2019,2020,2021,2022,2023,2024]
["January ","-","-","-","-","-","-","-","-","-","-","-","-","-","-",-4,-67,-1503,-3,-93179,-52858,-192118]
["February","-","-","-","-","-","-","-","-","-","-","-","-","-","-",-1,-1,-299053,-129947,-18997,-156912,-476]
["March","-","-","-","-","-","-","-","-","-","-","-","-","-","-",0,-270,-4912,-8,-10847,-139544,-344631]
["April","-","-","-","-","-","-","-","-","-","-","-","-","-","-",0,-339,-3978,-108420,-90645,-16850,-6664]
["May","-","-","-","-","-","-","-","-","-","-","-","-","-","-",-1812,0,-142123,-113488,-4927,-1879,-12218]
["June","-","-","-","-","-","-","-","-","-","-","-","-","-","-",-1271,-1389,-17843,-23200,-43197,-9425,-86312]
["July","-","-","-","-","-","-","-","-","-","-","-","-","-","-",-17,-5883,-370,0,-5227,-150239,-3480]
["August","-","-","-","-","-","-","-","-","-","-","-","-","-","-",-4915,-3114,-5415,-95,-2512,-13929,-8515.2800000000007]
["September","-","-","-","-","-","-","-","-","-","-","-","-","-","-",-88,-1103,-90,0,-13367,-2073,-231555.71]
["October","-","-","-","-","-","-","-","-","-","-","-","-","-",0,-69,-158557,-2105,-325,-54682,-25,-43491.71]
["November ","-","-","-","-","-","-","-","-","-","-","-","-","-",-213,-3585,-2223,-426384,-99544,-107,-38,-4938.62]
["December","-","-","-","-","-","-","-","-","-","-","-","-","-",-3,-18,-3824,-68857,-719,-117896,-68042,-233137.42]
["Total","-","-","-","-","-","-","-","-","-","-","-","-","-",{"$f":"SUM(O35:O46)","v":-216},{"$f":"SUM(P35:P46)","v":-11780},{"$f":"SUM(Q35:Q46)","v":-176770},{"$f":"SUM(R35:R46)","v":-972633},{"$f":"SUM(S35:S46)","v":-475749},-455583,{"$f":"SUM(U35:U46)","v":-611814},-1167537.74]
["Hidden columns B-N do not contain any data for CY 2004-2016"]
[{"$f":"'Local SUT'!A78","v":"Source:  Minnesota Department of Revenue, Tax Research Division, November 2025"}]
["end of worksheet"]

{"sheet":"Clay Cty","index":27,"n_rows":50,"n_cols":22,"rows_kept":50,"cut":false,"hidden":true,"merged":[[0,0,0,19],[32,0,32,19],[47,0,47,19],[48,0,48,19],[49,0,49,19],[1,0,1,19],[2,0,2,19],[17,0,17,19]]}
["Clay County Monthly Detail for Minnesota Local Sales & Use Tax"]
[{"$f":"'Local SUT'!A2","v":"CY 2004-2024"}]
["Clay County Transit Sales Tax (0.5%)"]
["Month",2004,2005,2006,2007,2008,2009,2010,2011,2012,2013,2014,2015,2016,2017,2018,2019,2020,2021,2022,2023,2024]
["January ","-","-","-","-","-","-","-","-","-","-","-","-","-","-",195645,228375,268396,306170,342199,367353,395366]
["February","-","-","-","-","-","-","-","-","-","-","-","-","-","-",155589,189979,204728,240294,283989,307225,313002]
["March","-","-","-","-","-","-","-","-","-","-","-","-","-","-",144923,180883,196305,238024,321872,286748,291958]
["April","-","-","-","-","-","-","-","-","-","-","-","-","-","-",179396,216086,222900,311959,368306,345822,344744]
["May","-","-","-","-","-","-","-","-","-","-","-","-","-","-",177499,214393,561551,295032,298489,321207,361162]
["June","-","-","-","-","-","-","-","-","-","-","-","-","-","-",233166,266548,287257,335602,422284,390939,398310]
["July","-","-","-","-","-","-","-","-","-","-","-","-","-","-",206467,266720,262557,371063,387458,436780,403555]
["August","-","-","-","-","-","-","-","-","-","-","-","-","-","-",247811,272538,329043,369491,356320,362232,402828.68]
["September","-","-","-","-","-","-","-","-","-","-","-","-","-","-",230321,261782,288673,317532,363011,396496,384497.54]
["October","-","-","-","-","-","-","-","-","-","-","-","-","-",171,222981,269825,296729,352112,359005,404682,361965.69]
["November ","-","-","-","-","-","-","-","-","-","-","-","-","-",170558,214068,251122,283246,302851,357798,480041,403450.31]
["December","-","-","-","-","-","-","-","-","-","-","-","-","-",174366,210932,249776,277302,311357,396705,359906,363373.3]
["Total","-","-","-","-","-","-","-","-","-","-","-","-","-",{"$f":"SUM(O5:O16)","v":345095},{"$f":"SUM(P5:P16)","v":2418798},{"$f":"SUM(Q5:Q16)","v":2868027},{"$f":"SUM(R5:R16)","v":3478687},{"$f":"SUM(S5:S16)","v":3751487},4257436,{"$f":"SUM(U5:U16)","v":4459431},4424212.5200000005]
["Clay County Transit Use Tax (0.5%)"]
["Month",2004,2005,2006,2007,2008,2009,2010,2011,2012,2013,2014,2015,2016,2017,2018,2019,2020,2021,2022,2023,2024]
["January ","-","-","-","-","-","-","-","-","-","-","-","-","-","-",10206,14843,15090,14537,18406,21971,19214]
["February","-","-","-","-","-","-","-","-","-","-","-","-","-","-",10240,10998,6615,12319,5892,13543,6755]
["March","-","-","-","-","-","-","-","-","-","-","-","-","-","-",9587,7891,13605,11510,8464,11958,14597]
["April","-","-","-","-","-","-","-","-","-","-","-","-","-","-",12484,10830,6933,14806,12092,9156,14357]
["May","-","-","-","-","-","-","-","-","-","-","-","-","-","-",10451,11140,8143,42276,11150,12713,23478]
["June","-","-","-","-","-","-","-","-","-","-","-","-","-","-",18816,14326,10262,11582,14313,41819,7876]
["July","-","-","-","-","-","-","-","-","-","-","-","-","-","-",14995,13157,12246,18819,25451,21896,20387]
["August","-","-","-","-","-","-","-","-","-","-","-","-","-","-",10477,14797,11126,13765,8791,19873,15701.55]
["September","-","-","-","-","-","-","-","-","-","-","-","-","-","-",15150,17094,11538,22219,15914,22594,18924.3]
["October","-","-","-","-","-","-","-","-","-","-","-","-","-",0,10344,20480,15072,16283,22584,26777,17759.66]
["November ","-","-","-","-","-","-","-","-","-","-","-","-","-",8163,12543,14653,13619,12217,34089,16881,11475.72]
["December","-","-","-","-","-","-","-","-","-","-","-","-","-",7759,11936,9705,8812,10852,12302,13898,10438.84]
["Total","-","-","-","-","-","-","-","-","-","-","-","-","-",{"$f":"SUM(O20:O31)","v":15922},{"$f":"SUM(P20:P31)","v":147229},{"$f":"SUM(Q20:Q31)","v":159914},{"$f":"SUM(R20:R31)","v":133061},{"$f":"SUM(S20:S31)","v":201185},189448,{"$f":"SUM(U20:U31)","v":233079},180964.07]
["Clay County Transit Refunds"]
["Month",2004,2005,2006,2007,2008,2009,2010,2011,2012,2013,2014,2015,2016,2017,2018,2019,2020,2021,2022,2023,2024]
["January ","-","-","-","-","-","-","-","-","-","-","-","-","-","-",0,-316,-303,-4894,-10317,-178,-10326]
["February","-","-","-","-","-","-","-","-","-","-","-","-","-","-",0,-187,-1067,0,-7915,0,0]
["March","-","-","-","-","-","-","-","-","-","-","-","-","-","-",-121,-4239,0,-763,-867,-1547,0]
["April","-","-","-","-","-","-","-","-","-","-","-","-","-","-",0,0,-266,0,0,-2792,0]
["May","-","-","-","-","-","-","-","-","-","-","-","-","-","-",0,0,-1192,0,-1012,-1237,0]
["June","-","-","-","-","-","-","-","-","-","-","-","-","-","-",0,-2133,-2397,0,0,0,-3919]
["July","-","-","-","-","-","-","-","-","-","-","-","-","-","-",0,0,-22,-5481,-3,0,-100]
["August","-","-","-","-","-","-","-","-","-","-","-","-","-","-",0,0,-1192,0,0,0,0]
["September","-","-","-","-","-","-","-","-","-","-","-","-","-","-",-2,-114,0,0,-9281,-8399,-13.74]
["October","-","-","-","-","-","-","-","-","-","-","-","-","-",0,0,0,0,0,0,-3136,-431.57]
["November ","-","-","-","-","-","-","-","-","-","-","-","-","-",0,0,-1045,-5933,0,-970,-671,-21]
["December","-","-","-","-","-","-","-","-","-","-","-","-","-",0,-16662,0,0,-5505,0,-5064,-5335.99]
["Total","-","-","-","-","-","-","-","-","-","-","-","-","-",{"$f":"SUM(O35:O46)","v":0},{"$f":"SUM(P35:P46)","v":-16785},{"$f":"SUM(Q35:Q46)","v":-8034},{"$f":"SUM(R35:R46)","v":-12372},{"$f":"SUM(S35:S46)","v":-16643},-30365,{"$f":"SUM(U35:U46)","v":-23024},-20147.3]
["Hidden columns B-N do not contain any data for CY 2004-2016"]
[{"$f":"'Local SUT'!A78","v":"Source:  Minnesota Department of Revenue, Tax Research Division, November 2025"}]
["end of worksheet"]

{"sheet":"Dakota Co","index":28,"n_rows":50,"n_cols":22,"rows_kept":50,"cut":false,"hidden":true,"merged":[[0,0,0,19],[32,0,32,19],[47,0,47,19],[48,0,48,19],[49,0,49,19],[1,0,1,19],[2,0,2,19],[17,0,17,19]]}
["Dakota County Monthly Detail for Minnesota Local Sales & Use Tax"]
[{"$f":"'Local SUT'!A2","v":"CY 2004-2024"}]
["Dakota County Transit Sales Tax (0.25%)"]
["Month",2004,2005,2006,2007,2008,2009,2010,2011,2012,2013,2014,2015,2016,2017,2018,2019,2020,2021,2022,2023,2024]
["January ","-","-","-","-","-","-","-","-","-","-","-","-","-","-",1487078,1590648,1727298,1671880,1680045,1920718,1951217]
["February","-","-","-","-","-","-","-","-","-","-","-","-","-","-",1138681,1193610,1235175,1331608,1513846,1617556,1586635]
["March","-","-","-","-","-","-","-","-","-","-","-","-","-","-",1035856,1072098,1190013,1229435,1404575,1444108,1459471]
["April","-","-","-","-","-","-","-","-","-","-","-","-","-","-",1208101,1310067,1253015,1579175,1816909,1816725,1720242]
["May","-","-","-","-","-","-","-","-","-","-","-","-","-","-",1119966,1333993,1202469,1491505,1546612,1664208,1748547]
["June","-","-","-","-","-","-","-","-","-","-","-","-","-","-",1404800,1450045,1465333,1638740,2145117,1978632,1951932]
["July","-","-","-","-","-","-","-","-","-","-","-","-","-","-",1258040,1437109,1512534,1675222,1873118,2104178,1915338]
["August","-","-","-","-","-","-","-","-","-","-","-","-","-","-",1553366,1599018,1642647,1852698,1772834,1861024,1892067.28]
["September","-","-","-","-","-","-","-","-","-","-","-","-","-","-",1497021,1535620,1491565,1650625,1859871,1981998,1908649.18]
["October","-","-","-","-","-","-","-","-","-","-","-","-","-",1353,1331756,1474158,1515664,1730360,1813320,1919106,1877190.47]
["November ","-","-","-","-","-","-","-","-","-","-","-","-","-",1169713,1339229,1449065,1425224,1610934,1782935,1791325,1849717.21]
["December","-","-","-","-","-","-","-","-","-","-","-","-","-",1244482,1379306,1393127,1491600,1628124,2023120,1821721,1801356.15]
["Total","-","-","-","-","-","-","-","-","-","-","-","-","-",{"$f":"SUM(O5:O16)","v":2415548},{"$f":"SUM(P5:P16)","v":15753200},{"$f":"SUM(Q5:Q16)","v":16838558},{"$f":"SUM(R5:R16)","v":17152537},{"$f":"SUM(S5:S16)","v":19090306},21232302,{"$f":"SUM(U5:U16)","v":21921299},21662362.289999999]
["Dakota County Transit Use (0.25%)"]
["Month",2004,2005,2006,2007,2008,2009,2010,2011,2012,2013,2014,2015,2016,2017,2018,2019,2020,2021,2022,2023,2024]
["January ","-","-","-","-","-","-","-","-","-","-","-","-","-","-",68581,93095,83973,93006,89388,106662,120665]
["February","-","-","-","-","-","-","-","-","-","-","-","-","-","-",69936,78302,66188,68644,72747,90706,162683]
["March","-","-","-","-","-","-","-","-","-","-","-","-","-","-",61820,52149,62976,60249,66278,93522,74420]
["April","-","-","-","-","-","-","-","-","-","-","-","-","-","-",75290,66288,62533,64345,57688,112169,111212]
["May","-","-","-","-","-","-","-","-","-","-","-","-","-","-",67334,62197,63272,67080,76548,77562,150080]
["June","-","-","-","-","-","-","-","-","-","-","-","-","-","-",81008,76773,63515,48893,75429,115672,126009]
["July","-","-","-","-","-","-","-","-","-","-","-","-","-","-",74048,76460,69369,80278,84688,117559,127618]
["August","-","-","-","-","-","-","-","-","-","-","-","-","-","-",70347,72780,67962,83998,79836,104575,92841.86]
["September","-","-","-","-","-","-","-","-","-","-","-","-","-","-",68064,73565,58971,77068,130806,121232,175190.26]
["October","-","-","-","-","-","-","-","-","-","-","-","-","-",22,76262,80335,66378,72132,117877,132012,132927.84]
["November ","-","-","-","-","-","-","-","-","-","-","-","-","-",61581,78343,83500,74799,82436,114406,137525,154609.76999999999]
["December","-","-","-","-","-","-","-","-","-","-","-","-","-",59842,40851,63454,47327,71450,100966,114823,107943.72]
["Total","-","-","-","-","-","-","-","-","-","-","-","-","-",{"$f":"SUM(O20:O31)","v":121445},{"$f":"SUM(P20:P31)","v":831884},{"$f":"SUM(Q20:Q31)","v":878898},{"$f":"SUM(R20:R31)","v":787263},{"$f":"SUM(S20:S31)","v":869579},1066657,{"$f":"SUM(U20:U31)","v":1324019},1536200.4500000002]
["Dakota County Transit Refunds"]
["Month",2004,2005,2006,2007,2008,2009,2010,2011,2012,2013,2014,2015,2016,2017,2018,2019,2020,2021,2022,2023,2024]
["January ","-","-","-","-","-","-","-","-","-","-","-","-","-","-",0,-207755,-1766,-1257,-7928,-141785,-7289]
["February","-","-","-","-","-","-","-","-","-","-","-","-","-","-",-31,-140,-4855,-136069,-76865,-167826,-3696]
["March","-","-","-","-","-","-","-","-","-","-","-","-","-","-",-33,-13876,-5065,-41391,-14790,-4671,-1190]
["April","-","-","-","-","-","-","-","-","-","-","-","-","-","-",-8,-73802,-3095,-236132,-1579,-25268,-216090]
["May","-","-","-","-","-","-","-","-","-","-","-","-","-","-",-575,-149,-224672,-1415,-30356,-4112,-17787]
["June","-","-","-","-","-","-","-","-","-","-","-","-","-","-",-1100,-6418,-24083,-1778,-85682,-35114,-7234]
["July","-","-","-","-","-","-","-","-","-","-","-","-","-","-",-2927,-237,-4879,-2733,-34910,-2190,-53920]
["August","-","-","-","-","-","-","-","-","-","-","-","-","-","-",-70,-1648,-10053,-65142,-1561,-8774,-2466.15]
["September","-","-","-","-","-","-","-","-","-","-","-","-","-","-",-150,-1345,-5149,-56251,-6502,-10993,-85742.53]
["October","-","-","-","-","-","-","-","-","-","-","-","-","-",0,-135,-750,-68858,-593,-2101,-11120,-18464.7]
["November ","-","-","-","-","-","-","-","-","-","-","-","-","-",-6,-3869,-1848,-39329,-14172,-1020,-60849,-49659.11]
["December","-","-","-","-","-","-","-","-","-","-","-","-","-",0,-457,-789,-5600,-1287,-3080,-13264,-3173.92]
["Total","-","-","-","-","-","-","-","-","-","-","-","-","-",{"$f":"SUM(O35:O46)","v":-6},{"$f":"SUM(P35:P46)","v":-9355},{"$f":"SUM(Q35:Q46)","v":-308757},{"$f":"SUM(R35:R46)","v":-397404},{"$f":"SUM(S35:S46)","v":-558220},-266374,{"$f":"SUM(U35:U46)","v":-485966},-466712.41000000003]
["Hidden columns B-N do not contain any data for CY 2004-2016"]
[{"$f":"'Local SUT'!A78","v":"Source:  Minnesota Department of Revenue, Tax Research Division, November 2025"}]
["end of worksheet"]

{"sheet":"Douglas Co","index":29,"n_rows":50,"n_cols":22,"rows_kept":50,"cut":false,"hidden":true,"merged":[[49,0,49,19],[32,0,32,19],[47,0,47,19],[48,0,48,19],[0,0,0,19],[1,0,1,19],[2,0,2,19],[17,0,17,19]]}
["Douglas County Monthly Detail for Minnesota Local Sales & Use Tax"]
[{"$f":"'Local SUT'!A2","v":"CY 2004-2024"}]
["Douglas County Transit Sales Tax (0.5%)"]
["Month",2004,2005,2006,2007,2008,2009,2010,2011,2012,2013,2014,2015,2016,2017,2018,2019,2020,2021,2022,2023,2024]
["January ","-","-","-","-","-","-","-","-","-","-","-",235315,288703,300566,289391,300992,324773,340164,366573,425965,428679]
["February","-","-","-","-","-","-","-","-","-","-","-",189646,204348,212204,215173,225959,231739,250243,295606,333705,309876]
["March","-","-","-","-","-","-","-","-","-","-","-",198651,190908,195312,194433,210918,225588,279144,278869,295542,313294]
["April","-","-","-","-","-","-","-","-","-","-","-",223088,225771,233854,242157,254627,251149,338043,347328,339752,347917]
["May","-","-","-","-","-","-","-","-","-","-","-",247518,248961,257305,241777,263953,273369,338846,350091,350641,385480]
["June","-","-","-","-","-","-","-","-","-","-","-",275556,275010,296246,311520,330205,353403,390147,488665,479357,457634]
["July","-","-","-","-","-","-","-","-","-","-","-",253404,247982,261793,304357,328737,299893,410958,491317,558536,478034]
["August","-","-","-","-","-","-","-","-","-","-","-",353078,360510,360748,391810,391776,433972,425863,488116,470533,478080.55]
["September","-","-","-","-","-","-","-","-","-","-","-",270589,290653,296169,315265,335159,343970,377896,462143,455979,441558.93]
["October","-","-","-","-","-","-","-","-","-","-",36,268810,282045,296793,292317,321589,336652,386948,433702,449282,439362.54]
["November ","-","-","-","-","-","-","-","-","-","-",208637,243824,250128,274204,287614,292765,301506,328644,400665,391100,407961.25]
["December","-","-","-","-","-","-","-","-","-","-",203852,224376,240447,253635,275182,270091,289418,322015,452239,388517,357698.56]
["Total","-","-","-","-","-","-","-","-","-","-",{"$f":"SUM(L5:L16)","v":412525},2983855,3105466,3238829,3360996,3526771,{"$f":"SUM(R5:R16)","v":3665432},{"$f":"SUM(S5:S16)","v":4188911},4855314,{"$f":"SUM(U5:U16)","v":4938909},4845575.8299999991]
["Douglas County Transit Use Tax (0.5%)"]
["Month",2004,2005,2006,2007,2008,2009,2010,2011,2012,2013,2014,2015,2016,2017,2018,2019,2020,2021,2022,2023,2024]
["January ","-","-","-","-","-","-","-","-","-","-","-",16896,15801,15287,20523,32113,15937,26127,30241,25938,30536]
["February","-","-","-","-","-","-","-","-","-","-","-",8824,8036,10003,9357,8130,9503,8754,9410,11883,13437]
["March","-","-","-","-","-","-","-","-","-","-","-",8349,8307,9897,7146,10144,9897,7357,8850,10723,9055]
["April","-","-","-","-","-","-","-","-","-","-","-",12239,6586,9203,11404,10940,7994,13554,13341,13103,18388]
["May","-","-","-","-","-","-","-","-","-","-","-",17884,8742,10198,11520,11521,8222,9503,8718,3920,12785]
["June","-","-","-","-","-","-","-","-","-","-","-",13345,11003,13535,10290,13817,4428,9909,12411,15411,11543]
["July","-","-","-","-","-","-","-","-","-","-","-",14370,11346,22457,12631,14899,11432,12136,16082,16157,17414]
["August","-","-","-","-","-","-","-","-","-","-","-",22854,11631,9762,11406,14829,12527,8965,13108,13263,14754.36]
["September","-","-","-","-","-","-","-","-","-","-","-",12470,12877,18659,11634,13508,11157,9603,10183,22173,18318.439999999999]
["October","-","-","-","-","-","-","-","-","-","-",0,16104,11704,13508,12888,11027,13834,12408,15748,22488,15649.9]
["November ","-","-","-","-","-","-","-","-","-","-",14160,11292,8502,9027,9797,13120,8218,10669,13531,18313,14660.99]
["December","-","-","-","-","-","-","-","-","-","-",11960,8603,7976,10154,9436,9980,8870,12316,13886,14189,17605.64]
["Total","-","-","-","-","-","-","-","-","-","-",{"$f":"SUM(L20:L31)","v":26120},163230,122511,151690,138032,164028,{"$f":"SUM(R20:R31)","v":122019},{"$f":"SUM(S20:S31)","v":141301},165509,{"$f":"SUM(U20:U31)","v":187561},194147.32999999996]
["Douglas County Transit Refunds"]
["Month",2004,2005,2006,2007,2008,2009,2010,2011,2012,2013,2014,2015,2016,2017,2018,2019,2020,2021,2022,2023,2024]
["January ","-","-","-","-","-","-","-","-","-","-","-",-7,-2072,-301,-102,-121,-6252,-160,-57,-226,-5885]
["February","-","-","-","-","-","-","-","-","-","-","-",-91,-166,-299,-8733,0,-7511,-1635,-68,-692,-113]
["March","-","-","-","-","-","-","-","-","-","-","-",-2281,-2415,6,-5,0,-5259,-57,-45,-272,-790]
["April","-","-","-","-","-","-","-","-","-","-","-",-1140,-1580,-2942,-3,-23,-383,0,-1010,0,-4753]
["May","-","-","-","-","-","-","-","-","-","-","-",-2771,-84,0,-1358,0,-643,-262,-848,-1491,-149]
["June","-","-","-","-","-","-","-","-","-","-","-",-483,-424,-2620,0,-956,-2538,-732,0,0,-4379]
["July","-","-","-","-","-","-","-","-","-","-","-",-4,0,-49,0,-69,-138,-93,-6173,-1156,-70]
["August","-","-","-","-","-","-","-","-","-","-","-",-85,-4330,-1434,-13,-5,-506,0,-42,-21,-382.36]
["September","-","-","-","-","-","-","-","-","-","-","-",-8655,-168,-45,0,-5795,-6077,-5,0,-6644,0]
["October","-","-","-","-","-","-","-","-","-","-",0,-87,-4,-25313,-2573,0,-28,0,-1541,-440,-1844.76]
["November ","-","-","-","-","-","-","-","-","-","-",-70,-3965,-254,0,-2,-5108,-335,0,0,0,-1045.3399999999999]
["December","-","-","-","-","-","-","-","-","-","-",-1,-4,0,-2335,-2775,0,-2,-4712,-5,0,-223.65]
["Total","-","-","-","-","-","-","-","-","-","-",{"$f":"SUM(L35:L46)","v":-71},-19573,-11497,-35332,-15564,-12077,{"$f":"SUM(R35:R46)","v":-29672},{"$f":"SUM(S35:S46)","v":-7656},-9789,{"$f":"SUM(U35:U46)","v":-10942},-19635.11]
["Hidden columns B-K do not contain any data for CY 2004-2013"]
[{"$f":"'Local SUT'!A78","v":"Source:  Minnesota Department of Revenue, Tax Research Division, November 2025"}]
["end of worksheet"]

{"sheet":"Fillmore Co","index":30,"n_rows":50,"n_cols":22,"rows_kept":50,"cut":false,"hidden":true,"merged":[[32,0,32,19],[47,0,47,19],[48,0,48,19],[49,0,49,19],[0,0,0,19],[1,0,1,19],[2,0,2,19],[17,0,17,19]]}
["Fillmore County Monthly Detail for Minnesota Local Sales & Use Tax"]
[{"$f":"'Local SUT'!A2","v":"CY 2004-2024"}]
["Fillmore County Transit Sales Tax (0.5%)"]
["Month",2004,2005,2006,2007,2008,2009,2010,2011,2012,2013,2014,2015,2016,2017,2018,2019,2020,2021,2022,2023,2024]
["January ","-","-","-","-","-","-","-","-","-","-","-",8,69732,76955,73345,78611,85834,92079,108826,152454,125028]
["February","-","-","-","-","-","-","-","-","-","-","-",40393,55395,55507,64812,60266,67702,74472,79445,89821,84515]
["March","-","-","-","-","-","-","-","-","-","-","-",45067,55573,56665,51761,51268,60440,69838,88457,84478,87584]
["April","-","-","-","-","-","-","-","-","-","-","-",62268,63440,60579,59821,61433,70018,90292,96280,106681,102796]
["May","-","-","-","-","-","-","-","-","-","-","-",61393,60703,65134,58350,63956,70238,91097,93065,92274,97399]
["June","-","-","-","-","-","-","-","-","-","-","-",68433,68575,70660,77648,82766,88473,92814,102550,111750,107013]
["July","-","-","-","-","-","-","-","-","-","-","-",67948,69232,70600,73254,79424,87873,103570,130648,132886,120082]
["August","-","-","-","-","-","-","-","-","-","-","-",77668,78211,85774,87203,90335,103080,98615,105880,116140,114644.74]
["September","-","-","-","-","-","-","-","-","-","-","-",67809,77484,73557,80916,80171,84422,99330,115214,119894,114772.2]
["October","-","-","-","-","-","-","-","-","-","-","-",80619,78803,82724,92467,88536,90046,107602,115101,119136,124742.04]
["November ","-","-","-","-","-","-","-","-","-","-","-",64110,67249,67915,76471,80512,82034,92224,105009,106238,108147.17]
["December","-","-","-","-","-","-","-","-","-","-","-",63235,65751,65307,74783,76253,86544,93993,112095,98873,98957.37]
["Total","-","-","-","-","-","-","-","-","-","-","-",{"$f":"SUM(M5:M16)","v":698951},{"$f":"SUM(N5:N16)","v":810148},{"$f":"SUM(O5:O16)","v":831377},{"$f":"SUM(P5:P16)","v":870831},{"$f":"SUM(Q5:Q16)","v":893531},{"$f":"SUM(R5:R16)","v":976704},{"$f":"SUM(S5:S16)","v":1105926},1252570,{"$f":"SUM(U5:U16)","v":1330625},1285680.52]
["Fillmore County Transit Use Tax (0.5%)"]
["Month",2004,2005,2006,2007,2008,2009,2010,2011,2012,2013,2014,2015,2016,2017,2018,2019,2020,2021,2022,2023,2024]
["January ","-","-","-","-","-","-","-","-","-","-","-",0,2552,3305,9374,9767,9682,9607,5653,16327,12908]
["February","-","-","-","-","-","-","-","-","-","-","-",1062,4413,2798,3078,6253,6507,413,9100,8772,9531]
["March","-","-","-","-","-","-","-","-","-","-","-",1354,3925,2082,2276,7527,2017,7416,6096,7680,6477]
["April","-","-","-","-","-","-","-","-","-","-","-",1560,3194,4344,2398,6442,2788,8031,6636,7404,8998]
["May","-","-","-","-","-","-","-","-","-","-","-",1041,3136,4175,2129,4492,7203,10259,6847,9054,9150]
["June","-","-","-","-","-","-","-","-","-","-","-",1263,1984,4939,5944,4157,15544,10494,10328,14132,5752]
["July","-","-","-","-","-","-","-","-","-","-","-",2094,4294,2141,3068,4772,1764,10756,29006,16093,14926]
["August","-","-","-","-","-","-","-","-","-","-","-",3748,3788,4450,3462,5430,3788,9172,8220,7677,10733.02]
["September","-","-","-","-","-","-","-","-","-","-","-",4561,3100,6255,2786,6026,7077,4816,9660,10167,8939.7000000000007]
["October","-","-","-","-","-","-","-","-","-","-","-",4655,4343,3081,3942,5087,9046,11907,33920,13490,8031.2]
["November ","-","-","-","-","-","-","-","-","-","-","-",3198,3140,3706,2761,3595,8022,4777,7715,8091,8107.15]
["December","-","-","-","-","-","-","-","-","-","-","-",3062,2266,3045,2510,5886,3618,6188,11882,9167,9747.4599999999991]
["Total","-","-","-","-","-","-","-","-","-","-","-",{"$f":"SUM(M20:M31)","v":27598},{"$f":"SUM(N20:N31)","v":40135},{"$f":"SUM(O20:O31)","v":44321},{"$f":"SUM(P20:P31)","v":43728},{"$f":"SUM(Q20:Q31)","v":69434},{"$f":"SUM(R20:R31)","v":77056},{"$f":"SUM(S20:S31)","v":93836},145063,{"$f":"SUM(U20:U31)","v":128054},113300.53]
["Fillmore County Transit Refunds"]
["Month",2004,2005,2006,2007,2008,2009,2010,2011,2012,2013,2014,2015,2016,2017,2018,2019,2020,2021,2022,2023,2024]
["January ","-","-","-","-","-","-","-","-","-","-","-",0,0,0,0,-3,0,-1252,0,0,0]
["February","-","-","-","-","-","-","-","-","-","-","-",0,-891,-7333,-1026,0,-4,0,0,0,0]
["March","-","-","-","-","-","-","-","-","-","-","-",0,-51,0,0,-804,0,-8,0,0,0]
["April","-","-","-","-","-","-","-","-","-","-","-",0,-216,-6,-2,-4,-15,0,0,0,0]
["May","-","-","-","-","-","-","-","-","-","-","-",0,0,-62,0,0,-188,0,0,0,-1811]
["June","-","-","-","-","-","-","-","-","-","-","-",0,-476,0,0,0,0,0,0,0,-3033]
["July","-","-","-","-","-","-","-","-","-","-","-",0,0,0,0,-105,-15,0,-21,-287,0]
["August","-","-","-","-","-","-","-","-","-","-","-",0,0,0,0,0,-188,0,0,-3396,0]
["September","-","-","-","-","-","-","-","-","-","-","-",0,-72,0,0,0,0,0,-3,0,-80.97]
["October","-","-","-","-","-","-","-","-","-","-","-",0,0,-63,-177,0,0,0,0,0,-0.33]
["November ","-","-","-","-","-","-","-","-","-","-","-",0,0,0,0,-4,0,0,0,0,0]
["December","-","-","-","-","-","-","-","-","-","-","-",0,0,0,0,0,0,0,-2,-190,0]
["Total","-","-","-","-","-","-","-","-","-","-","-",0,{"$f":"SUM(N35:N46)","v":-1706},{"$f":"SUM(O35:O46)","v":-7464},{"$f":"SUM(P35:P46)","v":-1205},{"$f":"SUM(Q35:Q46)","v":-920},{"$f":"SUM(R35:R46)","v":-410},{"$f":"SUM(S35:S46)","v":-1260},-26,{"$f":"SUM(U35:U46)","v":-3873},-4925.3]
["Hidden columns B-L do not contain any data for CY 2004-2014"]
[{"$f":"'Local SUT'!A78","v":"Source:  Minnesota Department of Revenue, Tax Research Division, November 2025"}]
["end of worksheet"]

{"sheet":"GKWMLL Sanitary","index":31,"n_rows":50,"n_cols":22,"rows_kept":50,"cut":false,"hidden":true,"merged":[[2,0,2,15],[1,0,1,15],[0,0,0,15],[17,0,17,15],[32,0,32,15]]}
["GKWMLL Sanitary Historical Minnesota Local Sales and Use Tax"]
[{"$f":"'Local SUT'!A2:M2","v":"CY 2004-2024"}]
["Garrison, Kathio, West Mille Lacs Sanitary District Sales Tax (1.0%)"]
["Month",2004,2005,2006,2007,2008,2009,2010,2011,2012,2013,2014,2015,2016,2017,2018,2019,2020,2021,2022,2023,2024]
["January ",null,null,null,null,null,null,null,null,"-","-","-","-","-","-",0,14423,14170,18636,21123,20488,40021]
["February",null,null,null,null,null,null,null,null,"-","-","-","-","-","-",22041,11701,13623,18660,18455,21741,42048]
["March",null,null,null,null,null,null,null,null,"-","-","-","-","-","-",11320,12739,12756,21371,18592,22999,27624]
["April",null,null,null,null,null,null,null,null,"-","-","-","-","-","-",13429,11193,13013,19575,19742,19700,31212]
["May",null,null,null,null,null,null,null,null,"-","-","-","-","-","-",9313,10546,12789,15470,15250,18167,29678]
["June",null,null,null,null,null,null,null,null,"-","-","-","-","-","-",13150,15332,19221,23219,23897,24929,36259]
["July",null,null,null,null,null,null,null,null,"-","-","-","-","-","-",23451,18291,21806,24247,28860,28740,38146]
["August",null,null,null,null,null,null,null,null,"-","-","-","-","-","-",18663,23842,26186,27513,26752,30385,39993.68]
["September",null,null,null,null,null,null,null,null,"-","-","-","-","-","-",14841,20309,24022,24090,19618,26184,36447.550000000003]
["October",null,null,null,null,null,null,null,null,"-","-","-","-","-","-",16067,17941,22362,22158,25047,29481,36204.370000000003]
["November ",null,null,null,null,null,null,null,null,"-","-","-","-","-","-",11365,13807,19753,17914,20193,47246,30694.82]
["December",null,null,null,null,null,null,null,null,"-","-","-","-","-","-",10355,11982,20937,17855,19516,26594,23393.97]
["Total",null,null,null,null,null,null,null,null,"-","-","-","-","-","-",{"$f":"SUM(P5:P16)","v":163995},{"$f":"SUM(Q5:Q16)","v":182106},220638,250708,257045,316654,{"$f":"SUM(V5:V16)","v":411722.39}]
["Garrison, Kathio, West Mille Lacs Sanitary District Use Tax (1.0%)"]
["Month",2004,2005,2006,2007,2008,2009,2010,2011,2012,2013,2014,2015,2016,2017,2018,2019,2020,2021,2022,2023,2024]
["January ",null,null,null,null,null,null,null,null,"-","-","-","-","-","-",0,483,335,1342,206,281,1104]
["February",null,null,null,null,null,null,null,null,"-","-","-","-","-","-",88,341,98,76,148,299,301]
["March",null,null,null,null,null,null,null,null,"-","-","-","-","-","-",129,136,122,19575,218,114,295]
["April",null,null,null,null,null,null,null,null,"-","-","-","-","-","-",288,142,154,842,383,697,362]
["May",null,null,null,null,null,null,null,null,"-","-","-","-","-","-",507,355,496,273,134,333,401]
["June",null,null,null,null,null,null,null,null,"-","-","-","-","-","-",1037,657,353,136,512,393,495]
["July",null,null,null,null,null,null,null,null,"-","-","-","-","-","-",1077,370,211,165,637,1112,977]
["August",null,null,null,null,null,null,null,null,"-","-","-","-","-","-",1471,356,314,427,2120,642,565]
["September",null,null,null,null,null,null,null,null,"-","-","-","-","-","-",956,202,275,203,385,424,634]
["October",null,null,null,null,null,null,null,null,"-","-","-","-","-","-",389,598,275,558,712,470,600]
["November ",null,null,null,null,null,null,null,null,"-","-","-","-","-","-",492,263,198,1429,351,518,450]
["December",null,null,null,null,null,null,null,null,"-","-","-","-","-","-",62,93,176,188,378,1450,439]
["Total",null,null,null,null,null,null,null,null,"-","-","-","-","-","-",{"$f":"SUM(P20:P31)","v":6496},{"$f":"SUM(Q20:Q31)","v":3996},3007,25214,6184,6733,{"$f":"SUM(V20:V31)","v":6623}]
["Garrison, Kathio, West Mille Lacs Sanitary District Refunds"]
["Month",2004,2005,2006,2007,2008,2009,2010,2011,2012,2013,2014,2015,2016,2017,2018,2019,2020,2021,2022,2023,2024]
["January ",null,null,null,null,null,null,null,null,"-","-","-","-","-","-",0,0,0,0,0,0,0]
["February",null,null,null,null,null,null,null,null,"-","-","-","-","-","-",0,0,0,0,0,0,0]
["March",null,null,null,null,null,null,null,null,"-","-","-","-","-","-",0,0,0,0,0,0,0]
["April",null,null,null,null,null,null,null,null,"-","-","-","-","-","-",0,0,0,0,0,0,0]
["May",null,null,null,null,null,null,null,null,"-","-","-","-","-","-",0,0,0,0,0,0,0]
["June",null,null,null,null,null,null,null,null,"-","-","-","-","-","-",0,0,0,0,0,-214,0]
["July",null,null,null,null,null,null,null,null,"-","-","-","-","-","-",0,0,0,0,0,0,0]
["August",null,null,null,null,null,null,null,null,"-","-","-","-","-","-",0,0,0,0,0,0,0]
["September",null,null,null,null,null,null,null,null,"-","-","-","-","-","-",0,0,0,0,0,0,0]
["October",null,null,null,null,null,null,null,null,"-","-","-","-","-","-",0,0,0,0,0,0,0]
["November ",null,null,null,null,null,null,null,null,"-","-","-","-","-","-",0,0,0,0,0,0,0]
["December",null,null,null,null,null,null,null,null,"-","-","-","-","-","-",0,0,0,0,0,0,0]
["Total",null,null,null,null,null,null,null,null,"-","-","-","-","-","-",{"$f":"SUM(P35:P46)","v":0},{"$f":"SUM(Q35:Q46)","v":0},0,0,0,-214,{"$f":"SUM(V35:V46)","v":0}]
["Hidden columns B-I do not contain any data for CY 2004-2011"]
[{"$f":"'Local SUT'!A78","v":"Source:  Minnesota Department of Revenue, Tax Research Division, November 2025"}]
["end of worksheet"]

{"sheet":"Hubbard Co","index":32,"n_rows":50,"n_cols":22,"rows_kept":50,"cut":false,"hidden":true,"merged":[[0,0,0,19],[1,0,1,19],[2,0,2,19],[17,0,17,19],[49,0,49,19],[32,0,32,19],[47,0,47,19],[48,0,48,19]]}
["Hubbard County Monthly Detail for Minnesota Local Sales & Use Tax"]
[{"$f":"'Local SUT'!A2","v":"CY 2004-2024"}]
["Hubbard County Transit Sales Tax (0.5%)"]
["Month",2004,2005,2006,2007,2008,2009,2010,2011,2012,2013,2014,2015,2016,2017,2018,2019,2020,2021,2022,2023,2024]
["January ","-","-","-","-","-","-","-","-","-","-","-","-",71965,73642,81112,87888,106732,123913,147583,140648,137272]
["February","-","-","-","-","-","-","-","-","-","-","-","-",51636,61646,64984,79923,82521,107422,109441,114948,120921]
["March","-","-","-","-","-","-","-","-","-","-","-","-",49548,56480,55372,71076,77928,104658,103583,102399,114833]
["April","-","-","-","-","-","-","-","-","-","-","-","-",56013,65844,66883,81043,84712,133933,125864,120618,120594]
["May","-","-","-","-","-","-","-","-","-","-","-","-",59754,66261,64204,81074,91676,121373,113953,122458,132535]
["June","-","-","-","-","-","-","-","-","-","-","-","-",77114,89355,97960,114981,128217,158381,161101,171760,180641]
["July","-","-","-","-","-","-","-","-","-","-","-",2,81181,94038,99092,127064,144319,180476,209090,215767,194368]
["August","-","-","-","-","-","-","-","-","-","-","-",89271,111657,124501,135762,156606,168369,218372,205167,204786,212213.47]
["September","-","-","-","-","-","-","-","-","-","-","-",89609,93138,97804,118036,128181,143180,182667,194334,191300,190034.44]
["October","-","-","-","-","-","-","-","-","-","-","-",89145,87369,93565,101201,120016,142289,172222,168066,183157,171061.42]
["November ","-","-","-","-","-","-","-","-","-","-","-",71396,71918,85032,91831,98954,112508,135048,142515,148224,155230.78]
["December","-","-","-","-","-","-","-","-","-","-","-",66770,67331,70679,82676,93153,107308,136675,134560,135191,132035.59]
["Total","-","-","-","-","-","-","-","-","-","-","-",{"$f":"SUM(M5:M16)","v":406193},{"$f":"SUM(N5:N16)","v":878624},{"$f":"SUM(O5:O16)","v":978847},{"$f":"SUM(P5:P16)","v":1059113},{"$f":"SUM(Q5:Q16)","v":1239959},{"$f":"SUM(R5:R16)","v":1389759},{"$f":"SUM(S5:S16)","v":1775140},1815257,{"$f":"SUM(U5:U16)","v":1851256},{"$f":"SUM(V5:V16)","v":1861739.7}]
["Hubbard County Transit Use Tax (0.5%)"]
["Month",2004,2005,2006,2007,2008,2009,2010,2011,2012,2013,2014,2015,2016,2017,2018,2019,2020,2021,2022,2023,2024]
["January ","-","-","-","-","-","-","-","-","-","-","-","-",4258,6808,5689,6989,8344,7083,11730,7398,10305]
["February","-","-","-","-","-","-","-","-","-","-","-","-",2273,3419,5272,3613,6856,7484,9890,4148,8263]
["March","-","-","-","-","-","-","-","-","-","-","-","-",3535,3007,46424,8195,3351,5913,6850,7320,5097]
["April","-","-","-","-","-","-","-","-","-","-","-","-",3753,4051,20337,7975,4247,6343,12350,6150,6013]
["May","-","-","-","-","-","-","-","-","-","-","-","-",3156,3698,7665,17536,38378,7098,5536,4526,6491]
["June","-","-","-","-","-","-","-","-","-","-","-","-",3771,4602,91291,5944,25487,9076,12158,13856,11926]
["July","-","-","-","-","-","-","-","-","-","-","-",0,7243,4718,18992,8090,10815,72085,11107,10945,10537]
["August","-","-","-","-","-","-","-","-","-","-","-",4043,4981,5011,9456,15237,13945,13744,9191,15980,12201.97]
["September","-","-","-","-","-","-","-","-","-","-","-",6461,4424,4542,5897,5881,7069,10972,8410,13210,9505.68]
["October","-","-","-","-","-","-","-","-","-","-","-",4717,6405,10703,8665,10135,7786,11468,10572,11136,14324.01]
["November ","-","-","-","-","-","-","-","-","-","-","-",3722,3726,6356,5413,6064,8497,20528,6094,14900,8001.22]
["December","-","-","-","-","-","-","-","-","-","-","-",2907,3571,4239,5193,4659,5491,6506,8190,6267,5791.2]
["Total","-","-","-","-","-","-","-","-","-","-","-",{"$f":"SUM(M20:M31)","v":21850},{"$f":"SUM(N20:N31)","v":51096},{"$f":"SUM(O20:O31)","v":61154},{"$f":"SUM(P20:P31)","v":230294},{"$f":"SUM(Q20:Q31)","v":100318},{"$f":"SUM(R20:R31)","v":140266},{"$f":"SUM(S20:S31)","v":178300},112078,{"$f":"SUM(U20:U31)","v":115836},{"$f":"SUM(V20:V31)","v":108456.07999999999}]
["Hubbard County Transit Refunds"]
["Month",2004,2005,2006,2007,2008,2009,2010,2011,2012,2013,2014,2015,2016,2017,2018,2019,2020,2021,2022,2023,2024]
["January ","-","-","-","-","-","-","-","-","-","-","-","-",0,0,0,0,0,0,0,-33848,-215]
["February","-","-","-","-","-","-","-","-","-","-","-","-",-128,0,0,0,-64,-33,-13,0,0]
["March","-","-","-","-","-","-","-","-","-","-","-","-",0,-1,-82,0,0,-3,-72,0,-107]
["April","-","-","-","-","-","-","-","-","-","-","-","-",-1263,-261,-5,0,0,0,0,-14,-195]
["May","-","-","-","-","-","-","-","-","-","-","-","-",0,-453,-1033,-31221,0,0,-20,0,0]
["June","-","-","-","-","-","-","-","-","-","-","-","-",0,0,0,0,0,-2,0,0,-126]
["July","-","-","-","-","-","-","-","-","-","-","-",0,0,-35966,0,0,-56,0,-1,-203,-9]
["August","-","-","-","-","-","-","-","-","-","-","-",0,-229,-34,0,-3,0,-677,-12,0,0]
["September","-","-","-","-","-","-","-","-","-","-","-",0,0,0,0,0,0,0,0,0,-0.74]
["October","-","-","-","-","-","-","-","-","-","-","-",0,0,0,0,0,0,0,0,-6763,0]
["November ","-","-","-","-","-","-","-","-","-","-","-",0,0,-27,0,-64,-32008,0,-107,-36,-14.03]
["December","-","-","-","-","-","-","-","-","-","-","-",0,0,-8,0,0,0,0,-67,-32,-39882.300000000003]
["Total","-","-","-","-","-","-","-","-","-","-","-",{"$f":"SUM(M35:M46)","v":0},{"$f":"SUM(N35:N46)","v":-1620},{"$f":"SUM(O35:O46)","v":-36750},{"$f":"SUM(P35:P46)","v":-1120},{"$f":"SUM(Q35:Q46)","v":-31288},{"$f":"SUM(R35:R46)","v":-32128},{"$f":"SUM(S35:S46)","v":-715},-292,{"$f":"SUM(U35:U46)","v":-40896},{"$f":"SUM(V35:V46)","v":-40549.07}]
["Hidden columns B-L do not contain any data for CY 2004-2014"]
[{"$f":"'Local SUT'!A78","v":"Source:  Minnesota Department of Revenue, Tax Research Division, November 2025"}]
["end of worksheet"]

{"sheet":"Cook Cty","index":33,"n_rows":54,"n_cols":22,"rows_kept":54,"cut":false,"hidden":true,"merged":[[50,0,50,19],[32,0,32,19],[47,0,47,19],[48,0,48,19],[0,0,0,19],[1,0,1,19],[2,0,2,19],[17,0,17,19],[49,0,49,19]]}
["Cook County Monthly Detail for Minnesota Local Sales & Use Tax"]
[{"$f":"'Local SUT'!A2","v":"CY 2004-2024"}]
["Cook County Local Sales Tax (1.0%)"]
["Month",2004,2005,2006,2007,2008,2009,2010,2011,2012,2013,2014,2015,2016,2017,2018,2019,2020,2021,2022,2023,2024]
["January ",78957,77644,83851.789999999994,106146.88,88955,31.53,1344.25,91458,85065,99625,105803,110546,109794,119479,127776,130602,139554,152354,157104,173743,158298]
["February",67807.22,73964.06,81175,81050.429999999993,83503,-18715,572.69000000000005,135489,117100,77490,86101,90600,90637,88134,98882,102520,121007,93030,148640,170222,132708]
["March",62680,69692.509999999995,65218,68637,81068.19,11435.43,-234,8828,66926,80366,76729,80047,91628,84083,88146,95497,101437,138147,154024,156812,123617]
["April",63766.51,78418,88091.9,77087.48,101735.35,431,0,78515,82654,92564,104437,103081,105298,105488,138167,174660,105461,173496,176269,190828,151813]
["May",42616.91,47704,46071.19,48548.46,6257.22,-675.85,37490.15,46440,48564,67015,58663,96833,70555,63219,67184,73625,46438,117614,111635,112186,100627]
["June",61082.49,64135,65634.12,74470,5643.53,303,64879,65926,70066,78120,85133,104999,99065,94003,97541,112421,66848,183686,166470,166178,173651]
["July",75579,80932.98,72493.61,87251.14,7751.22,534,73046,95223,101899,112465,115135,125312,128967,137039,147569,172532,150492,216246,249009,255481,232716]
["August",139733.76000000001,138895.53,143950.79999999999,152600,10066.69,118,142892,155488,170885,187988,186304,206623,212497,189784,204320,224791,248684,281207,278299,291574,267829.74]
["September",130590,135724,131524.51,144928.44,9415.48,1198.81,136628,155027,149192,178026,200529,192459,188319,184659,207190,227417,239940,257766,287776,286409,287936.3]
["October",121347.35,126917,125160,128321,21906.379999999997,1433.27,120258,134899,141119,146942,163459,184393,197455,209153,215258,219276,229900,259615,269617,286996,287826.06]
["November ",85007.35,85171,85418,88574.41,"*  ",258.43,75499,89989,111387,117601,114103,143723,139620,123197,167682,149503,161705,188585,210261,200584,219807.79]
["December",53382.35,54711,51526,55291.13,80,646,51890,53379,60427,115923,69934,69869,72081,72614,87934,82005,97555,115976,142764,118584,113518.82]
["Total",{"$f":"SUM(B5:B16)","v":982549.94},{"$f":"SUM(C5:C16)","v":1033909.08},1040114.9199999999,1112906.3699999999,416382.06,-3001.3800000000019,704265.09,1110661,{"$f":"SUM(J5:J16)","v":1205284},1354125,1366330,1508485,1505916,1470852,1647649,{"$f":"SUM(Q5:Q16)","v":1764849},{"$f":"SUM(R5:R16)","v":1709021},{"$f":"SUM(S5:S16)","v":2177722},2351868,{"$f":"SUM(U5:U16)","v":2409597},{"$f":"SUM(V5:V16)","v":2250348.71}]
["Cook County Local Use Tax (1.0%)"]
["Month",2004,2005,2006,2007,2008,2009,2010,2011,2012,2013,2014,2015,2016,2017,2018,2019,2020,2021,2022,2023,2024]
["January ",1399,1264,5220.8,13508.99,4380,0,31,5335,3991,11416,4828,4060,2951,4738,6697,7707,6904,5230,6049,10767,10556]
["February",1341,1563.12,3289,2388,2599,3584.55,0,1661,3118,5076,16782,3905,6706,4915,3466,2075,8357,3342,6069,5905,5083]
["March",4563.3999999999996,1095,4169,2531,2802,137.24,0,1315,2499,5256,2650,2900,2915,1939,2867,1815,3928,2269,1761,3390,2053]
["April",4295,1145,3544,7372.57,3749.05,0,47.55,717,3988,3955,6516,3121,7503,2392,6267,3034,5056,3292,5081,3857,3321]
["May",1319,7543.42,3375,3233,7747.4,0,2586,1575,2014,5154,4694,3598,3065,3785,3290,2073,1950,3652,3253,1606,2703]
["June",1322,1187.56,1692,7077.86,1531,0,3880,1985,3322,6094,5647,19024,5022,3869,4843,3119,8086,4706,4750,3375,4597]
["July",1779,3102,2297,5862,987,0,2211,3214,4223,12855,5900,5383,6747,6803,7665,5279,8497,9818,7964,8764,7824]
["August",521,4841,4498,5679,1031,0,5742,4590,5923,6467,5016,7951,6440,7114,8455,7086,10856,19315,4943,6817,7011]
["September",729,6590.48,2110,6219.42,-1010,193,6727,2704,5019,7297,8085,6384,6478,6222,4791,5342,7549,10830,3171,4470,6360.67]
["October",457,5034.99,4660,4590,104,0,5161,4996,6935,5978,7929,5075,3624,6369,6415,4796,7995,10724,7623,10788,8522.0300000000007]
["November ",1020,5145,2224.46,6185.7,3025.88,0,11469,4603,9508,6441,7082,4088,4370,4745,5673,6429,5010,10514,5152,5863,6724.14]
["December",1096,2129,2457,4200.6400000000003,5,83,25822,1935,2739,14050,2597,1978,3583,3622,5595,4622,7070,8355,7452,2702,5027.21]
["Total",{"$f":"SUM(B20:B31)","v":19841.400000000001},{"$f":"SUM(C20:C31)","v":40640.57},39536.26,68848.179999999993,26951.329999999998,3997.79,63676.55,34630,{"$f":"SUM(J20:J31)","v":53279},90039,77726,67467,59404,56513,66024,{"$f":"SUM(Q20:Q31)","v":53377},{"$f":"SUM(R20:R31)","v":81258},{"$f":"SUM(S20:S31)","v":92047},63268,{"$f":"SUM(U20:U31)","v":68304},{"$f":"SUM(V20:V31)","v":69782.05}]
["Cook County Refunds"]
["Month",2004,2005,2006,2007,2008,2009,2010,2011,2012,2013,2014,2015,2016,2017,2018,2019,2020,2021,2022,2023,2024]
["January ","-","-","-","-","-",0,0,0,0,0,0,0,0,0,0,0,0,0,0,0,0]
["February","-","-","-","-","-",-3741,-18404,-345,0,0,-5376,0,-45258,0,-1439,-85,-3937,0,-444,0,0]
["March","-","-","-","-","-",-976,0,0,0,-238,0,0,0,0,0,-266,-254,0,0,0,0]
["April","-","-","-","-","-",0,0,-53,-7346,0,0,0,-1,-1,0,-28,-977,0,0,0,0]
["May","-","-","-","-","-",0,0,0,0,0,0,-49,0,1,-165,0,-253,0,-1586,-700,-604]
["June","-","-","-","-","-",0,0,0,0,0,0,-17403,0,0,0,0,-3371,0,0,0,0]
["July","-","-","-","-","-",0,0,0,0,0,0,0,-1641,0,0,0,-98,0,0,-1,0]
["August","-","-","-","-","-",0,0,0,-470,0,-62,0,0,0,0,0,-1023,0,0,0,0]
["September","-","-","-","-","-",0,0,0,0,-13323,-5945,0,0,0,0,-1,0,0,-289,0,0]
["October","-","-","-","-","-",-5543,0,0,0,0,0,0,-3,0,0,0,0,0,0,0,-0.81]
["November ","-","-","-","-","-",0,0,0,0,0,0,0,0,0,0,-566,0,0,0,0,0]
["December","-","-","-","-","-",0,-3061,0,0,0,0,0,0,0,0,-207,0,0,0,0,0]
["Total","-","-","-","-","-",{"$f":"SUM(G35:G46)","v":-10260},-21465,-398,-7816,-13561,-11383,-17452,-46903,0,-1604,{"$f":"SUM(Q35:Q46)","v":-1153},{"$f":"SUM(R35:R46)","v":-9913},{"$f":"SUM(S35:S46)","v":0},-2319,{"$f":"SUM(U35:U46)","v":-701},{"$f":"SUM(V35:V46)","v":-604.80999999999995}]
["*Collections for November 2008 are included in December totals due to a new processing system."]
["Note: Cook County 1% sales & use taxes originally began 1994 & 2001 respectively, & ended 3/31/2008. The taxes resumed 4/1/2010."]
[{"$f":"'Local SUT'!A78","v":"Source:  Minnesota Department of Revenue, Tax Research Division, November 2025"}]
["end of worksheet"]
[]
[]
[null,"-"]

{"sheet":"Cook Co","index":34,"n_rows":50,"n_cols":22,"rows_kept":50,"cut":false,"hidden":true,"merged":[[0,0,0,19],[32,0,32,19],[47,0,47,19],[48,0,48,19],[49,0,49,19],[1,0,1,19],[2,0,2,19],[17,0,17,19]]}
["Cook County Monthly Detail for Minnesota Local Sales & Use Tax"]
[{"$f":"'Local SUT'!A2","v":"CY 2004-2024"}]
["Cook County Transit Sales Tax (0.5%)"]
["Month",2004,2005,2006,2007,2008,2009,2010,2011,2012,2013,2014,2015,2016,2017,2018,2019,2020,2021,2022,2023,2024]
["January ","-","-","-","-","-","-","-","-","-","-","-","-","-",9,54026,61879,70006,76573,79818,85257,79963]
["February","-","-","-","-","-","-","-","-","-","-","-","-","-",40821,49301,51482,59318,54318,74957,85223,66452]
["March","-","-","-","-","-","-","-","-","-","-","-","-","-",42990,44207,47410,54175,69344,77674,78897,62048]
["April","-","-","-","-","-","-","-","-","-","-","-","-","-",47315,61565,78887,53058,87566,86140,95939,76266]
["May","-","-","-","-","-","-","-","-","-","-","-","-","-",29781,33253,36798,23297,59480,56498,56993,50548]
["June","-","-","-","-","-","-","-","-","-","-","-","-","-",47861,48867,57258,36262,86648,84082,84509,88018]
["July","-","-","-","-","-","-","-","-","-","-","-","-","-",68889,73881,86641,76093,109271,138088,129165,118317]
["August","-","-","-","-","-","-","-","-","-","-","-","-","-",93954,103598,114943,124725,141990,136481,147603,136620.29]
["September","-","-","-","-","-","-","-","-","-","-","-","-","-",93632,102095,116062,121563,130238,145342,145727,144607.63]
["October","-","-","-","-","-","-","-","-","-","-","-","-","-",92561,107691,110068,116189,130589,136915,145319,145271.47]
["November ","-","-","-","-","-","-","-","-","-","-","-","-","-",61824,80201,75238,81963,94554,107091,101589,109624.18]
["December","-","-","-","-","-","-","-","-","-","-","-","-","-",36549,47851,44392,49039,58452,72060,60114,56549.71]
["Total","-","-","-","-","-","-","-","-","-","-","-","-","-",{"$f":"SUM(O5:O16)","v":656186},{"$f":"SUM(P5:P16)","v":806536},{"$f":"SUM(Q5:Q16)","v":881058},{"$f":"SUM(R5:R16)","v":865688},{"$f":"SUM(S5:S16)","v":1099023},1195146,{"$f":"SUM(U5:U16)","v":1216335},{"$f":"SUM(V5:V16)","v":1134285.28}]
["Cook County Transit Use Tax (0.5%)"]
["Month",2004,2005,2006,2007,2008,2009,2010,2011,2012,2013,2014,2015,2016,2017,2018,2019,2020,2021,2022,2023,2024]
["January ","-","-","-","-","-","-","-","-","-","-","-","-","-",0,2166,1952,3025,1957,2438,2071,4820]
["February","-","-","-","-","-","-","-","-","-","-","-","-","-",995,1257,843,2333,1263,2696,2604,2128]
["March","-","-","-","-","-","-","-","-","-","-","-","-","-",912,1352,1501,1513,852,825,1376,952]
["April","-","-","-","-","-","-","-","-","-","-","-","-","-",1366,2786,1445,1949,1259,5164,1615,2177]
["May","-","-","-","-","-","-","-","-","-","-","-","-","-",2118,768,993,878,1608,1294,1033,421]
["June","-","-","-","-","-","-","-","-","-","-","-","-","-",1823,1365,1169,2459,2464,1997,1096,1885]
["July","-","-","-","-","-","-","-","-","-","-","-","-","-",1387,2541,1779,3326,3737,2414,3547,2497]
["August","-","-","-","-","-","-","-","-","-","-","-","-","-",4443,3156,2442,4371,8407,6549,1869,2285]
["September","-","-","-","-","-","-","-","-","-","-","-","-","-",1753,1107,1873,2666,4023,552,1238,1848.33]
["October","-","-","-","-","-","-","-","-","-","-","-","-","-",2620,1882,2252,2796,4242,2801,4269,3197.01]
["November ","-","-","-","-","-","-","-","-","-","-","-","-","-",2527,2199,2435,1896,4373,1627,2086,4175.0600000000004]
["December","-","-","-","-","-","-","-","-","-","-","-","-","-",1448,2345,1573,1755,3617,3407,957,2578.09]
["Total","-","-","-","-","-","-","-","-","-","-","-","-","-",{"$f":"SUM(O20:O31)","v":21392},{"$f":"SUM(P20:P31)","v":22924},{"$f":"SUM(Q20:Q31)","v":20257},{"$f":"SUM(R20:R31)","v":28967},{"$f":"SUM(S20:S31)","v":37802},31764,{"$f":"SUM(U20:U31)","v":23761},{"$f":"SUM(V20:V31)","v":28963.490000000005}]
["Cook County Transit Refunds"]
["Month",2004,2005,2006,2007,2008,2009,2010,2011,2012,2013,2014,2015,2016,2017,2018,2019,2020,2021,2022,2023,2024]
["January ","-","-","-","-","-","-","-","-","-","-","-","-","-",0,0,0,0,0,0,0,0]
["February","-","-","-","-","-","-","-","-","-","-","-","-","-",0,0,-43,-1560,0,-222,0,0]
["March","-","-","-","-","-","-","-","-","-","-","-","-","-",0,0,-322,-68,0,0,0,0]
["April","-","-","-","-","-","-","-","-","-","-","-","-","-",0,0,0,-461,0,0,0,0]
["May","-","-","-","-","-","-","-","-","-","-","-","-","-",0,-45,0,-126,0,-793,-323,-302]
["June","-","-","-","-","-","-","-","-","-","-","-","-","-",0,0,0,-1335,0,0,0,0]
["July","-","-","-","-","-","-","-","-","-","-","-","-","-",0,0,0,-49,0,0,-1,0]
["August","-","-","-","-","-","-","-","-","-","-","-","-","-",0,0,0,-543,0,0,-20,0]
["September","-","-","-","-","-","-","-","-","-","-","-","-","-",0,0,0,0,0,-142,0,0]
["October","-","-","-","-","-","-","-","-","-","-","-","-","-",0,0,0,0,0,0,0,0]
["November ","-","-","-","-","-","-","-","-","-","-","-","-","-",0,0,-225,0,0,0,0,0]
["December","-","-","-","-","-","-","-","-","-","-","-","-","-",0,-2,-44,0,0,-60,0,0]
["Total","-","-","-","-","-","-","-","-","-","-","-","-","-",{"$f":"SUM(O35:O46)","v":0},{"$f":"SUM(P35:P46)","v":-47},{"$f":"SUM(Q35:Q46)","v":-634},{"$f":"SUM(R35:R46)","v":-4142},{"$f":"SUM(S35:S46)","v":0},-1217,{"$f":"SUM(U35:U46)","v":-344},{"$f":"SUM(V35:V46)","v":-302}]
["Hidden columns B-N do not contain any data for CY 2004-2016"]
[{"$f":"'Local SUT'!A78","v":"Source:  Minnesota Department of Revenue, Tax Research Division, November 2025"}]
["end of worksheet"]

{"sheet":"Kandiyohi Co","index":35,"n_rows":50,"n_cols":22,"rows_kept":50,"cut":false,"hidden":true,"merged":[[0,0,0,19],[17,0,17,19],[2,0,2,19],[1,0,1,19],[49,0,49,19],[47,0,47,19],[32,0,32,19],[48,0,48,19]]}
["Kandiyohi County Historical Minnesota Local Sales & Use Tax"]
[{"$f":"'Local SUT'!A2","v":"CY 2004-2024"}]
["Kandiyohi County Transit Sales Tax (0.5%)"]
["Month",2004,2005,2006,2007,2008,2009,2010,2011,2012,2013,2014,2015,2016,2017,2018,2019,2020,2021,2022,2023,2024]
["January ","-","-","-","-","-","-","-","-","-","-","-","-","-","-","-",269603,282032,341012,314142,361551,390617]
["February","-","-","-","-","-","-","-","-","-","-","-","-","-","-","-",205188,209445,255144,274707,298243,322365]
["March","-","-","-","-","-","-","-","-","-","-","-","-","-","-","-",188048,211401,239813,262334,275211,305621]
["April","-","-","-","-","-","-","-","-","-","-","-","-","-","-",58,217411,228996,309969,310830,346715,330112]
["May","-","-","-","-","-","-","-","-","-","-","-","-","-","-",156906,229471,250608,330580,331792,347256,363861]
["June","-","-","-","-","-","-","-","-","-","-","-","-","-","-",265247,272394,300544,326500,426226,425932,414281]
["July","-","-","-","-","-","-","-","-","-","-","-","-","-","-",229274,263434,270628,336024,419594,445466,405221]
["August","-","-","-","-","-","-","-","-","-","-","-","-","-","-",276436,309019,351605,348513,406083,391933,396010.23999999999]
["September","-","-","-","-","-","-","-","-","-","-","-","-","-","-",258363,277098,280292,308385,382475,396048,382031.68]
["October","-","-","-","-","-","-","-","-","-","-","-","-","-","-",241187,266929,290284,335977,383750,415172,388868.21]
["November ","-","-","-","-","-","-","-","-","-","-","-","-","-","-",245512,250510,274066,304580,364862,379910,375659.05]
["December","-","-","-","-","-","-","-","-","-","-","-","-","-","-",252195,259400,272994,294624,402059,376365,356869.73]
["Total","-","-","-","-","-","-","-","-","-","-","-","-","-","-",{"$f":"SUM(P5:P16)","v":1925178},{"$f":"SUM(Q5:Q16)","v":3008505},{"$f":"SUM(R5:R16)","v":3222895},{"$f":"SUM(S5:S16)","v":3731121},4278854,{"$f":"SUM(U5:U16)","v":4459802},{"$f":"SUM(V5:V16)","v":4431516.91}]
["Kandiyohi County Transit Use Tax (0.5%)"]
["Month",2004,2005,2006,2007,2008,2009,2010,2011,2012,2013,2014,2015,2016,2017,2018,2019,2020,2021,2022,2023,2024]
["January ","-","-","-","-","-","-","-","-","-","-","-","-","-","-","-",11521,25960,20657,14785,18471,32042]
["February","-","-","-","-","-","-","-","-","-","-","-","-","-","-","-",9250,20471,8139,13036,27358,39797]
["March","-","-","-","-","-","-","-","-","-","-","-","-","-","-","-",9346,9687,7572,16257,14237,13348]
["April","-","-","-","-","-","-","-","-","-","-","-","-","-","-",0,10635,16244,11939,19320,16272,19025]
["May","-","-","-","-","-","-","-","-","-","-","-","-","-","-",7519,13445,9172,12094,19474,16461,11008]
["June","-","-","-","-","-","-","-","-","-","-","-","-","-","-",10818,8780,13522,11250,19326,16886,16359]
["July","-","-","-","-","-","-","-","-","-","-","-","-","-","-",11333,11320,12311,16644,26296,25126,20117]
["August","-","-","-","-","-","-","-","-","-","-","-","-","-","-",15249,13662,17052,14030,30123,26589,23526.1]
["September","-","-","-","-","-","-","-","-","-","-","-","-","-","-",19685,24095,12901,16097,24347,19537,14857.29]
["October","-","-","-","-","-","-","-","-","-","-","-","-","-","-",18332,18038,31730,15296,23990,22890,19578.75]
["November ","-","-","-","-","-","-","-","-","-","-","-","-","-","-",10553,20903,14476,18931,29853,22844,18409.77]
["December","-","-","-","-","-","-","-","-","-","-","-","-","-","-",10140,9395,13274,15861,17266,20040,-1192.71]
["Total","-","-","-","-","-","-","-","-","-","-","-","-","-","-",{"$f":"SUM(P20:P31)","v":103629},{"$f":"SUM(Q20:Q31)","v":160390},{"$f":"SUM(R20:R31)","v":196800},{"$f":"SUM(S20:S31)","v":168510},254073,{"$f":"SUM(U20:U31)","v":246711},{"$f":"SUM(V20:V31)","v":226875.2}]
["Kandiyohi County Transit Refunds"]
["Month",2004,2005,2006,2007,2008,2009,2010,2011,2012,2013,2014,2015,2016,2017,2018,2019,2020,2021,2022,2023,2024]
["January ","-","-","-","-","-","-","-","-","-","-","-","-","-","-","-",0,-5082,-2341,-5428,0,-40373]
["February","-","-","-","-","-","-","-","-","-","-","-","-","-","-","-",-1650,0,-472,0,-1200,-941]
["March","-","-","-","-","-","-","-","-","-","-","-","-","-","-","-",-15,-47,-4675,-4785,-15,0]
["April","-","-","-","-","-","-","-","-","-","-","-","-","-","-",0,-1,-87,-296,-4,0,-6184]
["May","-","-","-","-","-","-","-","-","-","-","-","-","-","-",0,0,-5110,0,-15,-1706,-6]
["June","-","-","-","-","-","-","-","-","-","-","-","-","-","-",0,-7,-198,-2227,0,0,-2670]
["July","-","-","-","-","-","-","-","-","-","-","-","-","-","-",0,0,-283,-1161,-133,-15,-878]
["August","-","-","-","-","-","-","-","-","-","-","-","-","-","-",0,-1142,-33,-6,-2098,-5,-132.44]
["September","-","-","-","-","-","-","-","-","-","-","-","-","-","-",0,0,-101,0,-11,-468,-411.86]
["October","-","-","-","-","-","-","-","-","-","-","-","-","-","-",0,0,-408,-388,0,0,-33361.599999999999]
["November ","-","-","-","-","-","-","-","-","-","-","-","-","-","-",0,0,-60,-60,0,0,-344.76]
["December","-","-","-","-","-","-","-","-","-","-","-","-","-","-",-21,0,-34,-82,-73,0,0]
["Total","-","-","-","-","-","-","-","-","-","-","-","-","-","-",{"$f":"SUM(P35:P46)","v":-21},{"$f":"SUM(Q35:Q46)","v":-2815},{"$f":"SUM(R35:R46)","v":-11443},{"$f":"SUM(S35:S46)","v":-11708},-12547,{"$f":"SUM(U35:U46)","v":-3409},{"$f":"SUM(V35:V46)","v":-85302.659999999989}]
["Hidden columns B-O do not contain any data for CY 2004-2017"]
[{"$f":"'Local SUT'!A78","v":"Source:  Minnesota Department of Revenue, Tax Research Division, November 2025"}]
["end of worksheet"]

{"sheet":"Lyon Co","index":36,"n_rows":50,"n_cols":22,"rows_kept":50,"cut":false,"hidden":true,"merged":[[32,0,32,19],[47,0,47,19],[48,0,48,19],[49,0,49,19],[0,0,0,19],[1,0,1,19],[2,0,2,19],[17,0,17,19]]}
["Lyon County Monthly Detail for Minnesota Local Sales & Use Tax"]
[{"$f":"'Local SUT'!A2","v":"CY 2004-2024"}]
["Lyon County Transit Sales Tax (0.5% ended 6/30/2020)"]
["Month",2004,2005,2006,2007,2008,2009,2010,2011,2012,2013,2014,2015,2016,2017,2018,2019,2020,2021,2022,2023,2024]
["January ","-","-","-","-","-","-","-","-","-","-","-","-",167816,165708,167554,159017,178721,1883,127,23,243]
["February","-","-","-","-","-","-","-","-","-","-","-","-",119448,126627,128614,122738,143752,1134,13,12,1]
["March","-","-","-","-","-","-","-","-","-","-","-","-",119930,115711,111896,121022,138349,85,55,70,-46]
["April","-","-","-","-","-","-","-","-","-","-","-","-",139599,133026,140402,149674,155560,230,26,25,0]
["May","-","-","-","-","-","-","-","-","-","-","-","-",140581,146686,129917,145891,149654,-224,2511,8,0]
["June","-","-","-","-","-","-","-","-","-","-","-","-",149460,159755,161321,173708,183314,54,369,46,0]
["July","-","-","-","-","-","-","-","-","-","-","-","-",136278,136598,138247,172943,155186,160,16,212,0]
["August","-","-","-","-","-","-","-","-","-","-","-","-",179771,177959,183400,178590,35731,1267,-794,40,2]
["September","-","-","-","-","-","-","-","-","-","-","-","-",148831,171874,158052,192896,992,275,111,520,0]
["October","-","-","-","-","-","-","-","-","-","-","-",1,162693,172580,150612,168260,2265,5654,15,-122,2.2799999999999998]
["November ","-","-","-","-","-","-","-","-","-","-","-",133693,134289,135696,157976,165388,-769,36,143,0,1763.52]
["December","-","-","-","-","-","-","-","-","-","-","-",140613,140355,145887,149284,165630,3133,99,5,-187,8.3000000000000007]
["Total","-","-","-","-","-","-","-","-","-","-","-",{"$f":"SUM(M5:M16)","v":274307},{"$f":"SUM(N5:N16)","v":1739051},{"$f":"SUM(O5:O16)","v":1788107},{"$f":"SUM(P5:P16)","v":1777275},{"$f":"SUM(Q5:Q16)","v":1915757},{"$f":"SUM(R5:R16)","v":1145888},{"$f":"SUM(S5:S16)","v":10653},2597,{"$f":"SUM(U5:U16)","v":647},{"$f":"SUM(V5:V16)","v":1974.1}]
["Lyon County Transit Use Tax (0.5%)"]
["Month",2004,2005,2006,2007,2008,2009,2010,2011,2012,2013,2014,2015,2016,2017,2018,2019,2020,2021,2022,2023,2024]
["January ","-","-","-","-","-","-","-","-","-","-","-","-",16357,9217,10082,13296,14706,553,-430,0,-69]
["February","-","-","-","-","-","-","-","-","-","-","-","-",9091,6443,8191,15054,10626,264,0,181,0]
["March","-","-","-","-","-","-","-","-","-","-","-","-",8742,8015,8156,9232,-63175,0,0,0,69]
["April","-","-","-","-","-","-","-","-","-","-","-","-",16510,9634,10683,8954,11350,0,-131,0,0]
["May","-","-","-","-","-","-","-","-","-","-","-","-",12006,-9460,10862,11623,11748,27,503,47,1]
["June","-","-","-","-","-","-","-","-","-","-","-","-",11009,10011,10804,13298,-62079,0,0,0,0]
["July","-","-","-","-","-","-","-","-","-","-","-","-",14389,10180,10051,10850,12247,235,0,0,0]
["August","-","-","-","-","-","-","-","-","-","-","-","-",7469,10351,7933,15439,191,-161,0,53,0]
["September","-","-","-","-","-","-","-","-","-","-","-","-",3656,11984,8862,21953,-110,0,-722,0,0]
["October","-","-","-","-","-","-","-","-","-","-","-",0,10233,10858,9615,14234,50,0,0,0,0]
["November ","-","-","-","-","-","-","-","-","-","-","-",8982,11388,8061,22764,19726,25,-232,504,-18213,0]
["December","-","-","-","-","-","-","-","-","-","-","-",8250,8480,7481,14267,10902,2120,-11,0,0,0]
["Total","-","-","-","-","-","-","-","-","-","-","-",{"$f":"SUM(M20:M31)","v":17232},{"$f":"SUM(N20:N31)","v":129330},{"$f":"SUM(O20:O31)","v":92775},{"$f":"SUM(P20:P31)","v":132270},{"$f":"SUM(Q20:Q31)","v":164561},{"$f":"SUM(R20:R31)","v":-62301},{"$f":"SUM(S20:S31)","v":675},-276,{"$f":"SUM(U20:U31)","v":-17932},{"$f":"SUM(V20:V31)","v":1}]
["Lyon County Transit Refunds"]
["Month",2004,2005,2006,2007,2008,2009,2010,2011,2012,2013,2014,2015,2016,2017,2018,2019,2020,2021,2022,2023,2024]
["January ","-","-","-","-","-","-","-","-","-","-","-","-",0,-148,-97,-440,0,-520,0,-23780,0]
["February","-","-","-","-","-","-","-","-","-","-","-","-",-51,-169,-25,-1601,-356,-153,0,0,0]
["March","-","-","-","-","-","-","-","-","-","-","-","-",0,0,0,-148,-367,0,0,0,-22]
["April","-","-","-","-","-","-","-","-","-","-","-","-",0,0,0,-68,0,0,0,0,0]
["May","-","-","-","-","-","-","-","-","-","-","-","-",0,-428,-419,0,-342,0,0,-10,0]
["June","-","-","-","-","-","-","-","-","-","-","-","-",0,-312,-39,0,-414,-2,0,-80,0]
["July","-","-","-","-","-","-","-","-","-","-","-","-",0,0,0,0,-741,0,-16,0,0]
["August","-","-","-","-","-","-","-","-","-","-","-","-",0,0,0,0,0,-247,0,0,0]
["September","-","-","-","-","-","-","-","-","-","-","-","-",-448,0,0,0,0,0,0,0,0]
["October","-","-","-","-","-","-","-","-","-","-","-",0,0,0,0,0,0,0,0,0,0]
["November ","-","-","-","-","-","-","-","-","-","-","-",0,0,0,0,-14,-2,0,0,0,0]
["December","-","-","-","-","-","-","-","-","-","-","-",0,-302,0,-86,-214,0,0,0,0]
["Total","-","-","-","-","-","-","-","-","-","-","-",{"$f":"SUM(M35:M46)","v":0},{"$f":"SUM(N35:N46)","v":-801},{"$f":"SUM(O35:O46)","v":-1057},{"$f":"SUM(P35:P46)","v":-666},{"$f":"SUM(Q35:Q46)","v":-2485},{"$f":"SUM(R35:R46)","v":-2222},{"$f":"SUM(S35:S46)","v":-922},-16,{"$f":"SUM(U35:U46)","v":-23870},{"$f":"SUM(V35:V46)","v":-22}]
["Hidden columns B-L do not contain any data for CY 2004-2014"]
[{"$f":"'Local SUT'!A78","v":"Source:  Minnesota Department of Revenue, Tax Research Division, November 2025"}]
["end of worksheet"]

{"sheet":"Morrison Co","index":37,"n_rows":50,"n_cols":22,"rows_kept":50,"cut":false,"hidden":true,"merged":[[0,0,0,19],[48,0,48,19],[49,0,49,19],[17,0,17,19],[32,0,32,19],[2,0,2,19],[1,0,1,19],[47,0,47,19]]}
["Morrison County Historical Minnesota Local Sales & Use Tax"]
[{"$f":"'Local SUT'!A2","v":"CY 2004-2024"}]
["Morrison County Transit Sales Tax (0.5%)"]
["Month",2004,2005,2006,2007,2008,2009,2010,2011,2012,2013,2014,2015,2016,2017,2018,2019,2020,2021,2022,2023,2024]
["January ","-","-","-","-","-","-","-","-","-","-","-","-","-","-",72,122099,159989,172435,203534,206697,211472]
["February","-","-","-","-","-","-","-","-","-","-","-","-","-","-",65641,111721,145112,142764,182704,166651,167603]
["March","-","-","-","-","-","-","-","-","-","-","-","-","-","-",74166,100721,108866,154593,143102,152065,164805]
["April","-","-","-","-","-","-","-","-","-","-","-","-","-","-",92101,119977,147381,210448,181090,206724,192647]
["May","-","-","-","-","-","-","-","-","-","-","-","-","-","-",97083,154164,137543,176094,183839,172545,195402]
["June","-","-","-","-","-","-","-","-","-","-","-","-","-","-",126417,148925,170611,194886,225782,228577,237602]
["July","-","-","-","-","-","-","-","-","-","-","-","-","-","-",128792,149307,205762,220039,228058,252907,232096]
["August","-","-","-","-","-","-","-","-","-","-","-","-","-","-",139388,181147,225744,217552,224817,230786,221797.97]
["September","-","-","-","-","-","-","-","-","-","-","-","-","-","-",133394,167043,170754,187494,219144,225217,230799.24]
["October","-","-","-","-","-","-","-","-","-","-","-","-","-","-",119238,162287,174589,199694,231392,234695,245356.7]
["November ","-","-","-","-","-","-","-","-","-","-","-","-","-","-",117129,147911,153659,182609,232996,223148,220577.56]
["December","-","-","-","-","-","-","-","-","-","-","-","-","-","-",113782,123828,152878,171733,189862,205421,203679.43]
["Total","-","-","-","-","-","-","-","-","-","-","-","-","-","-",{"$f":"SUM(P5:P16)","v":1207203},{"$f":"SUM(Q5:Q16)","v":1689130},{"$f":"SUM(R5:R16)","v":1952888},{"$f":"SUM(S5:S16)","v":2230341},2446320,{"$f":"SUM(U5:U16)","v":2505433},{"$f":"SUM(V5:V16)","v":2523837.9000000004}]
["Morrison County Transit Use Tax (0.5%)"]
["Month",2004,2005,2006,2007,2008,2009,2010,2011,2012,2013,2014,2015,2016,2017,2018,2019,2020,2021,2022,2023,2024]
["January ","-","-","-","-","-","-","-","-","-","-","-","-","-","-",0,13418,9308,8926,2459,10216,14131]
["February","-","-","-","-","-","-","-","-","-","-","-","-","-","-",3485,9294,8344,5066,17651,11693,7324]
["March","-","-","-","-","-","-","-","-","-","-","-","-","-","-",5768,9881,6862,8677,8003,5953,9299]
["April","-","-","-","-","-","-","-","-","-","-","-","-","-","-",7379,7444,5429,7024,13875,13832,10930]
["May","-","-","-","-","-","-","-","-","-","-","-","-","-","-",5663,7104,6934,7544,9446,9228,6119]
["June","-","-","-","-","-","-","-","-","-","-","-","-","-","-",9869,6030,6303,8155,11479,10334,13945]
["July","-","-","-","-","-","-","-","-","-","-","-","-","-","-",7364,11316,13648,32804,16154,13328,10550]
["August","-","-","-","-","-","-","-","-","-","-","-","-","-","-",11768,15800,6851,8363,12156,13251,16713.84]
["September","-","-","-","-","-","-","-","-","-","-","-","-","-","-",8353,20055,15948,11055,15422,8831,13744.45]
["October","-","-","-","-","-","-","-","-","-","-","-","-","-","-",7688,10950,9895,12962,9206,8899,12040.12]
["November ","-","-","-","-","-","-","-","-","-","-","-","-","-","-",7176,8984,1828,10164,11691,7875,13321.38]
["December","-","-","-","-","-","-","-","-","-","-","-","-","-","-",9271,8329,5215,13356,6001,9523,10948.44]
["Total","-","-","-","-","-","-","-","-","-","-","-","-","-","-",{"$f":"SUM(P20:P31)","v":83784},{"$f":"SUM(Q20:Q31)","v":128605},{"$f":"SUM(R20:R31)","v":96565},{"$f":"SUM(S20:S31)","v":134096},133543,{"$f":"SUM(U20:U31)","v":122963},{"$f":"SUM(V20:V31)","v":139066.22999999998}]
["Morrison County Transit Refunds"]
["Month",2004,2005,2006,2007,2008,2009,2010,2011,2012,2013,2014,2015,2016,2017,2018,2019,2020,2021,2022,2023,2024]
["January ","-","-","-","-","-","-","-","-","-","-","-","-","-","-",0,0,-65,-248,-416,-479,-974]
["February","-","-","-","-","-","-","-","-","-","-","-","-","-","-",0,0,-13,0,-74,-88,-217]
["March","-","-","-","-","-","-","-","-","-","-","-","-","-","-",0,0,-9,-88,-5,0,0]
["April","-","-","-","-","-","-","-","-","-","-","-","-","-","-",0,0,-11,0,-335,-3,-210]
["May","-","-","-","-","-","-","-","-","-","-","-","-","-","-",-4,-117,-117,0,-36,-46,-66]
["June","-","-","-","-","-","-","-","-","-","-","-","-","-","-",0,-206,0,-27,-1059,0,0]
["July","-","-","-","-","-","-","-","-","-","-","-","-","-","-",0,-68,0,-77,-1527,-15,-3]
["August","-","-","-","-","-","-","-","-","-","-","-","-","-","-",0,0,0,0,-1,-48,-1.89]
["September","-","-","-","-","-","-","-","-","-","-","-","-","-","-",0,0,-8,0,0,0,0]
["October","-","-","-","-","-","-","-","-","-","-","-","-","-","-",0,0,-15,0,0,0,-11.13]
["November ","-","-","-","-","-","-","-","-","-","-","-","-","-","-",0,0,0,0,-28,0,-170.4]
["December","-","-","-","-","-","-","-","-","-","-","-","-","-","-",-14,-9,-7535,-462,0,-775,-16.579999999999998]
["Total","-","-","-","-","-","-","-","-","-","-","-","-","-","-",{"$f":"SUM(P35:P46)","v":-18},{"$f":"SUM(Q35:Q46)","v":-400},{"$f":"SUM(R35:R46)","v":-7773},{"$f":"SUM(S35:S46)","v":-902},-3481,{"$f":"SUM(U35:U46)","v":-1454},{"$f":"SUM(V35:V46)","v":-1670.0000000000002}]
["Hidden columns B-O do not contain any data for CY 2004-2017"]
[{"$f":"'Local SUT'!A78","v":"Source:  Minnesota Department of Revenue, Tax Research Division, November 2025"}]
["end of worksheet"]

{"sheet":"Mower Co","index":38,"n_rows":50,"n_cols":22,"rows_kept":50,"cut":false,"hidden":true,"merged":[[0,0,0,19],[49,0,49,19],[17,0,17,19],[2,0,2,19],[1,0,1,19],[32,0,32,19],[47,0,47,19],[48,0,48,20]]}
["Mower County Historical Minnesota Local Sales & Use Tax"]
[{"$f":"'Local SUT'!A2","v":"CY 2004-2024"}]
["Mower County Transit Sales Tax (0.5%)"]
["Month",2004,2005,2006,2007,2008,2009,2010,2011,2012,2013,2014,2015,2016,2017,2018,2019,2020,2021,2022,2023,2024]
["January ","-","-","-","-","-","-","-","-","-","-","-","-","-","-",1,171691,179947,200888,205096,215499,250949]
["February","-","-","-","-","-","-","-","-","-","-","-","-","-","-",108850,133320,145585,151961,173011,183523,200790]
["March","-","-","-","-","-","-","-","-","-","-","-","-","-","-",106118,122699,130147,144742,156497,169961,182472]
["April","-","-","-","-","-","-","-","-","-","-","-","-","-","-",128726,145998,149144,191174,186324,199954,211153]
["May","-","-","-","-","-","-","-","-","-","-","-","-","-","-",124605,159822,134831,180139,177769,202309,198591]
["June","-","-","-","-","-","-","-","-","-","-","-","-","-","-",139823,148020,159945,183298,198162,221209,228707]
["July","-","-","-","-","-","-","-","-","-","-","-","-","-","-",135203,149853,151593,183492,215742,228389,225026]
["August","-","-","-","-","-","-","-","-","-","-","-","-","-","-",170292,184096,202329,209766,225196,212527,231474.94]
["September","-","-","-","-","-","-","-","-","-","-","-","-","-","-",170969,169695,188897,188507,206617,219337,221111.04000000001]
["October","-","-","-","-","-","-","-","-","-","-","-","-","-","-",145139,170227,179841,199299,212021,236755,217966.02]
["November ","-","-","-","-","-","-","-","-","-","-","-","-","-","-",143308,169517,180489,182985,212872,212783,223968.39]
["December","-","-","-","-","-","-","-","-","-","-","-","-","-","-",144561,158941,200829,189614,207553,218118,219799.39]
["Total","-","-","-","-","-","-","-","-","-","-","-","-","-","-",{"$f":"SUM(P5:P16)","v":1517595},{"$f":"SUM(Q5:Q16)","v":1883879},{"$f":"SUM(R5:R16)","v":2003577},{"$f":"SUM(S5:S16)","v":2205865},2376860,{"$f":"SUM(U5:U16)","v":2520364},{"$f":"SUM(V5:V16)","v":2612007.7800000003}]
["Mower County Transit Use Tax (0.5%)"]
["Month",2004,2005,2006,2007,2008,2009,2010,2011,2012,2013,2014,2015,2016,2017,2018,2019,2020,2021,2022,2023,2024]
["January ","-","-","-","-","-","-","-","-","-","-","-","-","-","-",0,10589,9154,9207,6134,8994,13423]
["February","-","-","-","-","-","-","-","-","-","-","-","-","-","-",2895,5018,4702,5447,6192,5824,5049]
["March","-","-","-","-","-","-","-","-","-","-","-","-","-","-",5059,4191,5746,6072,4833,4424,6019]
["April","-","-","-","-","-","-","-","-","-","-","-","-","-","-",5541,8886,6395,8592,11068,7089,6200]
["May","-","-","-","-","-","-","-","-","-","-","-","-","-","-",4109,7378,4468,6590,10113,5524,6117]
["June","-","-","-","-","-","-","-","-","-","-","-","-","-","-",4364,4092,7816,1460,9587,5211,14536]
["July","-","-","-","-","-","-","-","-","-","-","-","-","-","-",5646,6834,7981,6788,10575,7827,7145]
["August","-","-","-","-","-","-","-","-","-","-","-","-","-","-",5737,6522,5309,4723,6327,5280,11626.04]
["September","-","-","-","-","-","-","-","-","-","-","-","-","-","-",4024,2648,7504,5759,7326,5916,7518.09]
["October","-","-","-","-","-","-","-","-","-","-","-","-","-","-",5616,11866,4608,5717,7353,9841,8850.44]
["November ","-","-","-","-","-","-","-","-","-","-","-","-","-","-",5506,6831,6102,7451,7900,8143,7157.09]
["December","-","-","-","-","-","-","-","-","-","-","-","-","-","-",4825,5917,6210,15099,8560,8722,6335.3]
["Total","-","-","-","-","-","-","-","-","-","-","-","-","-","-",{"$f":"SUM(P20:P31)","v":53322},{"$f":"SUM(Q20:Q31)","v":80772},{"$f":"SUM(R20:R31)","v":75995},{"$f":"SUM(S20:S31)","v":82905},95968,{"$f":"SUM(U20:U31)","v":82795},{"$f":"SUM(V20:V31)","v":99975.96}]
["Mower County Transit Refunds"]
["Month",2004,2005,2006,2007,2008,2009,2010,2011,2012,2013,2014,2015,2016,2017,2018,2019,2020,2021,2022,2023,2024]
["January ","-","-","-","-","-","-","-","-","-","-","-","-","-","-",0,0,-1,0,-175,-1140,-2]
["February","-","-","-","-","-","-","-","-","-","-","-","-","-","-",0,0,-76,-208,0,-1,0]
["March","-","-","-","-","-","-","-","-","-","-","-","-","-","-",0,-212,0,-659,0,0,0]
["April","-","-","-","-","-","-","-","-","-","-","-","-","-","-",0,0,0,0,0,0,-5]
["May","-","-","-","-","-","-","-","-","-","-","-","-","-","-",0,0,0,0,-1,-28,0]
["June","-","-","-","-","-","-","-","-","-","-","-","-","-","-",0,-102,-2,0,-102,-2887,-20316]
["July","-","-","-","-","-","-","-","-","-","-","-","-","-","-",0,0,0,0,-816,-12,-2212]
["August","-","-","-","-","-","-","-","-","-","-","-","-","-","-",0,-1328,-35,-1404,-224,-3,-31.85]
["September","-","-","-","-","-","-","-","-","-","-","-","-","-","-",0,-4290,0,-343,0,-172,-5652.48]
["October","-","-","-","-","-","-","-","-","-","-","-","-","-","-",0,-1,0,0,0,-9,-1008.44]
["November ","-","-","-","-","-","-","-","-","-","-","-","-","-","-",0,-76,0,0,0,0,-1752.86]
["December","-","-","-","-","-","-","-","-","-","-","-","-","-","-",0,0,-8825,-344,-2,-875,-16536.53]
["Total","-","-","-","-","-","-","-","-","-","-","-","-","-","-",{"$f":"SUM(P35:P46)","v":0},{"$f":"SUM(Q35:Q46)","v":-6009},{"$f":"SUM(R35:R46)","v":-8939},{"$f":"SUM(S35:S46)","v":-2958},-1320,{"$f":"SUM(U35:U46)","v":-5127},{"$f":"SUM(V35:V46)","v":-47517.159999999996}]
["Hidden columns B-O do not contain any data for CY 2004-2017"]
[{"$f":"'Local SUT'!A78","v":"Source:  Minnesota Department of Revenue, Tax Research Division, November 2025"}]
["end of worksheet"]

{"sheet":"Nicollet Co","index":39,"n_rows":50,"n_cols":22,"rows_kept":50,"cut":false,"hidden":true,"merged":[[0,0,0,19],[48,0,48,19],[49,0,49,19],[2,0,2,19],[17,0,17,19],[47,0,47,19],[1,0,1,19],[32,0,32,19]]}
["Nicollet County Historical Minnesota Local Sales & Use Tax"]
[{"$f":"'Local SUT'!A2","v":"CY 2004-2024"}]
["Nicollet County Transit Sales Tax (0.5%)"]
["Month",2004,2005,2006,2007,2008,2009,2010,2011,2012,2013,2014,2015,2016,2017,2018,2019,2020,2021,2022,2023,2024]
["January ","-","-","-","-","-","-","-","-","-","-","-","-","-","-",60,132525,137472,144304,163223,187463,184170]
["February","-","-","-","-","-","-","-","-","-","-","-","-","-","-",74492,106358,108818,110582,137975,140756,142202]
["March","-","-","-","-","-","-","-","-","-","-","-","-","-","-",86046,96338,120542,115614,125655,140890,145707]
["April","-","-","-","-","-","-","-","-","-","-","-","-","-","-",98343,110716,108376,145293,152327,170643,162008]
["May","-","-","-","-","-","-","-","-","-","-","-","-","-","-",95318,115339,106401,142411,150319,159664,190936]
["June","-","-","-","-","-","-","-","-","-","-","-","-","-","-",119376,123585,127826,148845,204685,186719,188294]
["July","-","-","-","-","-","-","-","-","-","-","-","-","-","-",112955,126612,132195,148562,175723,202337,166531]
["August","-","-","-","-","-","-","-","-","-","-","-","-","-","-",133576,135487,136992,171599,173743,184470,169920.31]
["September","-","-","-","-","-","-","-","-","-","-","-","-","-","-",123636,132054,126726,167176,180592,189253,177603.71]
["October","-","-","-","-","-","-","-","-","-","-","-","-","-","-",126275,133662,143167,162662,184910,208482,169597.34]
["November ","-","-","-","-","-","-","-","-","-","-","-","-","-","-",128510,126006,130598,149040,201256,172071,175181.36]
["December","-","-","-","-","-","-","-","-","-","-","-","-","-","-",121980,114962,131813,138866,178037,169737,154076.73000000001]
["Total","-","-","-","-","-","-","-","-","-","-","-","-","-","-",{"$f":"SUM(P5:P16)","v":1220567},{"$f":"SUM(Q5:Q16)","v":1453644},{"$f":"SUM(R5:R16)","v":1510926},{"$f":"SUM(S5:S16)","v":1744954},2028445,{"$f":"SUM(U5:U16)","v":2112485},{"$f":"SUM(V5:V16)","v":2026227.4500000002}]
["Nicollet County Transit Use Tax (0.5%)"]
["Month",2004,2005,2006,2007,2008,2009,2010,2011,2012,2013,2014,2015,2016,2017,2018,2019,2020,2021,2022,2023,2024]
["January ","-","-","-","-","-","-","-","-","-","-","-","-","-","-",0,6484,7128,6560,9551,8087,18063]
["February","-","-","-","-","-","-","-","-","-","-","-","-","-","-",3855,5971,7204,4771,5699,5019,3722]
["March","-","-","-","-","-","-","-","-","-","-","-","-","-","-",2783,5160,6482,4074,9773,5004,2164]
["April","-","-","-","-","-","-","-","-","-","-","-","-","-","-",8487,4847,6859,4833,7147,5882,5944]
["May","-","-","-","-","-","-","-","-","-","-","-","-","-","-",6048,5465,3873,5273,5102,6266,4850]
["June","-","-","-","-","-","-","-","-","-","-","-","-","-","-",1320,6685,6457,5124,8669,6603,5457]
["July","-","-","-","-","-","-","-","-","-","-","-","-","-","-",7453,10220,6521,6754,7801,8710,7028]
["August","-","-","-","-","-","-","-","-","-","-","-","-","-","-",7073,8470,6708,7984,7400,7310,6063.11]
["September","-","-","-","-","-","-","-","-","-","-","-","-","-","-",5547,6085,7784,12409,5778,8505,5857.28]
["October","-","-","-","-","-","-","-","-","-","-","-","-","-","-",8478,5387,11054,6697,11845,10344,5481.66]
["November ","-","-","-","-","-","-","-","-","-","-","-","-","-","-",12687,8526,4315,6847,7860,6070,5750.94]
["December","-","-","-","-","-","-","-","-","-","-","-","-","-","-",7216,5018,3983,5338,9640,5635,7387.03]
["Total","-","-","-","-","-","-","-","-","-","-","-","-","-","-",{"$f":"SUM(P20:P31)","v":70947},{"$f":"SUM(Q20:Q31)","v":78318},{"$f":"SUM(R20:R31)","v":78368},{"$f":"SUM(S20:S31)","v":76664},96265,{"$f":"SUM(U20:U31)","v":83435},{"$f":"SUM(V20:V31)","v":77768.02}]
["Nicollet County Transit Refunds"]
["Month",2004,2005,2006,2007,2008,2009,2010,2011,2012,2013,2014,2015,2016,2017,2018,2019,2020,2021,2022,2023,2024]
["January ","-","-","-","-","-","-","-","-","-","-","-","-","-","-",0,-1,0,-395,0,0,-2292]
["February","-","-","-","-","-","-","-","-","-","-","-","-","-","-",0,-1967,-3,-461,-3403,-499,-13134]
["March","-","-","-","-","-","-","-","-","-","-","-","-","-","-",0,-45,-172,-1631,-16,0,-1085]
["April","-","-","-","-","-","-","-","-","-","-","-","-","-","-",0,0,-702,-65,0,-93,0]
["May","-","-","-","-","-","-","-","-","-","-","-","-","-","-",0,0,-627,0,-35,-61,0]
["June","-","-","-","-","-","-","-","-","-","-","-","-","-","-",0,-5,-141,-487,-571,-185,-2]
["July","-","-","-","-","-","-","-","-","-","-","-","-","-","-",-989,-5,-230,0,-201,0,-69]
["August","-","-","-","-","-","-","-","-","-","-","-","-","-","-",-18914,0,-1417,0,0,-1040,-6047.53]
["September","-","-","-","-","-","-","-","-","-","-","-","-","-","-",0,0,-699,-4326,-14,0,-0.13]
["October","-","-","-","-","-","-","-","-","-","-","-","-","-","-",0,0,-2360,0,-312,-49,-228.96]
["November ","-","-","-","-","-","-","-","-","-","-","-","-","-","-",0,-3,-774,-5,0,0,-2979.17]
["December","-","-","-","-","-","-","-","-","-","-","-","-","-","-",0,0,-1916,0,0,0,0]
["Total","-","-","-","-","-","-","-","-","-","-","-","-","-","-",{"$f":"SUM(P35:P46)","v":-19903},{"$f":"SUM(Q35:Q46)","v":-2026},{"$f":"SUM(R35:R46)","v":-9041},{"$f":"SUM(S35:S46)","v":-7370},-4552,{"$f":"SUM(U35:U46)","v":-1927},{"$f":"SUM(V35:V46)","v":-25837.79}]
["Hidden columns B-O do not contain any data for CY 2004-2017"]
[{"$f":"'Local SUT'!A78","v":"Source:  Minnesota Department of Revenue, Tax Research Division, November 2025"}]
["end of worksheet"]

{"sheet":"Olmsted Co","index":40,"n_rows":50,"n_cols":22,"rows_kept":50,"cut":false,"hidden":true,"merged":[[47,0,47,19],[48,0,48,19],[49,0,49,19],[0,0,0,19],[1,0,1,19],[2,0,2,19],[17,0,17,19],[32,0,32,19]]}
["Olmsted County Monthly Detail for Minnesota Local Sales & Use Tax"]
[{"$f":"'Local SUT'!A2","v":"CY 2004-2024"}]
["Olmsted County Transit Sales Tax (0.25% starting 2014; 0.5% since 7/1/2017)"]
["Month",2004,2005,2006,2007,2008,2009,2010,2011,2012,2013,2014,2015,2016,2017,2018,2019,2020,2021,2022,2023,2024]
["January ","-","-","-","-","-","-","-","-","-","-",67,536126,583655,595402,1152576,1011996,1284000,1301338,1406059,1518483,1527333]
["February","-","-","-","-","-","-","-","-","-","-",310569,407720,440644,441381,892276,945331,1054024,1013124,1184068,1197700,1181854]
["March","-","-","-","-","-","-","-","-","-","-",318125,395357,425930,407232,847092,859309,971180,997150,1123042,1190276,1235416]
["April","-","-","-","-","-","-","-","-","-","-",389150,467632,514617,496127,1007159,1068536,994143,1257773,1451156,1523273,1399124]
["May","-","-","-","-","-","-","-","-","-","-",385642,464136,485999,456334,960043,1085051,866548,1222997,1253553,1360547,1378891]
["June","-","-","-","-","-","-","-","-","-","-",415585,495062,513520,528955,1129345,1234509,1058291,1288168,1679396,1532033,1531197]
["July","-","-","-","-","-","-","-","-","-","-",406565,448815,453774,483134,981416,1113449,1068657,1352321,1446652,1616578,1524601]
["August","-","-","-","-","-","-","-","-","-","-",461330,598731,615972,1144503,1299331,1307231,1309993,1456914,1438169,1432413,1476121.44]
["September","-","-","-","-","-","-","-","-","-","-",439792,510278,534889,1082387,1142316,1180026,1157997,1291105,1488589,1520269,1481300.2]
["October","-","-","-","-","-","-","-","-","-","-",484872,527046,542373,1099841,1088105,1176167,1171327,1333495,1459466,1470062,1445240.54]
["November ","-","-","-","-","-","-","-","-","-","-",468811,507978,521814,1023536,1121962,1191418,1102766,1236280,1403576,1508638,1418604.03]
["December","-","-","-","-","-","-","-","-","-","-",450255,470427,485646,1041362,1321353,1134775,1152733,1276947,1582708,1429181,1440823.73]
["Total","-","-","-","-","-","-","-","-","-","-",{"$f":"SUM(L5:L16)","v":4530763},5829308,6118833,8800194,12942974,13307798,{"$f":"SUM(R5:R16)","v":13191659},15027612,16916434,{"$f":"SUM(U5:U16)","v":17299453},{"$f":"SUM(V5:V16)","v":17040505.939999998}]
["Olmsted County Transit Use Tax (0.25% starting 2014; 0.5% since 7/1/2017)"]
["Month",2004,2005,2006,2007,2008,2009,2010,2011,2012,2013,2014,2015,2016,2017,2018,2019,2020,2021,2022,2023,2024]
["January ","-","-","-","-","-","-","-","-","-","-",0,46612,77002,67499,100163,138376,106236,167645,105947,156657,112797]
["February","-","-","-","-","-","-","-","-","-","-",36438,40274,37219,37401,97788,107506,127739,137479,115803,93416,108853]
["March","-","-","-","-","-","-","-","-","-","-",44577,37520,59305,31680,56860,73631,97934,106076,117792,100650,91766]
["April","-","-","-","-","-","-","-","-","-","-",53548,41282,48137,49137,90693,91505,81267,70506,96991,139717,111882]
["May","-","-","-","-","-","-","-","-","-","-",56272,50101,32147,57443,71641,107318,83885,95095,92447,60209,100781]
["June","-","-","-","-","-","-","-","-","-","-",57869,46486,34570,49451,83082,100501,74165,90784,85389,134222,113814]
["July","-","-","-","-","-","-","-","-","-","-",34245,57154,23519,40955,98026,104826,123061,99934,95804,124996,87065]
["August","-","-","-","-","-","-","-","-","-","-",104098,52128,47769,78446,91264,115222,130024,76291,113938,99828,107432.53]
["September","-","-","-","-","-","-","-","-","-","-",66343,41334,51163,97643,100519,88674,147728,119763,89958,127735,146877]
["October","-","-","-","-","-","-","-","-","-","-",66731,70264,42056,93376,78880,139260,129720,140539,116364,147136,125614.82]
["November ","-","-","-","-","-","-","-","-","-","-",55412,47853,43417,79764,104887,93674,89262,94442,100589,95055,131291.99]
["December","-","-","-","-","-","-","-","-","-","-",50750,53474,63565,78954,83248,85753,215331,100461,87738,87751,102681.63]
["Total","-","-","-","-","-","-","-","-","-","-",{"$f":"SUM(L20:L31)","v":626283},584482,559869,761749,1057051,1246246,{"$f":"SUM(R20:R31)","v":1406352},1299015,1218760,{"$f":"SUM(U20:U31)","v":1367372},{"$f":"SUM(V20:V31)","v":1340855.9700000002}]
["Olmsted County Transit Refunds"]
["Month",2004,2005,2006,2007,2008,2009,2010,2011,2012,2013,2014,2015,2016,2017,2018,2019,2020,2021,2022,2023,2024]
["January ","-","-","-","-","-","-","-","-","-","-",0,-5729,-13047,-46,-5540,-3576,-610,-92,-3836,-255,-285]
["February","-","-","-","-","-","-","-","-","-","-",0,-10,-834,-1575,-46132,-1685,-2218,-316,-4254,-508,-480]
["March","-","-","-","-","-","-","-","-","-","-",0,-2928,-1633,-1617,-2508,-17563,-55846,-123,0,-104,-2433]
["April","-","-","-","-","-","-","-","-","-","-",-27,-51,-647,-122,-1476,-129438,-1805,0,-1144,-36,-1115]
["May","-","-","-","-","-","-","-","-","-","-",-144,-3611,-17229,-8231,-4033,-14891,-106,0,-1749,-171,-1623]
["June","-","-","-","-","-","-","-","-","-","-",0,-3090,-5351,-26404,-480,-4005,-66905,-49,-540,-8,-791]
["July","-","-","-","-","-","-","-","-","-","-",-1765,-25292,-479,-9411,-143,-469,-2020,-3991,-1331,-950,-747]
["August","-","-","-","-","-","-","-","-","-","-",-297,-16,-2853,-8069,-11,-10,-3367,-41,-300,-2,-22187.65]
["September","-","-","-","-","-","-","-","-","-","-",-155,-1608,-694,-1522,0,0,-9009,-100,-910,-129304,-331.1]
["October","-","-","-","-","-","-","-","-","-","-",-21,-625,-2,-661,-12630,-177,-177755,-80657,-45,-118,-1117.2]
["November ","-","-","-","-","-","-","-","-","-","-",-906,-18228,-5711,-62,-57,-990,-20,-1515,-3083,-83,-659.89]
["December","-","-","-","-","-","-","-","-","-","-",-12866,-1488,-8461,-445,-11,-420,-824,-1199,-7954,-2147,-414161.6]
["Total","-","-","-","-","-","-","-","-","-","-",{"$f":"SUM(L35:L46)","v":-16181},-62676,-56941,-58165,-73021,-173224,{"$f":"SUM(R35:R46)","v":-320485},-88083,-25146,{"$f":"SUM(U35:U46)","v":-133686},{"$f":"SUM(V35:V46)","v":-445931.44}]
["Hidden columns B-K do not contain any data for CY 2004-2013"]
[{"$f":"'Local SUT'!A78","v":"Source:  Minnesota Department of Revenue, Tax Research Division, November 2025"}]
["end of worksheet"]

{"sheet":"Ramsey Co","index":41,"n_rows":50,"n_cols":22,"rows_kept":50,"cut":false,"hidden":true,"merged":[[0,0,0,19],[32,0,32,19],[47,0,47,19],[49,0,49,19],[48,0,48,19],[1,0,1,19],[2,0,2,19],[17,0,17,19]]}
["Ramsey County Monthly Detail for Minnesota Local Sales & Use Tax"]
[{"$f":"'Local SUT'!A2","v":"CY 2004-2024"}]
["Ramsey County Transit Sales Tax (0.5%)"]
["Month",2004,2005,2006,2007,2008,2009,2010,2011,2012,2013,2014,2015,2016,2017,2018,2019,2020,2021,2022,2023,2024]
["January ","-","-","-","-","-","-","-","-","-","-","-","-","-","-",3403362,3752879,3805675,3685339,4122316,4420898,4544396]
["February","-","-","-","-","-","-","-","-","-","-","-","-","-","-",2814839,3010843,3032146,2833517,3608160,3554880,3704806]
["March","-","-","-","-","-","-","-","-","-","-","-","-","-","-",2782455,2703454,2864737,2766835,3190075,3504974,3374214]
["April","-","-","-","-","-","-","-","-","-","-","-","-","-","-",3144388,3262250,2891354,3510030,4305243,4233472,4150354]
["May","-","-","-","-","-","-","-","-","-","-","-","-","-","-",2767321,3251502,2449154,3218136,3616672,3851706,3892988]
["June","-","-","-","-","-","-","-","-","-","-","-","-","-","-",3118172,3305809,2753232,3399028,4520347,4287538,4053184]
["July","-","-","-","-","-","-","-","-","-","-","-","-","-","-",2978258,3198105,3030735,3652924,4145708,4616796,4309125]
["August","-","-","-","-","-","-","-","-","-","-","-","-","-",0,3397328,3735107,3363368,4006297,3994518,4011780,4097392.9]
["September","-","-","-","-","-","-","-","-","-","-","-","-","-",6,3381455,3655732,3083254,3600724,4384842,4549551,4662378.04]
["October","-","-","-","-","-","-","-","-","-","-","-","-","-",3057,3348530,3650397,3245226,3993410,4384361,4593484,4391239.99]
["November ","-","-","-","-","-","-","-","-","-","-","-","-","-",2828255,3319534,3511282,3143280,3472065,4005404,3939377,4270779.97]
["December","-","-","-","-","-","-","-","-","-","-","-","-","-",3035100,3343298,3271253,3076916,3537382,4473740,4059217,3957704.01]
["Total","-","-","-","-","-","-","-","-","-","-","-","-","-",{"$f":"SUM(O5:O16)","v":5866418},{"$f":"SUM(P5:P16)","v":37798940},{"$f":"SUM(Q5:Q16)","v":40308613},{"$f":"SUM(R5:R16)","v":36739077},{"$f":"SUM(S5:S16)","v":41675687},48751386,{"$f":"SUM(U5:U16)","v":49623673},{"$f":"SUM(V5:V16)","v":49408561.909999996}]
["Ramsey County Transit Use Tax (0.5%)"]
["Month",2004,2005,2006,2007,2008,2009,2010,2011,2012,2013,2014,2015,2016,2017,2018,2019,2020,2021,2022,2023,2024]
["January ","-","-","-","-","-","-","-","-","-","-","-","-","-","-",361528,393179,691947,1071439,459454,435698,388765]
["February","-","-","-","-","-","-","-","-","-","-","-","-","-","-",382067,440465,349348,220287,461371,475431,441460]
["March","-","-","-","-","-","-","-","-","-","-","-","-","-","-",284053,303634,299058,269950,357569,305355,297753]
["April","-","-","-","-","-","-","-","-","-","-","-","-","-","-",307955,359614,352778,312039,365472,356088,386129]
["May","-","-","-","-","-","-","-","-","-","-","-","-","-","-",325940,640512,514109,164824,488046,-193937,384780]
["June","-","-","-","-","-","-","-","-","-","-","-","-","-","-",338014,394667,309443,244068,707383,481504,527711]
["July","-","-","-","-","-","-","-","-","-","-","-","-","-","-",617083,425551,255790,362708,361010,471144,375338]
["August","-","-","-","-","-","-","-","-","-","-","-","-","-",12,361300,521893,300419,574192,359483,387374,413173.6]
["September","-","-","-","-","-","-","-","-","-","-","-","-","-",0,360603,343012,301794,238575,460931,482765,340171.59]
["October","-","-","-","-","-","-","-","-","-","-","-","-","-",67,380589,488221,334909,368196,368601,482819,393780.18]
["November ","-","-","-","-","-","-","-","-","-","-","-","-","-",293183,383622,529876,611266,397135,385560,475204,439654.89]
["December","-","-","-","-","-","-","-","-","-","-","-","-","-",253167,325499,335390,318055,337224,382696,285840,466686.01]
["Total","-","-","-","-","-","-","-","-","-","-","-","-","-",{"$f":"SUM(O20:O31)","v":546429},{"$f":"SUM(P20:P31)","v":4428253},{"$f":"SUM(Q20:Q31)","v":5176014},{"$f":"SUM(R20:R31)","v":4638916},{"$f":"SUM(S20:S31)","v":4560637},5157576,{"$f":"SUM(U20:U31)","v":4445285},{"$f":"SUM(V20:V31)","v":4855402.2699999996}]
["Ramsey County Transit Refunds"]
["Month",2004,2005,2006,2007,2008,2009,2010,2011,2012,2013,2014,2015,2016,2017,2018,2019,2020,2021,2022,2023,2024]
["January ","-","-","-","-","-","-","-","-","-","-","-","-","-","-",-93,-345,-5885,-13947,-107189,-10475,-64070]
["February","-","-","-","-","-","-","-","-","-","-","-","-","-","-",-22,-384,-420059,-53591,-3288,-1065,-19090]
["March","-","-","-","-","-","-","-","-","-","-","-","-","-","-",-10,-689,-43169,-23009,-110763,-59408,-21088]
["April","-","-","-","-","-","-","-","-","-","-","-","-","-","-",-79,-235361,-82516,-8443,-509960,-34212,-37227]
["May","-","-","-","-","-","-","-","-","-","-","-","-","-","-",-161,-1834,-109544,-2054,-67358,-692,-377790]
["June","-","-","-","-","-","-","-","-","-","-","-","-","-","-",-207,-1788,-6765,-137228,-10151,-14752,-13982]
["July","-","-","-","-","-","-","-","-","-","-","-","-","-","-",-340,-2438,-104207,-734021,-57489,-49308,-9225]
["August","-","-","-","-","-","-","-","-","-","-","-","-","-",0,-2009,-1212,-90404,-3289,-2560,-50758,-455008.67]
["September","-","-","-","-","-","-","-","-","-","-","-","-","-",0,-166,-4128,-17140,-5597,-14098,-984929,-91666.81]
["October","-","-","-","-","-","-","-","-","-","-","-","-","-",0,-3362,-198691,-58291,-19731,-103887,-19868,-48743.34]
["November ","-","-","-","-","-","-","-","-","-","-","-","-","-",-7,-485,-122285,-89553,-270294,-9434,-1172,-44314.42]
["December","-","-","-","-","-","-","-","-","-","-","-","-","-",0,-7712,-17581,-15962,-29053,-154683,-1977,-26029.41]
["Total","-","-","-","-","-","-","-","-","-","-","-","-","-",{"$f":"SUM(O35:O46)","v":-7},{"$f":"SUM(P35:P46)","v":-14646},{"$f":"SUM(Q35:Q46)","v":-586736},{"$f":"SUM(R35:R46)","v":-1043495},{"$f":"SUM(S35:S46)","v":-1300257},-1150860,{"$f":"SUM(U35:U46)","v":-1228616},{"$f":"SUM(V35:V46)","v":-1208234.6499999999}]
["Hidden columns B-N do not contain any data for CY 2004-2016"]
[{"$f":"'Local SUT'!A78","v":"Source:  Minnesota Department of Revenue, Tax Research Division, November 2025"}]
["end of worksheet"]

{"sheet":"Rice Co","index":42,"n_rows":50,"n_cols":22,"rows_kept":50,"cut":false,"hidden":true,"merged":[[0,0,0,19],[1,0,1,19],[2,0,2,19],[17,0,17,19],[49,0,49,19],[32,0,32,19],[47,0,47,19],[48,0,48,19]]}
["Rice County Monthly Detail for Minnesota Local Sales & Use Tax"]
[{"$f":"'Local SUT'!A2","v":"CY 2004-2024"}]
["Rice County Transit Sales Tax (0.5%)"]
["Month",2004,2005,2006,2007,2008,2009,2010,2011,2012,2013,2014,2015,2016,2017,2018,2019,2020,2021,2022,2023,2024]
["January ","-","-","-","-","-","-","-","-","-","-",151,298572,268743,278338,279186,312831,340069,350650,367203,416607,404139]
["February","-","-","-","-","-","-","-","-","-","-",184310,203117,201365,225092,232603,256732,271607,293166,355830,332927,320111]
["March","-","-","-","-","-","-","-","-","-","-",170183,201502,198817,207080,209388,225981,250744,274510,313205,324545,313299]
["April","-","-","-","-","-","-","-","-","-","-",209072,232116,243812,304494,256874,277582,285856,364578,378125,382134,362653]
["May","-","-","-","-","-","-","-","-","-","-",206066,224340,239533,245779,257625,293710,286728,350061,359828,383274,379266]
["June","-","-","-","-","-","-","-","-","-","-",250615,248995,262503,279845,314104,347657,342847,378871,475837,442127,421216]
["July","-","-","-","-","-","-","-","-","-","-",231341,238495,242838,264096,260037,369364,325570,399314,431701,482207,387638]
["August","-","-","-","-","-","-","-","-","-","-",263007,288456,311367,329453,350666,334999,391563,392973,398089,379575,394671.28]
["September","-","-","-","-","-","-","-","-","-","-",233468,242379,284795,288423,301293,329667,322390,355022,405224,393849,405736.41]
["October","-","-","-","-","-","-","-","-","-","-",254662,258924,283945,296875,295866,334134,348911,404000,431534,426601,397543.34]
["November ","-","-","-","-","-","-","-","-","-","-",248146,245126,275080,278369,337115,314824,334433,355006,391688,349285,389418.6]
["December","-","-","-","-","-","-","-","-","-","-",220674,222190,250771,267796,295946,294611,316330,337613,439234,386181,375445.43]
["Total","-","-","-","-","-","-","-","-","-","-",{"$f":"SUM(L5:L16)","v":2471695},2904212,3063569,3265640,3390703,3692092,{"$f":"SUM(R5:R16)","v":3817048},4255764,4747498,{"$f":"SUM(U5:U16)","v":4699312},{"$f":"SUM(V5:V16)","v":4551137.0600000005}]
["Rice County Transit Use Tax (0.5%)"]
["Month",2004,2005,2006,2007,2008,2009,2010,2011,2012,2013,2014,2015,2016,2017,2018,2019,2020,2021,2022,2023,2024]
["January ","-","-","-","-","-","-","-","-","-","-",22,21066,18334,18806,15696,33197,27620,20428,22105,20141,22853]
["February","-","-","-","-","-","-","-","-","-","-",3741,9959,10113,12092,9711,13522,18608,13512,18211,16530,16419]
["March","-","-","-","-","-","-","-","-","-","-",6709,9491,16294,15685,9753,13792,7521,10673,14687,11840,11447]
["April","-","-","-","-","-","-","-","-","-","-",14054,11226,9906,12877,16169,15463,24649,11891,18871,16761,14336]
["May","-","-","-","-","-","-","-","-","-","-",12773,13252,15981,13866,11048,12213,12612,19365,13104,17527,14841]
["June","-","-","-","-","-","-","-","-","-","-",8938,13900,8414,13176,12027,15773,13871,16665,13918,22997,22864]
["July","-","-","-","-","-","-","-","-","-","-",14538,12795,15061,16715,12610,13951,15478,20320,15644,30993,15261]
["August","-","-","-","-","-","-","-","-","-","-",17464,15167,13059,11397,18807,19927,21611,24749,16527,14677,17808.259999999998]
["September","-","-","-","-","-","-","-","-","-","-",12466,8558,14824,15635,15114,18319,14317,15956,18416,29421,24340.01]
["October","-","-","-","-","-","-","-","-","-","-",20689,13174,17258,15927,10855,25749,16502,32418,24644,33562,39623.06]
["November ","-","-","-","-","-","-","-","-","-","-",10709,12780,25583,18649,18393,11651,11795,13399,23978,26194,37126.18]
["December","-","-","-","-","-","-","-","-","-","-",10055,9140,20351,13300,16547,7632,23538,17882,16147,14284,9821.66]
["Total","-","-","-","-","-","-","-","-","-","-",{"$f":"SUM(L20:L31)","v":132158},150508,185178,178125,166730,201189,{"$f":"SUM(R20:R31)","v":208122},217258,216252,{"$f":"SUM(U20:U31)","v":254927},{"$f":"SUM(V20:V31)","v":246740.17}]
["Rice County Transit Refunds"]
["Month",2004,2005,2006,2007,2008,2009,2010,2011,2012,2013,2014,2015,2016,2017,2018,2019,2020,2021,2022,2023,2024]
["January ","-","-","-","-","-","-","-","-","-","-",0,-589,-15646,0,-6116,0,-3042,-1150,-740,0,-3882]
["February","-","-","-","-","-","-","-","-","-","-",0,-1979,-318,-69,-70,0,-398,0,0,0,-1649]
["March","-","-","-","-","-","-","-","-","-","-",-3,0,-2967,-716,-265,0,-7414,-4692,-4935,-648,-17266]
["April","-","-","-","-","-","-","-","-","-","-",0,-557,-1965,-499,-457,-33,0,0,-125,0,-633]
["May","-","-","-","-","-","-","-","-","-","-",-2,-7599,-1356,-51530,-33,-57,-12244,0,-4247,-1807,-2494]
["June","-","-","-","-","-","-","-","-","-","-",0,-1,-14009,-1601,-719,-473,-398,0,-9919,0,0]
["July","-","-","-","-","-","-","-","-","-","-",-10,0,-661,-1907,-21250,0,-865,-60,-62,0,-2]
["August","-","-","-","-","-","-","-","-","-","-",0,-670,-42,-3795,-692,-5948,-9202,-4319,-16,-4887,-0.24]
["September","-","-","-","-","-","-","-","-","-","-",-7,-877,0,-1017,-670,0,-63,-9,-637,-42,-39.049999999999997]
["October","-","-","-","-","-","-","-","-","-","-",-2983,-22296,-1,-19648,-8697,0,0,-269,-2,-67,-34180.9]
["November ","-","-","-","-","-","-","-","-","-","-",-1,0,-2,0,-2192,0,-5143,0,-7,-329,-5.68]
["December","-","-","-","-","-","-","-","-","-","-",-1936,-71,0,-156,-748,-7221,0,-4014,0,-885,-63.98]
["Total","-","-","-","-","-","-","-","-","-","-",{"$f":"SUM(L35:L46)","v":-4942},-34639,-36967,-80938,-41909,-13732,{"$f":"SUM(R35:R46)","v":-38769},-14513,-20690,{"$f":"SUM(U35:U46)","v":-8665},{"$f":"SUM(V35:V46)","v":-60215.850000000006}]
["Hidden columns B-K do not contain any data for CY 2004-2013"]
[{"$f":"'Local SUT'!A78","v":"Source:  Minnesota Department of Revenue, Tax Research Division, November 2025"}]
["end of worksheet"]

{"sheet":"Hennepin Co","index":43,"n_rows":50,"n_cols":22,"rows_kept":50,"cut":false,"hidden":true,"merged":[[0,0,0,19],[49,0,49,19],[48,0,48,19],[1,0,1,19],[2,0,2,19],[17,0,17,19],[32,0,32,19],[47,0,47,19]]}
["Hennepin County Monthly Detail for Minnesota Local Sales & Use Tax"]
[{"$f":"'Local SUT'!A2","v":"CY 2004-2024"}]
["Hennepin County Transit Sales Tax (0.5%)"]
["Month",2004,2005,2006,2007,2008,2009,2010,2011,2012,2013,2014,2015,2016,2017,2018,2019,2020,2021,2022,2023,2024]
["January ","-","-","-","-","-","-","-","-","-","-","-","-","-","-",11038915,11719388,12700251,11422441,12689583,14463639,13672406]
["February","-","-","-","-","-","-","-","-","-","-","-","-","-","-",9100494,9184930,9650888,8757470,10518870,11051722,11315858]
["March","-","-","-","-","-","-","-","-","-","-","-","-","-","-",8463856,8519905,8953006,8749650,9969369,10348463,10414772]
["April","-","-","-","-","-","-","-","-","-","-","-","-","-","-",9650976,10259545,9235581,10925953,13373851,13374668,12674139]
["May","-","-","-","-","-","-","-","-","-","-","-","-","-","-",9119441,10356236,7477996,10028866,11277958,11966412,12228664]
["June","-","-","-","-","-","-","-","-","-","-","-","-","-","-",10282415,10971202,8368382,10730089,14413659,13334827,13433552]
["July","-","-","-","-","-","-","-","-","-","-","-","-","-","-",9919660,10601873,9192410,11305508,13582601,15133499,13958442]
["August","-","-","-","-","-","-","-","-","-","-","-","-","-",30,11535255,12092266,10452615,12718280,12754499,12692096,13360893.07]
["September","-","-","-","-","-","-","-","-","-","-","-","-","-",5,10775752,11336602,9751122,11528352,13154850,13545237,13744346.130000001]
["October","-","-","-","-","-","-","-","-","-","-","-","-","-",11260,10791721,11457922,9870778,12052676,12972148,13684098,13757346.98]
["November ","-","-","-","-","-","-","-","-","-","-","-","-","-",9274024,10543463,11075750,9487383,11280041,12406769,12358071,13000634.48]
["December","-","-","-","-","-","-","-","-","-","-","-","-","-",9432530,10381498,10262279,9363992,11376017,13964557,12581959,12337157.08]
["Total","-","-","-","-","-","-","-","-","-","-","-","-","-",{"$f":"SUM(O5:O16)","v":18717849},{"$f":"SUM(P5:P16)","v":121603446},{"$f":"SUM(Q5:Q16)","v":127837898},{"$f":"SUM(R5:R16)","v":114504404},{"$f":"SUM(S5:S16)","v":130875343},151078714,{"$f":"SUM(U5:U16)","v":154534691},{"$f":"SUM(V5:V16)","v":153898210.74000001}]
["Hennepin County Transit Use (0.5%)"]
["Month",2004,2005,2006,2007,2008,2009,2010,2011,2012,2013,2014,2015,2016,2017,2018,2019,2020,2021,2022,2023,2024]
["January ","-","-","-","-","-","-","-","-","-","-","-","-","-","-",946683,908499,1020607,748000,699125,983945,846443]
["February","-","-","-","-","-","-","-","-","-","-","-","-","-","-",742284,711498,669462,570822,748670,744124,855372]
["March","-","-","-","-","-","-","-","-","-","-","-","-","-","-",710557,550587,552167,443590,831620,763730,751559]
["April","-","-","-","-","-","-","-","-","-","-","-","-","-","-",667996,700411,638516,621356,729285,884517,674511]
["May","-","-","-","-","-","-","-","-","-","-","-","-","-","-",508669,576188,498902,565096,770132,734975,749223]
["June","-","-","-","-","-","-","-","-","-","-","-","-","-","-",724911,631969,373286,543593,824978,870317,741966]
["July","-","-","-","-","-","-","-","-","-","-","-","-","-","-",695589,659221,583448,466195,790880,1119298,820914]
["August","-","-","-","-","-","-","-","-","-","-","-","-","-",0,659666,709340,553483,674271,724354,750482,768347.25]
["September","-","-","-","-","-","-","-","-","-","-","-","-","-",5,700491,673940,488227,684646,688180,772208,846459.52]
["October","-","-","-","-","-","-","-","-","-","-","-","-","-",2302,691448,831788,653420,678741,732476,811814,702497.63]
["November ","-","-","-","-","-","-","-","-","-","-","-","-","-",665687,759421,742080,695072,531011,685718,838593,783755.81]
["December","-","-","-","-","-","-","-","-","-","-","-","-","-",597098,648431,596217,594802,799512,1372879,755685,751768.53]
["Total","-","-","-","-","-","-","-","-","-","-","-","-","-",{"$f":"SUM(O20:O31)","v":1265092},{"$f":"SUM(P20:P31)","v":8456146},{"$f":"SUM(Q20:Q31)","v":8291738},{"$f":"SUM(R20:R31)","v":7321392},{"$f":"SUM(S20:S31)","v":7326833},9598297,{"$f":"SUM(U20:U31)","v":10029688},{"$f":"SUM(V20:V31)","v":9292816.7399999984}]
["Hennepin County Transit Refunds"]
["Month",2004,2005,2006,2007,2008,2009,2010,2011,2012,2013,2014,2015,2016,2017,2018,2019,2020,2021,2022,2023,2024]
["January ","-","-","-","-","-","-","-","-","-","-","-","-","-","-",-734,-8967,-102311,-37984,-86839,-129367,-45288]
["February","-","-","-","-","-","-","-","-","-","-","-","-","-","-",-379,-14541,-247803,-313112,-14474,-667832,-64690]
["March","-","-","-","-","-","-","-","-","-","-","-","-","-","-",-261,-136432,-53671,-33126,-445275,-40658,-1313775]
["April","-","-","-","-","-","-","-","-","-","-","-","-","-","-",-326,-11096,-47084,-56537,-110965,-58939,-54116]
["May","-","-","-","-","-","-","-","-","-","-","-","-","-","-",-3863,-41020,-248411,-92500,-13900,-21195,-47555]
["June","-","-","-","-","-","-","-","-","-","-","-","-","-","-",-780,-95839,-37586,-422387,-97866,-21766,-591753]
["July","-","-","-","-","-","-","-","-","-","-","-","-","-","-",-2193,-18138,-143716,-12525,-558614,-556056,-309939]
["August","-","-","-","-","-","-","-","-","-","-","-","-","-",0,-1774,-20226,-195018,-15257,-12417,-49506,-14960.02]
["September","-","-","-","-","-","-","-","-","-","-","-","-","-",0,-20558,-78173,-21325,-150686,-138377,-279451,-76676.89]
["October","-","-","-","-","-","-","-","-","-","-","-","-","-",0,-15256,-177247,-67582,-212015,-188152,-830919,-223579.4]
["November ","-","-","-","-","-","-","-","-","-","-","-","-","-",-103,-2347,-70471,-135372,-111582,-136233,-223184,-84421.92]
["December","-","-","-","-","-","-","-","-","-","-","-","-","-",-76,-1574,-25017,-27613,-105827,-193169,-847807,-125612.8]
["Total","-","-","-","-","-","-","-","-","-","-","-","-","-",{"$f":"SUM(O35:O46)","v":-179},{"$f":"SUM(P35:P46)","v":-50045},{"$f":"SUM(Q35:Q46)","v":-697167},{"$f":"SUM(R35:R46)","v":-1327492},{"$f":"SUM(S35:S46)","v":-1563538},-1996281,{"$f":"SUM(U35:U46)","v":-3726680},{"$f":"SUM(V35:V46)","v":-2952367.03}]
["Hidden columns B-N do not contain any data for CY 2004-2016"]
[{"$f":"'Local SUT'!A78","v":"Source:  Minnesota Department of Revenue, Tax Research Division, November 2025"}]
["end of worksheet"]

{"sheet":"Hennepin Cty","index":44,"n_rows":51,"n_cols":22,"rows_kept":51,"cut":false,"hidden":true,"merged":[[50,0,50,19],[32,0,32,19],[47,0,47,19],[48,0,48,19],[0,0,0,19],[1,0,1,19],[2,0,2,19],[17,0,17,19],[49,0,49,19]]}
["Hennepin County Monthly Detail for Minnesota Local Sales & Use Tax"]
[{"$f":"'Local SUT'!A2","v":"CY 2004-2024"}]
["Hennepin County Local Sales Tax (0.15%)"]
["Month",2004,2005,2006,2007,2008,2009,2010,2011,2012,2013,2014,2015,2016,2017,2018,2019,2020,2021,2022,2023,2024]
["January ","-","-","-",1027,2576167.29,2863101,2611586,2818016,2882030,3110533,3208696,3366835,3442299,3511135,3306839,3366831,3780962,3403212,3781858,4306959,4150185]
["February","-","-","-",1585180,2043025.33,2238664,1885849,2062932,2117712,2232224,2407774,2591569,2490509,2580829,2741527,2756322,2933600,2564330,3140365,3320693,3807486]
["March","-","-","-",1748485,1960256.06,1932240,1769727,2060950,2061491,2130434,2190258,2365419,2494808,2414365,2533649,2560241,2718701,2568246,2982354,3095367,3061886]
["April","-","-","-",2093194.95,2245422.0099999998,2070952,2181410,2275689,2439039,2475783,2557590,2789219,2790886,2885390,2895431,3089242,2766498,3256824,3989853,4004639,3783158]
["May","-","-","-",1897694.39,2164733.33,2033307,2149291,2288872,2434009,2458644,2555938,2719071,2759000,2735356,2741516,3100999,2243812,2940514,3366252,3578561,3727733]
["June","-","-","-",2211335.33,2282595.5,2133938,2157162,2440929,2402751,2685700,2780752,2846152,2937106,2941351,3070989,3270675,2474896,3115670,4314883,3941526,4095339]
["July","-","-","-",1898005.81,2079806.38,1822885,2140071,2208845,2448042,2574092,2690648,2828178,2776221,2827773,2979708,3167856,2754834,3313237,4022510,4522857,4246199]
["August","-","-","-",2576851.46,2762147.06,2480226,2577213,2637252,2886192,3095959,3203233,3377127,3366771,3337540,3437200,3610243,3124656,3705361,3808806,3905781,4080049.88]
["September","-","-","-",2205567.64,2388277.11,2071343,2335424,2710384,2581544,2756143,2776294,2890834,3022764,3094202,3169509,3431471,2908389,3435555,3930527,4177664,4288457.42]
["October","-","-","-",2171577.29,2482983.6,2267187,2485948,2548473,2626595,2919213,2815334,2942616,3086267,3094909,3218453,3416622,2944502,3540091,3872573,4197882,4209283.66]
["November ","-","-","-",2394942.71,"*  ",2040965,2140051,2341267,2424498,2688799,2765204,2811353,2901386,2899070,3194923,3332984,2886821,3374476,3701846,3866028,3953511.44]
["December","-","-","-",2137374.4700000002,3849412,1943836,2202201,2249639,2331339,2603621,2573492,2751674,2765080,2824578,3257244,3063415,2802534,3348518,4154073,3824170,3754090.53]
["Total","-","-","-",{"$f":"SUM(E5:E16)","v":22921236.050000001},26834825.669999998,25898644,26635933,28643248,29635242,31731145,{"$f":"SUM(L5:L16)","v":32525213},34280047,34833097,35146498,36546988,38166901,{"$f":"SUM(R5:R16)","v":34340205},38566034,45065900,{"$f":"SUM(U5:U16)","v":46742127},{"$f":"SUM(V5:V16)","v":47157378.929999992}]
["Hennepin County Local Use Tax (0.15%)"]
["Month",2004,2005,2006,2007,2008,2009,2010,2011,2012,2013,2014,2015,2016,2017,2018,2019,2020,2021,2022,2023,2024]
["January ","-","-","-",16,206587.9,284180,237473,304120,282925,294212,286634,334954,312028,360923,352093,3152000,410641,244852,232253,294835,277992]
["February","-","-","-",105922,187883.22,189810,219586,169496,289614,213780,260483,232395,273718,174248,262305,222696,189149,193829,224066,227367,275519]
["March","-","-","-",108553,165902.85,167521,220552,155027,197072,155365,176787,6543,238644,201307,120556,189115,186371,176619,258793,47110,236215]
["April","-","-","-",164321.28,239239.05,170137,227087,185153,142284,241966,313160,243496,217994,239563,235399,226319,200322,181516,231331,289184,213547]
["May","-","-","-",143844.74,187804.58,144160,155680,205854,203921,191578,247523,231685,266197,175143,234815,191798,240831,197073,237496,235169,229890]
["June","-","-","-",152181.92000000001,160098.25,206194,149132,207366,220831,187809,208800,227655,147393,188026,236715,209622,121714,169986,264861,270957,237474]
["July","-","-","-",130712.78,156214,130001,153405,202776,223951,213412,209209,240729,213815,264291,228776,178151,200881,155611,249350,358380,257918]
["August","-","-","-",173157.03,213513.60000000001,183288,180961,229293,238416,212552,102060,301737,214767,209001,215439,212897,150073,220876,230700,236963,242607.47]
["September","-","-","-",162817.98000000001,174971.38,135109,181393,192901,196567,164752,178581,198613,215497,195314,232131,218085,182121,215097,205894,241633,280470.52]
["October","-","-","-",170197.09,235886.41,188154,177149,217956,327736,253294,92985,246003,206499,260312,241137,258878,210213,216617,233957,260088,220701.89]
["November ","-","-","-",192044.06,"*  ",165437,167128,191592,197017,194545,273127,215502,227731,236335,219897,240642,204338,157385,213459,269092,269206.21999999997]
["December","-","-","-",148561.64000000001,319647,168123,159194,158547,189048,195293,177985,194520,108848,207814,221916,207762,202470,248082,-2368850,248983,277018.26]
["Total","-","-","-",{"$f":"SUM(E20:E31)","v":1652329.5200000005},2247748.2400000002,2132114,2228740,2420081,2709382,2518558,{"$f":"SUM(L20:L31)","v":2527334},2673832,2643131,2712277,2801179,5507965,{"$f":"SUM(R20:R31)","v":2499124},2377543,213310,{"$f":"SUM(U20:U31)","v":2979761},{"$f":"SUM(V20:V31)","v":3018559.3600000003}]
["Hennepin County Refunds"]
["Month",2004,2005,2006,2007,2008,2009,2010,2011,2012,2013,2014,2015,2016,2017,2018,2019,2020,2021,2022,2023,2024]
["January ","-","-","-","-","-",-38422,-65800,-9615,-36767,-48252,-51733,-122795,-87579,-19246,-62617,-365586,-38508,-13420,-79519,-35129,-13736]
["February","-","-","-","-","-",-61888,-34494,-139216,-63898,-56023,-63001,-326961,-183004,-58406,-54126,-77551,-263634,-120719,-4194,-230610,-20560]
["March","-","-","-","-","-",-131680,-62870,-74332,-112975,-41402,-37210,-169569,-187902,-170794,-137296,-73041,-129056,-116427,-164761,-12046,-504209]
["April","-","-","-","-","-",-59228,-30622,-77303,-22385,-36363,-46461,-72810,-84857,-16099,-206035,-120194,-20506,-54396,-42265,-18820,-16313]
["May","-","-","-","-","-",-64703,-132871,-75953,-31478,-68658,-73490,-38532,-33673,-59921,-158761,-25293,-103109,-365275,-7955,-11741,-14280]
["June","-","-","-","-","-",-46636,-20393,-38419,-35819,-92636,-47747,-30743,-95625,-219586,-53850,-60440,-30758,-242277,-235298,-5811,-177571]
["July","-","-","-","-","-",-36954,-1581,-127423,-109887,-93955,-42391,-66459,-64445,-212034,-59470,-36804,-166734,-2972,-173401,-167139,-93415]
["August","-","-","-","-","-",-67417,-18378,-40924,-51707,-89647,-55721,-97754,-42172,-40136,-49979,-25012,-80620,-7190,-3763,-16762,-5203.95]
["September","-","-","-","-","-",-36728,-3212,-112005,-110646,-42524,-46522,-45418,-72703,-44081,-223069,-22700,-14682,-156430,-40720,-81492,-19563.669999999998]
["October","-","-","-","-","-",-42523,-4640,-62107,-53667,-97376,-154658,-32322,-70129,-36891,-82830,-131044,-27332,-76900,-240928,-260158,-143329.5]
["November ","-","-","-","-","-",-45391,-300647,-104741,-88767,-47928,-70645,-47559,-25641,-32255,-104436,-126824,-48324,-39353,-44843,-66956,-29183.88]
["December","-","-","-","-","-",-42276,-11664,-107479,-40383,-86220,-102581,-134017,-84377,-57590,-2815,-12206,-9258,-43714,-65593,-267402,-37040.65]
["Total","-","-","-","-","-",{"$f":"SUM(G35:G46)","v":-673846},-687172,-969517,-758379,-800984,-792160,-1184939,-1032107,-967039,-1195284,{"$f":"SUM(Q35:Q46)","v":-1076695},{"$f":"SUM(R35:R46)","v":-932521},-1239073,-1103240,{"$f":"SUM(U35:U46)","v":-1174066},{"$f":"SUM(V35:V46)","v":-1074405.6499999999}]
["Hidden columns B-D do not contain any data for CY 2004-2006"]
["*Collections for November 2008 are included in December totals due to a new processing system."]
[{"$f":"'Local SUT'!A78","v":"Source:  Minnesota Department of Revenue, Tax Research Division, November 2025"}]
["end of worksheet"]

{"sheet":"Scott Co","index":45,"n_rows":50,"n_cols":22,"rows_kept":50,"cut":false,"hidden":true,"merged":[[47,0,47,19],[48,0,48,19],[49,0,49,19],[0,0,0,19],[1,0,1,19],[2,0,2,19],[17,0,17,19],[32,0,32,19]]}
["Scott County Monthly Detail for Minnesota Local Sales & Use Tax"]
[{"$f":"'Local SUT'!A2","v":"CY 2004-2024"}]
["Scott County Transit Sales Tax (0.5%)"]
["Month",2004,2005,2006,2007,2008,2009,2010,2011,2012,2013,2014,2015,2016,2017,2018,2019,2020,2021,2022,2023,2024]
["January ","-","-","-","-","-","-","-","-","-","-","-","-",693117,713096,755207,837002,1017398,1007877,1028635,1254787,1299863]
["February","-","-","-","-","-","-","-","-","-","-","-","-",510869,538571,596091,677298,750185,711487,882283,1007202,948634]
["March","-","-","-","-","-","-","-","-","-","-","-","-",547053,510237,546771,667129,733357,741949,856552,960804,900345]
["April","-","-","-","-","-","-","-","-","-","-","-","-",585287,617626,657950,770796,776261,952865,1065460,1116052,1082565]
["May","-","-","-","-","-","-","-","-","-","-","-","-",629636,623250,614371,768167,757241,935484,1021106,1124617,1059085]
["June","-","-","-","-","-","-","-","-","-","-","-","-",704410,719620,802787,892265,906020,1009374,1290927,1287640,1204384]
["July","-","-","-","-","-","-","-","-","-","-","-","-",696304,760833,820169,923150,955053,1123944,1264012,1454731,1318801]
["August","-","-","-","-","-","-","-","-","-","-","-","-",796797,841924,913472,1027810,964642,1235098,1243642,1310240,1300380.98]
["September","-","-","-","-","-","-","-","-","-","-","-","-",763297,773037,899700,1009517,896974,1094221,1280577,1350457,1311085.4099999999]
["October","-","-","-","-","-","-","-","-","-","-","-",42,751146,779814,819076,990774,949958,1156430,1244898,1201339,1266169.06]
["November ","-","-","-","-","-","-","-","-","-","-","-",552029,659164,684523,809520,924047,850492,1055599,1194555,1121819,1185795.3999999999]
["December","-","-","-","-","-","-","-","-","-","-","-",558792,649787,660156,741113,847325,851986,1046615,1233296,1100492,1070460.51]
["Total","-","-","-","-","-","-","-","-","-","-","-",{"$f":"SUM(M5:M16)","v":1110863},{"$f":"SUM(N5:N16)","v":7986867},{"$f":"SUM(O5:O16)","v":8222687},{"$f":"SUM(P5:P16)","v":8976227},{"$f":"SUM(Q5:Q16)","v":10335280},{"$f":"SUM(R5:R16)","v":10409567},{"$f":"SUM(S5:S16)","v":12070943},13605943,{"$f":"SUM(U5:U16)","v":14290180},{"$f":"SUM(V5:V16)","v":13947568.360000001}]
["Scott County Transit Use Tax (0.5%)"]
["Month",2004,2005,2006,2007,2008,2009,2010,2011,2012,2013,2014,2015,2016,2017,2018,2019,2020,2021,2022,2023,2024]
["January ","-","-","-","-","-","-","-","-","-","-","-","-",50078,47431,40018,67353,63490,55284,61927,85818,12020]
["February","-","-","-","-","-","-","-","-","-","-","-","-",24833,40048,48146,38602,46417,35595,46597,52951,40412]
["March","-","-","-","-","-","-","-","-","-","-","-","-",23661,31119,38625,54492,57616,28420,30254,41321,52480]
["April","-","-","-","-","-","-","-","-","-","-","-","-",28813,32608,44985,51042,40480,35339,59816,87680,47792]
["May","-","-","-","-","-","-","-","-","-","-","-","-",31696,35945,36704,43931,34131,43641,39061,49436,30352]
["June","-","-","-","-","-","-","-","-","-","-","-","-",36201,46213,45080,39052,37129,52133,47882,67813,60053]
["July","-","-","-","-","-","-","-","-","-","-","-","-",206012,40406,52608,49052,47862,63122,56479,130197,72399]
["August","-","-","-","-","-","-","-","-","-","-","-","-",38172,38218,52260,53264,36496,50682,57245,61091,59082.86]
["September","-","-","-","-","-","-","-","-","-","-","-","-",35920,47709,51816,46898,35167,51954,49296,78296,52504.02]
["October","-","-","-","-","-","-","-","-","-","-","-",0,36769,48558,50195,50420,46576,58191,70399,74310,70372.210000000006]
["November ","-","-","-","-","-","-","-","-","-","-","-",38174,36836,36686,49882,58596,36970,46831,62968,79819,62976.78]
["December","-","-","-","-","-","-","-","-","-","-","-",25755,25477,28733,51522,37662,38548,44822,68689,67203,48302.51]
["Total","-","-","-","-","-","-","-","-","-","-","-",{"$f":"SUM(M20:M31)","v":63929},{"$f":"SUM(N20:N31)","v":574468},{"$f":"SUM(O20:O31)","v":473674},{"$f":"SUM(P20:P31)","v":561841},{"$f":"SUM(Q20:Q31)","v":590364},{"$f":"SUM(R20:R31)","v":520882},{"$f":"SUM(S20:S31)","v":566014},650613,{"$f":"SUM(U20:U31)","v":875935},{"$f":"SUM(V20:V31)","v":608746.38}]
["Scott County Transit Refunds"]
["Month",2004,2005,2006,2007,2008,2009,2010,2011,2012,2013,2014,2015,2016,2017,2018,2019,2020,2021,2022,2023,2024]
["January ","-","-","-","-","-","-","-","-","-","-","-","-",0,-824,-4937,-9210,-1134,-599,-3109,-5758,-22720]
["February","-","-","-","-","-","-","-","-","-","-","-","-",-914,-20370,-559,-6022,-24443,-4,-5075,-34294,-28497]
["March","-","-","-","-","-","-","-","-","-","-","-","-",-709,-110,-15348,-4389,-4189,-16899,-9385,-349,-1540]
["April","-","-","-","-","-","-","-","-","-","-","-","-",-457,-15515,-9860,-205,-12766,-16713,-149,-1239,-18619]
["May","-","-","-","-","-","-","-","-","-","-","-","-",-31,-2570,-303,-3588,-35504,-1237,-4967,-6279,-6712]
["June","-","-","-","-","-","-","-","-","-","-","-","-",-300,-58,-125,-454,-21336,-34,-2753,-851,-59]
["July","-","-","-","-","-","-","-","-","-","-","-","-",0,-105,-1,-1289,-16617,-388,-8071,-5531,-21421]
["August","-","-","-","-","-","-","-","-","-","-","-","-",-269,-6713,-1288,-683,-22480,-60788,-7825,-8070,-34.76]
["September","-","-","-","-","-","-","-","-","-","-","-","-",-45,-1286,-13,-766,-50,0,-62438,-2626,-144.03]
["October","-","-","-","-","-","-","-","-","-","-","-",0,-159,-521,-640,-89,-19,-4063,-324,-33476,-12629.49]
["November ","-","-","-","-","-","-","-","-","-","-","-",0,-183,-477,-676,-599,-1274,-385,-681,-72,-5053.7299999999996]
["December","-","-","-","-","-","-","-","-","-","-","-",-86,-9,-892,0,-12529,-2501,-1796,-9819,-2751,-1873.52]
["Total","-","-","-","-","-","-","-","-","-","-","-",{"$f":"SUM(M35:M46)","v":-86},{"$f":"SUM(N35:N46)","v":-3076},{"$f":"SUM(O35:O46)","v":-49441},{"$f":"SUM(P35:P46)","v":-33750},{"$f":"SUM(Q35:Q46)","v":-39823},{"$f":"SUM(R35:R46)","v":-142313},{"$f":"SUM(S35:S46)","v":-102906},-114596,{"$f":"SUM(U35:U46)","v":-101296},{"$f":"SUM(V35:V46)","v":-119303.53}]
["Hidden columns B-L do not contain any data for CY 2004-2014"]
[{"$f":"'Local SUT'!A78","v":"Source:  Minnesota Department of Revenue, Tax Research Division, November 2025"}]
["end of worksheet"]

{"sheet":"St. Louis Co","index":46,"n_rows":50,"n_cols":22,"rows_kept":50,"cut":false,"hidden":true,"merged":[[32,0,32,19],[47,0,47,19],[48,0,48,19],[49,0,49,19],[0,0,0,19],[1,0,1,19],[2,0,2,19],[17,0,17,19]]}
["St. Louis County Monthly Detail for Minnesota Local Sales & Use Tax"]
[{"$f":"'Local SUT'!A2","v":"CY 2004-2024"}]
["St. Louis County Transit Sales Tax (0.5%)"]
["Month",2004,2005,2006,2007,2008,2009,2010,2011,2012,2013,2014,2015,2016,2017,2018,2019,2020,2021,2022,2023,2024]
["January ","-","-","-","-","-","-","-","-","-","-","-","-",1216347,1224889,1218691,1318469,1357743,1369223,1522748,1673642,1710979]
["February","-","-","-","-","-","-","-","-","-","-","-","-",883413,917472,934406,992795,1038424,1115268,1221670,1350648,1354485]
["March","-","-","-","-","-","-","-","-","-","-","-","-",887619,855108,851976,944794,1014080,1075714,1189436,1249517,1303694]
["April","-","-","-","-","-","-","-","-","-","-","-",66,1012821,992443,1044158,1055284,1033042,1423224,1468293,1508514,1459945]
["May","-","-","-","-","-","-","-","-","-","-","-",907391,988375,967072,950962,1087476,947530,1323629,1307432,1373263,1463513]
["June","-","-","-","-","-","-","-","-","-","-","-",1052231,1106229,1117780,1174374,1232770,1188179,1468671,1780104,1703915,1673036]
["July","-","-","-","-","-","-","-","-","-","-","-",1047670,1057312,1141149,1129942,1305627,1262772,1629167,1780249,1942044,1836550]
["August","-","-","-","-","-","-","-","-","-","-","-",1385227,1395042,1370165,1451396,1487930,1576199,1720306,1724213,1821543,1836026.72]
["September","-","-","-","-","-","-","-","-","-","-","-",1198545,1247935,1267536,1317555,1426914,1400457,1597053,1793211,1855954,1909596]
["October","-","-","-","-","-","-","-","-","-","-","-",1194367,1205218,1253280,1243381,1331675,1400494,1696049,1741438,1787850,1769299.68]
["November ","-","-","-","-","-","-","-","-","-","-","-",1136988,1115836,1123317,1193283,1265054,1280514,1474047,1591932,1663803,1726087.25]
["December","-","-","-","-","-","-","-","-","-","-","-",991372,1029275,1049517,1125776,1130183,1177654,1322341,1644507,1497089,1519714.91]
["Total","-","-","-","-","-","-","-","-","-","-","-",{"$f":"SUM(M5:M16)","v":8913857},{"$f":"SUM(N5:N16)","v":13145422},{"$f":"SUM(O5:O16)","v":13279728},{"$f":"SUM(P5:P16)","v":13635900},{"$f":"SUM(Q5:Q16)","v":14578971},{"$f":"SUM(R5:R16)","v":14677088},{"$f":"SUM(S5:S16)","v":17214692},18765233,{"$f":"SUM(U5:U16)","v":19427782},{"$f":"SUM(V5:V16)","v":19562926.559999999}]
["St. Louis County Transit Use Tax (0.5%)"]
["Month",2004,2005,2006,2007,2008,2009,2010,2011,2012,2013,2014,2015,2016,2017,2018,2019,2020,2021,2022,2023,2024]
["January ","-","-","-","-","-","-","-","-","-","-","-","-",94053,125315,121920,131984,114170,133962,100136,202591,161640]
["February","-","-","-","-","-","-","-","-","-","-","-","-",77947,101093,97949,100601,105282,76409,107461,116187,128654]
["March","-","-","-","-","-","-","-","-","-","-","-","-",119824,75788,103831,90960,118710,96671,50695,125054,148661]
["April","-","-","-","-","-","-","-","-","-","-","-",218,75050,85339,97321,92736,118052,115345,136026,169805,159390]
["May","-","-","-","-","-","-","-","-","-","-","-",172955,72495,77460,104247,107336,137588,98205,123183,140519,128852]
["June","-","-","-","-","-","-","-","-","-","-","-",247629,75552,94002,79616,102593,111363,110681,119005,137665,134934]
["July","-","-","-","-","-","-","-","-","-","-","-",144984,85290,80993,95164,109018,131457,121951,150015,156205,170205]
["August","-","-","-","-","-","-","-","-","-","-","-",184853,97003,117046,136733,141151,178551,122521,150939,159781,126133.3]
["September","-","-","-","-","-","-","-","-","-","-","-",105856,92164,113936,103198,134855,104623,181350,161577,185345,134208.25]
["October","-","-","-","-","-","-","-","-","-","-","-",96076,97765,112363,110834,120583,109607,100888,23106,167433,185335.28]
["November ","-","-","-","-","-","-","-","-","-","-","-",97714,85668,111407,113080,120210,92483,64236,141717,172369,173805.63]
["December","-","-","-","-","-","-","-","-","-","-","-",81808,80231,86759,116343,104005,105495,124646,123472,136006,110155.37]
["Total","-","-","-","-","-","-","-","-","-","-","-",{"$f":"SUM(M20:M31)","v":1132093},{"$f":"SUM(N20:N31)","v":1053042},{"$f":"SUM(O20:O31)","v":1181501},{"$f":"SUM(P20:P31)","v":1280236},{"$f":"SUM(Q20:Q31)","v":1356032},{"$f":"SUM(R20:R31)","v":1427381},{"$f":"SUM(S20:S31)","v":1346865},1387332,{"$f":"SUM(U20:U31)","v":1868960},{"$f":"SUM(V20:V31)","v":1761973.83}]
["St. Louis County Transit Refunds "]
["Month",2004,2005,2006,2007,2008,2009,2010,2011,2012,2013,2014,2015,2016,2017,2018,2019,2020,2021,2022,2023,2024]
["January ","-","-","-","-","-","-","-","-","-","-","-","-",-828,-1865,-1384,-2160,-17256,-338,-1388,-1392,-218]
["February","-","-","-","-","-","-","-","-","-","-","-","-",-12272,-625,-3188,-7069,-1051,-496,-5222,-393,-145]
["March","-","-","-","-","-","-","-","-","-","-","-","-",-621,-246,-25437,-3594,-2673,-4367,-3292,-5658,-369]
["April","-","-","-","-","-","-","-","-","-","-","-",0,-84478,-504,-607,-6964,-7070,-2151,-52,-1142,-595]
["May","-","-","-","-","-","-","-","-","-","-","-",0,-15522,-1358,0,-6796,-9463,-7678,-2876,0,-2979]
["June","-","-","-","-","-","-","-","-","-","-","-",0,-79906,-1092,-63019,-5196,-2744,-49,-469,-11928,-985]
["July","-","-","-","-","-","-","-","-","-","-","-",0,-8826,-218,-23910,-1933,-7780,-79,-6239,-730,-3842]
["August","-","-","-","-","-","-","-","-","-","-","-",-1082,-291,-15,-180,-86,-27585,-382,-10916,-3694,-3.56]
["September","-","-","-","-","-","-","-","-","-","-","-",-29678,-13,-591,-294,-15147,-32,0,-2954,-3991,-1817.26]
["October","-","-","-","-","-","-","-","-","-","-","-",0,-63399,-263,-211,-1529,-1,-393,-223,-1182,-27372.639999999999]
["November ","-","-","-","-","-","-","-","-","-","-","-",-2976,-9571,-484,-3202,-287,-332,-53815,-2491,-193,-6215.02]
["December","-","-","-","-","-","-","-","-","-","-","-",-53276,-43313,-173,-2,-5108,-404,-11422,-10781,-2496,0]
["Total","-","-","-","-","-","-","-","-","-","-","-",{"$f":"SUM(M35:M46)","v":-87012},{"$f":"SUM(N35:N46)","v":-319040},{"$f":"SUM(O35:O46)","v":-7434},{"$f":"SUM(P35:P46)","v":-121434},{"$f":"SUM(Q35:Q46)","v":-55869},{"$f":"SUM(R35:R46)","v":-76391},{"$f":"SUM(S35:S46)","v":-81170},-46903,{"$f":"SUM(U35:U46)","v":-32799},{"$f":"SUM(V35:V46)","v":-44541.479999999996}]
["Hidden columns B-L do not contain any data for CY 2004-2014"]
[{"$f":"'Local SUT'!A78","v":"Source:  Minnesota Department of Revenue, Tax Research Division, November 2025"}]
["end of worksheet"]

{"sheet":"Stearns Co","index":47,"n_rows":50,"n_cols":22,"rows_kept":50,"cut":false,"hidden":true,"merged":[[0,0,0,20],[2,0,2,19],[17,0,17,19],[1,0,1,19],[49,0,49,19],[47,0,47,19],[32,0,32,19],[48,0,48,20]]}
["Stearns County Monthly Detail for Minnesota Local Sales & Use Tax"]
[{"$f":"'Local SUT'!A2","v":"CY 2004-2024"}]
["Stearns County Transit Sales Tax (0.25%)"]
["Month",2004,2005,2006,2007,2008,2009,2010,2011,2012,2013,2014,2015,2016,2017,2018,2019,2020,2021,2022,2023,2024]
["January ","-","-","-","-","-","-","-","-","-","-","-","-","-","-",346,547964,585106,597917,656744,710057,741294]
["February","-","-","-","-","-","-","-","-","-","-","-","-","-","-",362478,441928,457847,483164,585390,551748,606543]
["March","-","-","-","-","-","-","-","-","-","-","-","-","-","-",371170,405162,427931,466937,538763,526655,600722]
["April","-","-","-","-","-","-","-","-","-","-","-","-","-","-",444049,477960,450815,604395,667823,642037,635743]
["May","-","-","-","-","-","-","-","-","-","-","-","-","-","-",444084,494103,454629,596753,611620,634021,668840]
["June","-","-","-","-","-","-","-","-","-","-","-","-","-","-",530925,557983,524838,638160,746837,760019,733068]
["July","-","-","-","-","-","-","-","-","-","-","-","-","-","-",469851,491730,541564,627644,708959,816802,713255]
["August","-","-","-","-","-","-","-","-","-","-","-","-","-","-",579011,588630,602273,666136,688775,717129,727223.48]
["September","-","-","-","-","-","-","-","-","-","-","-","-","-","-",522701,550716,551229,625707,729654,771211,717661.07]
["October","-","-","-","-","-","-","-","-","-","-","-","-","-","-",470835,532470,546008,620740,701705,740223,674427.77]
["November ","-","-","-","-","-","-","-","-","-","-","-","-","-","-",514357,521949,517262,601513,677800,687704,712501.49]
["December","-","-","-","-","-","-","-","-","-","-","-","-","-","-",505642,501318,528417,581577,703622,686187,701168.59]
["Total","-","-","-","-","-","-","-","-","-","-","-","-","-","-",{"$f":"SUM(P5:P16)","v":5215449},{"$f":"SUM(Q5:Q16)","v":6111913},{"$f":"SUM(R5:R16)","v":6187919},{"$f":"SUM(S5:S16)","v":7110643},8017692,{"$f":"SUM(U5:U16)","v":8243793},{"$f":"SUM(V5:V16)","v":8232447.4000000004}]
["Stearns County Transit Use Tax (0.25%)"]
["Month",2004,2005,2006,2007,2008,2009,2010,2011,2012,2013,2014,2015,2016,2017,2018,2019,2020,2021,2022,2023,2024]
["January ","-","-","-","-","-","-","-","-","-","-","-","-","-","-",186,39464,33335,32876,10662,40903,60562]
["February","-","-","-","-","-","-","-","-","-","-","-","-","-","-",25300,23552,27486,23133,30978,36396,49183]
["March","-","-","-","-","-","-","-","-","-","-","-","-","-","-",23225,23369,41676,25271,33242,31401,50753]
["April","-","-","-","-","-","-","-","-","-","-","-","-","-","-",29593,28062,32769,38411,73355,44701,61461]
["May","-","-","-","-","-","-","-","-","-","-","-","-","-","-",30217,26774,20638,27549,38496,36535,52789]
["June","-","-","-","-","-","-","-","-","-","-","-","-","-","-",31995,30874,23577,33844,44600,40424,63418]
["July","-","-","-","-","-","-","-","-","-","-","-","-","-","-",28381,30042,25537,44380,50854,53920,58552]
["August","-","-","-","-","-","-","-","-","-","-","-","-","-","-",35796,41095,33521,48139,46361,54959,67361.899999999994]
["September","-","-","-","-","-","-","-","-","-","-","-","-","-","-",30155,40543,63296,27332,53800,50927,38828.879999999997]
["October","-","-","-","-","-","-","-","-","-","-","-","-","-","-",34368,38163,35838,38360,49018,42241,65938.5]
["November ","-","-","-","-","-","-","-","-","-","-","-","-","-","-",29611,23064,29464,42795,46844,44610,79811.509999999995]
["December","-","-","-","-","-","-","-","-","-","-","-","-","-","-",31383,47405,23740,37971,39724,47337,52796.33]
["Total","-","-","-","-","-","-","-","-","-","-","-","-","-","-",{"$f":"SUM(P20:P31)","v":330210},{"$f":"SUM(Q20:Q31)","v":392407},{"$f":"SUM(R20:R31)","v":390877},{"$f":"SUM(S20:S31)","v":420061},517934,{"$f":"SUM(U20:U31)","v":524354},{"$f":"SUM(V20:V31)","v":701455.12}]
["Stearns County Transit Refunds"]
["Month",2004,2005,2006,2007,2008,2009,2010,2011,2012,2013,2014,2015,2016,2017,2018,2019,2020,2021,2022,2023,2024]
["January ","-","-","-","-","-","-","-","-","-","-","-","-","-","-",0,-10,-2845,-739,-538,-2754,-9464]
["February","-","-","-","-","-","-","-","-","-","-","-","-","-","-",0,-3325,-599,-1639,-102,-1919,-258]
["March","-","-","-","-","-","-","-","-","-","-","-","-","-","-",0,-635,-586,-7085,-679,-5047,-695]
["April","-","-","-","-","-","-","-","-","-","-","-","-","-","-",0,-1275,-2566,-429,-53,-387,-2227]
["May","-","-","-","-","-","-","-","-","-","-","-","-","-","-",0,-736,-2871,-714,-926,-56,-1923]
["June","-","-","-","-","-","-","-","-","-","-","-","-","-","-",-6,-209,-1132,-902,-570,-289,-338]
["July","-","-","-","-","-","-","-","-","-","-","-","-","-","-",-60,-463,-1013,-166,-181,-5539,-9284]
["August","-","-","-","-","-","-","-","-","-","-","-","-","-","-",-178,-94,-2473,-789,-1,-5611,-2225.04]
["September","-","-","-","-","-","-","-","-","-","-","-","-","-","-",0,-407,-108,-347,-96,0,-10.15]
["October","-","-","-","-","-","-","-","-","-","-","-","-","-","-",-2,-159,-1770,-2044,-19,-6946,-18146.13]
["November ","-","-","-","-","-","-","-","-","-","-","-","-","-","-",-30,-122,0,-114,-1815,-1111,-324.98]
["December","-","-","-","-","-","-","-","-","-","-","-","-","-","-",-1,-122,-1,-1011,-462,-1513,-1052.19]
["Total","-","-","-","-","-","-","-","-","-","-","-","-","-","-",{"$f":"SUM(P35:P46)","v":-277},{"$f":"SUM(Q35:Q46)","v":-7557},{"$f":"SUM(R35:R46)","v":-15964},{"$f":"SUM(S35:S46)","v":-15979},-5442,{"$f":"SUM(U35:U46)","v":-31172},{"$f":"SUM(V35:V46)","v":-45947.490000000013}]
["Hidden columns B-O do not contain any data for CY 2004-2017"]
[{"$f":"'Local SUT'!A78","v":"Source:  Minnesota Department of Revenue, Tax Research Division, November 2025"}]
["end of worksheet"]

{"sheet":"Steele Co","index":48,"n_rows":50,"n_cols":22,"rows_kept":50,"cut":false,"hidden":true,"merged":[[32,0,32,19],[47,0,47,19],[48,0,48,19],[49,0,49,19],[0,0,0,19],[1,0,1,19],[2,0,2,19],[17,0,17,19]]}
["Steele County Monthly Detail for Minnesota Local Sales & Use Tax"]
[{"$f":"'Local SUT'!A2","v":"CY 2004-2024"}]
["Steele County Transit Sales Tax (0.5%)"]
["Month",2004,2005,2006,2007,2008,2009,2010,2011,2012,2013,2014,2015,2016,2017,2018,2019,2020,2021,2022,2023,2024]
["January ","-","-","-","-","-","-","-","-","-","-","-","-",229709,247516,252371,272379,281675,317921,323120,337088,348632]
["February","-","-","-","-","-","-","-","-","-","-","-","-",160272,186475,181430,203750,208046,233482,243074,263675,248756]
["March","-","-","-","-","-","-","-","-","-","-","-","-",158086,170156,164862,186658,196835,220395,238754,252111,264692]
["April","-","-","-","-","-","-","-","-","-","-","-",79,196539,214627,205765,234162,237750,301919,302075,336589,309018]
["May","-","-","-","-","-","-","-","-","-","-","-",148865,178356,204167,213922,210491,215432,258224,271179,280915,283545]
["June","-","-","-","-","-","-","-","-","-","-","-",182488,193032,220627,226533,272053,271136,292267,325276,329225,301761]
["July","-","-","-","-","-","-","-","-","-","-","-",207356,227346,236209,224072,279283,284399,295562,333994,374662,336166]
["August","-","-","-","-","-","-","-","-","-","-","-",203081,220046,243655,260125,254366,301447,281366,287054,308557,297542.52]
["September","-","-","-","-","-","-","-","-","-","-","-",186461,199876,225172,227305,254595,254942,261833,298180,311584,301436.45]
["October","-","-","-","-","-","-","-","-","-","-","-",198629,235128,235996,215406,264514,281525,297877,311043,322182,313066.87]
["November ","-","-","-","-","-","-","-","-","-","-","-",179994,208473,201923,218501,238250,238253,261739,287857,279045,282428.06]
["December","-","-","-","-","-","-","-","-","-","-","-",175708,210269,207508,239770,236782,257340,286440,345985,330811,292123.61]
["Total","-","-","-","-","-","-","-","-","-","-","-",{"$f":"SUM(M5:M16)","v":1482661},{"$f":"SUM(N5:N16)","v":2417132},{"$f":"SUM(O5:O16)","v":2594031},{"$f":"SUM(P5:P16)","v":2630062},{"$f":"SUM(Q5:Q16)","v":2907283},{"$f":"SUM(R5:R16)","v":3028780},{"$f":"SUM(S5:S16)","v":3309025},3567591,{"$f":"SUM(U5:U16)","v":3726444},{"$f":"SUM(V5:V16)","v":3579167.5100000002}]
["Steele County Transit Use Tax (0.5%)"]
["Month",2004,2005,2006,2007,2008,2009,2010,2011,2012,2013,2014,2015,2016,2017,2018,2019,2020,2021,2022,2023,2024]
["January ","-","-","-","-","-","-","-","-","-","-","-","-",14854,12654,14176,16069,13571,15392,18556,11012,21620]
["February","-","-","-","-","-","-","-","-","-","-","-","-",9329,8194,9590,11422,10580,14788,15142,15559,10364]
["March","-","-","-","-","-","-","-","-","-","-","-","-",7623,8497,11121,14558,5847,7660,11419,14121,9289]
["April","-","-","-","-","-","-","-","-","-","-","-",0,9365,13313,12115,29309,15242,12418,122172,14751,11766]
["May","-","-","-","-","-","-","-","-","-","-","-",6439,12569,12752,8647,11489,5426,13563,11095,16667,13039]
["June","-","-","-","-","-","-","-","-","-","-","-",15923,8335,13880,8650,12831,15382,9618,13588,19416,18317]
["July","-","-","-","-","-","-","-","-","-","-","-",9646,8446,14765,10733,12567,23410,14812,13036,17931,23994]
["August","-","-","-","-","-","-","-","-","-","-","-",15930,11642,-266,15048,1737,11851,11275,11949,13569,16121.67]
["September","-","-","-","-","-","-","-","-","-","-","-",8071,8348,10457,13471,15164,11059,11983,12530,12760,12868]
["October","-","-","-","-","-","-","-","-","-","-","-",12956,10051,8627,11979,13824,14268,22872,12593,21362,20745.89]
["November ","-","-","-","-","-","-","-","-","-","-","-",14002,10022,13729,10877,15930,13976,3166,19468,13845,17896.45]
["December","-","-","-","-","-","-","-","-","-","-","-",8813,7551,7243,9019,15946,17548,18648,22307,12980,22771.34]
["Total","-","-","-","-","-","-","-","-","-","-","-",{"$f":"SUM(M20:M31)","v":91780},{"$f":"SUM(N20:N31)","v":118135},{"$f":"SUM(O20:O31)","v":123845},{"$f":"SUM(P20:P31)","v":135426},{"$f":"SUM(Q20:Q31)","v":170846},{"$f":"SUM(R20:R31)","v":158160},{"$f":"SUM(S20:S31)","v":156195},283855,{"$f":"SUM(U20:U31)","v":183973},{"$f":"SUM(V20:V31)","v":198792.35}]
["Steele County Transit Refunds"]
["Month",2004,2005,2006,2007,2008,2009,2010,2011,2012,2013,2014,2015,2016,2017,2018,2019,2020,2021,2022,2023,2024]
["January ","-","-","-","-","-","-","-","-","-","-","-","-",-431,-119,-82,0,0,0,-370,0,-958]
["February","-","-","-","-","-","-","-","-","-","-","-","-",-4038,-802,-1486,-396,-6733,-561,0,-1,0]
["March","-","-","-","-","-","-","-","-","-","-","-","-",-216,-313,-238,0,-763,-164,-2705,0,-418]
["April","-","-","-","-","-","-","-","-","-","-","-",0,-3516,0,-2827,-4239,-2066,0,0,-6,-695]
["May","-","-","-","-","-","-","-","-","-","-","-",-1782,0,-3796,0,-138,-7176,0,-460,-38,0]
["June","-","-","-","-","-","-","-","-","-","-","-",-11,-1352,-179,0,-3,-724,-5317,0,-6,0]
["July","-","-","-","-","-","-","-","-","-","-","-",0,0,-24,-850,-1414,-369,0,-250,-1326,-436]
["August","-","-","-","-","-","-","-","-","-","-","-",0,-2,-3452,-550,-1423,-2470,0,-309,-664,0]
["September","-","-","-","-","-","-","-","-","-","-","-",-94,-13,-266,-327,-72,-69,0,-687,-257,-236.06]
["October","-","-","-","-","-","-","-","-","-","-","-",0,-555,-349,-470,0,-1,0,-414,-6281,-1126.33]
["November ","-","-","-","-","-","-","-","-","-","-","-",0,0,0,-470,-2,-574,-63,0,-395,-1903.14]
["December","-","-","-","-","-","-","-","-","-","-","-",-8643,0,-434,-2982,0,-2461,0,-167,-395,0]
["Total","-","-","-","-","-","-","-","-","-","-","-",{"$f":"SUM(M35:M46)","v":-10530},{"$f":"SUM(N35:N46)","v":-10123},{"$f":"SUM(O35:O46)","v":-9734},{"$f":"SUM(P35:P46)","v":-10282},{"$f":"SUM(Q35:Q46)","v":-7687},{"$f":"SUM(R35:R46)","v":-23406},{"$f":"SUM(S35:S46)","v":-6105},-5362,{"$f":"SUM(U35:U46)","v":-9369},{"$f":"SUM(V35:V46)","v":-5772.53}]
["Hidden columns B-L do not contain any data for CY 2004-2014"]
[{"$f":"'Local SUT'!A78","v":"Source:  Minnesota Department of Revenue, Tax Research Division, November 2025"}]
["end of worksheet"]

{"sheet":"Todd Co","index":49,"n_rows":50,"n_cols":22,"rows_kept":50,"cut":false,"hidden":true,"merged":[[0,0,0,19],[1,0,1,19],[2,0,2,19],[17,0,17,19],[49,0,49,19],[32,0,32,19],[47,0,47,19],[48,0,48,19]]}
["Todd County Monthly Detail for Minnesota Local Sales & Use Tax"]
[{"$f":"'Local SUT'!A2","v":"CY 2004-2024"}]
["Todd County Transit Sales Tax (0.5%)"]
["Month",2004,2005,2006,2007,2008,2009,2010,2011,2012,2013,2014,2015,2016,2017,2018,2019,2020,2021,2022,2023,2024]
["January ","-","-","-","-","-","-","-","-","-","-","-",0,61701,65952,67220,71492,88087,86419,103478,111013,115218]
["February","-","-","-","-","-","-","-","-","-","-","-",32145,48534,55825,53727,59225,74694,72606,96917,87794,90643]
["March","-","-","-","-","-","-","-","-","-","-","-",37415,46341,46567,49514,53709,59572,73154,73647,83265,90231]
["April","-","-","-","-","-","-","-","-","-","-","-",48476,53850,59003,56686,63309,63121,91427,89084,93125,96543]
["May","-","-","-","-","-","-","-","-","-","-","-",46644,56151,60928,56505,61136,75094,89072,86270,90885,103240]
["June","-","-","-","-","-","-","-","-","-","-","-",52037,59304,62184,68305,73588,86412,96967,102802,109227,116338]
["July","-","-","-","-","-","-","-","-","-","-","-",57513,60886,65793,74558,73705,97792,103527,144314,134544,128110]
["August","-","-","-","-","-","-","-","-","-","-","-",62043,64283,67113,80914,83749,100218,107083,114922,113482,118925.4]
["September","-","-","-","-","-","-","-","-","-","-","-",55297,60928,70654,81140,77474,89705,94914,117766,119531,120571.44]
["October","-","-","-","-","-","-","-","-","-","-","-",62203,68933,70800,75460,81082,91905,100712,125398,119153,123659.62]
["November ","-","-","-","-","-","-","-","-","-","-","-",57998,57751,68240,72580,77929,81558,96276,112273,98417,122662.25]
["December","-","-","-","-","-","-","-","-","-","-","-",52332,54407,58643,67014,69757,77853,91975,105235,99609,108287.06]
["Total","-","-","-","-","-","-","-","-","-","-","-",{"$f":"SUM(M5:M16)","v":564103},{"$f":"SUM(N5:N16)","v":693069},{"$f":"SUM(O5:O16)","v":751702},{"$f":"SUM(P5:P16)","v":803623},{"$f":"SUM(Q5:Q16)","v":846155},{"$f":"SUM(R5:R16)","v":986011},{"$f":"SUM(S5:S16)","v":1104132},1272106,{"$f":"SUM(U5:U16)","v":1260045},{"$f":"SUM(V5:V16)","v":1334428.77}]
["Todd County Transit Use Tax (0.5%)"]
["Month",2004,2005,2006,2007,2008,2009,2010,2011,2012,2013,2014,2015,2016,2017,2018,2019,2020,2021,2022,2023,2024]
["January ","-","-","-","-","-","-","-","-","-","-","-",0,5233,3418,2995,3597,4230,5517,3744,3784,6809]
["February","-","-","-","-","-","-","-","-","-","-","-",1745,3040,2153,2001,2374,2964,2703,2233,2522,3717]
["March","-","-","-","-","-","-","-","-","-","-","-",1694,1223,1964,3026,2270,2420,2650,1673,2674,11278]
["April","-","-","-","-","-","-","-","-","-","-","-",3978,1964,3000,2081,2907,3236,3204,3735,3933,5367]
["May","-","-","-","-","-","-","-","-","-","-","-",2556,2528,2698,2733,2167,1746,4155,2460,3803,3219]
["June","-","-","-","-","-","-","-","-","-","-","-",4699,1803,3481,3605,3096,1559,5199,3254,3495,3957]
["July","-","-","-","-","-","-","-","-","-","-","-",1654,2399,7144,3322,3564,3973,3540,4956,6619,71957]
["August","-","-","-","-","-","-","-","-","-","-","-",9483,2035,7190,5061,10030,3189,2615,3283,14419,6935.99]
["September","-","-","-","-","-","-","-","-","-","-","-",5439,2852,1539,4672,3621,3660,3980,2995,9152,5805.76]
["October","-","-","-","-","-","-","-","-","-","-","-",1671,2964,4421,3797,4799,4817,3329,4028,5563,6706.38]
["November ","-","-","-","-","-","-","-","-","-","-","-",2369,1512,3018,2766,5561,2038,2081,5093,5037,3892.36]
["December","-","-","-","-","-","-","-","-","-","-","-",2294,2052,2607,4622,2412,5265,2507,3656,6663,4082.34]
["Total","-","-","-","-","-","-","-","-","-","-","-",{"$f":"SUM(M20:M31)","v":37582},{"$f":"SUM(N20:N31)","v":29605},{"$f":"SUM(O20:O31)","v":42633},{"$f":"SUM(P20:P31)","v":40681},{"$f":"SUM(Q20:Q31)","v":46398},{"$f":"SUM(R20:R31)","v":39097},{"$f":"SUM(S20:S31)","v":41480},41110,{"$f":"SUM(U20:U31)","v":67664},{"$f":"SUM(V20:V31)","v":133726.83000000002}]
["Todd County Transit Refunds"]
["Month",2004,2005,2006,2007,2008,2009,2010,2011,2012,2013,2014,2015,2016,2017,2018,2019,2020,2021,2022,2023,2024]
["January ","-","-","-","-","-","-","-","-","-","-","-",0,0,0,-8367,0,-1033,0,0,0,-653]
["February","-","-","-","-","-","-","-","-","-","-","-",0,-7,0,0,0,-652,-10548,-1,-11,0]
["March","-","-","-","-","-","-","-","-","-","-","-",0,0,-1000,0,-1865,-141,-12,0,0,0]
["April","-","-","-","-","-","-","-","-","-","-","-",null,-1485,-494,0,0,-5103,0,0,0,0]
["May","-","-","-","-","-","-","-","-","-","-","-",-14,0,0,0,0,-614,0,-18,0,-143]
["June","-","-","-","-","-","-","-","-","-","-","-",0,0,-611,0,0,-691,0,0,0,0]
["July","-","-","-","-","-","-","-","-","-","-","-",0,-83,-16,0,-7503,-4,0,-216,-97,0]
["August","-","-","-","-","-","-","-","-","-","-","-",-60,0,0,-20,-2991,-5078,0,-1844,0,0]
["September","-","-","-","-","-","-","-","-","-","-","-",0,0,-2,-130,0,0,-1128,0,0,0]
["October","-","-","-","-","-","-","-","-","-","-","-",-5613,-904,0,0,-1029,0,0,0,-6,-104.29]
["November ","-","-","-","-","-","-","-","-","-","-","-",-3,0,0,-219,-311,0,0,0,0,0]
["December","-","-","-","-","-","-","-","-","-","-","-",0,-48,0,-31,-152,0,0,0,0,0]
["Total","-","-","-","-","-","-","-","-","-","-","-",{"$f":"SUM(M35:M46)","v":-5690},{"$f":"SUM(N35:N46)","v":-2527},{"$f":"SUM(O35:O46)","v":-2123},{"$f":"SUM(P35:P46)","v":-8767},{"$f":"SUM(Q35:Q46)","v":-13851},{"$f":"SUM(R35:R46)","v":-13316},{"$f":"SUM(S35:S46)","v":-11688},-2079,{"$f":"SUM(U35:U46)","v":-114},{"$f":"SUM(V35:V46)","v":-900.29}]
["Hidden columns B-L do not contain any data for CY 2004-2014"]
[{"$f":"'Local SUT'!A78","v":"Source:  Minnesota Department of Revenue, Tax Research Division, November 2025"}]
["end of worksheet"]

{"sheet":"Wadena Co","index":50,"n_rows":50,"n_cols":22,"rows_kept":50,"cut":false,"hidden":true,"merged":[[49,0,49,19],[32,0,32,19],[47,0,47,19],[48,0,48,19],[0,0,0,19],[1,0,1,19],[2,0,2,19],[17,0,17,19]]}
["Wadena County Monthly Detail for Minnesota Local Sales & Use Tax"]
[{"$f":"'Local SUT'!A2","v":"CY 2004-2024"}]
["Wadena County Transit Sales Tax (0.5%)"]
["Month",2004,2005,2006,2007,2008,2009,2010,2011,2012,2013,2014,2015,2016,2017,2018,2019,2020,2021,2022,2023,2024]
["January ","-","-","-","-","-","-","-","-","-","-","-",56084,57900,61244,60616,65098,66435,74634,83135,85840,91972]
["February","-","-","-","-","-","-","-","-","-","-","-",38393,45941,48277,46052,51416,55232,61043,47798,55766,75743]
["March","-","-","-","-","-","-","-","-","-","-","-",45418,45822,45715,43260,53411,51076,58471,65631,65347,71258]
["April","-","-","-","-","-","-","-","-","-","-","-",49332,50665,50965,52202,59604,58421,81253,77612,80726,78896]
["May","-","-","-","-","-","-","-","-","-","-",33404,50844,53413,55659,54369,60179,69055,78542,78157,74431,82752]
["June","-","-","-","-","-","-","-","-","-","-",52228,54938,58422,60105,64888,68764,81610,82984,90559,95696,95755]
["July","-","-","-","-","-","-","-","-","-","-",52886,49828,53699,58084,66154,65911,78590,75750,104239,103984,92067]
["August","-","-","-","-","-","-","-","-","-","-",57452,69146,60775,68939,69228,75524,78976,83618,88821,91449,94746.72]
["September","-","-","-","-","-","-","-","-","-","-",54421,58869,61493,61172,67531,72221,75012,77001,92695,98153,93090.11]
["October","-","-","-","-","-","-","-","-","-","-",54297,57754,53745,63435,64669,70680,76020,85890,98769,96540,92829.41]
["November ","-","-","-","-","-","-","-","-","-","-",54419,54119,51263,58316,68354,71351,74317,108742,88817,87745,99207.4]
["December","-","-","-","-","-","-","-","-","-","-",48477,51316,53803,59697,62200,63380,68034,83365,84238,83794,84330.39]
["Total","-","-","-","-","-","-","-","-","-","-",{"$f":"SUM(L5:L16)","v":407584},636041,646941,691608,719523,777539,{"$f":"SUM(R5:R16)","v":832778},951293,1000471,{"$f":"SUM(U5:U16)","v":1019471},{"$f":"SUM(V5:V16)","v":1052647.03}]
["Wadena County Transit  Use Tax (0.5%)"]
["Month",2004,2005,2006,2007,2008,2009,2010,2011,2012,2013,2014,2015,2016,2017,2018,2019,2020,2021,2022,2023,2024]
["January ","-","-","-","-","-","-","-","-","-","-","-",3010,3541,6429,3723,3941,5551,3238,3713,3645,7146]
["February","-","-","-","-","-","-","-","-","-","-","-",7719,8498,3134,1930,1842,1689,2096,2958,5585,3045]
["March","-","-","-","-","-","-","-","-","-","-","-",770,2263,1460,2053,3857,2253,3508,4390,4688,3094]
["April","-","-","-","-","-","-","-","-","-","-","-",2392,2163,4174,2727,3965,2685,2966,4531,3352,2222]
["May","-","-","-","-","-","-","-","-","-","-",836,1321,1808,1959,1599,1534,5688,2394,2665,4158,1977]
["June","-","-","-","-","-","-","-","-","-","-",1613,1530,1589,1637,1767,1645,4993,3401,2626,2766,1668]
["July","-","-","-","-","-","-","-","-","-","-",1714,1501,2305,1939,2472,4595,993,25284,3390,3054,5965]
["August","-","-","-","-","-","-","-","-","-","-",1890,1629,2252,2624,2188,1964,3148,6394,8832,3219,2010.1]
["September","-","-","-","-","-","-","-","-","-","-",2142,1764,2752,4015,2826,3836,2521,7403,4339,3440,2673.21]
["October","-","-","-","-","-","-","-","-","-","-",2294,6450,4073,2726,3180,4306,2186,2615,3648,9671,3278.14]
["November ","-","-","-","-","-","-","-","-","-","-",2160,1662,2863,1718,2862,3285,2304,2030,7969,5438,3467.19]
["December","-","-","-","-","-","-","-","-","-","-",907,1568,3304,2232,4045,1609,2138,4171,5105,3741,1799.43]
["Total","-","-","-","-","-","-","-","-","-","-",{"$f":"SUM(L20:L31)","v":13556},31316,37411,34047,31372,36379,{"$f":"SUM(R20:R31)","v":36149},65500,54166,{"$f":"SUM(U20:U31)","v":52757},{"$f":"SUM(V20:V31)","v":38345.07}]
["Wadena County Transit  Refunds"]
["Month",2004,2005,2006,2007,2008,2009,2010,2011,2012,2013,2014,2015,2016,2017,2018,2019,2020,2021,2022,2023,2024]
["January ","-","-","-","-","-","-","-","-","-","-","-",-9,0,0,0,-2219,-17,0,0,-2956,-75]
["February","-","-","-","-","-","-","-","-","-","-","-",-341,-122,0,0,0,-523,-30,0,0,0]
["March","-","-","-","-","-","-","-","-","-","-","-",0,0,-34,0,-98,0,0,0,-100,0]
["April","-","-","-","-","-","-","-","-","-","-","-",-1038,-1984,0,0,-233,-1658,0,0,0,0]
["May","-","-","-","-","-","-","-","-","-","-",0,0,0,-27,-1,0,-523,0,-10,-4,0]
["June","-","-","-","-","-","-","-","-","-","-",0,0,0,0,0,0,-14,0,0,0,0]
["July","-","-","-","-","-","-","-","-","-","-",0,0,-2,0,0,0,-1645,0,0,0,-47]
["August","-","-","-","-","-","-","-","-","-","-",0,-1450,0,-2,0,0,0,-147,-70,-256,-188.01]
["September","-","-","-","-","-","-","-","-","-","-",0,0,-114,0,0,-230,-1355,0,0,0,0]
["October","-","-","-","-","-","-","-","-","-","-",0,0,-11,-4155,0,0,0,0,0,-9,-2168.13]
["November ","-","-","-","-","-","-","-","-","-","-",-97,0,0,0,0,0,-97,0,-981,0,0]
["December","-","-","-","-","-","-","-","-","-","-",0,-749,0,0,0,0,0,0,0,0,0]
["Total","-","-","-","-","-","-","-","-","-","-",{"$f":"SUM(L35:L46)","v":-97},-3587,-2233,-4218,-1,-2780,{"$f":"SUM(R35:R46)","v":-5832},-177,-1061,{"$f":"SUM(U35:U46)","v":-3325},{"$f":"SUM(V35:V46)","v":-2478.1400000000003}]
["Hidden columns B-K do not contain any data for CY 2004-2013"]
[{"$f":"'Local SUT'!A78","v":"Source:  Minnesota Department of Revenue, Tax Research Division, November 2025"}]
["end of worksheet"]

{"sheet":"Washington Co","index":51,"n_rows":50,"n_cols":22,"rows_kept":50,"cut":false,"hidden":true,"merged":[[0,0,0,19],[32,0,32,19],[47,0,47,19],[48,0,48,19],[49,0,49,19],[1,0,1,19],[17,0,17,19],[2,0,2,20]]}
["Washington County Monthly Detail for Minnesota Local Sales & Use Tax "]
[{"$f":"'Local SUT'!A2","v":"CY 2004-2024"}]
["Washington County Transit Sales Tax (0.25%; raised to 0.5% in 10/2021)"]
["Month",2004,2005,2006,2007,2008,2009,2010,2011,2012,2013,2014,2015,2016,2017,2018,2019,2020,2021,2022,2023,2024]
["January ","-","-","-","-","-","-","-","-","-","-","-","-","-","-",818693,885898,929970,1009462,2105695,2372184,2314588]
["February","-","-","-","-","-","-","-","-","-","-","-","-","-","-",628794,687754,700594,765169,1804877,1837654,1848705]
["March","-","-","-","-","-","-","-","-","-","-","-","-","-","-",599519,602449,671841,750710,1766978,1743603,1769784]
["April","-","-","-","-","-","-","-","-","-","-","-","-","-","-",696386,717311,706246,947746,2094369,2115053,2028877]
["May","-","-","-","-","-","-","-","-","-","-","-","-","-","-",665318,728275,686860,910446,1924524,2034900,2035427]
["June","-","-","-","-","-","-","-","-","-","-","-","-","-","-",818749,838915,827911,989532,2581057,2397361,2253106]
["July","-","-","-","-","-","-","-","-","-","-","-","-","-","-",736636,808903,819527,1008250,2265005,2557649,2334295]
["August","-","-","-","-","-","-","-","-","-","-","-","-","-","-",951180,931177,1016059,1137669,2254342,2309554,2270139.2599999998]
["September","-","-","-","-","-","-","-","-","-","-","-","-","-","-",826208,847927,873790,960323,2347571,2312183,2330789.61]
["October","-","-","-","-","-","-","-","-","-","-","-","-","-",149,798372,840885,906307,1060924,2270433,2274836,2266040.5499999998]
["November ","-","-","-","-","-","-","-","-","-","-","-","-","-",681357,799352,798805,840818,1866010,2213016,2082154,2200296.8199999998]
["December","-","-","-","-","-","-","-","-","-","-","-","-","-",724183,787770,800739,892600,1861938,2470410,2089630,2084005.43]
["Total","-","-","-","-","-","-","-","-","-","-","-","-","-",{"$f":"SUM(O5:O16)","v":1405689},{"$f":"SUM(P5:P16)","v":9126977},{"$f":"SUM(Q5:Q16)","v":9489038},{"$f":"SUM(R5:R16)","v":9872523},{"$f":"SUM(S5:S16)","v":13268179},26098277,{"$f":"SUM(U5:U16)","v":26126761},{"$f":"SUM(V5:V16)","v":25736053.669999998}]
["Washington County Transit Use Tax (0.25%)"]
["Month",2004,2005,2006,2007,2008,2009,2010,2011,2012,2013,2014,2015,2016,2017,2018,2019,2020,2021,2022,2023,2024]
["January ","-","-","-","-","-","-","-","-","-","-","-","-","-","-",54376,80112,99825,94748,281645,235050,201656]
["February","-","-","-","-","-","-","-","-","-","-","-","-","-","-",58883,86442,61615,52409,200547,127776,133078]
["March","-","-","-","-","-","-","-","-","-","-","-","-","-","-",43510,57082,67134,68050,124614,157397,146830]
["April","-","-","-","-","-","-","-","-","-","-","-","-","-","-",52658,78859,58656,54299,205342,152783,226750]
["May","-","-","-","-","-","-","-","-","-","-","-","-","-","-",40352,62835,52066,98976,169435,224368,146645]
["June","-","-","-","-","-","-","-","-","-","-","-","-","-","-",52401,63764,53275,74200,156980,171640,126929]
["July","-","-","-","-","-","-","-","-","-","-","-","-","-","-",52621,68633,48369,65917,322188,258205,167076]
["August","-","-","-","-","-","-","-","-","-","-","-","-","-","-",65215,92617,94529,114294,163720,205068,14871.98]
["September","-","-","-","-","-","-","-","-","-","-","-","-","-","-",72046,62096,62602,59848,197115,167294,133093.19]
["October","-","-","-","-","-","-","-","-","-","-","-","-","-",0,64609,79636,59575,82575,132494,217044,158046.65]
["November ","-","-","-","-","-","-","-","-","-","-","-","-","-",40190,63691,71000,80751,164848,153124,175058,148527.5]
["December","-","-","-","-","-","-","-","-","-","-","-","-","-",41741,63105,63979,58828,125373,169578,188369,133506.54]
["Total","-","-","-","-","-","-","-","-","-","-","-","-","-",{"$f":"SUM(O20:O31)","v":81931},{"$f":"SUM(P20:P31)","v":683467},{"$f":"SUM(Q20:Q31)","v":867055},{"$f":"SUM(R20:R31)","v":797225},{"$f":"SUM(S20:S31)","v":1055537},2276782,{"$f":"SUM(U20:U31)","v":2280052},{"$f":"SUM(V20:V31)","v":1737009.8599999999}]
["Washington County Transit Refunds"]
["Month",2004,2005,2006,2007,2008,2009,2010,2011,2012,2013,2014,2015,2016,2017,2018,2019,2020,2021,2022,2023,2024]
["January ","-","-","-","-","-","-","-","-","-","-","-","-","-","-",0,-309,-2027,-2,-125454,-1236,-2840]
["February","-","-","-","-","-","-","-","-","-","-","-","-","-","-",-2,-605,-2686,-1632,-69,-13292,0]
["March","-","-","-","-","-","-","-","-","-","-","-","-","-","-",0,-1305,-4669,-3904,-21904,-72,-452]
["April","-","-","-","-","-","-","-","-","-","-","-","-","-","-",-30,-239,-920,-94974,-356,-16229,-1546]
["May","-","-","-","-","-","-","-","-","-","-","-","-","-","-",-416,0,-7558,-298,-104,-391,-17081]
["June","-","-","-","-","-","-","-","-","-","-","-","-","-","-",0,-88,-546,-51,-446,-2741,-492]
["July","-","-","-","-","-","-","-","-","-","-","-","-","-","-",0,-396,-776,-36791,-240,-888,-419]
["August","-","-","-","-","-","-","-","-","-","-","-","-","-","-",-97,-185,-7858,-9,-41,-3737,-14291.22]
["September","-","-","-","-","-","-","-","-","-","-","-","-","-","-",-10,-1375,-312,-7030,-17,-691,-10074.030000000001]
["October","-","-","-","-","-","-","-","-","-","-","-","-","-",0,-182,-696,-1835,-136,-197342,-1191,-1809.28]
["November ","-","-","-","-","-","-","-","-","-","-","-","-","-",0,-4,-2164,-124600,-6714,-758,0,-379.53]
["December","-","-","-","-","-","-","-","-","-","-","-","-","-",0,-37,-4611,-1049,-66,-81219,-212419,-31757.93]
["Total","-","-","-","-","-","-","-","-","-","-","-","-","-",{"$f":"SUM(O35:O46)","v":0},{"$f":"SUM(P35:P46)","v":-778},{"$f":"SUM(Q35:Q46)","v":-11973},{"$f":"SUM(R35:R46)","v":-154836},{"$f":"SUM(S35:S46)","v":-151607},-427950,{"$f":"SUM(U35:U46)","v":-252887},{"$f":"SUM(V35:V46)","v":-81141.989999999991}]
["Hidden columns B-N do not contain any data for CY 2004-2016"]
[{"$f":"'Local SUT'!A78","v":"Source:  Minnesota Department of Revenue, Tax Research Division, November 2025"}]
["end of worksheet"]

{"sheet":"Wright Co","index":52,"n_rows":50,"n_cols":22,"rows_kept":50,"cut":false,"hidden":true,"merged":[[0,0,0,19],[1,0,1,19],[2,0,2,19],[17,0,17,19],[49,0,49,19],[32,0,32,19],[47,0,47,19],[48,0,48,19]]}
["Wright County Monthly Detail for Minnesota Local Sales & Use Tax"]
[{"$f":"'Local SUT'!A2","v":"CY 2004-2024"}]
["Wright County Transit Sales Tax (0.5%)"]
["Month",2004,2005,2006,2007,2008,2009,2010,2011,2012,2013,2014,2015,2016,2017,2018,2019,2020,2021,2022,2023,2024]
["January ","-","-","-","-","-","-","-","-","-","-","-","-","-","-",563874,676373,833974,902363,987149,1037105,1084284]
["February","-","-","-","-","-","-","-","-","-","-","-","-","-","-",447470,538194,644629,681945,818435,815641,858560]
["March","-","-","-","-","-","-","-","-","-","-","-","-","-","-",423757,491748,574286,636179,783841,774227,803853]
["April","-","-","-","-","-","-","-","-","-","-","-","-","-","-",520700,590131,652731,841178,920469,940289,966427]
["May","-","-","-","-","-","-","-","-","-","-","-","-","-","-",489064,618776,688773,882399,902539,925187,982154]
["June","-","-","-","-","-","-","-","-","-","-","-","-","-","-",644603,732411,803988,948595,1197429,1112252,1121493]
["July","-","-","-","-","-","-","-","-","-","-","-","-","-","-",595754,689913,767281,994327,1063980,1169310,1141070]
["August","-","-","-","-","-","-","-","-","-","-","-","-","-","-",718038,814418,878677,1055817,1004244,1069993,1125383.03]
["September","-","-","-","-","-","-","-","-","-","-","-","-","-","-",644276,743945,795951,921530,1050324,1097728,1124334.96]
["October","-","-","-","-","-","-","-","-","-","-","-","-","-",317,612488,756462,819173,1012052,1051757,1100146,1103897.92]
["November ","-","-","-","-","-","-","-","-","-","-","-","-","-",441714,633373,793541,782795,896263,951393,1048240,1127645.1000000001]
["December","-","-","-","-","-","-","-","-","-","-","-","-","-",509135,626994,694525,775512,920030,1154563,1026236,1010575.77]
["Total","-","-","-","-","-","-","-","-","-","-","-","-","-",{"$f":"SUM(O5:O16)","v":951166},{"$f":"SUM(P5:P16)","v":6920391},{"$f":"SUM(Q5:Q16)","v":8140437},{"$f":"SUM(R5:R16)","v":9017770},{"$f":"SUM(S5:S16)","v":10692678},11886123,{"$f":"SUM(U5:U16)","v":12116354},{"$f":"SUM(V5:V16)","v":12449677.779999999}]
["Wright County Transit Use (0.5%)"]
["Month",2004,2005,2006,2007,2008,2009,2010,2011,2012,2013,2014,2015,2016,2017,2018,2019,2020,2021,2022,2023,2024]
["January ","-","-","-","-","-","-","-","-","-","-","-","-","-","-",35270,44552,44529,50736,44765,85427,69360]
["February","-","-","-","-","-","-","-","-","-","-","-","-","-","-",27530,33233,29194,27191,34764,22136,38125]
["March","-","-","-","-","-","-","-","-","-","-","-","-","-","-",25114,21768,33139,27344,34983,25949,50184]
["April","-","-","-","-","-","-","-","-","-","-","-","-","-","-",30077,27632,54624,31121,56286,47511,47620]
["May","-","-","-","-","-","-","-","-","-","-","-","-","-","-",36541,43931,19949,28495,47837,35450,42732]
["June","-","-","-","-","-","-","-","-","-","-","-","-","-","-",31564,31266,33507,38952,49801,51333,53407]
["July","-","-","-","-","-","-","-","-","-","-","-","-","-","-",32270,32862,30987,41276,50808,43513,59211]
["August","-","-","-","-","-","-","-","-","-","-","-","-","-","-",45829,27317,27957,30988,45393,45996,49407.1]
["September","-","-","-","-","-","-","-","-","-","-","-","-","-","-",44943,26231,28071,33605,54518,50251,48135.85]
["October","-","-","-","-","-","-","-","-","-","-","-","-","-",0,30443,33487,33242,34289,72080,51152,57759.49]
["November ","-","-","-","-","-","-","-","-","-","-","-","-","-",24350,35128,30069,32330,44823,51368,43122,61429.46]
["December","-","-","-","-","-","-","-","-","-","-","-","-","-",28272,36280,41332,29093,84396,46615,47710,45707.040000000001]
["Total","-","-","-","-","-","-","-","-","-","-","-","-","-",{"$f":"SUM(O20:O31)","v":52622},{"$f":"SUM(P20:P31)","v":410989},{"$f":"SUM(Q20:Q31)","v":393680},{"$f":"SUM(R20:R31)","v":396622},{"$f":"SUM(S20:S31)","v":473216},589218,{"$f":"SUM(U20:U31)","v":549550},{"$f":"SUM(V20:V31)","v":623077.93999999994}]
["Wright County Transit Refunds"]
["Month",2004,2005,2006,2007,2008,2009,2010,2011,2012,2013,2014,2015,2016,2017,2018,2019,2020,2021,2022,2023,2024]
["January ","-","-","-","-","-","-","-","-","-","-","-","-","-","-",-54,-848,-1315,-542,-4986,-106,-1467]
["February","-","-","-","-","-","-","-","-","-","-","-","-","-","-",-67,0,-140,-40,-203,-80385,-426]
["March","-","-","-","-","-","-","-","-","-","-","-","-","-","-",0,-1052,-2978,-134,-6101,-189,-1174]
["April","-","-","-","-","-","-","-","-","-","-","-","-","-","-",0,-3097,-3402,-63,-44,-116,-246]
["May","-","-","-","-","-","-","-","-","-","-","-","-","-","-",-158,-127,-4756,-445,-6637,-6,-3053]
["June","-","-","-","-","-","-","-","-","-","-","-","-","-","-",0,-9,-565,-3201,-2906,-4428,-3355]
["July","-","-","-","-","-","-","-","-","-","-","-","-","-","-",0,-361,-7762,-781,-17,-6424,-128]
["August","-","-","-","-","-","-","-","-","-","-","-","-","-","-",-1197,-576,-4699,-4378,-230,-27,-167.8]
["September","-","-","-","-","-","-","-","-","-","-","-","-","-","-",0,-371,-2,-120,-642,-624,-2.67]
["October","-","-","-","-","-","-","-","-","-","-","-","-","-",0,-780,-197,-1018,-782,-3425,-3474,-6283.48]
["November ","-","-","-","-","-","-","-","-","-","-","-","-","-",0,0,-98,-1289,-797,-3362,-198,-3305.52]
["December","-","-","-","-","-","-","-","-","-","-","-","-","-",-24,-971,-3079,-731,-7,-362,-67,-16364.07]
["Total","-","-","-","-","-","-","-","-","-","-","-","-","-",{"$f":"SUM(O35:O46)","v":-24},{"$f":"SUM(P35:P46)","v":-3227},{"$f":"SUM(Q35:Q46)","v":-9815},{"$f":"SUM(R35:R46)","v":-28657},{"$f":"SUM(S35:S46)","v":-11290},-28915,{"$f":"SUM(U35:U46)","v":-96044},{"$f":"SUM(V35:V46)","v":-35972.539999999994}]
["Hidden columns B-N do not contain any data for CY 2004-2016"]
[{"$f":"'Local SUT'!A78","v":"Source:  Minnesota Department of Revenue, Tax Research Division, November 2025"}]
["end of worksheet"]

{"sheet":"Freeborn Co","index":53,"n_rows":50,"n_cols":22,"rows_kept":50,"cut":false,"hidden":true,"merged":[[0,0,0,19],[1,0,1,19],[2,0,2,19],[17,0,17,19],[49,0,49,19],[48,0,48,19],[32,0,32,19],[47,0,47,19]]}
["Freeborn County Monthly Detail for Minnesota Local Sales & Use Tax"]
[{"$f":"'Local SUT'!A2","v":"CY 2004-2024"}]
["Freeborn County Transit Sales Tax (0.5%)"]
["Month",2004,2005,2006,2007,2008,2009,2010,2011,2012,2013,2014,2015,2016,2017,2018,2019,2020,2021,2022,2023,2024]
["January ","-","-","-","-","-","-","-","-","-","-","-","-",41,164842,173887,174667,173022,185354,209697,223835,212586]
["February","-","-","-","-","-","-","-","-","-","-","-","-",119570,149642,136209,137273,142810,157347,175773,180964,175707]
["March","-","-","-","-","-","-","-","-","-","-","-","-",123751,121343,120038,127731,143037,147490,170693,178783,175365]
["April","-","-","-","-","-","-","-","-","-","-","-","-",143557,145100,144930,156027,150494,196100,209372,209487,203606]
["May","-","-","-","-","-","-","-","-","-","-","-","-",145984,143159,130061,166641,156766,198244,184594,209462,199031]
["June","-","-","-","-","-","-","-","-","-","-","-","-",152627,157962,168746,185836,195162,192312,226245,233338,233726]
["July","-","-","-","-","-","-","-","-","-","-","-","-",157537,154153,162774,177301,195497,232081,247878,261476,235863]
["August","-","-","-","-","-","-","-","-","-","-","-","-",170509,168342,184045,199697,213115,213901,203184,231143,239605.92]
["September","-","-","-","-","-","-","-","-","-","-","-","-",161911,153565,177929,187054,208378,190664,244907,242343,224714]
["October","-","-","-","-","-","-","-","-","-","-","-","-",157256,156401,175993,177539,193118,217795,234661,237292,223669.93]
["November ","-","-","-","-","-","-","-","-","-","-","-","-",144947,156795,177704,182992,181153,198123,220443,222652,219515.97]
["December","-","-","-","-","-","-","-","-","-","-","-","-",139372,148241,162588,172327,173360,200508,223313,204810,215240.31]
["Total","-","-","-","-","-","-","-","-","-","-","-","-",{"$f":"SUM(N5:N16)","v":1617062},{"$f":"SUM(O5:O16)","v":1819545},{"$f":"SUM(P5:P16)","v":1914904},{"$f":"SUM(Q5:Q16)","v":2045085},{"$f":"SUM(R5:R16)","v":2125912},{"$f":"SUM(S5:S16)","v":2329919},2550760,{"$f":"SUM(U5:U16)","v":2635585},{"$f":"SUM(V5:V16)","v":2558630.1300000004}]
["Freeborn County Transit Use Tax (0.5%)"]
["Month",2004,2005,2006,2007,2008,2009,2010,2011,2012,2013,2014,2015,2016,2017,2018,2019,2020,2021,2022,2023,2024]
["January ","-","-","-","-","-","-","-","-","-","-","-","-",0,9995,10158,9259,7100,9380,7869,23157,8729]
["February","-","-","-","-","-","-","-","-","-","-","-","-",4503,5177,8857,10585,6353,5716,7120,10137,5314]
["March","-","-","-","-","-","-","-","-","-","-","-","-",3833,3896,6840,4032,4591,4205,7970,6141,7439]
["April","-","-","-","-","-","-","-","-","-","-","-","-",7464,6041,6292,6783,6678,8384,8344,8414,18112]
["May","-","-","-","-","-","-","-","-","-","-","-","-",5969,6376,4649,8075,6635,8175,9396,6899,9223]
["June","-","-","-","-","-","-","-","-","-","-","-","-",8451,5882,6181,7570,6536,5772,9324,9731,6456]
["July","-","-","-","-","-","-","-","-","-","-","-","-",10433,8140,6724,8380,7918,7695,10819,18685,10024]
["August","-","-","-","-","-","-","-","-","-","-","-","-",7606,8099,11647,8893,11660,7665,7083,8236,11258.68]
["September","-","-","-","-","-","-","-","-","-","-","-","-",7848,6783,6652,8613,7306,9306,10611,12102,11453.37]
["October","-","-","-","-","-","-","-","-","-","-","-","-",10229,10007,6492,7128,7372,9163,9203,8720,13093.5]
["November ","-","-","-","-","-","-","-","-","-","-","-","-",6640,6249,10264,5747,6149,10460,8354,8304,11775.62]
["December","-","-","-","-","-","-","-","-","-","-","-","-",4893,3003,12749,5974,5169,8228,7747,7649,6366.35]
["Total","-","-","-","-","-","-","-","-","-","-","-","-",{"$f":"SUM(N20:N31)","v":77869},{"$f":"SUM(O20:O31)","v":79648},{"$f":"SUM(P20:P31)","v":97505},{"$f":"SUM(Q20:Q31)","v":91039},{"$f":"SUM(R20:R31)","v":83467},{"$f":"SUM(S20:S31)","v":94149},103840,{"$f":"SUM(U20:U31)","v":128175},{"$f":"SUM(V20:V31)","v":119244.51999999999}]
["Freeborn County Transit Refunds"]
["Month",2004,2005,2006,2007,2008,2009,2010,2011,2012,2013,2014,2015,2016,2017,2018,2019,2020,2021,2022,2023,2024]
["January ","-","-","-","-","-","-","-","-","-","-","-","-",0,-3630,-304,0,-16,0,-127,0,-284]
["February","-","-","-","-","-","-","-","-","-","-","-","-",0,-1712,-1254,0,-1868,0,0,-2171,0]
["March","-","-","-","-","-","-","-","-","-","-","-","-",0,0,-3020,0,-1000,-8,0,-819,0]
["April","-","-","-","-","-","-","-","-","-","-","-","-",0,0,0,0,0,0,-332,-320,0]
["May","-","-","-","-","-","-","-","-","-","-","-","-",0,0,0,-212,-41,0,0,-9,0]
["June","-","-","-","-","-","-","-","-","-","-","-","-",0,0,-677,-211,-1489,0,0,-32,-4797]
["July","-","-","-","-","-","-","-","-","-","-","-","-",-211,0,0,-918,0,0,-690,-6,-43]
["August","-","-","-","-","-","-","-","-","-","-","-","-",-208,-68,0,-151,-6088,-8,0,-14,0]
["September","-","-","-","-","-","-","-","-","-","-","-","-",0,-2616,-80,-1791,-367,0,-1,0,-504.33]
["October","-","-","-","-","-","-","-","-","-","-","-","-",-119,-45,-89,-15,-82,-375,-641,0,0]
["November ","-","-","-","-","-","-","-","-","-","-","-","-",-833,-50,-295,-1853,0,0,0,-7520,0]
["December","-","-","-","-","-","-","-","-","-","-","-","-",0,-1344,0,-952,-1338,-5,-89,0,-24.18]
["Total","-","-","-","-","-","-","-","-","-","-","-","-",{"$f":"SUM(N35:N46)","v":-1371},{"$f":"SUM(O35:O46)","v":-9465},{"$f":"SUM(P35:P46)","v":-5719},{"$f":"SUM(Q35:Q46)","v":-6103},{"$f":"SUM(R35:R46)","v":-12289},{"$f":"SUM(S35:S46)","v":-396},-1880,{"$f":"SUM(U35:U46)","v":-10891},{"$f":"SUM(V35:V46)","v":-5652.51}]
["Hidden columns B-M do not contain any data for CY 2004-2015"]
[{"$f":"'Local SUT'!A78","v":"Source:  Minnesota Department of Revenue, Tax Research Division, November 2025"}]
["end of worksheet"]

{"sheet":"Metro Area Transit Improvement","index":54,"n_rows":52,"n_cols":22,"rows_kept":52,"cut":false,"hidden":true,"merged":[[32,0,32,19],[0,0,0,19],[1,0,1,19],[2,0,2,19],[17,0,17,19],[47,0,47,19],[48,0,48,19],[49,0,49,19],[50,0,50,19],[51,0,51,19]]}
["Metro Area Transit Monthly Detail for Minnesota Local Sales & Use Tax"]
[{"$f":"'Local SUT'!A2","v":"CY 2004-2024"}]
["Metro Area Transit Improvement Local Sales Tax (0.25% effective 7/1/2008 to 9/30/2017 )"]
["Month",2004,2005,2006,2007,2008,2009,2010,2011,2012,2013,2014,2015,2016,2017,2018,2019,2020,2021,2022,2023,2024]
["January ","-","-","-","-","-",8557204,8173347,8973643,9103524,9487607,10010289,10457516,10838949,11018002,301964,177993,40732,-5471,2328,-9987,-913]
["February","-","-","-","-","-",6640736,5886169,6389858,6586662,7045102,7569252,7984272,7922918,8146467,126112,64059,187642,-78046,-2105,42484,-175]
["March","-","-","-","-","-",5866138,5601653,6187518,6527587,6695520,6889100,7444573,7465297,7679795,45859,63725,128091,-71940,11830,1916,8]
["April","-","-","-","-","-",6456044,6803521,7066947,7597210,7774734,8029520,8757194,8763416,9092991,78442,43051,38375,9080,7043,7442,-51]
["May","-","-","-","-","-",6325410,6633926,7000754,7330569,7653041,7957912,8460711,8687758,8668562,1435,47418,18317,-72015,4397,-1580,-609]
["June","-","-","-","-","-",6755764,6996224,7652057,7623367,8287374,8727580,8998644,9190954,9475144,55646,24464,-31498,-195356,6329,-116469,-450]
["July","-","-","-","-",2891,5889747,6584727,6750212,7591918,7899598,8373825,8693774,8666640,9049416,-4117,65988,53387,-70087,3857,397,0]
["August","-","-","-","-",5885783.3499999996,7887395,8082311,8071703,9032652,9707541,9993929,10592430,10580737,10618029,64373,22965,26123,-199146,-13914,7,565.97]
["September","-","-","-","-",6669047.29,6454472,7289494,8500762,8072074,8680701,8793823,9145489,9618914,9943254,53814,114711,13624,94139,-170,2917,618.29999999999995]
["October","-","-","-","-",6952290.1800000006,7054051,7708330,7985276,8242644,9328574,8863918,9355423,9711118,9876573,75041,42714,38917,-74639,-413,1501,386.69]
["November ","-","-","-","-","*  ",6485075,6792182,7469128,7713056,8446532,8793599,8937020,9165894,569855,114529,133060,173537,6696,-1819,-30514,-41982.45]
["December","-","-","-","-",12053713,6212114,6830796,7137815,7372994,8255001,8217179,8659165,8866345,197453,1367,-20167,7576,-70577,-95281,644,-5005.18]
["Total","-","-","-","-",{"$f":"SUM(F5:F16)","v":31563724.82},80584150,83382680,89185673,92794257,99261325,102219926,107486211,109478940,94335541,914465,{"$f":"SUM(Q5:Q16)","v":779981},{"$f":"SUM(R5:R16)","v":694823},-727362,-77918,{"$f":"SUM(U5:U16)","v":-101242},{"$f":"SUM(V5:V16)","v":-47606.67}]
["Metro Area Transit Improvement Local Use Tax (0.25% effective 7/1/2008 to 9/30/2017)"]
["Month",2004,2005,2006,2007,2008,2009,2010,2011,2012,2013,2014,2015,2016,2017,2018,2019,2020,2021,2022,2023,2024]
["January ","-","-","-","-","-",708387,695753,921008,879799,862770,1049173,1310802,950345,1046414,149969,4806610,163759,8147,1612,-1477,1]
["February","-","-","-","-","-",598064,576979,540696,745915,708033,938613,777062,809161,547938,80507,14300,-94585,12958,-10302,-855,975]
["March","-","-","-","-","-",462394,586129,492122,530411,512281,618841,277251,676856,612515,-252848,-100874,33162,-28827,2901,-320865,135]
["April","-","-","-","-","-",555703,631609,591224,565545,714200,1022975,799755,770323,628164,64706,-10669,13618,-28833,1896,47,-1345]
["May","-","-","-","-","-",491712,485640,599949,608647,685468,804291,784971,763497,721697,110632,36558,115161,26891,25756,212,0]
["June","-","-","-","-","-",559532,489224,580062,672210,668340,670580,741355,506236,1067100,-12530,16653,-71316,-7382,6034,-184,2]
["July","-","-","-","-",1,445213,464026,591064,652674,668283,716108,700200,726682,741062,60957,-105814,-85689,-17040,763,104,0]
["August","-","-","-","-",413407,644805,634339,681191,777441,867176,734943,1095786,758456,774521,21187,-102370,-130509,11230,-71,292,250.67]
["September","-","-","-","-",498629.99,452763,517155,666115,720387,592787,727260,649408,655591,617135,41689,-6237,27237,18395,-14016,-2710,104558.24]
["October","-","-","-","-",566288.98,537759,574278,677729,792629,910972,582536,765338,679830,756868,68711,2768,10068,-545,-2036,-244,28.53]
["November ","-","-","-","-","*  ",510735,552008,643189,707299,854824,907164,650000,711662,64442,-105434,-8586,-38012,-14935,-1321,3377,-270.94]
["December","-","-","-","-",982597,439604,579433,603562,630242,794473,651736,620733,481207,45358,41668,26943,4714,4436,-4639183,9,0]
["Total","-","-","-","-",{"$f":"SUM(F20:F31)","v":2460923.9699999997},6406671,6786573,7587911,8283199,8839607,9424220,9172661,8489846,7623214,269214,{"$f":"SUM(Q20:Q31)","v":4569282},{"$f":"SUM(R20:R31)","v":-52392},-15505,-4627967,{"$f":"SUM(U20:U31)","v":-322294},{"$f":"SUM(V20:V31)","v":104334.5}]
["Metro Area Transit Improvement Refunds"]
["Month",2004,2005,2006,2007,2008,2009,2010,2011,2012,2013,2014,2015,2016,2017,2018,2019,2020,2021,2022,2023,2024]
["January ","-","-","-","-","-",-28743,-164017,-15833,-188012,-205695,-167281,-448552,-362098,-73054,-138599,-1047503,-45959,-332,-86355,0,0]
["February","-","-","-","-","-",-30082,-178512,-902139,-512605,-175818,-641366,-723738,-744127,-187401,-369380,-125071,-707817,-85025,848,-40457,-5942]
["March","-","-","-","-","-",-131815,-99772,-241987,-290547,-144676,-145406,-488272,-422264,-527267,-570965,-134058,-246802,-225592,-42899,0,0]
["April","-","-","-","-","-",-62385,-68750,-173650,-66712,-147796,-238626,-194128,-248359,-81610,-465382,-196001,-32434,-3028,0,0,-3154]
["May","-","-","-","-","-",-130737,-210568,-141649,-120226,-507305,-174361,-138004,-98238,-272912,-488334,-38169,-49283,-493434,0,0,0]
["June","-","-","-","-","-",-56728,-42488,-179413,-118922,-201216,-162452,-631153,-371470,-752298,-251184,-53825,-154808,-207977,-352682,-433,0]
["July","-","-","-","-",0,-48991,-6450,-159517,-239374,-260308,-121644,-195806,-277965,-379952,-114621,-166527,-246019,-788,-342,-362,0]
["August","-","-","-","-",0,-156110,-29783,-189975,-227222,-237483,-171707,-254189,-512756,-115963,-259132,-15954,-68198,602,0,-41,0]
["September","-","-","-","-",0,-56376,-13304,-212802,-436620,-128592,-98063,-940683,-159717,-564607,-443574,-6154,-13443,-530,-300,0,0]
["October","-","-","-","-",0,-126721,-10219,-244387,-193253,-520475,-490910,-91688,-187946,-272689,-130230,-128022,-10463,-18256,-258527,0,0]
["November ","-","-","-","-","*  ",-40069,-491543,-305825,-239545,-308002,-257069,-171270,-88384,-242525,-202514,-573122,-309387,-16854,0,0,0]
["December","-","-","-","-",-8254,-42119,-29386,-268375,-146228,-289329,-846999,-292323,-185277,-100525,-38660,-7528,-9430,-22845,0,0,0]
["Total","-","-","-","-",{"$f":"SUM(F35:F46)","v":-8254},-910876,-1344792,-3035552,-2779266,-3126695,-3515884,-4569806,-3658601,-3570803,-3472575,{"$f":"SUM(Q35:Q46)","v":-2491934},{"$f":"SUM(R35:R46)","v":-1894043},-1074059,-740257,{"$f":"SUM(U35:U46)","v":-41293},{"$f":"SUM(V35:V46)","v":-9096}]
["Hidden columns B-E do not contain any data for CY 2004-2007"]
["*Collections for November 2008 are included in December totals due to a new processing system."]
["Note: Local Sales & Use Tax ended September 30, 2017. Collections in later months are late tax payments or refunds."]
[{"$f":"'Local SUT'!A78","v":"Source:  Minnesota Department of Revenue, Tax Research Division, November 2025"}]
["end of worksheet"]

{"sheet":"Blue Earth Co","index":55,"n_rows":50,"n_cols":22,"rows_kept":50,"cut":false,"hidden":true,"merged":[[0,0,0,19],[49,0,49,19],[48,0,48,19],[32,0,32,19],[47,0,47,19],[1,0,1,19],[2,0,2,19],[17,0,17,19]]}
["Blue Earth County Monthly Detail for Minnesota Local Sales & Use Tax"]
[{"$f":"'Local SUT'!A2","v":"CY 2004-2024"}]
["Blue Earth County Transit Sales Tax (0.5%)"]
["Month",2004,2005,2006,2007,2008,2009,2010,2011,2012,2013,2014,2015,2016,2017,2018,2019,2020,2021,2022,2023,2024]
["January ","-","-","-","-","-","-","-","-","-","-","-","-","-",587274,557825,590289,615162,617136,657808,720780,750249]
["February","-","-","-","-","-","-","-","-","-","-","-","-","-",414563,439225,449640,460944,506420,563641,601879,589762]
["March","-","-","-","-","-","-","-","-","-","-","-","-","-",386758,395827,394546,453601,470231,543003,569822,570426]
["April","-","-","-","-","-","-","-","-","-","-","-","-",405,465795,494370,498215,465354,617596,630578,732380,655665]
["May","-","-","-","-","-","-","-","-","-","-","-","-",445640,465897,446936,487088,437810,586573,586476,644360,632239]
["June","-","-","-","-","-","-","-","-","-","-","-","-",464488,491143,519512,516335,530252,622274,800136,715205,689254]
["July","-","-","-","-","-","-","-","-","-","-","-","-",446517,480157,473085,513888,479384,621963,696693,824807,645002]
["August","-","-","-","-","-","-","-","-","-","-","-","-",538529,542988,582975,552254,634209,661324,671696,667092,660421.92000000004]
["September","-","-","-","-","-","-","-","-","-","-","-","-",492730,504260,526244,547186,543386,624451,690701,678355,674752.11]
["October","-","-","-","-","-","-","-","-","-","-","-","-",488004,494946,510151,529397,559170,657511,683301,665361,659992.24]
["November ","-","-","-","-","-","-","-","-","-","-","-","-",472359,472539,523729,540009,530923,616593,663122,675080,670372.48]
["December","-","-","-","-","-","-","-","-","-","-","-","-",468684,485678,546920,536155,553732,589112,756215,895215,670815.09]
["Total","-","-","-","-","-","-","-","-","-","-","-","-",{"$f":"SUM(N5:N16)","v":3817356},{"$f":"SUM(O5:O16)","v":5791998},{"$f":"SUM(P5:P16)","v":6016799},{"$f":"SUM(Q5:Q16)","v":6155002},{"$f":"SUM(R5:R16)","v":6263927},{"$f":"SUM(S5:S16)","v":7191184},7943370,{"$f":"SUM(U5:U16)","v":8390336},{"$f":"SUM(V5:V16)","v":7868950.8399999999}]
["Blue Earth County Transit Use Tax (0.5%)"]
["Month",2004,2005,2006,2007,2008,2009,2010,2011,2012,2013,2014,2015,2016,2017,2018,2019,2020,2021,2022,2023,2024]
["January ","-","-","-","-","-","-","-","-","-","-","-","-","-",13927,25292,30339,27567,26804,28636,37585,47336]
["February","-","-","-","-","-","-","-","-","-","-","-","-","-",13901,18511,25996,17511,13412,23300,30007,33407]
["March","-","-","-","-","-","-","-","-","-","-","-","-","-",8904,16041,16882,17393,14215,20860,26617,28820]
["April","-","-","-","-","-","-","-","-","-","-","-","-",0,18415,21993,27379,17768,20987,24087,29282,34365]
["May","-","-","-","-","-","-","-","-","-","-","-","-",14850,15737,18153,24261,8098,17904,24731,29129,24706]
["June","-","-","-","-","-","-","-","-","-","-","-","-",15634,16403,24318,25191,17618,20679,32116,24562,34177]
["July","-","-","-","-","-","-","-","-","-","-","-","-",16119,22034,29695,19728,25606,25507,42867,34203,28318]
["August","-","-","-","-","-","-","-","-","-","-","-","-",21539,24836,26888,27191,20587,52706,32596,28183,29739.439999999999]
["September","-","-","-","-","-","-","-","-","-","-","-","-",18242,31304,23910,31711,25654,18541,27628,31977,47935.51]
["October","-","-","-","-","-","-","-","-","-","-","-","-",20455,22852,30822,28566,27462,27079,48599,31128,35812.050000000003]
["November ","-","-","-","-","-","-","-","-","-","-","-","-",17728,21572,26113,31918,24773,31772,30267,30243,36719.5]
["December","-","-","-","-","-","-","-","-","-","-","-","-",19617,19534,26417,21102,17523,22234,28147,29571,27894.86]
["Total","-","-","-","-","-","-","-","-","-","-","-","-",{"$f":"SUM(N20:N31)","v":144184},{"$f":"SUM(O20:O31)","v":229419},{"$f":"SUM(P20:P31)","v":288153},{"$f":"SUM(Q20:Q31)","v":310264},{"$f":"SUM(R20:R31)","v":247560},{"$f":"SUM(S20:S31)","v":291840},363834,{"$f":"SUM(U20:U31)","v":362487},{"$f":"SUM(V20:V31)","v":409230.36}]
["Blue Earth County Transit Refunds"]
["Month",2004,2005,2006,2007,2008,2009,2010,2011,2012,2013,2014,2015,2016,2017,2018,2019,2020,2021,2022,2023,2024]
["January ","-","-","-","-","-","-","-","-","-","-","-","-","-",-37,-111,-169,-8153,-15681,-1699,0,-538]
["February","-","-","-","-","-","-","-","-","-","-","-","-","-",-218,0,-7408,-122,-74,-101,-1628,39]
["March","-","-","-","-","-","-","-","-","-","-","-","-","-",-2453,0,-98,-2343,-137,-75,-399,-81]
["April","-","-","-","-","-","-","-","-","-","-","-","-",0,-380,-3754,-11034,-1357,-416,0,-266,-4]
["May","-","-","-","-","-","-","-","-","-","-","-","-",0,-209,-41,-997,-9196,-312,-3109,-127,-803]
["June","-","-","-","-","-","-","-","-","-","-","-","-",0,-498,-161,-293,-294,-1283,-2261,-4488,-2047]
["July","-","-","-","-","-","-","-","-","-","-","-","-",0,-32,-1537,-36,-10957,-73,-141,-4,-497]
["August","-","-","-","-","-","-","-","-","-","-","-","-",-4,-80,-183,-367,-2241,-4232,-1219,-45237,-2316.96]
["September","-","-","-","-","-","-","-","-","-","-","-","-",-27,0,0,-3690,-4,0,-321,-65,-26.04]
["October","-","-","-","-","-","-","-","-","-","-","-","-",-62,-89,-141,0,-145,-2687,-816,-2930,-15401.65]
["November ","-","-","-","-","-","-","-","-","-","-","-","-",0,0,-530,-1288,0,0,0,0,-234.55]
["December","-","-","-","-","-","-","-","-","-","-","-","-",0,-166,-7571,-1085,-1266,-5,0,-4673,0]
["Total","-","-","-","-","-","-","-","-","-","-","-","-",{"$f":"SUM(N35:N46)","v":-93},{"$f":"SUM(O35:O46)","v":-4162},{"$f":"SUM(P35:P46)","v":-14029},{"$f":"SUM(Q35:Q46)","v":-26465},{"$f":"SUM(R35:R46)","v":-36078},{"$f":"SUM(S35:S46)","v":-24900},-9742,{"$f":"SUM(U35:U46)","v":-59817},{"$f":"SUM(V35:V46)","v":-21910.2}]
["Hidden columns B-M do not contain any data for CY 2004-2015"]
[{"$f":"'Local SUT'!A78","v":"Source:  Minnesota Department of Revenue, Tax Research Division, November 2025"}]
["end of worksheet"]

{"sheet":"Brown Co","index":56,"n_rows":50,"n_cols":22,"rows_kept":50,"cut":false,"hidden":true,"merged":[[0,0,0,19],[32,0,32,19],[47,0,47,19],[49,0,49,19],[48,0,48,19],[1,0,1,19],[2,0,2,19],[17,0,17,19]]}
["Brown County Monthly Detail for Minnesota Local Sales & Use Tax"]
[{"$f":"'Local SUT'!A2","v":"CY 2004-2024"}]
["Brown County Transit Sales Tax (0.5%)"]
["Month",2004,2005,2006,2007,2008,2009,2010,2011,2012,2013,2014,2015,2016,2017,2018,2019,2020,2021,2022,2023,2024]
["January ","-","-","-","-","-","-","-","-","-","-","-","-","-",149848,144996,149422,172573,184607,202230,212055,217825]
["February","-","-","-","-","-","-","-","-","-","-","-","-","-",111055,114144,118037,133542,147798,158714,174798,164941]
["March","-","-","-","-","-","-","-","-","-","-","-","-","-",108346,106067,112788,129977,143671,164260,161352,156207]
["April","-","-","-","-","-","-","-","-","-","-","-","-",8,127062,126867,134608,156087,181889,189513,205124,182045]
["May","-","-","-","-","-","-","-","-","-","-","-","-",122823,125141,118033,133631,152701,177984,163514,197667,211092]
["June","-","-","-","-","-","-","-","-","-","-","-","-",119872,135128,146910,156828,162050,176629,225357,203900,203377]
["July","-","-","-","-","-","-","-","-","-","-","-","-",128047,127711,132389,145318,147352,186990,193676,218085,198832]
["August","-","-","-","-","-","-","-","-","-","-","-","-",151933,148983,168927,169819,189433,200854,179386,191838,205613.78]
["September","-","-","-","-","-","-","-","-","-","-","-","-",137533,136948,151627,161797,164966,177693,203546,208285,198294.77]
["October","-","-","-","-","-","-","-","-","-","-","-","-",137320,137031,141136,160423,164573,187219,196960,205488,197809.66]
["November ","-","-","-","-","-","-","-","-","-","-","-","-",134296,128908,138773,151579,163896,230984,210756,191739,205797.84]
["December","-","-","-","-","-","-","-","-","-","-","-","-",127377,130272,148147,149676,177748,165538,204711,196446,196410.57]
["Total","-","-","-","-","-","-","-","-","-","-","-","-",{"$f":"SUM(N5:N16)","v":1059209},{"$f":"SUM(O5:O16)","v":1566433},{"$f":"SUM(P5:P16)","v":1638016},{"$f":"SUM(Q5:Q16)","v":1743926},{"$f":"SUM(R5:R16)","v":1914898},{"$f":"SUM(S5:S16)","v":2161856},2292623,{"$f":"SUM(U5:U16)","v":2366777},{"$f":"SUM(V5:V16)","v":2338245.6199999996}]
["Brown County Transit Use Tax (0.5%)"]
["Month",2004,2005,2006,2007,2008,2009,2010,2011,2012,2013,2014,2015,2016,2017,2018,2019,2020,2021,2022,2023,2024]
["January ","-","-","-","-","-","-","-","-","-","-","-","-","-",11916,8532,3000,10178,8683,7921,13870,14557]
["February","-","-","-","-","-","-","-","-","-","-","-","-","-",6618,4305,6612,20871,2165,5975,10861,6044]
["March","-","-","-","-","-","-","-","-","-","-","-","-","-",8283,4410,4808,5456,4724,5025,5136,8468]
["April","-","-","-","-","-","-","-","-","-","-","-","-",0,7072,7774,5427,-2669,7648,34658,15108,7747]
["May","-","-","-","-","-","-","-","-","-","-","-","-",4962,6599,4173,7197,10386,8460,8499,12938,8389]
["June","-","-","-","-","-","-","-","-","-","-","-","-",10105,7734,10593,7073,9067,10107,7208,9695,8783]
["July","-","-","-","-","-","-","-","-","-","-","-","-",11134,11134,13543,7541,9065,13049,13734,12803,15046]
["August","-","-","-","-","-","-","-","-","-","-","-","-",7483,8221,8984,8890,9082,9798,8039,13868,10306.16]
["September","-","-","-","-","-","-","-","-","-","-","-","-",7911,7951,8290,10286,8606,8575,15889,9082,9168.18]
["October","-","-","-","-","-","-","-","-","-","-","-","-",10942,7615,12307,9635,12171,14277,10463,7982,8664]
["November ","-","-","-","-","-","-","-","-","-","-","-","-",10442,8014,6014,11788,8355,15313,9995,8851,7915.85]
["December","-","-","-","-","-","-","-","-","-","-","-","-",5028,6012,6030,9538,7143,7551,9105,7476,8838.69]
["Total","-","-","-","-","-","-","-","-","-","-","-","-",{"$f":"SUM(N20:N31)","v":68007},{"$f":"SUM(O20:O31)","v":97169},{"$f":"SUM(P20:P31)","v":94955},{"$f":"SUM(Q20:Q31)","v":91795},{"$f":"SUM(R20:R31)","v":107711},{"$f":"SUM(S20:S31)","v":110350},136511,{"$f":"SUM(U20:U31)","v":127670},{"$f":"SUM(V20:V31)","v":113926.88}]
["Brown County Transit Refunds"]
["Month",2004,2005,2006,2007,2008,2009,2010,2011,2012,2013,2014,2015,2016,2017,2018,2019,2020,2021,2022,2023,2024]
["January ","-","-","-","-","-","-","-","-","-","-","-","-","-",-1507,-4,0,0,-424,-4458,0,0]
["February","-","-","-","-","-","-","-","-","-","-","-","-","-",0,-1623,-27,-453,-1001,-45,-432,-15469]
["March","-","-","-","-","-","-","-","-","-","-","-","-","-",-1,0,-6507,-9931,-84,-297,0,0]
["April","-","-","-","-","-","-","-","-","-","-","-","-",0,0,0,-5153,-1,0,0,-223,0]
["May","-","-","-","-","-","-","-","-","-","-","-","-",0,0,-12,-7006,-139,-663,0,-4303,0]
["June","-","-","-","-","-","-","-","-","-","-","-","-",0,0,-5,-1,-11053,-39,-843,0,0]
["July","-","-","-","-","-","-","-","-","-","-","-","-",0,-284,0,0,-1,-197,-14,0,-10]
["August","-","-","-","-","-","-","-","-","-","-","-","-",0,0,-1,0,-193,0,-151,-1672,0]
["September","-","-","-","-","-","-","-","-","-","-","-","-",0,-5,0,0,0,-15059,0,0,0]
["October","-","-","-","-","-","-","-","-","-","-","-","-",-85,0,0,-106,-255,0,-1390,-26686,-3.4]
["November ","-","-","-","-","-","-","-","-","-","-","-","-",0,0,-523,0,0,0,0,0,0]
["December","-","-","-","-","-","-","-","-","-","-","-","-",0,0,0,0,0,0,0,-585,-37.83]
["Total","-","-","-","-","-","-","-","-","-","-","-","-",{"$f":"SUM(N35:N46)","v":-85},{"$f":"SUM(O35:O46)","v":-1797},{"$f":"SUM(P35:P46)","v":-2168},{"$f":"SUM(Q35:Q46)","v":-18800},{"$f":"SUM(R35:R46)","v":-22026},{"$f":"SUM(S35:S46)","v":-17467},-7198,{"$f":"SUM(U35:U46)","v":-33901},{"$f":"SUM(V35:V46)","v":-15520.23}]
["Hidden columns B-M do not contain any data for CY 2004-2015"]
[{"$f":"'Local SUT'!A78","v":"Source:  Minnesota Department of Revenue, Tax Research Division, November 2025"}]
["end of worksheet"]

{"sheet":"Cass Co","index":57,"n_rows":50,"n_cols":22,"rows_kept":50,"cut":false,"hidden":true,"merged":[[0,0,0,19],[1,0,1,19],[2,0,2,19],[17,0,17,19],[49,0,49,19],[32,0,32,19],[48,0,48,19],[47,0,47,19]]}
["Cass County Monthly Detail for Minnesota Local Sales & Use Tax"]
[{"$f":"'Local SUT'!A2","v":"CY 2004-2024"}]
["Cass County Transit Sales Tax (0.5%)"]
["Month",2004,2005,2006,2007,2008,2009,2010,2011,2012,2013,2014,2015,2016,2017,2018,2019,2020,2021,2022,2023,2024]
["January ","-","-","-","-","-","-","-","-","-","-","-","-","-",110220,111812,143377,139715,171640,189358,199365,212349]
["February","-","-","-","-","-","-","-","-","-","-","-","-","-",91632,123181,106235,117246,157949,170375,163784,188559]
["March","-","-","-","-","-","-","-","-","-","-","-","-","-",89522,90734,101568,110016,165343,155575,159410,162086]
["April","-","-","-","-","-","-","-","-","-","-","-","-",0,100020,102623,107260,117811,191417,183943,168893,168641]
["May","-","-","-","-","-","-","-","-","-","-","-","-",81450,107482,101649,115708,127382,187667,174473,172109,199694]
["June","-","-","-","-","-","-","-","-","-","-","-","-",145572,154818,173838,181909,200175,255305,254258,283435,290270]
["July","-","-","-","-","-","-","-","-","-","-","-","-",179119,206723,212039,235504,252483,312252,343480,372390,359704]
["August","-","-","-","-","-","-","-","-","-","-","-","-",232432,253647,266758,274983,299318,390750,388318,390081,393308.11]
["September","-","-","-","-","-","-","-","-","-","-","-","-",206164,203839,225301,230407,283032,332420,348522,364232,358977.04]
["October","-","-","-","-","-","-","-","-","-","-","-","-",183235,184293,188157,190186,245285,278222,311682,315966,306437.42]
["November ","-","-","-","-","-","-","-","-","-","-","-","-",121100,124651,139985,151630,176958,209917,233506,241330,235658.23]
["December","-","-","-","-","-","-","-","-","-","-","-","-",95220,101193,111651,115185,150825,180395,187545,188092,184211.88]
["Total","-","-","-","-","-","-","-","-","-","-","-","-",{"$f":"SUM(N5:N16)","v":1244292},{"$f":"SUM(O5:O16)","v":1728040},{"$f":"SUM(P5:P16)","v":1847728},{"$f":"SUM(Q5:Q16)","v":1953952},{"$f":"SUM(R5:R16)","v":2220246},{"$f":"SUM(S5:S16)","v":2833277},2941035,{"$f":"SUM(U5:U16)","v":3019087},3059895.6799999997]
["Cass County Transit Use Tax (0.5%)"]
["Month",2004,2005,2006,2007,2008,2009,2010,2011,2012,2013,2014,2015,2016,2017,2018,2019,2020,2021,2022,2023,2024]
["January ","-","-","-","-","-","-","-","-","-","-","-","-","-",5109,7123,5468,9510,24045,16339,9556,14205]
["February","-","-","-","-","-","-","-","-","-","-","-","-","-",3091,32276,4806,-915,26278,11384,6221,6055]
["March","-","-","-","-","-","-","-","-","-","-","-","-","-",3428,19145,2723,4136,45617,3834,2276,3483]
["April","-","-","-","-","-","-","-","-","-","-","-","-",16,3373,6200,3382,33403,19623,9178,3965,3385]
["May","-","-","-","-","-","-","-","-","-","-","-","-",5010,2743,39838,4746,2200,12936,5432,2835,5132]
["June","-","-","-","-","-","-","-","-","-","-","-","-",6248,4944,5289,9331,17312,9246,10212,6292,9338]
["July","-","-","-","-","-","-","-","-","-","-","-","-",8908,8701,10053,11083,44023,675759,23026,9312,10598]
["August","-","-","-","-","-","-","-","-","-","-","-","-",12088,10223,12459,11500,15868,36098,7111,8564,9739.2099999999991]
["September","-","-","-","-","-","-","-","-","-","-","-","-",6689,5451,6666,11252,7486,27556,2152,12448,10313.16]
["October","-","-","-","-","-","-","-","-","-","-","-","-",6704,7745,12003,8449,9902,24342,11703,12119,9382.4500000000007]
["November ","-","-","-","-","-","-","-","-","-","-","-","-",3287,4970,5987,6279,5022,8213,5058,6313,10376.280000000001]
["December","-","-","-","-","-","-","-","-","-","-","-","-",3512,7362,3667,42280,12083,7089,4360,3551,5565.26]
["Total","-","-","-","-","-","-","-","-","-","-","-","-",{"$f":"SUM(N20:N31)","v":52462},{"$f":"SUM(O20:O31)","v":67140},{"$f":"SUM(P20:P31)","v":160706},{"$f":"SUM(Q20:Q31)","v":121299},{"$f":"SUM(R20:R31)","v":160030},{"$f":"SUM(S20:S31)","v":916802},109789,{"$f":"SUM(U20:U31)","v":83452},97572.359999999986]
["Cass County Transit Refunds"]
["Month",2004,2005,2006,2007,2008,2009,2010,2011,2012,2013,2014,2015,2016,2017,2018,2019,2020,2021,2022,2023,2024]
["January ","-","-","-","-","-","-","-","-","-","-","-","-","-",0,-219,0,-162,-2,0,0,-4]
["February","-","-","-","-","-","-","-","-","-","-","-","-","-",0,-896,0,-2,-5,-1609,-376,-3]
["March","-","-","-","-","-","-","-","-","-","-","-","-","-",0,0,-46,0,-225,-200,0,-972]
["April","-","-","-","-","-","-","-","-","-","-","-","-",0,-99,0,0,-231,-298,-141,0,0]
["May","-","-","-","-","-","-","-","-","-","-","-","-",0,0,0,0,-1271,0,-36,-1981,-2442]
["June","-","-","-","-","-","-","-","-","-","-","-","-",0,0,0,0,-15,0,-56,0,0]
["July","-","-","-","-","-","-","-","-","-","-","-","-",0,0,0,-751,-204,0,-34,0,-318]
["August","-","-","-","-","-","-","-","-","-","-","-","-",0,0,-36,-164,-1271,-1119,0,0,-33.92]
["September","-","-","-","-","-","-","-","-","-","-","-","-",0,-1136,0,-46,-1652,0,0,0,-4.8499999999999996]
["October","-","-","-","-","-","-","-","-","-","-","-","-",0,0,0,0,0,-99,0,-16,-1.5]
["November ","-","-","-","-","-","-","-","-","-","-","-","-",0,0,0,-2,-62,0,-1693,-4538,0]
["December","-","-","-","-","-","-","-","-","-","-","-","-",0,-81,-10,0,0,-235,0,0,-6.55]
["Total","-","-","-","-","-","-","-","-","-","-","-","-",{"$f":"SUM(N35:N46)","v":0},{"$f":"SUM(O35:O46)","v":-1316},{"$f":"SUM(P35:P46)","v":-1161},{"$f":"SUM(Q35:Q46)","v":-1009},{"$f":"SUM(R35:R46)","v":-4870},{"$f":"SUM(S35:S46)","v":-1983},-3769,{"$f":"SUM(U35:U46)","v":-6911},-3785.82]
["Hidden columns B-M do not contain any data for CY 2004-2015"]
[{"$f":"'Local SUT'!A78","v":"Source:  Minnesota Department of Revenue, Tax Research Division, November 2025"}]
["end of worksheet"]

{"sheet":"Chisago Co","index":58,"n_rows":50,"n_cols":22,"rows_kept":50,"cut":false,"hidden":true,"merged":[[0,0,0,19],[32,0,32,19],[47,0,47,19],[49,0,49,19],[48,0,48,19],[1,0,1,19],[2,0,2,19],[17,0,17,19]]}
["Chisago County Monthly Detail for Minnesota Local Sales & Use Tax"]
[{"$f":"'Local SUT'!A2","v":"CY 2004-2024"}]
["Chisago County Transit Sales Tax (0.5%)"]
["Month",2004,2005,2006,2007,2008,2009,2010,2011,2012,2013,2014,2015,2016,2017,2018,2019,2020,2021,2022,2023,2024]
["January ","-","-","-","-","-","-","-","-","-","-","-","-","-",174840,180238,216003,238613,249700,293506,308515,300342]
["February","-","-","-","-","-","-","-","-","-","-","-","-","-",136891,146129,167406,187544,215454,243283,249868,239141]
["March","-","-","-","-","-","-","-","-","-","-","-","-","-",136868,141421,159092,182681,202127,243590,221883,223940]
["April","-","-","-","-","-","-","-","-","-","-","-","-",316,156938,166391,196114,196612,271099,270165,267784,262907]
["May","-","-","-","-","-","-","-","-","-","-","-","-",130726,165357,161624,200566,205002,260593,272053,263750,274388]
["June","-","-","-","-","-","-","-","-","-","-","-","-",164307,194154,215370,242916,251805,299086,315880,327976,335316]
["July","-","-","-","-","-","-","-","-","-","-","-","-",165558,193889,206888,228457,257482,290822,349125,363556,327262]
["August","-","-","-","-","-","-","-","-","-","-","-","-",196623,205711,242855,264119,291579,305302,310895,303233,351188.55]
["September","-","-","-","-","-","-","-","-","-","-","-","-",175973,182809,204047,233289,252477,276499,319372,302338,303887.32]
["October","-","-","-","-","-","-","-","-","-","-","-","-",171572,186996,208690,230877,241331,292395,317256,318361,322608.68]
["November ","-","-","-","-","-","-","-","-","-","-","-","-",162818,174302,210708,229107,235477,278032,321291,293247,327722.3]
["December","-","-","-","-","-","-","-","-","-","-","-","-",145417,158811,190116,207763,228633,258473,276583,267756,278688.06]
["Total","-","-","-","-","-","-","-","-","-","-","-","-",{"$f":"SUM(N5:N16)","v":1313310},{"$f":"SUM(O5:O16)","v":2067566},{"$f":"SUM(P5:P16)","v":2274477},{"$f":"SUM(Q5:Q16)","v":2575709},{"$f":"SUM(R5:R16)","v":2769236},{"$f":"SUM(S5:S16)","v":3199582},3532999,{"$f":"SUM(U5:U16)","v":3488267},3547390.9099999997]
["Chisago County Transit Use Tax (0.5%)"]
["Month",2004,2005,2006,2007,2008,2009,2010,2011,2012,2013,2014,2015,2016,2017,2018,2019,2020,2021,2022,2023,2024]
["January ","-","-","-","-","-","-","-","-","-","-","-","-","-",11125,13303,13577,11271,14390,13710,19214,19987]
["February","-","-","-","-","-","-","-","-","-","-","-","-","-",6651,11914,9494,7526,6566,14147,12425,10173]
["March","-","-","-","-","-","-","-","-","-","-","-","-","-",8548,5918,5911,8173,6386,5716,11959,7597]
["April","-","-","-","-","-","-","-","-","-","-","-","-",0,8642,9177,12127,7507,11109,10253,9882,18274]
["May","-","-","-","-","-","-","-","-","-","-","-","-",7171,8055,6870,7550,6610,11794,8890,6690,13827]
["June","-","-","-","-","-","-","-","-","-","-","-","-",8327,7976,6846,9525,9827,9074,16203,10755,13127]
["July","-","-","-","-","-","-","-","-","-","-","-","-",7836,13634,10569,10793,13500,12560,14989,16016,13848]
["August","-","-","-","-","-","-","-","-","-","-","-","-",10585,5056,9197,12941,10118,12884,14871,11190,14293.26]
["September","-","-","-","-","-","-","-","-","-","-","-","-",10625,9423,10550,11633,13559,25349,11754,12058,12645.19]
["October","-","-","-","-","-","-","-","-","-","-","-","-",7912,10336,9962,12924,11315,14389,14241,30175,15778.75]
["November ","-","-","-","-","-","-","-","-","-","-","-","-",6911,13666,10284,8343,5678,4839,10365,16938,17216.7]
["December","-","-","-","-","-","-","-","-","-","-","-","-",4892,7700,14532,9113,11113,8761,12146,15449,13686.91]
["Total","-","-","-","-","-","-","-","-","-","-","-","-",{"$f":"SUM(N20:N31)","v":64259},{"$f":"SUM(O20:O31)","v":110812},{"$f":"SUM(P20:P31)","v":119122},{"$f":"SUM(Q20:Q31)","v":123931},{"$f":"SUM(R20:R31)","v":116197},{"$f":"SUM(S20:S31)","v":138101},147285,{"$f":"SUM(U20:U31)","v":172751},170453.81000000003]
["Chisago County Transit Refunds"]
["Month",2004,2005,2006,2007,2008,2009,2010,2011,2012,2013,2014,2015,2016,2017,2018,2019,2020,2021,2022,2023,2024]
["January ","-","-","-","-","-","-","-","-","-","-","-","-","-",-142,-1426,0,-4,0,-24,-155,-2479]
["February","-","-","-","-","-","-","-","-","-","-","-","-","-",-289,-314,-4063,-742,0,0,-742,-98]
["March","-","-","-","-","-","-","-","-","-","-","-","-","-",0,-208,-2380,-23,-5351,-2739,-9939,-99]
["April","-","-","-","-","-","-","-","-","-","-","-","-",0,-11803,0,-364,-3306,0,-290,-5797,-7443]
["May","-","-","-","-","-","-","-","-","-","-","-","-",0,0,-35,-9,-3968,-85,-4937,0,0]
["June","-","-","-","-","-","-","-","-","-","-","-","-",0,-163,-2023,-873,-1999,0,-581,-285,0]
["July","-","-","-","-","-","-","-","-","-","-","-","-",0,-624,0,-18,-294,-29,-155,-6414,-37]
["August","-","-","-","-","-","-","-","-","-","-","-","-",0,-1655,0,-1261,-4347,-31,-14,0,-333.13]
["September","-","-","-","-","-","-","-","-","-","-","-","-",0,-32,0,-11,0,-150,0,0,0]
["October","-","-","-","-","-","-","-","-","-","-","-","-",-10,-614,0,-4,-41,-652,-1,0,-24.06]
["November ","-","-","-","-","-","-","-","-","-","-","-","-",0,-27,-467,-695,-11356,-1597,-302,0,-174.64]
["December","-","-","-","-","-","-","-","-","-","-","-","-",0,-11664,-384,0,-637,-55,-119,-94,-0.9]
["Total","-","-","-","-","-","-","-","-","-","-","-","-",{"$f":"SUM(N35:N46)","v":-10},{"$f":"SUM(O35:O46)","v":-27013},{"$f":"SUM(P35:P46)","v":-4857},{"$f":"SUM(Q35:Q46)","v":-9678},{"$f":"SUM(R35:R46)","v":-26717},{"$f":"SUM(S35:S46)","v":-7950},-9162,{"$f":"SUM(U35:U46)","v":-23426},-10688.729999999998]
["Hidden columns B-M do not contain any data for CY 2004-2015"]
[{"$f":"'Local SUT'!A78","v":"Source:  Minnesota Department of Revenue, Tax Research Division, November 2025"}]
["end of worksheet"]

{"sheet":"Crow Wing Co","index":59,"n_rows":50,"n_cols":22,"rows_kept":50,"cut":false,"hidden":true,"merged":[[0,0,0,19],[48,0,48,19],[32,0,32,19],[47,0,47,19],[49,0,49,19],[1,0,1,19],[2,0,2,19],[17,0,17,19]]}
["Crow Wing County Monthly Detail for Minnesota Local Sales & Use Tax"]
[{"$f":"'Local SUT'!A2","v":"CY 2004-2024"}]
["Crow Wing County Transit Sales Tax (0.5%)"]
["Month",2004,2005,2006,2007,2008,2009,2010,2011,2012,2013,2014,2015,2016,2017,2018,2019,2020,2021,2022,2023,2024]
["January ","-","-","-","-","-","-","-","-","-","-","-","-","-",468857,475797,516764,554548,615096,644992,727920,749547]
["February","-","-","-","-","-","-","-","-","-","-","-","-","-",345059,362776,397085,433263,504563,554107,593053,576285]
["March","-","-","-","-","-","-","-","-","-","-","-","-","-",330096,345435,380935,399373,549476,521856,553817,576123]
["April","-","-","-","-","-","-","-","-","-","-","-","-",1914,393850,421416,444889,444064,635340,755683,653648,654770]
["May","-","-","-","-","-","-","-","-","-","-","-","-",367962,424590,431821,474279,490625,683411,635089,659402,744276]
["June","-","-","-","-","-","-","-","-","-","-","-","-",489881,540529,616609,667086,675084,843653,942670,896719,912020]
["July","-","-","-","-","-","-","-","-","-","-","-","-",511373,534959,569076,654125,697760,858957,977351,1086151,982999]
["August","-","-","-","-","-","-","-","-","-","-","-","-",667564,716777,801882,791195,913994,1007337,962578,1027375,1042381.73]
["September","-","-","-","-","-","-","-","-","-","-","-","-",587295,617354,667235,757463,794596,850392,972075,991561,988551.13]
["October","-","-","-","-","-","-","-","-","-","-","-","-",524961,560396,566690,618356,760803,765878,863781,873834,857422.98]
["November ","-","-","-","-","-","-","-","-","-","-","-","-",448178,460936,515390,534732,579110,626426,735395,751620,803021.27]
["December","-","-","-","-","-","-","-","-","-","-","-","-",396896,424523,470098,487772,551109,567686,756302,693231,695039.63]
["Total","-","-","-","-","-","-","-","-","-","-","-","-",{"$f":"SUM(N5:N16)","v":3996024},{"$f":"SUM(O5:O16)","v":5817926},{"$f":"SUM(P5:P16)","v":6244225},{"$f":"SUM(Q5:Q16)","v":6724681},{"$f":"SUM(R5:R16)","v":7294329},{"$f":"SUM(S5:S16)","v":8508215},9321879,{"$f":"SUM(U5:U16)","v":9508331},9582436.7400000002]
["Crow Wing County Transit Use Tax (0.5%)"]
["Month",2004,2005,2006,2007,2008,2009,2010,2011,2012,2013,2014,2015,2016,2017,2018,2019,2020,2021,2022,2023,2024]
["January ","-","-","-","-","-","-","-","-","-","-","-","-","-",20446,22747,30467,38315,27230,31280,26835,26950]
["February","-","-","-","-","-","-","-","-","-","-","-","-","-",15305,15461,22104,17430,14210,26163,22273,23826]
["March","-","-","-","-","-","-","-","-","-","-","-","-","-",16426,13344,11517,19038,17170,13278,26271,18646]
["April","-","-","-","-","-","-","-","-","-","-","-","-",0,27629,18277,19265,17697,18310,23593,25131,16209]
["May","-","-","-","-","-","-","-","-","-","-","-","-",13857,21156,18224,21056,18991,23156,18968,15292,15397]
["June","-","-","-","-","-","-","-","-","-","-","-","-",15047,19003,17318,45886,20124,20131,21138,24640,20824]
["July","-","-","-","-","-","-","-","-","-","-","-","-",22517,29980,20535,30426,29361,34974,27690,39931,21972]
["August","-","-","-","-","-","-","-","-","-","-","-","-",20966,30125,27251,35932,23204,17614,22600,25277,24453.02]
["September","-","-","-","-","-","-","-","-","-","-","-","-",19441,20921,28101,20674,7159,22076,26537,20512,24047.16]
["October","-","-","-","-","-","-","-","-","-","-","-","-",22151,25079,22320,30540,24113,24768,23352,29366,23584.48]
["November ","-","-","-","-","-","-","-","-","-","-","-","-",15388,19222,23810,19146,15454,24156,23282,24020,19529.98]
["December","-","-","-","-","-","-","-","-","-","-","-","-",16740,24215,17678,20700,17107,20829,22618,20828,41333.42]
["Total","-","-","-","-","-","-","-","-","-","-","-","-",{"$f":"SUM(N20:N31)","v":146107},{"$f":"SUM(O20:O31)","v":269507},{"$f":"SUM(P20:P31)","v":245066},{"$f":"SUM(Q20:Q31)","v":307713},{"$f":"SUM(R20:R31)","v":247993},{"$f":"SUM(S20:S31)","v":264624},280499,{"$f":"SUM(U20:U31)","v":300376},276772.06]
["Crow Wing County Transit Refunds"]
["Month",2004,2005,2006,2007,2008,2009,2010,2011,2012,2013,2014,2015,2016,2017,2018,2019,2020,2021,2022,2023,2024]
["January ","-","-","-","-","-","-","-","-","-","-","-","-","-",0,-390,-759,-21,-27,-66,-84,-445]
["February","-","-","-","-","-","-","-","-","-","-","-","-","-",0,-402,0,-2593,-252,-294,-229,-328]
["March","-","-","-","-","-","-","-","-","-","-","-","-","-",-38,-2897,-5,-230,-115,-40,-205,-7307]
["April","-","-","-","-","-","-","-","-","-","-","-","-",0,-1134,-233,-131,-58,-9270,-873,0,-77]
["May","-","-","-","-","-","-","-","-","-","-","-","-",0,-565,-54,-48,-2689,-1,-2328,-561,-1]
["June","-","-","-","-","-","-","-","-","-","-","-","-",0,-204,-903,-14,-368,0,-1096,-401,0]
["July","-","-","-","-","-","-","-","-","-","-","-","-",-23,0,-10,-362,-751,-2296,-420,-1,-63]
["August","-","-","-","-","-","-","-","-","-","-","-","-",-10,0,-48,-4,0,-244,-25,-1316,-6.18]
["September","-","-","-","-","-","-","-","-","-","-","-","-",0,-78,-32,-5,-281,0,0,-3,0]
["October","-","-","-","-","-","-","-","-","-","-","-","-",0,-43,-158,0,-890,-5,-10,-11,-1511.23]
["November ","-","-","-","-","-","-","-","-","-","-","-","-",0,0,-174,-80,0,0,-533,-546,-2065.08]
["December","-","-","-","-","-","-","-","-","-","-","-","-",-1738,-1421,-175,0,-1555,-145,-642,0,-1930.99]
["Total","-","-","-","-","-","-","-","-","-","-","-","-",{"$f":"SUM(N35:N46)","v":-1771},{"$f":"SUM(O35:O46)","v":-3483},{"$f":"SUM(P35:P46)","v":-5476},{"$f":"SUM(Q35:Q46)","v":-1408},{"$f":"SUM(R35:R46)","v":-9436},{"$f":"SUM(S35:S46)","v":-12355},-6327,{"$f":"SUM(U35:U46)","v":-3357},-13734.48]
["Hidden columns B-M do not contain any data for CY 2004-2015"]
[{"$f":"'Local SUT'!A78","v":"Source:  Minnesota Department of Revenue, Tax Research Division, November 2025"}]
["end of worksheet"]

{"sheet":"Otter Tail Co","index":60,"n_rows":50,"n_cols":22,"rows_kept":50,"cut":false,"hidden":true,"merged":[[47,0,47,19],[48,0,48,19],[49,0,49,19],[0,0,0,19],[2,0,2,19],[1,0,1,19],[32,0,32,19],[17,0,17,19]]}
["Otter Tail County Monthly Detail for Minnesota Local Sales & Use Tax"]
[{"$f":"'Local SUT'!A2","v":"CY 2004-2024"}]
["Otter Tail County Transit Sales Tax (0.5%)"]
["Month",2004,2005,2006,2007,2008,2009,2010,2011,2012,2013,2014,2015,2016,2017,2018,2019,2020,2021,2022,2023,2024]
["January ","-","-","-","-","-","-","-","-","-","-","-","-",303,262880,274160,277787,310363,347984,370925,413625,417283]
["February","-","-","-","-","-","-","-","-","-","-","-","-",164395,209287,211837,233155,237111,272645,321567,335384,359219]
["March","-","-","-","-","-","-","-","-","-","-","-","-",182863,182699,187070,201103,226325,273640,257471,306025,328191]
["April","-","-","-","-","-","-","-","-","-","-","-","-",226113,224685,230510,242213,249049,353001,357634,356744,380470]
["May","-","-","-","-","-","-","-","-","-","-","-","-",238937,251150,244933,264052,271012,348296,342801,357489,424903]
["June","-","-","-","-","-","-","-","-","-","-","-","-",280744,314947,343132,339520,381059,408542,478413,499058,506394]
["July","-","-","-","-","-","-","-","-","-","-","-","-",292474,309219,328571,345135,399018,450425,535936,586149,531354]
["August","-","-","-","-","-","-","-","-","-","-","-","-",349114,363975,376159,391166,427934,475047,500843,514895,532228.52]
["September","-","-","-","-","-","-","-","-","-","-","-","-",265028,281985,316990,333338,366714,409453,471363,513109,483998.92]
["October","-","-","-","-","-","-","-","-","-","-","-","-",277567,293379,308764,315288,373741,405476,456124,467125,478871.57]
["November ","-","-","-","-","-","-","-","-","-","-","-","-",238980,262035,302080,304039,320883,361577,406288,437389,438808.84]
["December","-","-","-","-","-","-","-","-","-","-","-","-",220053,244668,259993,266176,300726,358385,397848,394723,379360.59]
["Total","-","-","-","-","-","-","-","-","-","-","-","-",{"$f":"SUM(N5:N16)","v":2736571},{"$f":"SUM(O5:O16)","v":3200909},{"$f":"SUM(P5:P16)","v":3384199},{"$f":"SUM(Q5:Q16)","v":3512972},{"$f":"SUM(R5:R16)","v":3863935},4464471,{"$f":"SUM(T5:T16)","v":4897213},{"$f":"SUM(U5:U16)","v":5181715},5261082.4399999995]
["Otter Tail County Transit Use Tax (0.5%)"]
["Month",2004,2005,2006,2007,2008,2009,2010,2011,2012,2013,2014,2015,2016,2017,2018,2019,2020,2021,2022,2023,2024]
["January ","-","-","-","-","-","-","-","-","-","-","-","-",9,17892,17920,20308,17763,27450,23028,42346,30956]
["February","-","-","-","-","-","-","-","-","-","-","-","-",14201,13677,17507,17642,15835,17429,18962,25506,19862]
["March","-","-","-","-","-","-","-","-","-","-","-","-",17536,12325,12401,14119,10683,14234,15139,34862,21137]
["April","-","-","-","-","-","-","-","-","-","-","-","-",11995,17379,15091,9,26741,19943,17760,23846,18443]
["May","-","-","-","-","-","-","-","-","-","-","-","-",16379,20121,16285,15329,22105,23477,18936,46605,16771]
["June","-","-","-","-","-","-","-","-","-","-","-","-",15381,17777,23660,22751,16842,25094,24725,30122,24081]
["July","-","-","-","-","-","-","-","-","-","-","-","-",20093,29865,23987,24682,24254,27686,39731,27770,27713]
["August","-","-","-","-","-","-","-","-","-","-","-","-",16516,31120,40969,37039,39681,29343,26704,37195,35407.43]
["September","-","-","-","-","-","-","-","-","-","-","-","-",23055,23322,30770,15724,32900,19407,28535,35638,27490.73]
["October","-","-","-","-","-","-","-","-","-","-","-","-",23936,30189,29245,24643,28727,36330,36862,26796,27805.37]
["November ","-","-","-","-","-","-","-","-","-","-","-","-",19179,19205,26804,23591,26127,14095,27895,23799,31330.98]
["December","-","-","-","-","-","-","-","-","-","-","-","-",12639,18011,23095,20393,19507,20063,19410,28468,16194.69]
["Total","-","-","-","-","-","-","-","-","-","-","-","-",{"$f":"SUM(N20:N31)","v":190919},{"$f":"SUM(O20:O31)","v":250883},{"$f":"SUM(P20:P31)","v":277734},{"$f":"SUM(Q20:Q31)","v":236230},{"$f":"SUM(R20:R31)","v":281165},274551,{"$f":"SUM(T20:T31)","v":297687},{"$f":"SUM(U20:U31)","v":382953},297192.2]
["Otter Tail County Transit Refunds "]
["Month",2004,2005,2006,2007,2008,2009,2010,2011,2012,2013,2014,2015,2016,2017,2018,2019,2020,2021,2022,2023,2024]
["January ","-","-","-","-","-","-","-","-","-","-","-","-",0,0,-129,-2,-5156,-1672,-113,0,-17417]
["February","-","-","-","-","-","-","-","-","-","-","-","-",0,0,0,-143,-1243,0,-845,-124,-2481]
["March","-","-","-","-","-","-","-","-","-","-","-","-",0,-4,-132,0,-7467,-8830,-258,-22,-11]
["April","-","-","-","-","-","-","-","-","-","-","-","-",0,0,0,-111,-404,-277,-17,-1991,-301]
["May","-","-","-","-","-","-","-","-","-","-","-","-",0,0,0,0,-4872,-1,-90,-225,-2014]
["June","-","-","-","-","-","-","-","-","-","-","-","-",-46,0,0,-1,-4352,0,-24,-137,-907]
["July","-","-","-","-","-","-","-","-","-","-","-","-",-488,-1272,-477,0,-588,-352,-407,-226,-3]
["August","-","-","-","-","-","-","-","-","-","-","-","-",0,-108,-18,-3712,-808,0,-2,-359,-613.94000000000005]
["September","-","-","-","-","-","-","-","-","-","-","-","-",0,0,0,-346,-202,0,0,-233,0]
["October","-","-","-","-","-","-","-","-","-","-","-","-",0,-675,0,346,-42,-235,0,-53,-22558.34]
["November ","-","-","-","-","-","-","-","-","-","-","-","-",-1,-580,0,-1083,-2200,-76,-268,0,0]
["December","-","-","-","-","-","-","-","-","-","-","-","-",-5,-240,0,-3683,0,-2487,-39,0,-73445.63]
["Total","-","-","-","-","-","-","-","-","-","-","-","-",{"$f":"SUM(N35:N46)","v":-540},{"$f":"SUM(O35:O46)","v":-2879},{"$f":"SUM(P35:P46)","v":-756},{"$f":"SUM(Q35:Q46)","v":-8735},{"$f":"SUM(R35:R46)","v":-27334},-13930,{"$f":"SUM(T35:T46)","v":-2063},{"$f":"SUM(U35:U46)","v":-3370},-119751.91]
["Hidden columns B-M do not contain any data for CY 2004-2015"]
[{"$f":"'Local SUT'!A78","v":"Source:  Minnesota Department of Revenue, Tax Research Division, November 2025"}]
["end of worksheet"]

{"sheet":"Wabasha Co","index":61,"n_rows":50,"n_cols":22,"rows_kept":50,"cut":false,"hidden":true,"merged":[[0,0,0,19],[1,0,1,19],[2,0,2,19],[17,0,17,19],[49,0,49,19],[48,0,48,19],[32,0,32,19],[47,0,47,19]]}
["Wabasha County Monthly Detail for Minnesota Local Sales & Use Tax"]
[{"$f":"'Local SUT'!A2","v":"CY 2004-2024"}]
["Wabasha County Transit Sales Tax (0.5%)"]
["Month",2004,2005,2006,2007,2008,2009,2010,2011,2012,2013,2014,2015,2016,2017,2018,2019,2020,2021,2022,2023,2024]
["January ","-","-","-","-","-","-","-","-","-","-","-","-","-",62413,69234,77092,85253,93431,102898,162330,117186]
["February","-","-","-","-","-","-","-","-","-","-","-","-","-",50769,52148,62081,67014,74758,79094,83433,79769]
["March","-","-","-","-","-","-","-","-","-","-","-","-","-",46959,50969,55227,55586,70080,71043,76307,78573]
["April","-","-","-","-","-","-","-","-","-","-","-","-",0,52069,60058,62069,67528,97057,93921,105339,91911]
["May","-","-","-","-","-","-","-","-","-","-","-","-",46548,56678,52661,65064,72804,90374,91786,91158,90726]
["June","-","-","-","-","-","-","-","-","-","-","-","-",69264,67556,70291,78559,88375,93940,110845,121458,108416]
["July","-","-","-","-","-","-","-","-","-","-","-","-",61568,65610,79492,78202,96557,104509,125607,133582,114224]
["August","-","-","-","-","-","-","-","-","-","-","-","-",80119,79313,85181,90580,98856,103950,116935,111162,115965.32]
["September","-","-","-","-","-","-","-","-","-","-","-","-",67533,66891,74603,84261,90261,102237,120393,111465,111719.55]
["October","-","-","-","-","-","-","-","-","-","-","-","-",67145,71820,73000,83774,94065,110257,132944,115326,112545.68]
["November ","-","-","-","-","-","-","-","-","-","-","-","-",58235,44151,74312,78958,82897,95231,108160,99157,104195.08]
["December","-","-","-","-","-","-","-","-","-","-","-","-",54173,60743,68223,71219,79694,96835,99537,97574,93421.62]
["Total","-","-","-","-","-","-","-","-","-","-","-","-",{"$f":"SUM(N5:N16)","v":504585},{"$f":"SUM(O5:O16)","v":724972},{"$f":"SUM(P5:P16)","v":810172},{"$f":"SUM(Q5:Q16)","v":887086},{"$f":"SUM(R5:R16)","v":978890},{"$f":"SUM(S5:S16)","v":1132659},1253163,{"$f":"SUM(U5:U16)","v":1308291},1218652.25]
["Wabasha County Transit Use Tax (0.5%)"]
["Month",2004,2005,2006,2007,2008,2009,2010,2011,2012,2013,2014,2015,2016,2017,2018,2019,2020,2021,2022,2023,2024]
["January ","-","-","-","-","-","-","-","-","-","-","-","-","-",10676,10983,20206,9780,16488,20490,17632,13883]
["February","-","-","-","-","-","-","-","-","-","-","-","-","-",6918,8007,8635,6795,8671,10183,10014,9029]
["March","-","-","-","-","-","-","-","-","-","-","-","-","-",7074,8111,7483,7564,8108,7031,10794,9574]
["April","-","-","-","-","-","-","-","-","-","-","-","-",0,9098,9199,9025,9979,5184,14227,13761,11858]
["May","-","-","-","-","-","-","-","-","-","-","-","-",5276,7641,8815,8115,8461,9737,3307,13814,11177]
["June","-","-","-","-","-","-","-","-","-","-","-","-",5173,7874,10090,8787,8211,9743,14049,10163,11812]
["July","-","-","-","-","-","-","-","-","-","-","-","-",7762,11053,11379,11099,10622,26066,16345,17169,12819]
["August","-","-","-","-","-","-","-","-","-","-","-","-",5693,8166,10814,10170,9752,8612,15268,13559,9355.44]
["September","-","-","-","-","-","-","-","-","-","-","-","-",7363,9069,9644,13180,9892,9583,16902,13944,9226.75]
["October","-","-","-","-","-","-","-","-","-","-","-","-",12845,10322,13167,22721,10936,18221,23741,25955,23009.03]
["November ","-","-","-","-","-","-","-","-","-","-","-","-",9786,9167,9580,12133,4651,5310,14758,11597,10631.37]
["December","-","-","-","-","-","-","-","-","-","-","-","-",9732,8460,9685,11037,16505,14532,25899,11659,11226.43]
["Total","-","-","-","-","-","-","-","-","-","-","-","-",{"$f":"SUM(N20:N31)","v":63630},{"$f":"SUM(O20:O31)","v":105518},{"$f":"SUM(P20:P31)","v":119474},{"$f":"SUM(Q20:Q31)","v":142591},{"$f":"SUM(R20:R31)","v":113148},{"$f":"SUM(S20:S31)","v":140255},182200,{"$f":"SUM(U20:U31)","v":170061},143601.01999999999]
["Wabasha County Transit Refunds"]
["Month",2004,2005,2006,2007,2008,2009,2010,2011,2012,2013,2014,2015,2016,2017,2018,2019,2020,2021,2022,2023,2024]
["January ","-","-","-","-","-","-","-","-","-","-","-","-","-",0,-33,-3407,0,0,-2150,0,-177]
["February","-","-","-","-","-","-","-","-","-","-","-","-","-",0,0,0,-34,0,-15,0,-1]
["March","-","-","-","-","-","-","-","-","-","-","-","-","-",0,0,0,-123,-2,0,-514,0]
["April","-","-","-","-","-","-","-","-","-","-","-","-",0,-51,-33,-15,-6,0,0,0,-71]
["May","-","-","-","-","-","-","-","-","-","-","-","-",0,0,0,0,0,0,-18,0,0]
["June","-","-","-","-","-","-","-","-","-","-","-","-",0,-29,0,0,-123,-20,-3112,-1369,-2104]
["July","-","-","-","-","-","-","-","-","-","-","-","-",0,0,0,0,-3184,0,-737,0,-36]
["August","-","-","-","-","-","-","-","-","-","-","-","-",-28,-13,0,0,0,0,0,0,0]
["September","-","-","-","-","-","-","-","-","-","-","-","-",0,-694,0,-1864,0,0,0,-690,0]
["October","-","-","-","-","-","-","-","-","-","-","-","-",0,-6,0,0,0,-18,0,-4,-1839.71]
["November ","-","-","-","-","-","-","-","-","-","-","-","-",0,0,-22,-34,0,-130,0,0,0]
["December","-","-","-","-","-","-","-","-","-","-","-","-",-20617,0,-12,0,0,0,0,-3303]
["Total","-","-","-","-","-","-","-","-","-","-","-","-",{"$f":"SUM(N35:N46)","v":-20645},{"$f":"SUM(O35:O46)","v":-793},{"$f":"SUM(P35:P46)","v":-100},{"$f":"SUM(Q35:Q46)","v":-5320},{"$f":"SUM(R35:R46)","v":-3470},{"$f":"SUM(S35:S46)","v":-170},-6032,{"$f":"SUM(U35:U46)","v":-5880},-4228.71]
["Hidden columns B-M do not contain any data for CY 2004-2015"]
[{"$f":"'Local SUT'!A78","v":"Source:  Minnesota Department of Revenue, Tax Research Division, November 2025"}]
["end of worksheet"]

{"sheet":"Isanti Co","index":62,"n_rows":50,"n_cols":22,"rows_kept":50,"cut":false,"hidden":true,"merged":[[0,0,0,21],[17,0,17,20],[32,0,32,19],[49,0,49,19],[47,0,47,20],[48,0,48,21],[1,0,1,19],[2,0,2,19]]}
["Isanti County Monthly Detail for Minnesota Local Sales & Use Tax"]
[{"$f":"'Local SUT'!A2","v":"CY 2004-2024"}]
["Isanti County Transit Sales Tax (0.5%)"]
["Month",2004,2005,2006,2007,2008,2009,2010,2011,2012,2013,2014,2015,2016,2017,2018,2019,2020,2021,2022,2023,2024]
["January ","-","-","-","-","-","-","-","-","-","-","-","-","-","-","-","-",208982,246261,267297,284745,372561]
["February","-","-","-","-","-","-","-","-","-","-","-","-","-","-","-","-",165029,196750,220000,215803,250164]
["March","-","-","-","-","-","-","-","-","-","-","-","-","-","-","-","-",154507,191417,221686,209083,233499]
["April","-","-","-","-","-","-","-","-","-","-","-","-","-","-","-","-",180840,256068,249158,235870,265605]
["May","-","-","-","-","-","-","-","-","-","-","-","-","-","-","-","-",206509,248465,253885,252964,283745]
["June","-","-","-","-","-","-","-","-","-","-","-","-","-","-","-","-",250856,271196,352564,311069,309069]
["July","-","-","-","-","-","-","-","-","-","-","-","-","-","-","-",27,179780,256832,303465,322652,315604]
["August","-","-","-","-","-","-","-","-","-","-","-","-","-","-","-",169019,299516,282923,280727,278958,315614.39]
["September","-","-","-","-","-","-","-","-","-","-","-","-","-","-","-",185128,219380,241233,275003,297827,292822.46999999997]
["October","-","-","-","-","-","-","-","-","-","-","-","-","-","-","-",185296,228281,267524,272206,317483,284123.36]
["November ","-","-","-","-","-","-","-","-","-","-","-","-","-","-","-",186368,227318,247773,268572,317492,283731.13]
["December","-","-","-","-","-","-","-","-","-","-","-","-","-","-","-",187293,218652,233715,315308,304325,290113.39]
["Total","-","-","-","-","-","-","-","-","-","-","-","-",{"$f":"SUM(N5:N16)","v":0},{"$f":"SUM(O5:O16)","v":0},{"$f":"SUM(P5:P16)","v":0},{"$f":"SUM(Q5:Q16)","v":913131},{"$f":"SUM(R5:R16)","v":2539650},{"$f":"SUM(S5:S16)","v":2940157},3279871,{"$f":"SUM(U5:U16)","v":3348271},3496651.74]
["Isanti County Transit Use Tax (0.5%)"]
["Month",2004,2005,2006,2007,2008,2009,2010,2011,2012,2013,2014,2015,2016,2017,2018,2019,2020,2021,2022,2023,2024]
["January ","-","-","-","-","-","-","-","-","-","-","-","-","-","-","-","-",5737,5756,10624,9206,9198]
["February","-","-","-","-","-","-","-","-","-","-","-","-","-","-","-","-",3901,8393,5218,4915,7263]
["March","-","-","-","-","-","-","-","-","-","-","-","-","-","-","-","-",4229,4517,4890,5220,6581]
["April","-","-","-","-","-","-","-","-","-","-","-","-","-","-","-","-",3130,4425,6359,5856,7436]
["May","-","-","-","-","-","-","-","-","-","-","-","-","-","-","-","-",3115,5841,6162,5436,10052]
["June","-","-","-","-","-","-","-","-","-","-","-","-","-","-","-","-",3842,13600,8115,7678,6315]
["July","-","-","-","-","-","-","-","-","-","-","-","-","-","-","-",0,4374,6443,8380,13042,7299]
["August","-","-","-","-","-","-","-","-","-","-","-","-","-","-","-",4020,4868,6884,8023,12857,6619.91]
["September","-","-","-","-","-","-","-","-","-","-","-","-","-","-","-",3526,7566,5998,10345,6563,13065.89]
["October","-","-","-","-","-","-","-","-","-","-","-","-","-","-","-",5195,7134,5823,7390,6445,8905.23]
["November ","-","-","-","-","-","-","-","-","-","-","-","-","-","-","-",4340,4082,4873,9484,9354,9521.4]
["December","-","-","-","-","-","-","-","-","-","-","-","-","-","-","-",4246,6077,4418,5389,7028,6975.38]
["Total","-","-","-","-","-","-","-","-","-","-","-","-",{"$f":"SUM(N20:N31)","v":0},{"$f":"SUM(O20:O31)","v":0},{"$f":"SUM(P20:P31)","v":0},{"$f":"SUM(Q20:Q31)","v":21327},{"$f":"SUM(R20:R31)","v":58055},{"$f":"SUM(S20:S31)","v":76971},90379,{"$f":"SUM(U20:U31)","v":93600},99231.81]
["Isanti County Transit Refunds"]
["Month",2004,2005,2006,2007,2008,2009,2010,2011,2012,2013,2014,2015,2016,2017,2018,2019,2020,2021,2022,2023,2024]
["January ","-","-","-","-","-","-","-","-","-","-","-","-","-","-","-","-",0,0,-451,0,-5]
["February","-","-","-","-","-","-","-","-","-","-","-","-","-","-","-","-",0,-28,-15,0,-5]
["March","-","-","-","-","-","-","-","-","-","-","-","-","-","-","-","-",-6,-1996,0,0,-414]
["April","-","-","-","-","-","-","-","-","-","-","-","-","-","-","-","-",0,0,-4,-13,0]
["May","-","-","-","-","-","-","-","-","-","-","-","-","-","-","-","-",0,0,-10,-233,-1167]
["June","-","-","-","-","-","-","-","-","-","-","-","-","-","-","-","-",-6,-15,0,-284,-7]
["July","-","-","-","-","-","-","-","-","-","-","-","-","-","-","-",0,-189,0,-788,-7,-159]
["August","-","-","-","-","-","-","-","-","-","-","-","-","-","-","-",0,0,0,-322,-390,-633.11]
["September","-","-","-","-","-","-","-","-","-","-","-","-","-","-","-",0,0,-118,0,-37,-10.1]
["October","-","-","-","-","-","-","-","-","-","-","-","-","-","-","-",0,0,-886,-3445,-111,-436.13]
["November ","-","-","-","-","-","-","-","-","-","-","-","-","-","-","-",0,0,-1042,-738,-283,-13.89]
["December","-","-","-","-","-","-","-","-","-","-","-","-","-","-","-",0,0,0,-602,0,-541.59]
["Total","-","-","-","-","-","-","-","-","-","-","-","-",{"$f":"SUM(N35:N46)","v":0},{"$f":"SUM(O35:O46)","v":0},{"$f":"SUM(P35:P46)","v":0},{"$f":"SUM(Q35:Q46)","v":0},{"$f":"SUM(R35:R46)","v":-201},{"$f":"SUM(S35:S46)","v":-4085},-6375,{"$f":"SUM(U35:U46)","v":-1358},-3391.82]
["Hidden columns B-P do not contain any data for CY 2004-2018"]
[{"$f":"'Local SUT'!A78","v":"Source:  Minnesota Department of Revenue, Tax Research Division, November 2025"}]
["end of worksheet"]

{"sheet":"Benton Co","index":63,"n_rows":50,"n_cols":22,"rows_kept":50,"cut":false,"hidden":true,"merged":[[32,0,32,19],[49,0,49,19],[1,0,1,19],[0,0,0,21],[2,0,2,19],[17,0,17,19],[48,0,48,19],[47,0,47,19]]}
["Benton County Monthly Detail for Minnesota Local Sales & Use Tax"]
[{"$f":"'Local SUT'!A2","v":"CY 2004-2024"}]
["Benton County Transit Sales Tax (0.5%)"]
["Month",2004,2005,2006,2007,2008,2009,2010,2011,2012,2013,2014,2015,2016,2017,2018,2019,2020,2021,2022,2023,2024]
["January ","-","-","-","-","-","-","-","-","-","-","-","-","-","-","-","-",211106,246838,311558,327330,360964]
["February","-","-","-","-","-","-","-","-","-","-","-","-","-","-","-","-",166805,203651,277739,258061,253975]
["March","-","-","-","-","-","-","-","-","-","-","-","-","-","-","-","-",168459,215412,280959,253395,256312]
["April","-","-","-","-","-","-","-","-","-","-","-","-","-","-","-","-",194393,259209,334905,312184,293972]
["May","-","-","-","-","-","-","-","-","-","-","-","-","-","-","-","-",198672,262310,288171,292251,312817]
["June","-","-","-","-","-","-","-","-","-","-","-","-","-","-","-","-",215336,257305,344752,355085,333688]
["July","-","-","-","-","-","-","-","-","-","-","-","-","-","-","-","-",222269,287613,322966,350714,323744]
["August","-","-","-","-","-","-","-","-","-","-","-","-","-","-","-","-",245887,295909,313303,296446,310735.08]
["September","-","-","-","-","-","-","-","-","-","-","-","-","-","-","-","-",212023,265893,330444,344860,321676.32]
["October","-","-","-","-","-","-","-","-","-","-","-","-","-","-","-",39,216716,283017,299725,305503,303568.02]
["November ","-","-","-","-","-","-","-","-","-","-","-","-","-","-","-",156813,213153,277071,302058,308063,314880.01]
["December","-","-","-","-","-","-","-","-","-","-","-","-","-","-","-",165701,206987,290285,364809,301965,300004.36]
["Total","-","-","-","-","-","-","-","-","-","-","-","-",{"$f":"SUM(N5:N16)","v":0},{"$f":"SUM(O5:O16)","v":0},{"$f":"SUM(P5:P16)","v":0},{"$f":"SUM(Q5:Q16)","v":322553},{"$f":"SUM(R5:R16)","v":2471806},{"$f":"SUM(S5:S16)","v":3144513},3771389,{"$f":"SUM(U5:U16)","v":3705857},3686335.7899999996]
["Benton County Transit Use Tax (0.5%)"]
["Month",2004,2005,2006,2007,2008,2009,2010,2011,2012,2013,2014,2015,2016,2017,2018,2019,2020,2021,2022,2023,2024]
["January ","-","-","-","-","-","-","-","-","-","-","-","-","-","-","-","-",13662,11705,14711,18081,18067]
["February","-","-","-","-","-","-","-","-","-","-","-","-","-","-","-","-",9970,10337,18052,27076,13482]
["March","-","-","-","-","-","-","-","-","-","-","-","-","-","-","-","-",8548,10739,13549,11629,11034]
["April","-","-","-","-","-","-","-","-","-","-","-","-","-","-","-","-",10916,8730,25049,19367,17941]
["May","-","-","-","-","-","-","-","-","-","-","-","-","-","-","-","-",8697,9262,11970,14349,14171]
["June","-","-","-","-","-","-","-","-","-","-","-","-","-","-","-","-",11345,9214,18153,17702,19589]
["July","-","-","-","-","-","-","-","-","-","-","-","-","-","-","-","-",12623,13472,23621,21331,18944]
["August","-","-","-","-","-","-","-","-","-","-","-","-","-","-","-","-",16464,17128,27069,20001,22392.39]
["September","-","-","-","-","-","-","-","-","-","-","-","-","-","-","-","-",10195,15405,19394,28592,-1606.34]
["October","-","-","-","-","-","-","-","-","-","-","-","-","-","-","-",0,14146,15543,18583,20247,17140.28]
["November ","-","-","-","-","-","-","-","-","-","-","-","-","-","-","-",18586,14570,14628,16010,18554,18504.53]
["December","-","-","-","-","-","-","-","-","-","-","-","-","-","-","-",10751,9316,12824,16930,23801,14977.91]
["Total","-","-","-","-","-","-","-","-","-","-","-","-",{"$f":"SUM(N20:N31)","v":0},{"$f":"SUM(O20:O31)","v":0},{"$f":"SUM(P20:P31)","v":0},{"$f":"SUM(Q20:Q31)","v":29337},{"$f":"SUM(R20:R31)","v":140452},{"$f":"SUM(S20:S31)","v":148987},223091,{"$f":"SUM(U20:U31)","v":240730},184636.77000000002]
["Benton County Transit Refunds"]
["Month",2004,2005,2006,2007,2008,2009,2010,2011,2012,2013,2014,2015,2016,2017,2018,2019,2020,2021,2022,2023,2024]
["January ","-","-","-","-","-","-","-","-","-","-","-","-","-","-","-","-",-618,-6928,-5906,-2682,-1]
["February","-","-","-","-","-","-","-","-","-","-","-","-","-","-","-","-",0,0,-64,-1196,-2496]
["March","-","-","-","-","-","-","-","-","-","-","-","-","-","-","-","-",0,-17,-65,-7,-23]
["April","-","-","-","-","-","-","-","-","-","-","-","-","-","-","-","-",-12,-195,-6,-127,-1210]
["May","-","-","-","-","-","-","-","-","-","-","-","-","-","-","-","-",-618,0,-192,0,-545]
["June","-","-","-","-","-","-","-","-","-","-","-","-","-","-","-","-",0,-419,0,0,-1]
["July","-","-","-","-","-","-","-","-","-","-","-","-","-","-","-","-",-12,-106,-140,0,-24]
["August","-","-","-","-","-","-","-","-","-","-","-","-","-","-","-","-",0,0,0,-325,-404.91]
["September","-","-","-","-","-","-","-","-","-","-","-","-","-","-","-","-",0,0,-13,-381,-304.29000000000002]
["October","-","-","-","-","-","-","-","-","-","-","-","-","-","-","-",0,-35,-251,0,-2134,-825]
["November ","-","-","-","-","-","-","-","-","-","-","-","-","-","-","-",0,0,-294,-305,-26,-1751.97]
["December","-","-","-","-","-","-","-","-","-","-","-","-","-","-","-",0,-710,-61,-436,-150,-222.04]
["Total","-","-","-","-","-","-","-","-","-","-","-","-",{"$f":"SUM(N35:N46)","v":0},{"$f":"SUM(O35:O46)","v":0},{"$f":"SUM(P35:P46)","v":0},{"$f":"SUM(Q35:Q46)","v":0},{"$f":"SUM(R35:R46)","v":-2005},{"$f":"SUM(S35:S46)","v":-8271},-7127,{"$f":"SUM(U35:U46)","v":-7028},-7808.21]
["Hidden columns B-P do not contain any data for CY 2004-2018"]
[{"$f":"'Local SUT'!A78","v":"Source:  Minnesota Department of Revenue, Tax Research Division, November 2025"}]
["end of worksheet"]

{"sheet":"Kanabec Co","index":64,"n_rows":50,"n_cols":22,"rows_kept":50,"cut":false,"hidden":true,"merged":[[0,0,0,22],[48,0,48,20],[47,0,47,19],[49,0,49,19],[1,0,1,19],[2,0,2,19],[17,0,17,19],[32,0,32,19]]}
["Kanabec County Monthly Detail for Minnesota Local Sales & Use Tax"]
[{"$f":"'Local SUT'!A2","v":"CY 2004-2024"}]
["Kanabec County Transit Sales Tax (0.5%)"]
["Month",2004,2005,2006,2007,2008,2009,2010,2011,2012,2013,2014,2015,2016,2017,2018,2019,2020,2021,2022,2023,2024]
["January ","-","-","-","-","-","-","-","-","-","-","-","-","-","-","-","-",107,60704,80686,81345,85138]
["February","-","-","-","-","-","-","-","-","-","-","-","-","-","-","-","-",35707,52102,57534,65534,60191]
["March","-","-","-","-","-","-","-","-","-","-","-","-","-","-","-","-",36995,50965,56603,60719,62325]
["April","-","-","-","-","-","-","-","-","-","-","-","-","-","-","-","-",43980,63445,73897,70663,71839]
["May","-","-","-","-","-","-","-","-","-","-","-","-","-","-","-","-",48853,62866,72623,63184,76863]
["June","-","-","-","-","-","-","-","-","-","-","-","-","-","-","-","-",61702,69041,82042,85254,89004]
["July","-","-","-","-","-","-","-","-","-","-","-","-","-","-","-","-",51797,64997,93692,100082,84218]
["August","-","-","-","-","-","-","-","-","-","-","-","-","-","-","-","-",75124,87936,89225,82362,84480.3]
["September","-","-","-","-","-","-","-","-","-","-","-","-","-","-","-","-",60508,73534,95945,87311,88440.51]
["October","-","-","-","-","-","-","-","-","-","-","-","-","-","-","-","-",69042,83594,96585,93448,91392.3]
["November ","-","-","-","-","-","-","-","-","-","-","-","-","-","-","-","-",50507,72574,90098,79045,85714.5]
["December","-","-","-","-","-","-","-","-","-","-","-","-","-","-","-","-",55465,68280,84161,77001,80290.320000000007]
["Total","-","-","-","-","-","-","-","-","-","-","-","-",{"$f":"SUM(N5:N16)","v":0},{"$f":"SUM(O5:O16)","v":0},{"$f":"SUM(P5:P16)","v":0},{"$f":"SUM(Q5:Q16)","v":0},{"$f":"SUM(R5:R16)","v":589787},{"$f":"SUM(S5:S16)","v":810038},973091,{"$f":"SUM(U5:U16)","v":945948},959895.93000000017]
["Kanabec County Transit Use Tax (0.5%)"]
["Month",2004,2005,2006,2007,2008,2009,2010,2011,2012,2013,2014,2015,2016,2017,2018,2019,2020,2021,2022,2023,2024]
["January ","-","-","-","-","-","-","-","-","-","-","-","-","-","-","-","-",0,2797,10301,6550,4831]
["February","-","-","-","-","-","-","-","-","-","-","-","-","-","-","-","-",3162,2906,3484,5590,3997]
["March","-","-","-","-","-","-","-","-","-","-","-","-","-","-","-","-",3606,1057,5643,2171,2736]
["April","-","-","-","-","-","-","-","-","-","-","-","-","-","-","-","-",1684,3083,13814,4918,2888]
["May","-","-","-","-","-","-","-","-","-","-","-","-","-","-","-","-",1535,2397,4115,1786,3337]
["June","-","-","-","-","-","-","-","-","-","-","-","-","-","-","-","-",1546,2035,4808,3117,3740]
["July","-","-","-","-","-","-","-","-","-","-","-","-","-","-","-","-",3462,4319,8307,6678,5464]
["August","-","-","-","-","-","-","-","-","-","-","-","-","-","-","-","-",3160,5301,8125,5323,1887.15]
["September","-","-","-","-","-","-","-","-","-","-","-","-","-","-","-","-",4580,5161,6914,9162,2628]
["October","-","-","-","-","-","-","-","-","-","-","-","-","-","-","-","-",7203,3847,10582,8041,3329.95]
["November ","-","-","-","-","-","-","-","-","-","-","-","-","-","-","-","-",10145,3075,8385,8964,3464.56]
["December","-","-","-","-","-","-","-","-","-","-","-","-","-","-","-","-",4787,2913,6420,5899,2576.19]
["Total","-","-","-","-","-","-","-","-","-","-","-","-",{"$f":"SUM(N20:N31)","v":0},{"$f":"SUM(O20:O31)","v":0},{"$f":"SUM(P20:P31)","v":0},{"$f":"SUM(Q20:Q31)","v":0},{"$f":"SUM(R20:R31)","v":44870},{"$f":"SUM(S20:S31)","v":38891},90898,{"$f":"SUM(U20:U31)","v":68199},40878.85]
["Kanabec County Transit Refunds"]
["Month",2004,2005,2006,2007,2008,2009,2010,2011,2012,2013,2014,2015,2016,2017,2018,2019,2020,2021,2022,2023,2024]
["January ","-","-","-","-","-","-","-","-","-","-","-","-","-","-","-","-",0,0,0,0,-288]
["February","-","-","-","-","-","-","-","-","-","-","-","-","-","-","-","-",0,0,0,-1,0]
["March","-","-","-","-","-","-","-","-","-","-","-","-","-","-","-","-",0,0,0,0,0]
["April","-","-","-","-","-","-","-","-","-","-","-","-","-","-","-","-",0,0,0,0,-220]
["May","-","-","-","-","-","-","-","-","-","-","-","-","-","-","-","-",0,0,0,0,-112]
["June","-","-","-","-","-","-","-","-","-","-","-","-","-","-","-","-",0,0,-228,0,0]
["July","-","-","-","-","-","-","-","-","-","-","-","-","-","-","-","-",0,0,0,0,0]
["August","-","-","-","-","-","-","-","-","-","-","-","-","-","-","-","-",0,0,0,0,0]
["September","-","-","-","-","-","-","-","-","-","-","-","-","-","-","-","-",0,-838,0,0,0]
["October","-","-","-","-","-","-","-","-","-","-","-","-","-","-","-","-",-81,0,-101,0,-1.79]
["November ","-","-","-","-","-","-","-","-","-","-","-","-","-","-","-","-",0,-106,-4,0,-789.57]
["December","-","-","-","-","-","-","-","-","-","-","-","-","-","-","-","-",0,0,-182,0,0]
["Total","-","-","-","-","-","-","-","-","-","-","-","-",{"$f":"SUM(N35:N46)","v":0},{"$f":"SUM(O35:O46)","v":0},{"$f":"SUM(P35:P46)","v":0},{"$f":"SUM(Q35:Q46)","v":0},{"$f":"SUM(R35:R46)","v":-81},{"$f":"SUM(S35:S46)","v":-944},-515,{"$f":"SUM(U35:U46)","v":-1},-1411.3600000000001]
["Hidden columns B-Q do not contain any data for CY 2004-2019"]
[{"$f":"'Local SUT'!A78","v":"Source:  Minnesota Department of Revenue, Tax Research Division, November 2025"}]
["end of worksheet"]

{"sheet":"McLeod Co","index":65,"n_rows":50,"n_cols":22,"rows_kept":50,"cut":false,"hidden":true,"merged":[[49,0,49,19],[1,0,1,19],[0,0,0,22],[2,0,2,19],[17,0,17,19],[32,0,32,19],[47,0,47,19],[48,0,48,20]]}
["McLeod County Monthly Detail for Minnesota Local Sales & Use Tax"]
[{"$f":"'Local SUT'!A2","v":"CY 2004-2024"}]
["McLeod County Transit Sales Tax (0.5%)"]
["Month",2004,2005,2006,2007,2008,2009,2010,2011,2012,2013,2014,2015,2016,2017,2018,2019,2020,2021,2022,2023,2024]
["January ","-","-","-","-","-","-","-","-","-","-","-","-","-","-","-","-",4,227611,239591,279026,296910]
["February","-","-","-","-","-","-","-","-","-","-","-","-","-","-","-","-",134635,186435,202549,206154,225837]
["March","-","-","-","-","-","-","-","-","-","-","-","-","-","-","-","-",141272,181616,203142,208149,211593]
["April","-","-","-","-","-","-","-","-","-","-","-","-","-","-","-","-",174133,235384,235866,244059,254072]
["May","-","-","-","-","-","-","-","-","-","-","-","-","-","-","-","-",230136,217836,233312,244766,242631]
["June","-","-","-","-","-","-","-","-","-","-","-","-","-","-","-","-",212625,237416,300558,278579,279275]
["July","-","-","-","-","-","-","-","-","-","-","-","-","-","-","-","-",187100,248125,265347,294349,278885]
["August","-","-","-","-","-","-","-","-","-","-","-","-","-","-","-","-",243098,246224,257976,249377,277604.64]
["September","-","-","-","-","-","-","-","-","-","-","-","-","-","-","-","-",207031,225614,266549,260624,264546.06]
["October","-","-","-","-","-","-","-","-","-","-","-","-","-","-","-","-",208863,242232,307293,269176,259480.11]
["November ","-","-","-","-","-","-","-","-","-","-","-","-","-","-","-","-",202661,212013,243363,256278,256481.11]
["December","-","-","-","-","-","-","-","-","-","-","-","-","-","-","-","-",202999,204303,292401,263114,244033.1]
["Total","-","-","-","-","-","-","-","-","-","-","-","-",{"$f":"SUM(N5:N16)","v":0},{"$f":"SUM(O5:O16)","v":0},{"$f":"SUM(P5:P16)","v":0},{"$f":"SUM(Q5:Q16)","v":0},{"$f":"SUM(R5:R16)","v":2144557},{"$f":"SUM(S5:S16)","v":2664809},3047947,{"$f":"SUM(U5:U16)","v":3053651},3091348.02]
["McLeod County Transit Use Tax (0.5%)"]
["Month",2004,2005,2006,2007,2008,2009,2010,2011,2012,2013,2014,2015,2016,2017,2018,2019,2020,2021,2022,2023,2024]
["January ","-","-","-","-","-","-","-","-","-","-","-","-","-","-","-","-",0,16460,22215,18280,18918]
["February","-","-","-","-","-","-","-","-","-","-","-","-","-","-","-","-",10249,14493,14521,14351,22592]
["March","-","-","-","-","-","-","-","-","-","-","-","-","-","-","-","-",8442,14372,10771,12942,12526]
["April","-","-","-","-","-","-","-","-","-","-","-","-","-","-","-","-",10636,29879,19080,16934,16284]
["May","-","-","-","-","-","-","-","-","-","-","-","-","-","-","-","-",16835,17691,15825,14879,16118]
["June","-","-","-","-","-","-","-","-","-","-","-","-","-","-","-","-",14949,21172,16324,18097,21926]
["July","-","-","-","-","-","-","-","-","-","-","-","-","-","-","-","-",17498,27007,26976,25619,21008]
["August","-","-","-","-","-","-","-","-","-","-","-","-","-","-","-","-",15830,20237,15690,18718,24934.240000000002]
["September","-","-","-","-","-","-","-","-","-","-","-","-","-","-","-","-",13964,16187,17956,21689,18538.63]
["October","-","-","-","-","-","-","-","-","-","-","-","-","-","-","-","-",19949,14337,18362,16639,19564.669999999998]
["November ","-","-","-","-","-","-","-","-","-","-","-","-","-","-","-","-",13092,15449,13705,15688,19636.14]
["December","-","-","-","-","-","-","-","-","-","-","-","-","-","-","-","-",14639,13903,21049,18432,9691.26]
["Total","-","-","-","-","-","-","-","-","-","-","-","-",{"$f":"SUM(N20:N31)","v":0},{"$f":"SUM(O20:O31)","v":0},{"$f":"SUM(P20:P31)","v":0},{"$f":"SUM(Q20:Q31)","v":0},{"$f":"SUM(R20:R31)","v":156083},{"$f":"SUM(S20:S31)","v":221187},212474,{"$f":"SUM(U20:U31)","v":212268},221736.94]
["McLeod County Transit Refunds"]
["Month",2004,2005,2006,2007,2008,2009,2010,2011,2012,2013,2014,2015,2016,2017,2018,2019,2020,2021,2022,2023,2024]
["January ","-","-","-","-","-","-","-","-","-","-","-","-","-","-","-","-",0,-24,-1114,-194,-57]
["February","-","-","-","-","-","-","-","-","-","-","-","-","-","-","-","-",0,-10,-483,-176,-4816]
["March","-","-","-","-","-","-","-","-","-","-","-","-","-","-","-","-",0,-86,-220,-49,-431]
["April","-","-","-","-","-","-","-","-","-","-","-","-","-","-","-","-",0,0,0,-202,-93]
["May","-","-","-","-","-","-","-","-","-","-","-","-","-","-","-","-",0,0,0,-1013,-167]
["June","-","-","-","-","-","-","-","-","-","-","-","-","-","-","-","-",0,-175,-959,0,-147]
["July","-","-","-","-","-","-","-","-","-","-","-","-","-","-","-","-",0,0,-131,-6486,-41]
["August","-","-","-","-","-","-","-","-","-","-","-","-","-","-","-","-",0,0,-6,0,-638.64]
["September","-","-","-","-","-","-","-","-","-","-","-","-","-","-","-","-",-39,0,-11,0,0]
["October","-","-","-","-","-","-","-","-","-","-","-","-","-","-","-","-",-56,-137,0,-11415,-668.99]
["November ","-","-","-","-","-","-","-","-","-","-","-","-","-","-","-","-",-33,-1,-1219,-119,-512.03]
["December","-","-","-","-","-","-","-","-","-","-","-","-","-","-","-","-",-343,0,-214,-133,-301.58999999999997]
["Total","-","-","-","-","-","-","-","-","-","-","-","-",{"$f":"SUM(N35:N46)","v":0},{"$f":"SUM(O35:O46)","v":0},{"$f":"SUM(P35:P46)","v":0},{"$f":"SUM(Q35:Q46)","v":0},{"$f":"SUM(R35:R46)","v":-471},{"$f":"SUM(S35:S46)","v":-433},-4357,{"$f":"SUM(U35:U46)","v":-19787},-7873.25]
["Hidden columns B-Q do not contain any data for CY 2004-2019"]
[{"$f":"'Local SUT'!A78","v":"Source:  Minnesota Department of Revenue, Tax Research Division, November 2025"}]
["end of worksheet"]