{"text_format":"1","workbook":"xlsx","n_sheets":60,"sheets":["Local SUT","St. Peter","Golden Valley","Bloomington","Warren","Waite Park","Staples","Oakdale","Moorhead","Maple Grove","Litchfield","Grand Rapids","Albert Lea","Austin","Baxter","Bemidji","Brainerd","Clearwater","Cloquet","Detroit Lakes","Duluth","Edina","East Grand Forks","Fairmont","Fergus Falls","GKWMLL Sanitary","Hermantown","Hutchinson","Lanesboro","Mankato","Marshall","Medford","Minneapolis","Moose Lake","New London","New Ulm","North Mankato","Owatonna","Proctor","Rochester","Spicer","St. Cloud Area","St. Paul","Two Harbors","Walker","Willmar","Worthington","Avon","Blue Earth","Cambridge","Elk River","Excelsior","Int. Falls","Rogers","Glenwood","Perham","Virginia","West St. Paul","Sauk Centre","Scanlon"],"not_rendered":{"charts":0,"images":0,"macros":1,"external_links":0,"defined_names":12,"comments":0,"pivot_tables":0},"unopened":[],"bounds":{"document_bytes":16777216,"sheet_cells":100000,"rows_first":2000,"rows_last":500,"rows_between":2000,"halvings":0,"cell_chars":16384,"cell_head_chars":4096},"cells_cut":0,"cells_raw":0,"read":"whole","date_system":"1900"}

{"sheet":"Local SUT","index":0,"n_rows":72,"n_cols":24,"rows_kept":72,"cut":false,"hidden":false,"merged":[[71,0,71,21],[70,0,70,21],[2,0,2,21],[1,0,1,21],[0,0,0,21],[64,0,64,2],[63,0,63,2],[65,0,65,21],[66,0,66,21],[67,0,67,21],[68,0,68,21],[69,0,69,21]]}
["Table 2.  City General Sales & Use Taxes Total Collections"]
["CY 2004-2024"]
["For detail by month through December 2024, double click on links."]
["City","Tax Rate","Year Imposed","2004**","2005**",2006,2007,2008,2009,2010,2011,2012,2013,"2014\n",2015,2016,2017,2018,2019,2020,2021,2022,2023,2024]
["Albert Lea",5.0000000000000001E-3,2006,"-","-",{"$f":"'Albert Lea'!D17+'Albert Lea'!D32","v":672514.27},{"$f":"'Albert Lea'!E17+'Albert Lea'!E32","v":1193642.53},{"$f":"'Albert Lea'!F17+'Albert Lea'!F32","v":1295287.45},{"$f":"'Albert Lea'!G17+'Albert Lea'!G32","v":1302397},{"$f":"'Albert Lea'!H17+'Albert Lea'!H32","v":1417881},{"$f":"'Albert Lea'!I17+'Albert Lea'!I32","v":1385185},{"$f":"'Albert Lea'!J17+'Albert Lea'!J32","v":1361956},{"$f":"'Albert Lea'!K17+'Albert Lea'!K32","v":1371727},{"$f":"'Albert Lea'!L17+'Albert Lea'!L32","v":1435808},{"$f":"'Albert Lea'!M17+'Albert Lea'!M32","v":1505821},{"$f":"'Albert Lea'!N17+'Albert Lea'!N32","v":1471058},{"$f":"'Albert Lea'!O17+'Albert Lea'!O32","v":1465994},{"$f":"'Albert Lea'!P17+'Albert Lea'!P32","v":1526457},{"$f":"'Albert Lea'!Q17+'Albert Lea'!Q32","v":1605147},{"$f":"'Albert Lea'!R17+'Albert Lea'!R32","v":1607185},{"$f":"'Albert Lea'!S17+'Albert Lea'!S32","v":1786166},{"$f":"'Albert Lea'!T17+'Albert Lea'!T32","v":2029124},{"$f":"'Albert Lea'!U17+'Albert Lea'!U32","v":2044803},{"$f":"'Albert Lea'!V17+'Albert Lea'!V32","v":2058120.29}]
["Austin",5.0000000000000001E-3,2007,"-","-","-",{"$f":"Austin!E17+Austin!E32","v":824839.44},{"$f":"Austin!F17+Austin!F32","v":1306244.17},{"$f":"Austin!G17+Austin!G32","v":1415665},{"$f":"Austin!H17+Austin!H32","v":1521493},{"$f":"Austin!I17+Austin!I32","v":1602890},{"$f":"Austin!J17+Austin!J32","v":1654987},{"$f":"Austin!K17+Austin!K32","v":1626125},{"$f":"Austin!L17+Austin!L32","v":1870654},{"$f":"Austin!M17+Austin!M32","v":1676696},{"$f":"Austin!N17+Austin!N32","v":1561724},{"$f":"Austin!O17+Austin!O32","v":944408},{"$f":"Austin!P17+Austin!P32","v":1494791},{"$f":"Austin!Q17+Austin!Q32","v":1620306},{"$f":"Austin!R17+Austin!R32","v":1706446},{"$f":"Austin!S17+Austin!S32","v":1744428},{"$f":"Austin!T17+Austin!T32","v":1762297},{"$f":"Austin!U17+Austin!U32","v":2007117},{"$f":"Austin!V17+Austin!V32","v":2028308.7800000003}]
["Avon",5.0000000000000001E-3,2019,null,null,null,null,null,null,"-","-","-","-","-","-","-","-","-",{"$f":"Avon!Q17+Avon!Q32","v":25728},{"$f":"Avon!R17+Avon!R32","v":206950},{"$f":"Avon!S17+Avon!S32","v":232322},{"$f":"Avon!T17+Avon!T32","v":248158},{"$f":"Avon!U17+Avon!U32","v":353675},{"$f":"Avon!V17+Avon!V32","v":465744.65}]
["Baxter",5.0000000000000001E-3,2006,"-","-",{"$f":"Baxter!D17+Baxter!D32","v":269460},{"$f":"Baxter!E17+Baxter!E32","v":1907479.9700000002},{"$f":"Baxter!F17+Baxter!F32","v":1817395.2},{"$f":"Baxter!G17+Baxter!G32","v":1814425},{"$f":"Baxter!H17+Baxter!H32","v":1812195},{"$f":"Baxter!I17+Baxter!I32","v":1842188},{"$f":"Baxter!J17+Baxter!J32","v":2003212},{"$f":"Baxter!K17+Baxter!K32","v":2120411},{"$f":"Baxter!L17+Baxter!L32","v":2208771},{"$f":"Baxter!M17+Baxter!M32","v":2332767},{"$f":"Baxter!N17+Baxter!N32","v":2421617},{"$f":"Baxter!O17+Baxter!O32","v":2533674},{"$f":"Baxter!P17+Baxter!P32","v":2572469},{"$f":"Baxter!Q17+Baxter!Q32","v":2685015},{"$f":"Baxter!R17+Baxter!R32","v":2867237},{"$f":"Baxter!S17+Baxter!S32","v":3101627},{"$f":"Baxter!T17+Baxter!T32","v":3536738},{"$f":"Baxter!U17+Baxter!U32","v":3589431},{"$f":"Baxter!V17+Baxter!V32","v":3518939.71}]
["Bemidji",5.0000000000000001E-3,2006,"-","-",{"$f":"Bemidji!D17+Bemidji!D32","v":1423560.4900000002},{"$f":"Bemidji!E17+Bemidji!E32","v":1690976.1600000001},{"$f":"Bemidji!F17+Bemidji!F32","v":1688219.5700000003},{"$f":"Bemidji!G17+Bemidji!G32","v":1749687},{"$f":"Bemidji!H17+Bemidji!H32","v":1846889},{"$f":"Bemidji!I17+Bemidji!I32","v":1962085},{"$f":"Bemidji!J17+Bemidji!J32","v":1962300},{"$f":"Bemidji!K17+Bemidji!K32","v":2189580},{"$f":"Bemidji!L17+Bemidji!L32","v":2207516},{"$f":"Bemidji!M17+Bemidji!M32","v":2310735},{"$f":"Bemidji!N17+Bemidji!N32","v":2385137},{"$f":"Bemidji!O17+Bemidji!O32","v":2418443},{"$f":"Bemidji!P17+Bemidji!P32","v":2473903},{"$f":"Bemidji!Q17+Bemidji!Q32","v":2587708},{"$f":"Bemidji!R17+Bemidji!R32","v":2678259},{"$f":"Bemidji!S17+Bemidji!S32","v":3087225},{"$f":"Bemidji!T17+Bemidji!T32","v":3336348},{"$f":"Bemidji!U17+Bemidji!U32","v":3335817},{"$f":"Bemidji!V17+Bemidji!V32","v":3268184.9}]
["Bloomington",5.0000000000000001E-3,2024,null,null,null,null,null,null,null,null,null,null,null,null,null,null,null,null,null,null,null,null,{"$f":"Bloomington!V17+Bloomington!V32","v":10022816}]
["Blue Earth",5.0000000000000001E-3,2019,null,null,null,null,null,null,"-","-","-","-","-","-","-","-","-",{"$f":"'Blue Earth'!Q17+'Blue Earth'!Q32","v":40601},{"$f":"'Blue Earth'!R17+'Blue Earth'!R32","v":322552},{"$f":"'Blue Earth'!S17+'Blue Earth'!S32","v":352222},{"$f":"'Blue Earth'!T17+'Blue Earth'!T32","v":404438},{"$f":"'Blue Earth'!U17+'Blue Earth'!U32","v":494236},{"$f":"'Blue Earth'!V17+'Blue Earth'!V32","v":475879.16}]
["Brainerd",5.0000000000000001E-3,2007,"-","-","-",{"$f":"Brainerd!E17+Brainerd!E32","v":556739.87},{"$f":"Brainerd!F17+Brainerd!F32","v":830839.80999999994},{"$f":"Brainerd!G17+Brainerd!G32","v":850614},{"$f":"Brainerd!H17+Brainerd!H32","v":829980},{"$f":"Brainerd!I17+Brainerd!I32","v":839153},{"$f":"Brainerd!J17+Brainerd!J32","v":883124},{"$f":"Brainerd!K17+Brainerd!K32","v":881244},{"$f":"Brainerd!L17+Brainerd!L32","v":876199},{"$f":"Brainerd!M17+Brainerd!M32","v":902105},{"$f":"Brainerd!N17+Brainerd!N32","v":977263},{"$f":"Brainerd!O17+Brainerd!O32","v":983842},{"$f":"Brainerd!P17+Brainerd!P32","v":987950},{"$f":"Brainerd!Q17+Brainerd!Q32","v":1057248},{"$f":"Brainerd!R17+Brainerd!R32","v":1184525},{"$f":"Brainerd!S17+Brainerd!S32","v":1336827},{"$f":"Brainerd!T17+Brainerd!T32","v":1407810},{"$f":"Brainerd!U17+Brainerd!U32","v":1437897},{"$f":"Brainerd!V17+Brainerd!V32","v":1465715.4599999997}]
["Cambridge",5.0000000000000001E-3,2019,null,null,null,null,null,null,"-","-","-","-","-","-","-","-","-",{"$f":"Cambridge!Q17+Cambridge!Q32","v":231667},{"$f":"Cambridge!R17+Cambridge!R32","v":1544089},{"$f":"Cambridge!S17+Cambridge!S32","v":1706028},{"$f":"Cambridge!T17+Cambridge!T32","v":1925590},{"$f":"Cambridge!U17+Cambridge!U32","v":1884247},{"$f":"Cambridge!V17+Cambridge!V32","v":1937029.4999999995}]
["Clearwater",5.0000000000000001E-3,2008,"-","-","-","-",{"$f":"Clearwater!F17+Clearwater!F32","v":16142},{"$f":"Clearwater!G17+Clearwater!G32","v":143050},{"$f":"Clearwater!H17+Clearwater!H32","v":170377},{"$f":"Clearwater!I17+Clearwater!I32","v":301999},{"$f":"Clearwater!J17+Clearwater!J32","v":182010},{"$f":"Clearwater!K17+Clearwater!K32","v":188439},{"$f":"Clearwater!L17+Clearwater!L32","v":203748},{"$f":"Clearwater!M17+Clearwater!M32","v":222713},{"$f":"Clearwater!N17+Clearwater!N32","v":229316},{"$f":"Clearwater!O17+Clearwater!O32","v":236923},{"$f":"Clearwater!P17+Clearwater!P32","v":231605},{"$f":"Clearwater!Q17+Clearwater!Q32","v":274291},{"$f":"Clearwater!R17+Clearwater!R32","v":279549},{"$f":"Clearwater!S17+Clearwater!S32","v":311977},{"$f":"Clearwater!T17+Clearwater!T32","v":337780},{"$f":"Clearwater!U17+Clearwater!U32","v":384964},{"$f":"Clearwater!V17+Clearwater!V32","v":388365.23}]
["Cloquet",5.0000000000000001E-3,2013,"-","-","-","-","-","-","-","-","-",{"$f":"Cloquet!K17+Cloquet!K32","v":695762},{"$f":"Cloquet!L17+Cloquet!L32","v":1062906},{"$f":"Cloquet!M17+Cloquet!M32","v":1025314},{"$f":"Cloquet!N17+Cloquet!N32","v":972944},{"$f":"Cloquet!O17+Cloquet!O32","v":992355},{"$f":"Cloquet!P17+Cloquet!P32","v":946332},{"$f":"Cloquet!Q17+Cloquet!Q32","v":1039266},{"$f":"Cloquet!R17+Cloquet!R32","v":1100833},{"$f":"Cloquet!S17+Cloquet!S32","v":1267813},{"$f":"Cloquet!T17+Cloquet!T32","v":1293666},{"$f":"Cloquet!U17+Cloquet!U32","v":2156167},{"$f":"Cloquet!V17+Cloquet!V32","v":2656464.9500000002}]
["Detroit Lakes",5.0000000000000001E-3,2019,null,null,null,null,null,null,"-","-","-","-","-","-","-","-",{"$f":"'Detroit Lakes'!P17+'Detroit Lakes'!P32","v":0},{"$f":"'Detroit Lakes'!Q17+'Detroit Lakes'!Q32","v":240455},{"$f":"'Detroit Lakes'!R17+'Detroit Lakes'!R32","v":1650332},{"$f":"'Detroit Lakes'!S17+'Detroit Lakes'!S32","v":1911895},{"$f":"'Detroit Lakes'!T17+'Detroit Lakes'!T32","v":2063080},{"$f":"'Detroit Lakes'!U17+'Detroit Lakes'!U32","v":1170329},{"$f":"'Detroit Lakes'!V17+'Detroit Lakes'!V32","v":13932.449999999999}]
["Duluth",0.01,1970,"-","-",{"$f":"Duluth!D17+Duluth!D32","v":11398159.140000001},{"$f":"Duluth!E17+Duluth!E32","v":12225978.779999999},{"$f":"Duluth!F17+Duluth!F32","v":12194935.959999999},{"$f":"Duluth!G17+Duluth!G32","v":11641832},{"$f":"Duluth!H17+Duluth!H32","v":12084658},{"$f":"Duluth!I17+Duluth!I32","v":12708709},{"$f":"Duluth!J17+Duluth!J32","v":13068224},{"$f":"Duluth!K17+Duluth!K32","v":13685071},{"$f":"Duluth!L17+Duluth!L32","v":14274808},{"$f":"Duluth!M17+Duluth!M32","v":14713316},{"$f":"Duluth!N17+Duluth!N32","v":14582992},{"$f":"Duluth!O17+Duluth!O32","v":14506564},{"$f":"Duluth!P17+Duluth!P32","v":15139729},{"$f":"Duluth!Q17+Duluth!Q32","v":16717760},{"$f":"Duluth!R17+Duluth!R32","v":22035055},{"$f":"Duluth!S17+Duluth!S32","v":26027841},{"$f":"Duluth!T17+Duluth!T32","v":29001647},{"$f":"Duluth!U17+Duluth!U32","v":30417818},{"$f":"Duluth!V17+Duluth!V32","v":30665272.720000003}]
["East Grand Forks",0.01,2018,"-","-","-","-","-","-","-","-","-","-","-","-","-","-",{"$f":"'East Grand Forks'!P17+'East Grand Forks'!P32","v":831794},{"$f":"'East Grand Forks'!Q17+'East Grand Forks'!Q32","v":1027810},{"$f":"'East Grand Forks'!R17+'East Grand Forks'!R32","v":854535},{"$f":"'East Grand Forks'!S17+'East Grand Forks'!S32","v":-7882},{"$f":"'East Grand Forks'!T17+'East Grand Forks'!T32","v":-43703},{"$f":"'East Grand Forks'!U17+'East Grand Forks'!U32","v":-2401},{"$f":"'East Grand Forks'!V17+'East Grand Forks'!V32","v":2062.88}]
["Edina",5.0000000000000001E-3,2023,null,null,null,null,null,null,null,"-","-","-","-","-","-","-","-","-","-","-","-",{"$f":"Edina!U17+Edina!U32","v":4843206},{"$f":"Edina!V17+Edina!V32","v":7273265.0899999999}]
["Elk River",5.0000000000000001E-3,2019,null,null,null,null,null,null,"-","-","-","-","-","-","-","-","-",{"$f":"'Elk River'!Q17+'Elk River'!Q32","v":429783},{"$f":"'Elk River'!R17+'Elk River'!R32","v":3005423},{"$f":"'Elk River'!S17+'Elk River'!S32","v":3426432},{"$f":"'Elk River'!T17+'Elk River'!T32","v":4014875},{"$f":"'Elk River'!U17+'Elk River'!U32","v":3861392},{"$f":"'Elk River'!V17+'Elk River'!V32","v":3601037.9400000004}]
["Excelsior",5.0000000000000001E-3,2019,null,null,null,null,null,null,"-","-","-","-","-","-","-","-","-",{"$f":"Excelsior!Q17+Excelsior!Q32","v":79350},{"$f":"Excelsior!R17+Excelsior!R32","v":717437},{"$f":"Excelsior!S17+Excelsior!S32","v":831806},{"$f":"Excelsior!T17+Excelsior!T32","v":1070678},{"$f":"Excelsior!U17+Excelsior!U32","v":811482},{"$f":"Excelsior!V17+Excelsior!V32","v":810675.06000000017}]
["Fairmont",5.0000000000000001E-3,2017,"-","-","-","-","-","-","-","-","-","-","-","-","-",{"$f":"Fairmont!O17+Fairmont!O32","v":111444},{"$f":"Fairmont!P17+Fairmont!P32","v":737304},{"$f":"Fairmont!Q17+Fairmont!Q32","v":905993},{"$f":"Fairmont!R17+Fairmont!R32","v":963823},{"$f":"Fairmont!S17+Fairmont!S32","v":1099092},{"$f":"Fairmont!T17+Fairmont!T32","v":1171023},{"$f":"Fairmont!U17+Fairmont!U32","v":1185647},{"$f":"Fairmont!V17+Fairmont!V32","v":1186565.9900000002}]
["Fergus Falls",5.0000000000000001E-3,"2012-2016*/2023","-","-","-","-","-","-","-","-",{"$f":"'Fergus Falls'!J17+'Fergus Falls'!J32","v":1019239},{"$f":"'Fergus Falls'!K17+'Fergus Falls'!K32","v":1189756},{"$f":"'Fergus Falls'!L17+'Fergus Falls'!L32","v":1312750},{"$f":"'Fergus Falls'!M17+'Fergus Falls'!M32","v":1271971},{"$f":"'Fergus Falls'!N17+'Fergus Falls'!N32","v":1290648},{"$f":"'Fergus Falls'!O17+'Fergus Falls'!O32","v":150112},{"$f":"'Fergus Falls'!P17+'Fergus Falls'!P32","v":1191244},{"$f":"'Fergus Falls'!Q17+'Fergus Falls'!Q32","v":1346150},{"$f":"'Fergus Falls'!R17+'Fergus Falls'!R32","v":1424260},{"$f":"'Fergus Falls'!S17+'Fergus Falls'!S32","v":1558192},{"$f":"'Fergus Falls'!T17+'Fergus Falls'!T32","v":1418391},{"$f":"'Fergus Falls'!U17+'Fergus Falls'!U32","v":280458},{"$f":"'Fergus Falls'!V17+'Fergus Falls'!V32","v":1677408.9300000002}]
["GKWMLL Sanitary",0.01,2018,"-","-","-","-","-","-","-","-","-","-","-","-","-","-",{"$f":"'GKWMLL Sanitary'!P17+'GKWMLL Sanitary'!P32","v":170491},{"$f":"'GKWMLL Sanitary'!Q17+'GKWMLL Sanitary'!Q32","v":186102},{"$f":"'GKWMLL Sanitary'!R17+'GKWMLL Sanitary'!R32","v":223645},{"$f":"'GKWMLL Sanitary'!S17+'GKWMLL Sanitary'!S32","v":275922},{"$f":"'GKWMLL Sanitary'!T17+'GKWMLL Sanitary'!T32","v":263229},{"$f":"'GKWMLL Sanitary'!U17+'GKWMLL Sanitary'!U32","v":323387},{"$f":"'GKWMLL Sanitary'!V17+'GKWMLL Sanitary'!V32","v":418345.39}]
["Glenwood",5.0000000000000001E-3,2020,null,null,null,null,null,null,"-","-","-","-","-","-","-","-","-","-",{"$f":"Glenwood!R17+Glenwood!R32","v":210722},{"$f":"Glenwood!S17+Glenwood!S32","v":284135},{"$f":"Glenwood!T17+Glenwood!T32","v":335348},{"$f":"Glenwood!U17+Glenwood!U32","v":331172},{"$f":"Glenwood!V17+Glenwood!V32","v":335958.14999999997}]
["Golden Valley",1.2500000000000001E-2,2024,null,null,null,null,null,null,null,null,null,null,null,null,null,null,null,null,null,null,null,null,{"$f":"'Golden Valley'!V17+'Golden Valley'!V32","v":7421602}]
["Grand Rapids",5.0000000000000001E-3,2023,null,null,null,null,null,null,null,null,null,null,null,null,null,null,null,null,null,null,null,{"$f":"'Grand Rapids'!U17+'Grand Rapids'!U32","v":1416311},{"$f":"'Grand Rapids'!V17+'Grand Rapids'!V32","v":2150392.7000000002}]
["Hermantown","0.50%/1.00%","2000/2013",{"$f":"Hermantown!B17+Hermantown!B32","v":1099764.55},{"$f":"Hermantown!C17+Hermantown!C32","v":1153668.9500000002},{"$f":"Hermantown!D17+Hermantown!D32","v":1137678.43},{"$f":"Hermantown!E17+Hermantown!E32","v":1193037.1100000001},{"$f":"Hermantown!F17+Hermantown!F32","v":1109705.03},{"$f":"Hermantown!G17+Hermantown!G32","v":1127223},{"$f":"Hermantown!H17+Hermantown!H32","v":1134116},{"$f":"Hermantown!I17+Hermantown!I32","v":1169932},{"$f":"Hermantown!J17+Hermantown!J32","v":1224434},{"$f":"Hermantown!K17+Hermantown!K32","v":2089558},{"$f":"Hermantown!L17+Hermantown!L32","v":2536381},{"$f":"Hermantown!M17+Hermantown!M32","v":2742273},{"$f":"Hermantown!N17+Hermantown!N32","v":3023197},{"$f":"Hermantown!O17+Hermantown!O32","v":2965284},{"$f":"Hermantown!P17+Hermantown!P32","v":3032741},{"$f":"Hermantown!Q17+Hermantown!Q32","v":3117105},{"$f":"Hermantown!R17+Hermantown!R32","v":3375669},{"$f":"Hermantown!S17+Hermantown!S32","v":3709002},{"$f":"Hermantown!T17+Hermantown!T32","v":3949202},{"$f":"Hermantown!U17+Hermantown!U32","v":5483156},{"$f":"Hermantown!V17+Hermantown!V32","v":5939806.3599999994}]
["Hutchinson",5.0000000000000001E-3,2012,"-","-","-","-","-","-","-","-",{"$f":"Hutchinson!J17+Hutchinson!J32","v":1193556},{"$f":"Hutchinson!K17+Hutchinson!K32","v":1432169},{"$f":"Hutchinson!L17+Hutchinson!L32","v":1454190},{"$f":"Hutchinson!M17+Hutchinson!M32","v":1448877},{"$f":"Hutchinson!N17+Hutchinson!N32","v":1359565},{"$f":"Hutchinson!O17+Hutchinson!O32","v":1460758},{"$f":"Hutchinson!P17+Hutchinson!P32","v":1496046},{"$f":"Hutchinson!Q17+Hutchinson!Q32","v":1542159},{"$f":"Hutchinson!R17+Hutchinson!R32","v":1606313},{"$f":"Hutchinson!S17+Hutchinson!S32","v":1737950},{"$f":"Hutchinson!T17+Hutchinson!T32","v":1953075},{"$f":"Hutchinson!U17+Hutchinson!U32","v":1899877},{"$f":"Hutchinson!V17+Hutchinson!V32","v":1952230.4200000002}]
["Int. Falls",0.01,2019,null,null,null,null,null,null,"-","-","-","-","-","-","-","-","-",{"$f":"'Int. Falls'!Q17+'Int. Falls'!Q32","v":161656},{"$f":"'Int. Falls'!R17+'Int. Falls'!R32","v":1035914},{"$f":"'Int. Falls'!S17+'Int. Falls'!S32","v":1168735},{"$f":"'Int. Falls'!T17+'Int. Falls'!T32","v":1394524},{"$f":"'Int. Falls'!U17+'Int. Falls'!U32","v":1503855},{"$f":"'Int. Falls'!V17+'Int. Falls'!V32","v":1437188.0599999998}]
["Lanesboro",5.0000000000000001E-3,"2012-2024*","-","-","-","-","-","-","-","-",{"$f":"Lanesboro!J17+Lanesboro!J32","v":47126},{"$f":"Lanesboro!K17+Lanesboro!K32","v":79416},{"$f":"Lanesboro!L17+Lanesboro!L32","v":71540},{"$f":"Lanesboro!M17+Lanesboro!M32","v":60247},{"$f":"Lanesboro!N17+Lanesboro!N32","v":60541},{"$f":"Lanesboro!O17+Lanesboro!O32","v":58735},{"$f":"Lanesboro!P17+Lanesboro!P32","v":56545},{"$f":"Lanesboro!Q17+Lanesboro!Q32","v":56251},{"$f":"Lanesboro!R17+Lanesboro!R32","v":64811},{"$f":"Lanesboro!S17+Lanesboro!S32","v":73957},{"$f":"Lanesboro!T17+Lanesboro!T32","v":81912},{"$f":"Lanesboro!U17+Lanesboro!U32","v":77723},{"$f":"Lanesboro!V17+Lanesboro!V32","v":74996.45}]
["Litchfield",5.0000000000000001E-3,2023,null,null,null,null,null,null,null,null,null,null,null,null,null,null,null,null,null,null,null,{"$f":"Litchfield!U17+Litchfield!U32","v":263035},{"$f":"Litchfield!V17+Litchfield!V32","v":686269.03}]
["Mankato",5.0000000000000001E-3,1992,{"$f":"Mankato!B17+Mankato!B32","v":3810404.94},{"$f":"Mankato!C17+Mankato!C32","v":4386026.41},{"$f":"Mankato!D17+Mankato!D32","v":4128429.0300000007},{"$f":"Mankato!E17+Mankato!E32","v":4334355.5199999996},{"$f":"Mankato!F17+Mankato!F32","v":4388499.2299999995},{"$f":"Mankato!G17+Mankato!G32","v":4381403},{"$f":"Mankato!H17+Mankato!H32","v":4520952},{"$f":"Mankato!I17+Mankato!I32","v":4702420},{"$f":"Mankato!J17+Mankato!J32","v":4881939},{"$f":"Mankato!K17+Mankato!K32","v":4974848},{"$f":"Mankato!L17+Mankato!L32","v":5200056},{"$f":"Mankato!M17+Mankato!M32","v":5528901},{"$f":"Mankato!N17+Mankato!N32","v":5310929},{"$f":"Mankato!O17+Mankato!O32","v":5278358},{"$f":"Mankato!P17+Mankato!P32","v":5470229},{"$f":"Mankato!Q17+Mankato!Q32","v":5457748},{"$f":"Mankato!R17+Mankato!R32","v":5349967},{"$f":"Mankato!S17+Mankato!S32","v":6114268},{"$f":"Mankato!T17+Mankato!T32","v":6868255},{"$f":"Mankato!U17+Mankato!U32","v":7370251},{"$f":"Mankato!V17+Mankato!V32","v":7098744.9399999995}]
["Maple Grove",5.0000000000000001E-3,2023,null,null,null,null,null,null,null,null,null,null,null,null,null,null,null,null,null,null,null,{"$f":"'Maple Grove'!U17+'Maple Grove'!U32","v":6273875},{"$f":"'Maple Grove'!V17+'Maple Grove'!V32","v":9683366.6599999983}]
["Marshall",5.0000000000000001E-3,2013,"-","-","-","-","-","-","-","-","-",{"$f":"Marshall!K17+Marshall!K32","v":894350},{"$f":"Marshall!L17+Marshall!L32","v":1426252},{"$f":"Marshall!M17+Marshall!M32","v":1497721},{"$f":"Marshall!N17+Marshall!N32","v":1491442},{"$f":"Marshall!O17+Marshall!O32","v":1420915},{"$f":"Marshall!P17+Marshall!P32","v":1448495},{"$f":"Marshall!Q17+Marshall!Q32","v":1535398},{"$f":"Marshall!R17+Marshall!R32","v":1452783},{"$f":"Marshall!S17+Marshall!S32","v":1777966},{"$f":"Marshall!T17+Marshall!T32","v":1976787},{"$f":"Marshall!U17+Marshall!U32","v":1901875},{"$f":"Marshall!V17+Marshall!V32","v":1921449.24}]
["Medford",5.0000000000000001E-3,2013,"-","-","-","-","-","-","-","-","-",{"$f":"Medford!K17+Medford!K32","v":81810},{"$f":"Medford!L17+Medford!L32","v":130260},{"$f":"Medford!M17+Medford!M32","v":148804},{"$f":"Medford!N17+Medford!N32","v":182890},{"$f":"Medford!O17+Medford!O32","v":174459},{"$f":"Medford!P17+Medford!P32","v":146504},{"$f":"Medford!Q17+Medford!Q32","v":193596},{"$f":"Medford!R17+Medford!R32","v":159847},{"$f":"Medford!S17+Medford!S32","v":185296},{"$f":"Medford!T17+Medford!T32","v":201840},{"$f":"Medford!U17+Medford!U32","v":191049},{"$f":"Medford!V17+Medford!V32","v":189432.37999999998}]
["Minneapolis",5.0000000000000001E-3,1987,{"$f":"Minneapolis!B17+Minneapolis!B32","v":26843648.899999995},{"$f":"Minneapolis!C17+Minneapolis!C32","v":28556269.890000001},{"$f":"Minneapolis!D17+Minneapolis!D32","v":28493947.789999999},{"$f":"Minneapolis!E17+Minneapolis!E32","v":30425380.839999996},{"$f":"Minneapolis!F17+Minneapolis!F32","v":30108224.960000001},{"$f":"Minneapolis!G17+Minneapolis!G32","v":27603226},{"$f":"Minneapolis!H17+Minneapolis!H32","v":27913705},{"$f":"Minneapolis!I17+Minneapolis!I32","v":30759503},"`",{"$f":"Minneapolis!K17+Minneapolis!K32","v":33548740},{"$f":"Minneapolis!L17+Minneapolis!L32","v":35091142},{"$f":"Minneapolis!M17+Minneapolis!M32","v":36376863},{"$f":"Minneapolis!N17+Minneapolis!N32","v":37624600},{"$f":"Minneapolis!O17+Minneapolis!O32","v":38296757},{"$f":"Minneapolis!P17+Minneapolis!P32","v":40343766},{"$f":"Minneapolis!Q17+Minneapolis!Q32","v":50818755},{"$f":"Minneapolis!R17+Minneapolis!R32","v":33761593},{"$f":"Minneapolis!S17+Minneapolis!S32","v":36700052},{"$f":"Minneapolis!T17+Minneapolis!T32","v":35257508},{"$f":"Minneapolis!U17+Minneapolis!U32","v":47313285},{"$f":"Minneapolis!V17+Minneapolis!V32","v":47167299.340000011}]
["Moorhead",5.0000000000000001E-3,2023,null,null,null,null,null,null,null,null,null,null,null,null,null,null,null,null,null,null,null,{"$f":"Moorhead!U17+Moorhead!U32","v":1883485},{"$f":"Moorhead!V17+Moorhead!V32","v":2873951.88}]
["Moose Lake",5.0000000000000001E-3,2017,"-","-","-","-","-","-","-","-","-","-","-","-","-",{"$f":"'Moose Lake'!O17+'Moose Lake'!O32","v":30691},{"$f":"'Moose Lake'!P17+'Moose Lake'!P32","v":227643},{"$f":"'Moose Lake'!Q17+'Moose Lake'!Q32","v":234868},{"$f":"'Moose Lake'!R17+'Moose Lake'!R32","v":258871},{"$f":"'Moose Lake'!S17+'Moose Lake'!S32","v":287049},{"$f":"'Moose Lake'!T17+'Moose Lake'!T32","v":304146},{"$f":"'Moose Lake'!U17+'Moose Lake'!U32","v":312988},{"$f":"'Moose Lake'!V17+'Moose Lake'!V32","v":298527.51}]
["New London",5.0000000000000001E-3,2017,"-","-","-","-","-","-","-","-","-","-","-","-","-",{"$f":"'New London'!O17+'New London'!O32","v":13625},{"$f":"'New London'!P17+'New London'!P32","v":101475},{"$f":"'New London'!Q17+'New London'!Q32","v":104459},{"$f":"'New London'!R17+'New London'!R32","v":101581},{"$f":"'New London'!S17+'New London'!S32","v":117355},{"$f":"'New London'!T17+'New London'!T32","v":129595},{"$f":"'New London'!U17+'New London'!U32","v":137050},{"$f":"'New London'!V17+'New London'!V32","v":142215.97}]
["New Ulm",5.0000000000000001E-3,2001,{"$f":"'New Ulm'!B17+'New Ulm'!B32","v":787778.57},{"$f":"'New Ulm'!C17+'New Ulm'!C32","v":843200.59},{"$f":"'New Ulm'!D17+'New Ulm'!D32","v":886987.92},{"$f":"'New Ulm'!E17+'New Ulm'!E32","v":939424.6},{"$f":"'New Ulm'!F17+'New Ulm'!F32","v":933518.76},{"$f":"'New Ulm'!G17+'New Ulm'!G32","v":939757},{"$f":"'New Ulm'!H17+'New Ulm'!H32","v":993663},{"$f":"'New Ulm'!I17+'New Ulm'!I32","v":1022880},{"$f":"'New Ulm'!J17+'New Ulm'!J32","v":1062888},{"$f":"'New Ulm'!K17+'New Ulm'!K32","v":1233243},{"$f":"'New Ulm'!L17+'New Ulm'!L32","v":1355288},{"$f":"'New Ulm'!M17+'New Ulm'!M32","v":1215202},{"$f":"'New Ulm'!N17+'New Ulm'!N32","v":1183318},{"$f":"'New Ulm'!O17+'New Ulm'!O32","v":1179289},{"$f":"'New Ulm'!P17+'New Ulm'!P32","v":1169691},{"$f":"'New Ulm'!Q17+'New Ulm'!Q32","v":1250751},{"$f":"'New Ulm'!R17+'New Ulm'!R32","v":1339153},{"$f":"'New Ulm'!S17+'New Ulm'!S32","v":1475668},{"$f":"'New Ulm'!T17+'New Ulm'!T32","v":1614402},{"$f":"'New Ulm'!U17+'New Ulm'!U32","v":1688166},{"$f":"'New Ulm'!V17+'New Ulm'!V32","v":1644644.52}]
["North Mankato",5.0000000000000001E-3,2008,"-","-","-","-",{"$f":"'North Mankato'!F17+'North Mankato'!F32","v":49057},{"$f":"'North Mankato'!G17+'North Mankato'!G32","v":393426},{"$f":"'North Mankato'!H17+'North Mankato'!H32","v":463065},{"$f":"'North Mankato'!I17+'North Mankato'!I32","v":488382},{"$f":"'North Mankato'!J17+'North Mankato'!J32","v":568365},{"$f":"'North Mankato'!K17+'North Mankato'!K32","v":614733},{"$f":"'North Mankato'!L17+'North Mankato'!L32","v":617090},{"$f":"'North Mankato'!M17+'North Mankato'!M32","v":704161},{"$f":"'North Mankato'!N17+'North Mankato'!N32","v":636326},{"$f":"'North Mankato'!O17+'North Mankato'!O32","v":640969},{"$f":"'North Mankato'!P17+'North Mankato'!P32","v":661719},{"$f":"'North Mankato'!Q17+'North Mankato'!Q32","v":700220},{"$f":"'North Mankato'!R17+'North Mankato'!R32","v":719865},{"$f":"'North Mankato'!S17+'North Mankato'!S32","v":826321},{"$f":"'North Mankato'!T17+'North Mankato'!T32","v":935287},{"$f":"'North Mankato'!U17+'North Mankato'!U32","v":974939},{"$f":"'North Mankato'!V17+'North Mankato'!V32","v":967456.3}]
["Oakdale",5.0000000000000001E-3,2023,null,null,null,null,null,null,null,null,null,null,null,null,null,null,null,null,null,null,null,{"$f":"Oakdale!U17+Oakdale!U32","v":1806008},{"$f":"Oakdale!V17+Oakdale!V32","v":2810880.1500000004}]
["Owatonna",5.0000000000000001E-3," 2007-2011*","-","-","-",{"$f":"Owatonna!E17+Owatonna!E32","v":1240621.9700000002},{"$f":"Owatonna!F17+Owatonna!F32","v":1946355.9899999998},{"$f":"Owatonna!G17+Owatonna!G32","v":2092829},{"$f":"Owatonna!H17+Owatonna!H32","v":1886147},{"$f":"Owatonna!I17+Owatonna!I32","v":1224809},{"$f":"Owatonna!J17+Owatonna!J32","v":15330},{"$f":"Owatonna!K17+Owatonna!K32","v":7459},{"$f":"Owatonna!L17+Owatonna!L32","v":13127},{"$f":"Owatonna!M17+Owatonna!M32","v":3330},{"$f":"Owatonna!N17+Owatonna!N32","v":-3350},{"$f":"Owatonna!O17+Owatonna!O32","v":-337},{"$f":"Owatonna!P17+Owatonna!P32","v":-45},{"$f":"Owatonna!Q17+Owatonna!Q32","v":6},{"$f":"Owatonna!R17+Owatonna!R32","v":0},{"$f":"Owatonna!S17+Owatonna!S32","v":0},{"$f":"Owatonna!T17+Owatonna!T32","v":0},{"$f":"Owatonna!U17+Owatonna!U32","v":0},{"$f":"Owatonna!V17+Owatonna!V32","v":0}]
["Perham",5.0000000000000001E-3,2020,null,null,null,null,null,null,"-","-","-","-","-","-","-","-","-","-",{"$f":"Perham!R17+Perham!R32","v":493352},{"$f":"Perham!S17+Perham!S32","v":678418},{"$f":"Perham!T17+Perham!T32","v":769471},{"$f":"Perham!U17+Perham!U32","v":828648},{"$f":"Perham!V17+Perham!V32","v":840414.17}]
["Proctor","0.50%/1.00%","2000/2017",{"$f":"Proctor!B17+Proctor!B32","v":122678},{"$f":"Proctor!C17+Proctor!C32","v":126569.56},{"$f":"Proctor!D17+Proctor!D32","v":151314.59},{"$f":"Proctor!E17+Proctor!E32","v":132581.41},{"$f":"Proctor!F17+Proctor!F32","v":130167.10999999999},{"$f":"Proctor!G17+Proctor!G32","v":154416},{"$f":"Proctor!H17+Proctor!H32","v":150941},{"$f":"Proctor!I17+Proctor!I32","v":151106},{"$f":"Proctor!J17+Proctor!J32","v":162363},{"$f":"Proctor!K17+Proctor!K32","v":213830},{"$f":"Proctor!L17+Proctor!L32","v":183601},{"$f":"Proctor!M17+Proctor!M32","v":213021},{"$f":"Proctor!N17+Proctor!N32","v":221689},{"$f":"Proctor!O17+Proctor!O32","v":236354},{"$f":"Proctor!P17+Proctor!P32","v":489792},{"$f":"Proctor!Q17+Proctor!Q32","v":405936},{"$f":"Proctor!R17+Proctor!R32","v":439357},{"$f":"Proctor!S17+Proctor!S32","v":402563},{"$f":"Proctor!T17+Proctor!T32","v":496102},{"$f":"Proctor!U17+Proctor!U32","v":525720},{"$f":"Proctor!V17+Proctor!V32","v":431700.06}]
["Rochester","0.50%/0.75%","1993/2016",{"$f":"Rochester!B17+Rochester!B32","v":8548150.040000001},{"$f":"Rochester!C17+Rochester!C32","v":8732500.0799999982},{"$f":"Rochester!D17+Rochester!D32","v":9255831.3800000008},{"$f":"Rochester!E17+Rochester!E32","v":9833630.3800000008},{"$f":"Rochester!F17+Rochester!F32","v":9482870.5700000003},{"$f":"Rochester!G17+Rochester!G32","v":9635634},{"$f":"Rochester!H17+Rochester!H32","v":9319670},{"$f":"Rochester!I17+Rochester!I32","v":9658017},{"$f":"Rochester!J17+Rochester!J32","v":10071132},{"$f":"Rochester!K17+Rochester!K32","v":10428422},{"$f":"Rochester!L17+Rochester!L32","v":11052708},{"$f":"Rochester!M17+Rochester!M32","v":11675132},{"$f":"Rochester!N17+Rochester!N32","v":16930492},{"$f":"Rochester!O17+Rochester!O32","v":17890877},{"$f":"Rochester!P17+Rochester!P32","v":18722256},{"$f":"Rochester!Q17+Rochester!Q32","v":19392444},{"$f":"Rochester!R17+Rochester!R32","v":19113557},{"$f":"Rochester!S17+Rochester!S32","v":21046043},{"$f":"Rochester!T17+Rochester!T32","v":23224035},{"$f":"Rochester!U17+Rochester!U32","v":23985901},{"$f":"Rochester!V17+Rochester!V32","v":23719404.419999998}]
["Rogers",2.5000000000000001E-3,2019,null,null,null,null,null,null,"-","-","-","-","-","-","-","-","-",{"$f":"Rogers!Q17+Rogers!Q32","v":161847},{"$f":"Rogers!R17+Rogers!R32","v":1170907},{"$f":"Rogers!S17+Rogers!S32","v":1374710},{"$f":"Rogers!T17+Rogers!T32","v":1468818},{"$f":"Rogers!U17+Rogers!U32","v":1507949},{"$f":"Rogers!V17+Rogers!V32","v":1497551.27}]
["Sauk Centre",5.0000000000000001E-3,2020,null,null,null,null,null,null,"-","-","-","-","-","-","-","-","-","-",{"$f":"'Sauk Centre'!R17+'Sauk Centre'!R32","v":485935},{"$f":"'Sauk Centre'!S17+'Sauk Centre'!S32","v":613981},{"$f":"'Sauk Centre'!T17+'Sauk Centre'!T32","v":697414},{"$f":"'Sauk Centre'!U17+'Sauk Centre'!U32","v":694077},{"$f":"'Sauk Centre'!V17+'Sauk Centre'!V32","v":699852.19000000006}]
["Scanlon",5.0000000000000001E-3,2020,null,null,null,null,null,null,"-","-","-","-","-","-","-","-","-","-",{"$f":"Scanlon!R17+Scanlon!R32","v":37770},{"$f":"Scanlon!S17+Scanlon!S32","v":79000},{"$f":"Scanlon!T17+Scanlon!T32","v":84987},{"$f":"Scanlon!U17+Scanlon!U32","v":97204},{"$f":"Scanlon!V17+Scanlon!V32","v":94756.38}]
["Spicer",5.0000000000000001E-3,2017,"-","-","-","-","-","-","-","-","-","-","-","-","-",{"$f":"Spicer!O17+Spicer!O32","v":24866},{"$f":"Spicer!P17+Spicer!P32","v":173188},{"$f":"Spicer!Q17+Spicer!Q32","v":175079},{"$f":"Spicer!R17+Spicer!R32","v":202747},{"$f":"Spicer!S17+Spicer!S32","v":234742},{"$f":"Spicer!T17+Spicer!T32","v":261597},{"$f":"Spicer!U17+Spicer!U32","v":264030},{"$f":"Spicer!V17+Spicer!V32","v":252410.36}]
["Staples",5.0000000000000001E-3,2023,null,null,null,null,null,null,null,null,null,null,null,null,null,null,null,null,null,null,null,{"$f":"Staples!U17+Staples!U32","v":155063},{"$f":"Staples!V17+Staples!V32","v":236049.76999999996}]
["St. Cloud Area",5.0000000000000001E-3,2003,{"$f":"'St. Cloud Area'!B17+'St. Cloud Area'!B32","v":5797345.629999999},{"$f":"'St. Cloud Area'!C17+'St. Cloud Area'!C32","v":6164590.1900000004},{"$f":"'St. Cloud Area'!D17+'St. Cloud Area'!D32","v":8114588.5100000007},{"$f":"'St. Cloud Area'!E17+'St. Cloud Area'!E32","v":8719065.129999999},{"$f":"'St. Cloud Area'!F17+'St. Cloud Area'!F32","v":8434990.7600000016},{"$f":"'St. Cloud Area'!G17+'St. Cloud Area'!G32","v":8250610},{"$f":"'St. Cloud Area'!H17+'St. Cloud Area'!H32","v":8282589},{"$f":"'St. Cloud Area'!I17+'St. Cloud Area'!I32","v":8714584},{"$f":"'St. Cloud Area'!J17+'St. Cloud Area'!J32","v":9175367},{"$f":"'St. Cloud Area'!K17+'St. Cloud Area'!K32","v":9473929},{"$f":"'St. Cloud Area'!L17+'St. Cloud Area'!L32","v":9686975},{"$f":"'St. Cloud Area'!M17+'St. Cloud Area'!M32","v":10033984},{"$f":"'St. Cloud Area'!N17+'St. Cloud Area'!N32","v":10633803},{"$f":"'St. Cloud Area'!O17+'St. Cloud Area'!O32","v":10585794},{"$f":"'St. Cloud Area'!P17+'St. Cloud Area'!P32","v":10699467},{"$f":"'St. Cloud Area'!Q17+'St. Cloud Area'!Q32","v":11325991},{"$f":"'St. Cloud Area'!R17+'St. Cloud Area'!R32","v":11157393},{"$f":"'St. Cloud Area'!S17+'St. Cloud Area'!S32","v":12796875},{"$f":"'St. Cloud Area'!T17+'St. Cloud Area'!T32","v":14179095},{"$f":"'St. Cloud Area'!U17+'St. Cloud Area'!U32","v":14221667},{"$f":"'St. Cloud Area'!V17+'St. Cloud Area'!V32","v":14297669.359999999}]
["St. Paul",1.4999999999999999E-2,1993,{"$f":"'St. Paul'!B17+'St. Paul'!B32","v":14263522.5},{"$f":"'St. Paul'!C17+'St. Paul'!C32","v":14934740.680000002},{"$f":"'St. Paul'!D17+'St. Paul'!D32","v":15452469.149999999},{"$f":"'St. Paul'!E17+'St. Paul'!E32","v":16171672.24},{"$f":"'St. Paul'!F17+'St. Paul'!F32","v":15670878.529999999},{"$f":"'St. Paul'!G17+'St. Paul'!G32","v":15842996},{"$f":"'St. Paul'!H17+'St. Paul'!H32","v":16023319},{"$f":"'St. Paul'!I17+'St. Paul'!I32","v":16383063},{"$f":"'St. Paul'!J17+'St. Paul'!J32","v":16454773},{"$f":"'St. Paul'!K17+'St. Paul'!K32","v":17502316},{"$f":"'St. Paul'!L17+'St. Paul'!L32","v":18110021},{"$f":"'St. Paul'!M17+'St. Paul'!M32","v":18558003},{"$f":"'St. Paul'!N17+'St. Paul'!N32","v":19056604},{"$f":"'St. Paul'!O17+'St. Paul'!O32","v":19333872},{"$f":"'St. Paul'!P17+'St. Paul'!P32","v":19525456},{"$f":"'St. Paul'!Q17+'St. Paul'!Q32","v":19992107},{"$f":"'St. Paul'!R17+'St. Paul'!R32","v":18399339},{"$f":"'St. Paul'!S17+'St. Paul'!S32","v":19972265},{"$f":"'St. Paul'!T17+'St. Paul'!T32","v":24160934},{"$f":"'St. Paul'!U17+'St. Paul'!U32","v":24117411},{"$f":"'St. Paul'!V17+'St. Paul'!V32","v":54767084.469999999}]
["St. Peter",5.0000000000000001E-3,2022,null,null,null,null,null,null,null,null,null,null,null,null,null,null,null,null,null,null,{"$f":"'St. Peter'!T17+'St. Peter'!T32","v":262673},{"$f":"'St. Peter'!U17+'St. Peter'!U32","v":642835},{"$f":"'St. Peter'!V17+'St. Peter'!V32","v":651898.47000000009}]
["Two Harbors",5.0000000000000001E-3,1999,{"$f":"'Two Harbors'!B17+'Two Harbors'!B32","v":204588.49},{"$f":"'Two Harbors'!C17+'Two Harbors'!C32","v":240133.96000000002},{"$f":"'Two Harbors'!D17+'Two Harbors'!D32","v":265107.59999999998},{"$f":"'Two Harbors'!E17+'Two Harbors'!E32","v":270767.35999999999},{"$f":"'Two Harbors'!F17+'Two Harbors'!F32","v":254738.88999999998},{"$f":"'Two Harbors'!G17+'Two Harbors'!G32","v":229402},{"$f":"'Two Harbors'!H17+'Two Harbors'!H32","v":265545},{"$f":"'Two Harbors'!I17+'Two Harbors'!I32","v":311437},{"$f":"'Two Harbors'!J17+'Two Harbors'!J32","v":284653},{"$f":"'Two Harbors'!K17+'Two Harbors'!K32","v":270934},{"$f":"'Two Harbors'!L17+'Two Harbors'!L32","v":300916},{"$f":"'Two Harbors'!M17+'Two Harbors'!M32","v":301742},{"$f":"'Two Harbors'!N17+'Two Harbors'!N32","v":333460},{"$f":"'Two Harbors'!O17+'Two Harbors'!O32","v":292929},{"$f":"'Two Harbors'!P17+'Two Harbors'!P32","v":339174},{"$f":"'Two Harbors'!Q17+'Two Harbors'!Q32","v":401680},{"$f":"'Two Harbors'!R17+'Two Harbors'!R32","v":740298},{"$f":"'Two Harbors'!S17+'Two Harbors'!S32","v":850369},{"$f":"'Two Harbors'!T17+'Two Harbors'!T32","v":970942},{"$f":"'Two Harbors'!U17+'Two Harbors'!U32","v":1069078},{"$f":"'Two Harbors'!V17+'Two Harbors'!V32","v":1064999.02}]
["Virginia",0.01,2020,null,null,null,null,null,null,"-","-","-","-","-","-","-","-","-","-",{"$f":"Virginia!R17+Virginia!R32","v":1860856},{"$f":"Virginia!S17+Virginia!S32","v":2398312},{"$f":"Virginia!T17+Virginia!T32","v":2600779},{"$f":"Virginia!U17+Virginia!U32","v":2574073},{"$f":"Virginia!V17+Virginia!V32","v":2620056.98}]
["Waite Park",5.0000000000000001E-3,2023,null,null,null,null,null,null,null,null,null,null,null,null,null,null,null,null,null,null,null,{"$f":"'Waite Park'!U17+'Waite Park'!U32","v":1803972},{"$f":"'Waite Park'!V17+'Waite Park'!V32","v":2678598.54}]
["Warren",5.0000000000000001E-3,2023,null,null,null,null,null,null,null,null,null,null,null,null,null,null,null,null,null,null,null,{"$f":"Warren!U17+Warren!U32","v":69922},{"$f":"Warren!V17+Warren!V32","v":115705.15}]
["Walker",1.4999999999999999E-2,2018,"-","-","-","-","-","-","-","-","-","-","-","-","-","-",{"$f":"Walker!P17+Walker!P32","v":692201},{"$f":"Walker!Q17+Walker!Q32","v":772605},{"$f":"Walker!R17+Walker!R32","v":829709},{"$f":"Walker!S17+Walker!S32","v":1031320},{"$f":"Walker!T17+Walker!T32","v":1011271},{"$f":"Walker!U17+Walker!U32","v":941013},{"$f":"Walker!V17+Walker!V32","v":1002265.3200000001}]
["West St. Paul",5.0000000000000001E-3,2020,null,null,null,null,null,null,"-","-","-","-","-","-","-","-","-","-",{"$f":"'West St. Paul'!R17+'West St. Paul'!R32","v":1520100},{"$f":"'West St. Paul'!S17+'West St. Paul'!S32","v":1941275},{"$f":"'West St. Paul'!T17+'West St. Paul'!T32","v":2194729},{"$f":"'West St. Paul'!U17+'West St. Paul'!U32","v":2217290},{"$f":"'West St. Paul'!V17+'West St. Paul'!V32","v":2235971.15}]
["Willmar",5.0000000000000001E-3," 2006-2012*/2019","-","-",{"$f":"Willmar!D17+Willmar!D32","v":1475634.05},{"$f":"Willmar!E17+Willmar!E32","v":1794419.1199999999},{"$f":"Willmar!F17+Willmar!F32","v":1751562.9999999998},{"$f":"Willmar!G17+Willmar!G32","v":1733787},{"$f":"Willmar!H17+Willmar!H32","v":1753486},{"$f":"Willmar!I17+Willmar!I32","v":1870799},{"$f":"Willmar!J17+Willmar!J32","v":2064924},{"$f":"Willmar!K17+Willmar!K32","v":429176},{"$f":"Willmar!L17+Willmar!L32","v":44255},{"$f":"Willmar!M17+Willmar!M32","v":-145935},{"$f":"Willmar!N17+Willmar!N32","v":1095},{"$f":"Willmar!O17+Willmar!O32","v":-5864},{"$f":"Willmar!P17+Willmar!P32","v":312},{"$f":"Willmar!Q17+Willmar!Q32","v":331073},{"$f":"Willmar!R17+Willmar!R32","v":2113890},{"$f":"Willmar!S17+Willmar!S32","v":2410466},{"$f":"Willmar!T17+Willmar!T32","v":2927547},{"$f":"Willmar!U17+Willmar!U32","v":2960720},{"$f":"Willmar!V17+Willmar!V32","v":2973586.92}]
["Worthington",5.0000000000000001E-3,"2009-2019/2020","-","-","-","-","-",{"$f":"Worthington!G16+Worthington!G31","v":49079},{"$f":"Worthington!H17+Worthington!H32","v":717875},{"$f":"Worthington!I17+Worthington!I32","v":804606},{"$f":"Worthington!J17+Worthington!J32","v":802609},{"$f":"Worthington!K17+Worthington!K32","v":842602},{"$f":"Worthington!L17+Worthington!L32","v":832915},{"$f":"Worthington!M17+Worthington!M32","v":885016},{"$f":"Worthington!N17+Worthington!N32","v":905617},{"$f":"Worthington!O17+Worthington!O32","v":1530574},{"$f":"Worthington!P17+Worthington!P32","v":836619},{"$f":"Worthington!Q17+Worthington!Q32","v":4196},{"$f":"Worthington!R17+Worthington!R32","v":937147},{"$f":"Worthington!S17+Worthington!S32","v":1216920},{"$f":"Worthington!T17+Worthington!T32","v":1310711},{"$f":"Worthington!U17+Worthington!U32","v":1319973},{"$f":"Worthington!V17+Worthington!V32","v":1237497.0100000002}]
["City Total (excl. Refunds)",null,null,{"$f":"SUM(D5:D63)","v":61477881.619999997},65137700.310000002,83125682.349999994,93454612.429999992,93409633.99000001,91351458,93108546,97903747,70144511,108065650,113559877,117208780,124844917,125752664,133937343,150236310,153311581,171554946,186864155,221404318,280148018.14999998]
["City Refunds",null,null,"-","-","-","-",{"$f":"Austin!F47+Baxter!F47+Bemidji!F47+Brainerd!F47+Duluth!F47+Hermantown!F47+Mankato!F47+Minneapolis!F47+'New Ulm'!F47+Owatonna!F47+Rochester!F47+'St. Cloud Area'!F47+'St. Paul'!F47+Willmar!F47","v":-38874},{"$f":"Austin!G47+Baxter!G47+Bemidji!G47+Brainerd!G47+Duluth!G47+Hermantown!G47+Mankato!G47+Minneapolis!G47+'New Ulm'!G47+Owatonna!G47+Rochester!G47+'St. Cloud Area'!G47+'St. Paul'!G47+Willmar!G47+'Albert Lea'!G47+Clearwater!G47+'North Mankato'!G47+Proctor!G47+'Two Harbors'!G47+Worthington!G47","v":-2416019},{"$f":"Austin!H47+Baxter!H47+Bemidji!H47+Brainerd!H47+Duluth!H47+Hermantown!H47+Mankato!H47+Minneapolis!H47+'New Ulm'!H47+Owatonna!H47+Rochester!H47+'St. Cloud Area'!H47+'St. Paul'!H47+Willmar!H47+'Albert Lea'!H47+Clearwater!H47+'North Mankato'!H47+Proctor!H47+'Two Harbors'!H47+Worthington!H47","v":-2240120},{"$f":"Austin!I47+Baxter!I47+Bemidji!I47+Brainerd!I47+Duluth!I47+Hermantown!I47+Mankato!I47+Minneapolis!I47+'New Ulm'!I47+Owatonna!I47+Rochester!I47+'St. Cloud Area'!I47+'St. Paul'!I47+Willmar!I47+'Albert Lea'!I47+Clearwater!I47+'North Mankato'!I47+Proctor!I47+'Two Harbors'!I47+Worthington!I47","v":-2654686},{"$f":"Austin!J47+Baxter!J47+Bemidji!J47+Brainerd!J47+Duluth!J47+Hermantown!J47+Mankato!J47+Minneapolis!J47+'New Ulm'!J47+Owatonna!J47+Rochester!J47+'St. Cloud Area'!J47+'St. Paul'!J47+Willmar!J47+'Albert Lea'!J47+Clearwater!J47+'North Mankato'!J47+Proctor!J47+'Two Harbors'!J47+Worthington!J47+'Fergus Falls'!J47+Hutchinson!J47+Lanesboro!J47","v":-2385605},{"$f":"Austin!K47+Baxter!K47+Bemidji!K47+Brainerd!K47+Duluth!K47+Hermantown!K47+Mankato!K47+Minneapolis!K47+'New Ulm'!K47+Owatonna!K47+Rochester!K47+'St. Cloud Area'!K47+'St. Paul'!K47+Willmar!K47+'Albert Lea'!K47+Clearwater!K47+'North Mankato'!K47+Proctor!K47+'Two Harbors'!K47+Worthington!K47+'Fergus Falls'!K47+Hutchinson!K47+Lanesboro!K47+Cloquet!K47+Marshall!K47+Medford!K47","v":-2715801},{"$f":"Austin!L47+Baxter!L47+Bemidji!L47+Brainerd!L47+Duluth!L47+Hermantown!L47+Mankato!L47+Minneapolis!L47+'New Ulm'!L47+Owatonna!L47+Rochester!L47+'St. Cloud Area'!L47+'St. Paul'!L47+Willmar!L47+'Albert Lea'!L47+Clearwater!L47+'North Mankato'!L47+Proctor!L47+'Two Harbors'!L47+Worthington!L47+'Fergus Falls'!L47+Hutchinson!L47+Lanesboro!L47+Cloquet!L47+Marshall!L47+Medford!L47","v":-2865424},{"$f":"Austin!M47+Baxter!M47+Bemidji!M47+Brainerd!M47+Duluth!M47+Hermantown!M47+Mankato!M47+Minneapolis!M47+'New Ulm'!M47+Owatonna!M47+Rochester!M47+'St. Cloud Area'!M47+'St. Paul'!M47+Willmar!M47+'Albert Lea'!M47+Clearwater!M47+'North Mankato'!M47+Proctor!M47+'Two Harbors'!M47+Worthington!M47+'Fergus Falls'!M47+Hutchinson!M47+Lanesboro!M47+Cloquet!M47+Marshall!M47+Medford!M47","v":-2817964},{"$f":"Austin!N47+Baxter!N47+Bemidji!N47+Brainerd!N47+Duluth!N47+Hermantown!N47+Mankato!N47+Minneapolis!N47+'New Ulm'!N47+Owatonna!N47+Rochester!N47+'St. Cloud Area'!N47+'St. Paul'!N47+Willmar!N47+'Albert Lea'!N47+Clearwater!N47+'North Mankato'!N47+Proctor!N47+'Two Harbors'!N47+Worthington!N47+'Fergus Falls'!N47+Hutchinson!N47+Lanesboro!N47+Cloquet!N47+Marshall!N47+Medford!N47","v":-2357249},{"$f":"Austin!O47+Baxter!O47+Bemidji!O47+Brainerd!O47+Duluth!O47+Hermantown!O47+Mankato!O47+Minneapolis!O47+'New Ulm'!O47+Owatonna!O47+Rochester!O47+'St. Cloud Area'!O47+'St. Paul'!O47+Willmar!O47+'Albert Lea'!O47+Clearwater!O47+'North Mankato'!O47+Proctor!O47+'Two Harbors'!O47+Worthington!O47+'Fergus Falls'!O47+Hutchinson!O47+Lanesboro!O47+Cloquet!O47+Marshall!O47+Medford!O47+Fairmont!O47+'Moose Lake'!O47+'New London'!O47+Spicer!O47","v":-2011896},{"$f":"Austin!P47+Baxter!P47+Bemidji!P47+Brainerd!P47+Duluth!P47+Hermantown!P47+Mankato!P47+Minneapolis!P47+'New Ulm'!P47+Owatonna!P47+Rochester!P47+'St. Cloud Area'!P47+'St. Paul'!P47+Willmar!P47+'Albert Lea'!P47+Clearwater!P47+'North Mankato'!P47+Proctor!P47+'Two Harbors'!P47+Worthington!P47+'Fergus Falls'!P47+Hutchinson!P47+Lanesboro!P47+Cloquet!P47+Marshall!P47+Medford!P47+Fairmont!P47+'Moose Lake'!P47+'New London'!P47+Spicer!P47+'East Grand Forks'!P47+'GKWMLL Sanitary'!P47+Walker!P47","v":-2649021},{"$f":"Austin!Q47+Baxter!Q47+Bemidji!Q47+Brainerd!Q47+Duluth!Q47+Hermantown!Q47+Mankato!Q47+Minneapolis!Q47+'New Ulm'!Q47+Owatonna!Q47+Rochester!Q47+'St. Cloud Area'!Q47+'St. Paul'!Q47+Willmar!Q47+'Albert Lea'!Q47+Clearwater!Q47+'North Mankato'!Q47+Proctor!Q47+'Two Harbors'!Q47+Worthington!Q47+'Fergus Falls'!Q47+Hutchinson!Q47+Lanesboro!Q47+Cloquet!Q47+Marshall!Q47+Medford!Q47+Fairmont!Q47+'Moose Lake'!Q47+'New London'!Q47+Spicer!Q47+'East Grand Forks'!Q47+'GKWMLL Sanitary'!Q47+Walker!Q47+'Detroit Lakes'!Q47+Avon!Q47+'Blue Earth'!Q47+Cambridge!Q47+'Elk River'!Q47+Excelsior!Q47+'Int. Falls'!Q47+Rogers!Q47","v":-3147146},{"$f":"Austin!R47+Baxter!R47+Bemidji!R47+Brainerd!R47+Duluth!R47+Hermantown!R47+Mankato!R47+Minneapolis!R47+'New Ulm'!R47+Owatonna!R47+Rochester!R47+'St. Cloud Area'!R47+'St. Paul'!R47+Willmar!R47+'Albert Lea'!R47+Clearwater!R47+'North Mankato'!R47+Proctor!R47+'Two Harbors'!R47+Worthington!R47+'Fergus Falls'!R47+Hutchinson!R47+Lanesboro!R47+Cloquet!R47+Marshall!R47+Medford!R47+Fairmont!R47+'Moose Lake'!R47+'New London'!R47+Spicer!R47+'East Grand Forks'!R47+'GKWMLL Sanitary'!R47+Walker!R47+'Detroit Lakes'!R47+Avon!R47+'Blue Earth'!R47+Cambridge!R47+'Elk River'!R47+Excelsior!R47+'Int. Falls'!R47+Rogers!R47+Glenwood!R47+Perham!R47+'Sauk Centre'!R47+Scanlon!R47+'West St. Paul'!R47+Virginia!R47","v":-3472952},{"$f":"Austin!S47+Baxter!S47+Bemidji!S47+Brainerd!S47+Duluth!S47+Hermantown!S47+Mankato!S47+Minneapolis!S47+'New Ulm'!S47+Owatonna!S47+Rochester!S47+'St. Cloud Area'!S47+'St. Paul'!S47+Willmar!S47+'Albert Lea'!S47+Clearwater!S47+'North Mankato'!S47+Proctor!S47+'Two Harbors'!S47+Worthington!S47+'Fergus Falls'!S47+Hutchinson!S47+Lanesboro!S47+Cloquet!S47+Marshall!S47+Medford!S47+Fairmont!S47+'Moose Lake'!S47+'New London'!S47+Spicer!S47+'East Grand Forks'!S47+'GKWMLL Sanitary'!S47+Walker!S47+'Detroit Lakes'!S47+Avon!S47+'Blue Earth'!S47+Cambridge!S47+'Elk River'!S47+Excelsior!S47+'Int. Falls'!S47+Rogers!S47+Glenwood!S47+Perham!S47+'Sauk Centre'!S47+Scanlon!S47+'West St. Paul'!S47+Virginia!S47","v":-1766756},{"$f":"Austin!T47+Baxter!T47+Bemidji!T47+Brainerd!T47+Duluth!T47+Hermantown!T47+Mankato!T47+Minneapolis!T47+'New Ulm'!T47+Owatonna!T47+Rochester!T47+'St. Cloud Area'!T47+'St. Paul'!T47+Willmar!T47+'Albert Lea'!T47+Clearwater!T47+'North Mankato'!T47+Proctor!T47+'Two Harbors'!T47+Worthington!T47+'Fergus Falls'!T47+Hutchinson!T47+Lanesboro!T47+Cloquet!T47+Marshall!T47+Medford!T47+Fairmont!T47+'Moose Lake'!T47+'New London'!T47+Spicer!T47+'East Grand Forks'!T47+'GKWMLL Sanitary'!T47+Walker!T47+'Detroit Lakes'!T47+Avon!T47+'Blue Earth'!T47+Cambridge!T47+'Elk River'!T47+Excelsior!T47+'Int. Falls'!T47+Rogers!T47+Glenwood!T47+Perham!T47+'Sauk Centre'!T47+Scanlon!T47+'West St. Paul'!T47+Virginia!T47","v":-1498021},{"$f":"Austin!U47+Baxter!U47+Bemidji!U47+Brainerd!U47+Duluth!U47+Hermantown!U47+Mankato!U47+Minneapolis!U47+'New Ulm'!U47+Owatonna!U47+Rochester!U47+'St. Cloud Area'!U47+'St. Paul'!U47+Willmar!U47+'Albert Lea'!U47+Clearwater!U47+'North Mankato'!U47+Proctor!U47+'Two Harbors'!U47+Worthington!U47+'Fergus Falls'!U47+Hutchinson!U47+Lanesboro!U47+Cloquet!U47+Marshall!U47+Medford!U47+Fairmont!U47+'Moose Lake'!U47+'New London'!U47+Spicer!U47+'East Grand Forks'!U47+'GKWMLL Sanitary'!U47+Walker!U47+'Detroit Lakes'!U47+Avon!U47+'Blue Earth'!U47+Cambridge!U47+'Elk River'!U47+Excelsior!U47+'Int. Falls'!U47+Rogers!U47+Glenwood!U47+Perham!U47+'Sauk Centre'!U47+Scanlon!U47+'West St. Paul'!U47+Virginia!U47+Edina!U47","v":-2149078},{"$f":"Austin!V47+Baxter!V47+Bemidji!V47+Brainerd!V47+Duluth!V47+Hermantown!V47+Mankato!V47+Minneapolis!V47+'New Ulm'!V47+Owatonna!V47+Rochester!V47+'St. Cloud Area'!V47+'St. Paul'!V47+Willmar!V47+'Albert Lea'!V47+Clearwater!V47+'North Mankato'!V47+Proctor!V47+'Two Harbors'!V47+Worthington!V47+'Fergus Falls'!V47+Hutchinson!V47+Lanesboro!V47+Cloquet!V47+Marshall!V47+Medford!V47+Fairmont!V47+'Moose Lake'!V47+'New London'!V47+Spicer!V47+'East Grand Forks'!V47+'GKWMLL Sanitary'!V47+Walker!V47+'Detroit Lakes'!V47+Avon!V47+'Blue Earth'!V47+Cambridge!V47+'Elk River'!V47+Excelsior!V47+'Int. Falls'!V47+Rogers!V47+Glenwood!V47+Perham!V47+'Sauk Centre'!V47+Scanlon!V47+'West St. Paul'!V47+Virginia!V47+Edina!V47","v":-2085490.8200000003}]
["Hidden columns D-J contain data for CY 2004-2010."]
["*Shaded cells show collections received net of refunds paid in months after the local tax expired (6/30/2011 in Owatonna,  12/31/2012 in Willmar (authorization ran out in Sept 2014), & 12/31/2016 in Fergus Falls)."]
["Note: Initially effective 1/1/2006 in Willmar, effective 4/1/2007 in Owatonna, and effective 1/1/2012 in Lanesboro."]
["**Totals for 2004-2005 exclude $11-$12 million in Duluth sales tax collections."]
["Note: GKWMLL Sanitary is Garrison, Kathio, West Mille Lacs Sanitary District"]
["Source:  Minnesota Department of Revenue, Tax Research Division, November 2025"]
["end of worksheet"]

{"sheet":"St. Peter","index":1,"n_rows":51,"n_cols":22,"rows_kept":51,"cut":false,"hidden":true,"merged":[[48,0,48,19],[49,0,49,19],[50,0,50,19],[0,0,0,19],[1,0,1,19],[2,0,2,19],[17,0,17,19],[32,0,32,19],[47,0,47,19]]}
["St. Peter Monthly Detail for Minnesota Local Sales & Use Tax"]
[{"$f":"'Local SUT'!A2","v":"CY 2004-2024"}]
["St. Peter Local Sales Tax (0.5%)"]
["Month",2004,2005,2006,2007,2008,2009,2010,2011,2012,2013,2014,2015,2016,2017,2018,2019,2020,2021,2022,2023,2024]
["January ","-","-","-","-","-","-","-","-","-","-","-","-","-","-","-","-","-","-","-",57196,56448]
["February","-","-","-","-","-","-","-","-","-","-","-","-","-","-","-","-","-","-","-",43025,48652]
["March","-","-","-","-","-","-","-","-","-","-","-","-","-","-","-","-","-","-","-",46975,49652]
["April","-","-","-","-","-","-","-","-","-","-","-","-","-","-","-","-","-","-","-",49202,49158]
["May","-","-","-","-","-","-","-","-","-","-","-","-","-","-","-","-","-","-","-",47293,57211]
["June","-","-","-","-","-","-","-","-","-","-","-","-","-","-","-","-","-","-","-",58034,56659]
["July","-","-","-","-","-","-","-","-","-","-","-","-","-","-","-","-","-","-",12,59160,51562]
["August","-","-","-","-","-","-","-","-","-","-","-","-","-","-","-","-","-","-",43284,53576,51784.63]
["September","-","-","-","-","-","-","-","-","-","-","-","-","-","-","-","-","-","-",46970,47691,51374.64]
["October","-","-","-","-","-","-","-","-","-","-","-","-","-","-","-","-","-","-",51989,55460,51415.4]
["November ","-","-","-","-","-","-","-","-","-","-","-","-","-","-","-","-","-","-",54025,48003,53910.23]
["December","-","-","-","-","-","-","-","-","-","-","-","-","-","-","-","-","-","-",53801,51089,50217.68]
["Total","-","-",{"$f":"SUM(D5:D16)","v":0},0,0,0,0,0,0,0,0,0,0,0,0,0,0,0,250081,616704,628044.58000000007]
["St. Peter Local Use Tax (0.5%)"]
["Month",2004,2005,2006,2007,2008,2009,2010,2011,2012,2013,2014,2015,2016,2017,2018,2019,2020,2021,2022,2023,2024]
["January ","-","-","-","-","-","-","-","-","-","-","-","-","-","-","-","-","-","-","-",2349,1909]
["February","-","-","-","-","-","-","-","-","-","-","-","-","-","-","-","-","-","-","-",972,1477]
["March","-","-","-","-","-","-","-","-","-","-","-","-","-","-","-","-","-","-","-",2067,1557]
["April","-","-","-","-","-","-","-","-","-","-","-","-","-","-","-","-","-","-","-",2625,1560]
["May","-","-","-","-","-","-","-","-","-","-","-","-","-","-","-","-","-","-","-",2539,232]
["June","-","-","-","-","-","-","-","-","-","-","-","-","-","-","-","-","-","-","-",2595,3579]
["July","-","-","-","-","-","-","-","-","-","-","-","-","-","-","-","-","-","-",12,3338,1884]
["August","-","-","-","-","-","-","-","-","-","-","-","-","-","-","-","-","-","-",1259,1155,1497.05]
["September","-","-","-","-","-","-","-","-","-","-","-","-","-","-","-","-","-","-",3278,3136,1373.29]
["October","-","-","-","-","-","-","-","-","-","-","-","-","-","-","-","-","-","-",3201,1673,3916.94]
["November ","-","-","-","-","-","-","-","-","-","-","-","-","-","-","-","-","-","-",2406,1808,2568.21]
["December","-","-","-","-","-","-","-","-","-","-","-","-","-","-","-","-","-","-",2436,1874,2300.4]
["Total","-","-",{"$f":"SUM(D20:D31)","v":0},0,0,0,0,0,0,0,0,0,0,0,0,0,0,0,12592,26131,23853.89]
["St. Peter Refunds"]
["Month",2004,2005,2006,2007,2008,2009,2010,2011,2012,2013,2014,2015,2016,2017,2018,2019,2020,2021,2022,2023,2024]
["January ","-","-","-","-","-","-","-","-","-","-","-","-","-","-","-","-","-","-","-","-","-"]
["February","-","-","-","-","-","-","-","-","-","-","-","-","-","-","-","-","-","-","-","-",-9518]
["March","-","-","-","-","-","-","-","-","-","-","-","-","-","-","-","-","-","-","-","-",-16]
["April","-","-","-","-","-","-","-","-","-","-","-","-","-","-","-","-","-","-","-","-","-"]
["May","-","-","-","-","-","-","-","-","-","-","-","-","-","-","-","-","-","-","-",-1,"-"]
["June","-","-","-","-","-","-","-","-","-","-","-","-","-","-","-","-","-","-","-","-","-"]
["July","-","-","-","-","-","-","-","-","-","-","-","-","-","-","-","-","-","-","-","-",-7]
["August","-","-","-","-","-","-","-","-","-","-","-","-","-","-","-","-","-","-","-",-11,"-"]
["September","-","-","-","-","-","-","-","-","-","-","-","-","-","-","-","-","-","-","-","-","-"]
["October","-","-","-","-","-","-","-","-","-","-","-","-","-","-","-","-","-","-","-","-","-"]
["November ","-","-","-","-","-","-","-","-","-","-","-","-","-","-","-","-","-","-","-","-",-1.48]
["December","-","-","-","-","-","-","-","-","-","-","-","-","-","-","-","-","-","-","-","-","-"]
["Total","-","-","-","-","-",{"$f":"SUM(G35:G46)","v":0},0,0,0,0,0,0,0,0,0,0,0,0,0,-12,-9542.48]
["Hidden columns B-N do not contain any data for CY 2004-2015"]
["*Collections for November 2008 are included in December totals due to a new processing system."]
[{"$f":"'Local SUT'!A71","v":"Source:  Minnesota Department of Revenue, Tax Research Division, November 2025"}]
["end of worksheet"]

{"sheet":"Golden Valley","index":2,"n_rows":51,"n_cols":22,"rows_kept":51,"cut":false,"hidden":true,"merged":[[48,0,48,19],[49,0,49,19],[50,0,50,19],[0,0,0,19],[1,0,1,19],[2,0,2,19],[17,0,17,19],[32,0,32,19],[47,0,47,19]]}
["Golden Valley Monthly Detail for Minnesota Local Sales & Use Tax"]
[{"$f":"'Local SUT'!A2","v":"CY 2004-2024"}]
["Golden Valley Local Sales Tax (0.5%)"]
["Month",2004,2005,2006,2007,2008,2009,2010,2011,2012,2013,2014,2015,2016,2017,2018,2019,2020,2021,2022,2023,2024]
["January ","-","-","-","-","-","-","-","-","-","-","-","-","-","-","-","-","-","-","-","-","-"]
["February","-","-","-","-","-","-","-","-","-","-","-","-","-","-","-","-","-","-","-","-","-"]
["March","-","-","-","-","-","-","-","-","-","-","-","-","-","-","-","-","-","-","-","-","-"]
["April","-","-","-","-","-","-","-","-","-","-","-","-","-","-","-","-","-","-","-","-","-"]
["May","-","-","-","-","-","-","-","-","-","-","-","-","-","-","-","-","-","-","-","-",801202]
["June","-","-","-","-","-","-","-","-","-","-","-","-","-","-","-","-","-","-","-","-",979909]
["July","-","-","-","-","-","-","-","-","-","-","-","-","-","-","-","-","-","-","-","-",849557]
["August","-","-","-","-","-","-","-","-","-","-","-","-","-","-","-","-","-","-","-","-",855005]
["September","-","-","-","-","-","-","-","-","-","-","-","-","-","-","-","-","-","-","-","-",794673]
["October","-","-","-","-","-","-","-","-","-","-","-","-","-","-","-","-","-","-","-","-",844922]
["November ","-","-","-","-","-","-","-","-","-","-","-","-","-","-","-","-","-","-","-","-",884289]
["December","-","-","-","-","-","-","-","-","-","-","-","-","-","-","-","-","-","-","-","-",833089]
["Total","-","-",{"$f":"SUM(D5:D16)","v":0},0,0,0,0,0,0,0,0,0,0,0,0,0,0,0,0,0,6842646]
["Golden Valley Local Use Tax (0.5%)"]
["Month",2004,2005,2006,2007,2008,2009,2010,2011,2012,2013,2014,2015,2016,2017,2018,2019,2020,2021,2022,2023,2024]
["January ","-","-","-","-","-","-","-","-","-","-","-","-","-","-","-","-","-","-","-","-","-"]
["February","-","-","-","-","-","-","-","-","-","-","-","-","-","-","-","-","-","-","-","-","-"]
["March","-","-","-","-","-","-","-","-","-","-","-","-","-","-","-","-","-","-","-","-","-"]
["April","-","-","-","-","-","-","-","-","-","-","-","-","-","-","-","-","-","-","-","-",3]
["May","-","-","-","-","-","-","-","-","-","-","-","-","-","-","-","-","-","-","-","-",44281]
["June","-","-","-","-","-","-","-","-","-","-","-","-","-","-","-","-","-","-","-","-",133099]
["July","-","-","-","-","-","-","-","-","-","-","-","-","-","-","-","-","-","-","-","-",92717]
["August","-","-","-","-","-","-","-","-","-","-","-","-","-","-","-","-","-","-","-","-",40459]
["September","-","-","-","-","-","-","-","-","-","-","-","-","-","-","-","-","-","-","-","-",57337]
["October","-","-","-","-","-","-","-","-","-","-","-","-","-","-","-","-","-","-","-","-",78070]
["November ","-","-","-","-","-","-","-","-","-","-","-","-","-","-","-","-","-","-","-","-",53048]
["December","-","-","-","-","-","-","-","-","-","-","-","-","-","-","-","-","-","-","-","-",79942]
["Total","-","-",{"$f":"SUM(D20:D31)","v":0},0,0,0,0,0,0,0,0,0,0,0,0,0,0,0,0,0,578956]
["Golden Valley Refunds"]
["Month",2004,2005,2006,2007,2008,2009,2010,2011,2012,2013,2014,2015,2016,2017,2018,2019,2020,2021,2022,2023,2024]
["January ","-","-","-","-","-","-","-","-","-","-","-","-","-","-","-","-","-","-","-","-","-"]
["February","-","-","-","-","-","-","-","-","-","-","-","-","-","-","-","-","-","-","-","-","-"]
["March","-","-","-","-","-","-","-","-","-","-","-","-","-","-","-","-","-","-","-","-","-"]
["April","-","-","-","-","-","-","-","-","-","-","-","-","-","-","-","-","-","-","-","-","-"]
["May","-","-","-","-","-","-","-","-","-","-","-","-","-","-","-","-","-","-","-","-","-"]
["June","-","-","-","-","-","-","-","-","-","-","-","-","-","-","-","-","-","-","-","-","-"]
["July","-","-","-","-","-","-","-","-","-","-","-","-","-","-","-","-","-","-","-","-",-188]
["August","-","-","-","-","-","-","-","-","-","-","-","-","-","-","-","-","-","-","-","-","-"]
["September","-","-","-","-","-","-","-","-","-","-","-","-","-","-","-","-","-","-","-","-","-"]
["October","-","-","-","-","-","-","-","-","-","-","-","-","-","-","-","-","-","-","-","-",-1]
["November ","-","-","-","-","-","-","-","-","-","-","-","-","-","-","-","-","-","-","-","-","-"]
["December","-","-","-","-","-","-","-","-","-","-","-","-","-","-","-","-","-","-","-","-","-"]
["Total","-","-","-","-","-",{"$f":"SUM(G35:G46)","v":0},0,0,0,0,0,0,0,0,0,0,0,0,0,0,-189]
["Hidden columns B-L do not contain any data for CY 2004-2015"]
["*Collections for November 2008 are included in December totals due to a new processing system."]
[{"$f":"'Local SUT'!A71","v":"Source:  Minnesota Department of Revenue, Tax Research Division, November 2025"}]
["end of worksheet"]

{"sheet":"Bloomington","index":3,"n_rows":51,"n_cols":22,"rows_kept":51,"cut":false,"hidden":true,"merged":[[48,0,48,19],[49,0,49,19],[50,0,50,19],[0,0,0,19],[1,0,1,19],[2,0,2,19],[17,0,17,19],[32,0,32,19],[47,0,47,19]]}
["Bloomington Monthly Detail for Minnesota Local Sales & Use Tax"]
[{"$f":"'Local SUT'!A2","v":"CY 2004-2024"}]
["Bloomington Local Sales Tax (0.5%)"]
["Month",2004,2005,2006,2007,2008,2009,2010,2011,2012,2013,2014,2015,2016,2017,2018,2019,2020,2021,2022,2023,2024]
["January ","-","-","-","-","-","-","-","-","-","-","-","-","-","-","-","-","-","-","-","-","-"]
["February","-","-","-","-","-","-","-","-","-","-","-","-","-","-","-","-","-","-","-","-","-"]
["March","-","-","-","-","-","-","-","-","-","-","-","-","-","-","-","-","-","-","-","-","-"]
["April","-","-","-","-","-","-","-","-","-","-","-","-","-","-","-","-","-","-","-","-",1956]
["May","-","-","-","-","-","-","-","-","-","-","-","-","-","-","-","-","-","-","-","-",1008220]
["June","-","-","-","-","-","-","-","-","-","-","-","-","-","-","-","-","-","-","-","-",1105285]
["July","-","-","-","-","-","-","-","-","-","-","-","-","-","-","-","-","-","-","-","-",1250089]
["August","-","-","-","-","-","-","-","-","-","-","-","-","-","-","-","-","-","-","-","-",1362629]
["September","-","-","-","-","-","-","-","-","-","-","-","-","-","-","-","-","-","-","-","-",1314856]
["October","-","-","-","-","-","-","-","-","-","-","-","-","-","-","-","-","-","-","-","-",1159175]
["November ","-","-","-","-","-","-","-","-","-","-","-","-","-","-","-","-","-","-","-","-",1187046]
["December","-","-","-","-","-","-","-","-","-","-","-","-","-","-","-","-","-","-","-","-",1142505]
["Total","-","-",{"$f":"SUM(D5:D16)","v":0},0,0,0,0,0,0,0,0,0,0,0,0,0,0,0,0,0,9531761]
["Bloomington Local Use Tax (0.5%)"]
["Month",2004,2005,2006,2007,2008,2009,2010,2011,2012,2013,2014,2015,2016,2017,2018,2019,2020,2021,2022,2023,2024]
["January ","-","-","-","-","-","-","-","-","-","-","-","-","-","-","-","-","-","-","-","-","-"]
["February","-","-","-","-","-","-","-","-","-","-","-","-","-","-","-","-","-","-","-","-","-"]
["March","-","-","-","-","-","-","-","-","-","-","-","-","-","-","-","-","-","-","-","-","-"]
["April","-","-","-","-","-","-","-","-","-","-","-","-","-","-","-","-","-","-","-","-",1]
["May","-","-","-","-","-","-","-","-","-","-","-","-","-","-","-","-","-","-","-","-",49156]
["June","-","-","-","-","-","-","-","-","-","-","-","-","-","-","-","-","-","-","-","-",49967]
["July","-","-","-","-","-","-","-","-","-","-","-","-","-","-","-","-","-","-","-","-",60170]
["August","-","-","-","-","-","-","-","-","-","-","-","-","-","-","-","-","-","-","-","-",50240]
["September","-","-","-","-","-","-","-","-","-","-","-","-","-","-","-","-","-","-","-","-",68802]
["October","-","-","-","-","-","-","-","-","-","-","-","-","-","-","-","-","-","-","-","-",54520]
["November ","-","-","-","-","-","-","-","-","-","-","-","-","-","-","-","-","-","-","-","-",96501]
["December","-","-","-","-","-","-","-","-","-","-","-","-","-","-","-","-","-","-","-","-",61698]
["Total","-","-",{"$f":"SUM(D20:D31)","v":0},0,0,0,0,0,0,0,0,0,0,0,0,0,0,0,0,0,491055]
["Bloomington Refunds"]
["Month",2004,2005,2006,2007,2008,2009,2010,2011,2012,2013,2014,2015,2016,2017,2018,2019,2020,2021,2022,2023,2024]
["January ","-","-","-","-","-","-","-","-","-","-","-","-","-","-","-","-","-","-","-","-","-"]
["February","-","-","-","-","-","-","-","-","-","-","-","-","-","-","-","-","-","-","-","-","-"]
["March","-","-","-","-","-","-","-","-","-","-","-","-","-","-","-","-","-","-","-","-","-"]
["April","-","-","-","-","-","-","-","-","-","-","-","-","-","-","-","-","-","-","-","-",0]
["May","-","-","-","-","-","-","-","-","-","-","-","-","-","-","-","-","-","-","-","-",0]
["June","-","-","-","-","-","-","-","-","-","-","-","-","-","-","-","-","-","-","-","-",0]
["July","-","-","-","-","-","-","-","-","-","-","-","-","-","-","-","-","-","-","-","-",0]
["August","-","-","-","-","-","-","-","-","-","-","-","-","-","-","-","-","-","-","-","-",-19]
["September","-","-","-","-","-","-","-","-","-","-","-","-","-","-","-","-","-","-","-","-",0]
["October","-","-","-","-","-","-","-","-","-","-","-","-","-","-","-","-","-","-","-","-",-9]
["November ","-","-","-","-","-","-","-","-","-","-","-","-","-","-","-","-","-","-","-","-",0]
["December","-","-","-","-","-","-","-","-","-","-","-","-","-","-","-","-","-","-","-","-",0]
["Total","-","-","-","-","-",{"$f":"SUM(G35:G46)","v":0},0,0,0,0,0,0,0,0,0,0,0,0,0,0,-28]
["Hidden columns B-L do not contain any data for CY 2004-2015"]
["*Collections for November 2008 are included in December totals due to a new processing system."]
[{"$f":"'Local SUT'!A71","v":"Source:  Minnesota Department of Revenue, Tax Research Division, November 2025"}]
["end of worksheet"]

{"sheet":"Warren","index":4,"n_rows":51,"n_cols":22,"rows_kept":51,"cut":false,"hidden":true,"merged":[[48,0,48,19],[49,0,49,19],[50,0,50,19],[0,0,0,19],[1,0,1,19],[2,0,2,19],[17,0,17,19],[32,0,32,19],[47,0,47,19]]}
["Warren Monthly Detail for Minnesota Local Sales & Use Tax"]
[{"$f":"'Local SUT'!A2","v":"CY 2004-2024"}]
["Warren Local Sales Tax (0.5%)"]
["Month",2004,2005,2006,2007,2008,2009,2010,2011,2012,2013,2014,2015,2016,2017,2018,2019,2020,2021,2022,2023,2024]
["January ","-","-","-","-","-","-","-","-","-","-","-","-","-","-","-","-","-","-","-","-",7731]
["February","-","-","-","-","-","-","-","-","-","-","-","-","-","-","-","-","-","-","-","-",8787]
["March","-","-","-","-","-","-","-","-","-","-","-","-","-","-","-","-","-","-","-","-",7148]
["April","-","-","-","-","-","-","-","-","-","-","-","-","-","-","-","-","-","-","-","-",9281]
["May","-","-","-","-","-","-","-","-","-","-","-","-","-","-","-","-","-","-","-",7811,9152]
["June","-","-","-","-","-","-","-","-","-","-","-","-","-","-","-","-","-","-","-",7791,9929]
["July","-","-","-","-","-","-","-","-","-","-","-","-","-","-","-","-","-","-","-",10140,9758]
["August","-","-","-","-","-","-","-","-","-","-","-","-","-","-","-","-","-","-","-",8595,10302.77]
["September","-","-","-","-","-","-","-","-","-","-","-","-","-","-","-","-","-","-","-",8936,9162.2000000000007]
["October","-","-","-","-","-","-","-","-","-","-","-","-","-","-","-","-","-","-","-",9439,12011.76]
["November ","-","-","-","-","-","-","-","-","-","-","-","-","-","-","-","-","-","-","-",7548,11474.46]
["December","-","-","-","-","-","-","-","-","-","-","-","-","-","-","-","-","-","-","-",8215,7104.9]
["Total","-","-",{"$f":"SUM(D5:D16)","v":0},0,0,0,0,0,0,{"$f":"SUM(K5:K16)","v":0},0,0,0,0,0,0,0,0,0,68475,111842.09]
["Warren Local Use Tax (0.5%)"]
["Month",2004,2005,2006,2007,2008,2009,2010,2011,2012,2013,2014,2015,2016,2017,2018,2019,2020,2021,2022,2023,2024]
["January ","-","-","-","-","-","-","-","-","-","-","-","-","-","-","-","-","-","-","-","-",977]
["February","-","-","-","-","-","-","-","-","-","-","-","-","-","-","-","-","-","-","-","-",246]
["March","-","-","-","-","-","-","-","-","-","-","-","-","-","-","-","-","-","-","-","-",46]
["April","-","-","-","-","-","-","-","-","-","-","-","-","-","-","-","-","-","-","-","-",552]
["May","-","-","-","-","-","-","-","-","-","-","-","-","-","-","-","-","-","-","-",62,62]
["June","-","-","-","-","-","-","-","-","-","-","-","-","-","-","-","-","-","-","-",42,622]
["July","-","-","-","-","-","-","-","-","-","-","-","-","-","-","-","-","-","-","-",112,200]
["August","-","-","-","-","-","-","-","-","-","-","-","-","-","-","-","-","-","-","-",76,190]
["September","-","-","-","-","-","-","-","-","-","-","-","-","-","-","-","-","-","-","-",165,143]
["October","-","-","-","-","-","-","-","-","-","-","-","-","-","-","-","-","-","-","-",69,399]
["November ","-","-","-","-","-","-","-","-","-","-","-","-","-","-","-","-","-","-","-",851,341.06]
["December","-","-","-","-","-","-","-","-","-","-","-","-","-","-","-","-","-","-","-",70,85]
["Total","-","-",{"$f":"SUM(D20:D31)","v":0},0,0,0,0,0,0,{"$f":"SUM(K20:K31)","v":0},0,0,0,0,0,0,0,0,0,1447,3863.06]
["Warren Refunds"]
["Month",2004,2005,2006,2007,2008,2009,2010,2011,2012,2013,2014,2015,2016,2017,2018,2019,2020,2021,2022,2023,2024]
["January ","-","-","-","-","-","-","-","-","-","-","-","-","-","-","-","-","-","-","-","-","-"]
["February","-","-","-","-","-","-","-","-","-","-","-","-","-","-","-","-","-","-","-","-","-"]
["March","-","-","-","-","-","-","-","-","-","-","-","-","-","-","-","-","-","-","-","-","-"]
["April","-","-","-","-","-","-","-","-","-","-","-","-","-","-","-","-","-","-","-","-","-"]
["May","-","-","-","-","-","-","-","-","-","-","-","-","-","-","-","-","-","-","-","-","-"]
["June","-","-","-","-","-","-","-","-","-","-","-","-","-","-","-","-","-","-","-","-","-"]
["July","-","-","-","-","-","-","-","-","-","-","-","-","-","-","-","-","-","-","-","-","-"]
["August","-","-","-","-","-","-","-","-","-","-","-","-","-","-","-","-","-","-","-","-","-"]
["September","-","-","-","-","-","-","-","-","-","-","-","-","-","-","-","-","-","-","-","-","-"]
["October","-","-","-","-","-","-","-","-","-","-","-","-","-","-","-","-","-","-","-","-","-"]
["November ","-","-","-","-","-","-","-","-","-","-","-","-","-","-","-","-","-","-","-","-","-"]
["December","-","-","-","-","-","-","-","-","-","-","-","-","-","-","-","-","-","-","-","-",-6.29]
["Total","-","-","-","-","-",{"$f":"SUM(G35:G46)","v":0},0,0,0,0,0,0,0,0,0,0,0,0,0,0,-6.29]
["Hidden columns B-L do not contain any data for CY 2004-2015"]
["*Collections for November 2008 are included in December totals due to a new processing system."]
[{"$f":"'Local SUT'!A71","v":"Source:  Minnesota Department of Revenue, Tax Research Division, November 2025"}]
["end of worksheet"]

{"sheet":"Waite Park","index":5,"n_rows":51,"n_cols":22,"rows_kept":51,"cut":false,"hidden":true,"merged":[[48,0,48,19],[49,0,49,19],[50,0,50,19],[0,0,0,19],[1,0,1,19],[2,0,2,19],[17,0,17,19],[32,0,32,19],[47,0,47,19]]}
["Waite Park Monthly Detail for Minnesota Local Sales & Use Tax"]
[{"$f":"'Local SUT'!A2","v":"CY 2004-2024"}]
["Waite Park Local Sales Tax (0.5%)"]
["Month",2004,2005,2006,2007,2008,2009,2010,2011,2012,2013,2014,2015,2016,2017,2018,2019,2020,2021,2022,2023,2024]
["January ","-","-","-","-","-","-","-","-","-","-","-","-","-","-","-","-","-","-","-","-",220011]
["February","-","-","-","-","-","-","-","-","-","-","-","-","-","-","-","-","-","-","-","-",169783]
["March","-","-","-","-","-","-","-","-","-","-","-","-","-","-","-","-","-","-","-","-",167487]
["April","-","-","-","-","-","-","-","-","-","-","-","-","-","-","-","-","-","-","-",750,194891]
["May","-","-","-","-","-","-","-","-","-","-","-","-","-","-","-","-","-","-","-",167078,225417]
["June","-","-","-","-","-","-","-","-","-","-","-","-","-","-","-","-","-","-","-",230354,252992]
["July","-","-","-","-","-","-","-","-","-","-","-","-","-","-","-","-","-","-","-",223558,233797]
["August","-","-","-","-","-","-","-","-","-","-","-","-","-","-","-","-","-","-","-",220596,232831.87]
["September","-","-","-","-","-","-","-","-","-","-","-","-","-","-","-","-","-","-","-",222359,213517.7]
["October","-","-","-","-","-","-","-","-","-","-","-","-","-","-","-","-","-","-","-",212610,212974.66]
["November ","-","-","-","-","-","-","-","-","-","-","-","-","-","-","-","-","-","-","-",223903,224862.5]
["December","-","-","-","-","-","-","-","-","-","-","-","-","-","-","-","-","-","-","-",214162,215105.44]
["Total","-","-",{"$f":"SUM(D5:D16)","v":0},0,0,0,0,0,0,{"$f":"SUM(K5:K16)","v":0},0,0,0,0,0,0,0,0,0,1715370,2563670.17]
["Waite Park Local Use Tax (0.5%)"]
["Month",2004,2005,2006,2007,2008,2009,2010,2011,2012,2013,2014,2015,2016,2017,2018,2019,2020,2021,2022,2023,2024]
["January ","-","-","-","-","-","-","-","-","-","-","-","-","-","-","-","-","-","-","-","-",16929]
["February","-","-","-","-","-","-","-","-","-","-","-","-","-","-","-","-","-","-","-","-",6498]
["March","-","-","-","-","-","-","-","-","-","-","-","-","-","-","-","-","-","-","-","-",5202]
["April","-","-","-","-","-","-","-","-","-","-","-","-","-","-","-","-","-","-","-",286,6322]
["May","-","-","-","-","-","-","-","-","-","-","-","-","-","-","-","-","-","-","-",5784,6201]
["June","-","-","-","-","-","-","-","-","-","-","-","-","-","-","-","-","-","-","-",10485,8873]
["July","-","-","-","-","-","-","-","-","-","-","-","-","-","-","-","-","-","-","-",14370,11988]
["August","-","-","-","-","-","-","-","-","-","-","-","-","-","-","-","-","-","-","-",13707,11854.07]
["September","-","-","-","-","-","-","-","-","-","-","-","-","-","-","-","-","-","-","-",11784,9265.31]
["October","-","-","-","-","-","-","-","-","-","-","-","-","-","-","-","-","-","-","-",11451,13723.74]
["November ","-","-","-","-","-","-","-","-","-","-","-","-","-","-","-","-","-","-","-",12934,11252.81]
["December","-","-","-","-","-","-","-","-","-","-","-","-","-","-","-","-","-","-","-",7801,6819.44]
["Total","-","-",{"$f":"SUM(D20:D31)","v":0},0,0,0,0,0,0,{"$f":"SUM(K20:K31)","v":0},0,0,0,0,0,0,0,0,0,88602,114928.37000000001]
["Waite Park Refunds"]
["Month",2004,2005,2006,2007,2008,2009,2010,2011,2012,2013,2014,2015,2016,2017,2018,2019,2020,2021,2022,2023,2024]
["January ","-","-","-","-","-","-","-","-","-","-","-","-","-","-","-","-","-","-","-","-","-"]
["February","-","-","-","-","-","-","-","-","-","-","-","-","-","-","-","-","-","-","-","-",-4]
["March","-","-","-","-","-","-","-","-","-","-","-","-","-","-","-","-","-","-","-","-",-4]
["April","-","-","-","-","-","-","-","-","-","-","-","-","-","-","-","-","-","-","-","-",-116]
["May","-","-","-","-","-","-","-","-","-","-","-","-","-","-","-","-","-","-","-","-",-2]
["June","-","-","-","-","-","-","-","-","-","-","-","-","-","-","-","-","-","-","-","-",-4]
["July","-","-","-","-","-","-","-","-","-","-","-","-","-","-","-","-","-","-","-","-",-105]
["August","-","-","-","-","-","-","-","-","-","-","-","-","-","-","-","-","-","-","-",-34,-205.04]
["September","-","-","-","-","-","-","-","-","-","-","-","-","-","-","-","-","-","-","-","-","-"]
["October","-","-","-","-","-","-","-","-","-","-","-","-","-","-","-","-","-","-","-","-",-9.68]
["November ","-","-","-","-","-","-","-","-","-","-","-","-","-","-","-","-","-","-","-","-",-33.22]
["December","-","-","-","-","-","-","-","-","-","-","-","-","-","-","-","-","-","-","-","-",-803.85]
["Total","-","-","-","-","-",{"$f":"SUM(G35:G46)","v":0},0,0,0,0,0,0,0,0,0,0,0,0,0,-34,-1286.79]
["Hidden columns B-L do not contain any data for CY 2004-2015"]
["*Collections for November 2008 are included in December totals due to a new processing system."]
[{"$f":"'Local SUT'!A71","v":"Source:  Minnesota Department of Revenue, Tax Research Division, November 2025"}]
["end of worksheet"]

{"sheet":"Staples","index":6,"n_rows":51,"n_cols":22,"rows_kept":51,"cut":false,"hidden":true,"merged":[[48,0,48,19],[49,0,49,19],[50,0,50,19],[0,0,0,19],[1,0,1,19],[2,0,2,19],[17,0,17,19],[32,0,32,19],[47,0,47,19]]}
["Staples Monthly Detail for Minnesota Local Sales & Use Tax"]
[{"$f":"'Local SUT'!A2","v":"CY 2004-2024"}]
["Staples Local Sales Tax (0.5%)"]
["Month",2004,2005,2006,2007,2008,2009,2010,2011,2012,2013,2014,2015,2016,2017,2018,2019,2020,2021,2022,2023,2024]
["January ","-","-","-","-","-","-","-","-","-","-","-","-","-","-","-","-","-","-","-","-",17576]
["February","-","-","-","-","-","-","-","-","-","-","-","-","-","-","-","-","-","-","-","-",17012]
["March","-","-","-","-","-","-","-","-","-","-","-","-","-","-","-","-","-","-","-","-",15554]
["April","-","-","-","-","-","-","-","-","-","-","-","-","-","-","-","-","-","-","-","-",17497]
["May","-","-","-","-","-","-","-","-","-","-","-","-","-","-","-","-","-","-","-",13332,20166]
["June","-","-","-","-","-","-","-","-","-","-","-","-","-","-","-","-","-","-","-",17624,20059]
["July","-","-","-","-","-","-","-","-","-","-","-","-","-","-","-","-","-","-","-",23168,20631]
["August","-","-","-","-","-","-","-","-","-","-","-","-","-","-","-","-","-","-","-",17557,20393.86]
["September","-","-","-","-","-","-","-","-","-","-","-","-","-","-","-","-","-","-","-",19930,20335.740000000002]
["October","-","-","-","-","-","-","-","-","-","-","-","-","-","-","-","-","-","-","-",20386,18077.93]
["November ","-","-","-","-","-","-","-","-","-","-","-","-","-","-","-","-","-","-","-",16900,18081.310000000001]
["December","-","-","-","-","-","-","-","-","-","-","-","-","-","-","-","-","-","-","-",15963,15730.93]
["Total","-","-",{"$f":"SUM(D5:D16)","v":0},0,0,0,0,0,0,{"$f":"SUM(K5:K16)","v":0},0,0,0,0,0,0,0,0,0,144860,221114.76999999996]
["Staples Local Use Tax (0.5%)"]
["Month",2004,2005,2006,2007,2008,2009,2010,2011,2012,2013,2014,2015,2016,2017,2018,2019,2020,2021,2022,2023,2024]
["January ","-","-","-","-","-","-","-","-","-","-","-","-","-","-","-","-","-","-","-",null,850]
["February","-","-","-","-","-","-","-","-","-","-","-","-","-","-","-","-","-","-","-",null,1817]
["March","-","-","-","-","-","-","-","-","-","-","-","-","-","-","-","-","-","-","-",null,2000]
["April","-","-","-","-","-","-","-","-","-","-","-","-","-","-","-","-","-","-","-",0,1896]
["May","-","-","-","-","-","-","-","-","-","-","-","-","-","-","-","-","-","-","-",1073,1177]
["June","-","-","-","-","-","-","-","-","-","-","-","-","-","-","-","-","-","-","-",1007,830]
["July","-","-","-","-","-","-","-","-","-","-","-","-","-","-","-","-","-","-","-",3023,1722]
["August","-","-","-","-","-","-","-","-","-","-","-","-","-","-","-","-","-","-","-",1571,1617]
["September","-","-","-","-","-","-","-","-","-","-","-","-","-","-","-","-","-","-","-",1278,853]
["October","-","-","-","-","-","-","-","-","-","-","-","-","-","-","-","-","-","-","-",1019,823]
["November ","-","-","-","-","-","-","-","-","-","-","-","-","-","-","-","-","-","-","-",524,560]
["December","-","-","-","-","-","-","-","-","-","-","-","-","-","-","-","-","-","-","-",708,790]
["Total","-","-",{"$f":"SUM(D20:D31)","v":0},0,0,0,0,0,0,{"$f":"SUM(K20:K31)","v":0},0,0,0,0,0,0,0,0,0,10203,14935]
["Staples Refunds"]
["Month",2004,2005,2006,2007,2008,2009,2010,2011,2012,2013,2014,2015,2016,2017,2018,2019,2020,2021,2022,2023,2024]
["January ","-","-","-","-","-","-","-","-","-","-","-","-","-","-","-","-","-","-","-","-","-"]
["February","-","-","-","-","-","-","-","-","-","-","-","-","-","-","-","-","-","-","-","-","-"]
["March","-","-","-","-","-","-","-","-","-","-","-","-","-","-","-","-","-","-","-","-","-"]
["April","-","-","-","-","-","-","-","-","-","-","-","-","-","-","-","-","-","-","-","-",-143]
["May","-","-","-","-","-","-","-","-","-","-","-","-","-","-","-","-","-","-","-","-","-"]
["June","-","-","-","-","-","-","-","-","-","-","-","-","-","-","-","-","-","-","-","-","-"]
["July","-","-","-","-","-","-","-","-","-","-","-","-","-","-","-","-","-","-","-","-","-"]
["August","-","-","-","-","-","-","-","-","-","-","-","-","-","-","-","-","-","-","-","-","-"]
["September","-","-","-","-","-","-","-","-","-","-","-","-","-","-","-","-","-","-","-","-","-"]
["October","-","-","-","-","-","-","-","-","-","-","-","-","-","-","-","-","-","-","-","-",-13.69]
["November ","-","-","-","-","-","-","-","-","-","-","-","-","-","-","-","-","-","-","-","-",-19]
["December","-","-","-","-","-","-","-","-","-","-","-","-","-","-","-","-","-","-","-","-",-8439.39]
["Total","-","-","-","-","-",{"$f":"SUM(G35:G46)","v":0},0,0,0,0,0,0,0,0,0,0,0,0,0,0,-8615.08]
["Hidden columns B-L do not contain any data for CY 2004-2015"]
["*Collections for November 2008 are included in December totals due to a new processing system."]
[{"$f":"'Local SUT'!A71","v":"Source:  Minnesota Department of Revenue, Tax Research Division, November 2025"}]
["end of worksheet"]

{"sheet":"Oakdale","index":7,"n_rows":51,"n_cols":22,"rows_kept":51,"cut":false,"hidden":true,"merged":[[48,0,48,19],[49,0,49,19],[50,0,50,19],[0,0,0,19],[1,0,1,19],[2,0,2,19],[17,0,17,19],[32,0,32,19],[47,0,47,19]]}
["Oakdale Monthly Detail for Minnesota Local Sales & Use Tax"]
[{"$f":"'Local SUT'!A2","v":"CY 2004-2024"}]
["Oakdale Local Sales Tax (0.5%)"]
["Month",2004,2005,2006,2007,2008,2009,2010,2011,2012,2013,2014,2015,2016,2017,2018,2019,2020,2021,2022,2023,2024]
["January ","-","-","-","-","-","-","-","-","-","-","-","-","-","-","-","-","-","-","-","-",242973]
["February","-","-","-","-","-","-","-","-","-","-","-","-","-","-","-","-","-","-","-","-",208475]
["March","-","-","-","-","-","-","-","-","-","-","-","-","-","-","-","-","-","-","-","-",187933]
["April","-","-","-","-","-","-","-","-","-","-","-","-","-","-","-","-","-","-","-","-",225751]
["May","-","-","-","-","-","-","-","-","-","-","-","-","-","-","-","-","-","-","-",184657,217704]
["June","-","-","-","-","-","-","-","-","-","-","-","-","-","-","-","-","-","-","-",213418,234946]
["July","-","-","-","-","-","-","-","-","-","-","-","-","-","-","-","-","-","-","-",230833,238775]
["August","-","-","-","-","-","-","-","-","-","-","-","-","-","-","-","-","-","-","-",214900,232876.89]
["September","-","-","-","-","-","-","-","-","-","-","-","-","-","-","-","-","-","-","-",213473,223414.76]
["October","-","-","-","-","-","-","-","-","-","-","-","-","-","-","-","-","-","-","-",208842,225924.61]
["November ","-","-","-","-","-","-","-","-","-","-","-","-","-","-","-","-","-","-","-",223294,223397.41]
["December","-","-","-","-","-","-","-","-","-","-","-","-","-","-","-","-","-","-","-",227160,220210.53]
["Total","-","-",{"$f":"SUM(D5:D16)","v":0},0,0,0,0,0,0,{"$f":"SUM(K5:K16)","v":0},0,0,0,0,0,0,0,0,0,1716577,2682381.2000000002]
["Oakdale Local Use Tax (0.5%)"]
["Month",2004,2005,2006,2007,2008,2009,2010,2011,2012,2013,2014,2015,2016,2017,2018,2019,2020,2021,2022,2023,2024]
["January ","-","-","-","-","-","-","-","-","-","-","-","-","-","-","-","-","-","-","-","-",8052]
["February","-","-","-","-","-","-","-","-","-","-","-","-","-","-","-","-","-","-","-","-",8107]
["March","-","-","-","-","-","-","-","-","-","-","-","-","-","-","-","-","-","-","-","-",6828]
["April","-","-","-","-","-","-","-","-","-","-","-","-","-","-","-","-","-","-","-","-",9491]
["May","-","-","-","-","-","-","-","-","-","-","-","-","-","-","-","-","-","-","-",9135,10945]
["June","-","-","-","-","-","-","-","-","-","-","-","-","-","-","-","-","-","-","-",8758,20198]
["July","-","-","-","-","-","-","-","-","-","-","-","-","-","-","-","-","-","-","-",18944,13400]
["August","-","-","-","-","-","-","-","-","-","-","-","-","-","-","-","-","-","-","-",7902,10856.34]
["September","-","-","-","-","-","-","-","-","-","-","-","-","-","-","-","-","-","-","-",12611,14852.48]
["October","-","-","-","-","-","-","-","-","-","-","-","-","-","-","-","-","-","-","-",15090,9132.65]
["November ","-","-","-","-","-","-","-","-","-","-","-","-","-","-","-","-","-","-","-",9914,10130.06]
["December","-","-","-","-","-","-","-","-","-","-","-","-","-","-","-","-","-","-","-",7077,6506.42]
["Total","-","-",{"$f":"SUM(D20:D31)","v":0},0,0,0,0,0,0,{"$f":"SUM(K20:K31)","v":0},0,0,0,0,0,0,0,0,0,89431,128498.94999999998]
["Oakdale Refunds"]
["Month",2004,2005,2006,2007,2008,2009,2010,2011,2012,2013,2014,2015,2016,2017,2018,2019,2020,2021,2022,2023,2024]
["January ","-","-","-","-","-","-","-","-","-","-","-","-","-","-","-","-","-","-","-","-",-958]
["February","-","-","-","-","-","-","-","-","-","-","-","-","-","-","-","-","-","-","-","-","-"]
["March","-","-","-","-","-","-","-","-","-","-","-","-","-","-","-","-","-","-","-","-","-"]
["April","-","-","-","-","-","-","-","-","-","-","-","-","-","-","-","-","-","-","-","-","-"]
["May","-","-","-","-","-","-","-","-","-","-","-","-","-","-","-","-","-","-","-","-","-"]
["June","-","-","-","-","-","-","-","-","-","-","-","-","-","-","-","-","-","-","-","-","-"]
["July","-","-","-","-","-","-","-","-","-","-","-","-","-","-","-","-","-","-","-","-","-"]
["August","-","-","-","-","-","-","-","-","-","-","-","-","-","-","-","-","-","-","-","-","-"]
["September","-","-","-","-","-","-","-","-","-","-","-","-","-","-","-","-","-","-","-","-","-"]
["October","-","-","-","-","-","-","-","-","-","-","-","-","-","-","-","-","-","-","-","-","-"]
["November ","-","-","-","-","-","-","-","-","-","-","-","-","-","-","-","-","-","-","-","-","-"]
["December","-","-","-","-","-","-","-","-","-","-","-","-","-","-","-","-","-","-","-","-","-"]
["Total","-","-","-","-","-",{"$f":"SUM(G35:G46)","v":0},0,0,0,0,0,0,0,0,0,0,0,0,0,0,-958]
["Hidden columns B-L do not contain any data for CY 2004-2015"]
["*Collections for November 2008 are included in December totals due to a new processing system."]
[{"$f":"'Local SUT'!A71","v":"Source:  Minnesota Department of Revenue, Tax Research Division, November 2025"}]
["end of worksheet"]

{"sheet":"Moorhead","index":8,"n_rows":51,"n_cols":22,"rows_kept":51,"cut":false,"hidden":true,"merged":[[48,0,48,19],[49,0,49,19],[50,0,50,19],[0,0,0,19],[1,0,1,19],[2,0,2,19],[17,0,17,19],[32,0,32,19],[47,0,47,19]]}
["Moorhead Monthly Detail for Minnesota Local Sales & Use Tax"]
[{"$f":"'Local SUT'!A2","v":"CY 2004-2024"}]
["Moorhead Local Sales Tax (0.5%)"]
["Month",2004,2005,2006,2007,2008,2009,2010,2011,2012,2013,2014,2015,2016,2017,2018,2019,2020,2021,2022,2023,2024]
["January ","-","-","-","-","-","-","-","-","-","-","-","-","-","-","-","-","-","-","-",null,233098]
["February","-","-","-","-","-","-","-","-","-","-","-","-","-","-","-","-","-","-","-",null,196503]
["March","-","-","-","-","-","-","-","-","-","-","-","-","-","-","-","-","-","-","-",null,187707]
["April","-","-","-","-","-","-","-","-","-","-","-","-","-","-","-","-","-","-","-",274,220328]
["May","-","-","-","-","-","-","-","-","-","-","-","-","-","-","-","-","-","-","-",189077,227298]
["June","-","-","-","-","-","-","-","-","-","-","-","-","-","-","-","-","-","-","-",231556,251738]
["July","-","-","-","-","-","-","-","-","-","-","-","-","-","-","-","-","-","-","-",243479,246553]
["August","-","-","-","-","-","-","-","-","-","-","-","-","-","-","-","-","-","-","-",212969,249739.59]
["September","-","-","-","-","-","-","-","-","-","-","-","-","-","-","-","-","-","-","-",235650,238398.79]
["October","-","-","-","-","-","-","-","-","-","-","-","-","-","-","-","-","-","-","-",246729,249277.64]
["November ","-","-","-","-","-","-","-","-","-","-","-","-","-","-","-","-","-","-","-",229423,247224.61]
["December","-","-","-","-","-","-","-","-","-","-","-","-","-","-","-","-","-","-","-",223697,229855.18]
["Total","-","-",{"$f":"SUM(D5:D16)","v":0},0,0,0,0,0,0,{"$f":"SUM(K5:K16)","v":0},0,0,0,0,0,0,0,0,0,1812854,2777720.81]
["Moorhead Local Use Tax (0.5%)"]
["Month",2004,2005,2006,2007,2008,2009,2010,2011,2012,2013,2014,2015,2016,2017,2018,2019,2020,2021,2022,2023,2024]
["January ","-","-","-","-","-","-","-","-","-","-","-","-","-","-","-","-","-","-","-",null,11846]
["February","-","-","-","-","-","-","-","-","-","-","-","-","-","-","-","-","-","-","-",null,6081]
["March","-","-","-","-","-","-","-","-","-","-","-","-","-","-","-","-","-","-","-",null,5927]
["April","-","-","-","-","-","-","-","-","-","-","-","-","-","-","-","-","-","-","-",0,8349]
["May","-","-","-","-","-","-","-","-","-","-","-","-","-","-","-","-","-","-","-",3965,8095]
["June","-","-","-","-","-","-","-","-","-","-","-","-","-","-","-","-","-","-","-",4760,9212]
["July","-","-","-","-","-","-","-","-","-","-","-","-","-","-","-","-","-","-","-",12674,10094]
["August","-","-","-","-","-","-","-","-","-","-","-","-","-","-","-","-","-","-","-",10342,9159]
["September","-","-","-","-","-","-","-","-","-","-","-","-","-","-","-","-","-","-","-",10867,8672.02]
["October","-","-","-","-","-","-","-","-","-","-","-","-","-","-","-","-","-","-","-",10223,6713.03]
["November ","-","-","-","-","-","-","-","-","-","-","-","-","-","-","-","-","-","-","-",8919,6908.24]
["December","-","-","-","-","-","-","-","-","-","-","-","-","-","-","-","-","-","-","-",8881,5174.78]
["Total","-","-",{"$f":"SUM(D20:D31)","v":0},0,0,0,0,0,0,{"$f":"SUM(K20:K31)","v":0},0,0,0,0,0,0,0,0,0,70631,96231.07]
["Moorhead Refunds"]
["Month",2004,2005,2006,2007,2008,2009,2010,2011,2012,2013,2014,2015,2016,2017,2018,2019,2020,2021,2022,2023,2024]
["January ","-","-","-","-","-","-","-","-","-","-","-","-","-","-","-","-","-","-","-","-","-"]
["February","-","-","-","-","-","-","-","-","-","-","-","-","-","-","-","-","-","-","-","-","-"]
["March","-","-","-","-","-","-","-","-","-","-","-","-","-","-","-","-","-","-","-","-","-"]
["April","-","-","-","-","-","-","-","-","-","-","-","-","-","-","-","-","-","-","-","-","-"]
["May","-","-","-","-","-","-","-","-","-","-","-","-","-","-","-","-","-","-","-","-","-"]
["June","-","-","-","-","-","-","-","-","-","-","-","-","-","-","-","-","-","-","-","-","-"]
["July","-","-","-","-","-","-","-","-","-","-","-","-","-","-","-","-","-","-","-","-","-"]
["August","-","-","-","-","-","-","-","-","-","-","-","-","-","-","-","-","-","-","-","-","-"]
["September","-","-","-","-","-","-","-","-","-","-","-","-","-","-","-","-","-","-","-","-","-"]
["October","-","-","-","-","-","-","-","-","-","-","-","-","-","-","-","-","-","-","-","-",-302.61]
["November ","-","-","-","-","-","-","-","-","-","-","-","-","-","-","-","-","-","-","-","-","-"]
["December","-","-","-","-","-","-","-","-","-","-","-","-","-","-","-","-","-","-","-",-1252,"-"]
["Total","-","-","-","-","-",{"$f":"SUM(G35:G46)","v":0},0,0,0,0,0,0,0,0,0,0,0,0,0,-1252,-302.61]
["Hidden columns B-L do not contain any data for CY 2004-2015"]
["*Collections for November 2008 are included in December totals due to a new processing system."]
[{"$f":"'Local SUT'!A71","v":"Source:  Minnesota Department of Revenue, Tax Research Division, November 2025"}]
["end of worksheet"]

{"sheet":"Maple Grove","index":9,"n_rows":51,"n_cols":22,"rows_kept":51,"cut":false,"hidden":true,"merged":[[48,0,48,19],[49,0,49,19],[50,0,50,19],[0,0,0,19],[1,0,1,19],[2,0,2,19],[17,0,17,19],[32,0,32,19],[47,0,47,19]]}
["Maple Grove Monthly Detail for Minnesota Local Sales & Use Tax"]
[{"$f":"'Local SUT'!A2","v":"CY 2004-2024"}]
["Maple Grove Local Sales Tax (0.5%)"]
["Month",2004,2005,2006,2007,2008,2009,2010,2011,2012,2013,2014,2015,2016,2017,2018,2019,2020,2021,2022,2023,2024]
["January ","-","-","-","-","-","-","-","-","-","-","-","-","-","-","-","-","-","-","-","-",825886]
["February","-","-","-","-","-","-","-","-","-","-","-","-","-","-","-","-","-","-","-","-",611489]
["March","-","-","-","-","-","-","-","-","-","-","-","-","-","-","-","-","-","-","-","-",585567]
["April","-","-","-","-","-","-","-","-","-","-","-","-","-","-","-","-","-","-","-",104,693430]
["May","-","-","-","-","-","-","-","-","-","-","-","-","-","-","-","-","-","-","-",611447,701583]
["June","-","-","-","-","-","-","-","-","-","-","-","-","-","-","-","-","-","-","-",719080,775971]
["July","-","-","-","-","-","-","-","-","-","-","-","-","-","-","-","-","-","-","-",794645,802747]
["August","-","-","-","-","-","-","-","-","-","-","-","-","-","-","-","-","-","-","-",752007,953226.1]
["September","-","-","-","-","-","-","-","-","-","-","-","-","-","-","-","-","-","-","-",814528,824295.47]
["October","-","-","-","-","-","-","-","-","-","-","-","-","-","-","-","-","-","-","-",735325,800156.08]
["November ","-","-","-","-","-","-","-","-","-","-","-","-","-","-","-","-","-","-","-",755170,818267.25]
["December","-","-","-","-","-","-","-","-","-","-","-","-","-","-","-","-","-","-","-",734916,781314.87]
["Total","-","-",{"$f":"SUM(D5:D16)","v":0},0,0,0,0,0,0,{"$f":"SUM(K5:K16)","v":0},0,0,0,0,0,0,0,0,0,5917222,9173932.7699999977]
["Maple Grove Local Use Tax (0.5%)"]
["Month",2004,2005,2006,2007,2008,2009,2010,2011,2012,2013,2014,2015,2016,2017,2018,2019,2020,2021,2022,2023,2024]
["January ","-","-","-","-","-","-","-","-","-","-","-","-","-","-","-","-","-","-","-","-",77472]
["February","-","-","-","-","-","-","-","-","-","-","-","-","-","-","-","-","-","-","-","-",42389]
["March","-","-","-","-","-","-","-","-","-","-","-","-","-","-","-","-","-","-","-","-",14971]
["April","-","-","-","-","-","-","-","-","-","-","-","-","-","-","-","-","-","-","-",82,30990]
["May","-","-","-","-","-","-","-","-","-","-","-","-","-","-","-","-","-","-","-",24137,31138]
["June","-","-","-","-","-","-","-","-","-","-","-","-","-","-","-","-","-","-","-",50718,44436]
["July","-","-","-","-","-","-","-","-","-","-","-","-","-","-","-","-","-","-","-",69194,42230]
["August","-","-","-","-","-","-","-","-","-","-","-","-","-","-","-","-","-","-","-",44513,48886.2]
["September","-","-","-","-","-","-","-","-","-","-","-","-","-","-","-","-","-","-","-",40952,42751.99]
["October","-","-","-","-","-","-","-","-","-","-","-","-","-","-","-","-","-","-","-",50408,38569.74]
["November ","-","-","-","-","-","-","-","-","-","-","-","-","-","-","-","-","-","-","-",35146,47641]
["December","-","-","-","-","-","-","-","-","-","-","-","-","-","-","-","-","-","-","-",41503,47958.96]
["Total","-","-",{"$f":"SUM(D20:D31)","v":0},0,0,0,0,0,0,{"$f":"SUM(K20:K31)","v":0},0,0,0,0,0,0,0,0,0,356653,509433.89]
["Maple Grove Refunds"]
["Month",2004,2005,2006,2007,2008,2009,2010,2011,2012,2013,2014,2015,2016,2017,2018,2019,2020,2021,2022,2023,2024]
["January ","-","-","-","-","-","-","-","-","-","-","-","-","-","-","-","-","-","-","-","-",-89]
["February","-","-","-","-","-","-","-","-","-","-","-","-","-","-","-","-","-","-","-","-","-"]
["March","-","-","-","-","-","-","-","-","-","-","-","-","-","-","-","-","-","-","-","-",-1]
["April","-","-","-","-","-","-","-","-","-","-","-","-","-","-","-","-","-","-","-","-",-287]
["May","-","-","-","-","-","-","-","-","-","-","-","-","-","-","-","-","-","-","-","-","-"]
["June","-","-","-","-","-","-","-","-","-","-","-","-","-","-","-","-","-","-","-","-",-44]
["July","-","-","-","-","-","-","-","-","-","-","-","-","-","-","-","-","-","-","-","-",-3025]
["August","-","-","-","-","-","-","-","-","-","-","-","-","-","-","-","-","-","-","-","-",-3.08]
["September","-","-","-","-","-","-","-","-","-","-","-","-","-","-","-","-","-","-","-","-",-570.30999999999995]
["October","-","-","-","-","-","-","-","-","-","-","-","-","-","-","-","-","-","-","-","-",-18.48]
["November ","-","-","-","-","-","-","-","-","-","-","-","-","-","-","-","-","-","-","-","-",-143.46]
["December","-","-","-","-","-","-","-","-","-","-","-","-","-","-","-","-","-","-","-","-","-"]
["Total","-","-","-","-","-",{"$f":"SUM(G35:G46)","v":0},0,0,0,0,0,0,0,0,0,0,0,0,0,0,-4181.33]
["Hidden columns B-L do not contain any data for CY 2004-2015"]
["*Collections for November 2008 are included in December totals due to a new processing system."]
[{"$f":"'Local SUT'!A71","v":"Source:  Minnesota Department of Revenue, Tax Research Division, November 2025"}]
["end of worksheet"]

{"sheet":"Litchfield","index":10,"n_rows":51,"n_cols":22,"rows_kept":51,"cut":false,"hidden":true,"merged":[[48,0,48,19],[49,0,49,19],[50,0,50,19],[0,0,0,19],[1,0,1,19],[2,0,2,19],[17,0,17,19],[32,0,32,19],[47,0,47,19]]}
["Litchfield Monthly Detail for Minnesota Local Sales & Use Tax"]
[{"$f":"'Local SUT'!A2","v":"CY 2004-2024"}]
["Litchfield Local Sales Tax (0.5%)"]
["Month",2004,2005,2006,2007,2008,2009,2010,2011,2012,2013,2014,2015,2016,2017,2018,2019,2020,2021,2022,2023,2024]
["January ","-","-","-","-","-","-","-","-","-","-","-","-","-","-","-","-","-","-","-","-",57201]
["February","-","-","-","-","-","-","-","-","-","-","-","-","-","-","-","-","-","-","-","-",47409]
["March","-","-","-","-","-","-","-","-","-","-","-","-","-","-","-","-","-","-","-","-",44899]
["April","-","-","-","-","-","-","-","-","-","-","-","-","-","-","-","-","-","-","-","-",49140]
["May","-","-","-","-","-","-","-","-","-","-","-","-","-","-","-","-","-","-","-","-",51065]
["June","-","-","-","-","-","-","-","-","-","-","-","-","-","-","-","-","-","-","-","-",60788]
["July","-","-","-","-","-","-","-","-","-","-","-","-","-","-","-","-","-","-","-",0,65986]
["August","-","-","-","-","-","-","-","-","-","-","-","-","-","-","-","-","-","-","-",47616,58598.44]
["September","-","-","-","-","-","-","-","-","-","-","-","-","-","-","-","-","-","-","-",52038,55539.64]
["October","-","-","-","-","-","-","-","-","-","-","-","-","-","-","-","-","-","-","-",52019,55335.12]
["November ","-","-","-","-","-","-","-","-","-","-","-","-","-","-","-","-","-","-","-",49858,55727.83]
["December","-","-","-","-","-","-","-","-","-","-","-","-","-","-","-","-","-","-","-",51961,58351.25]
["Total","-","-",{"$f":"SUM(D5:D16)","v":0},0,0,0,0,0,0,{"$f":"SUM(K5:K16)","v":0},0,0,0,0,0,0,0,0,0,253492,660040.28]
["Litchfield Local Use Tax (0.5%)"]
["Month",2004,2005,2006,2007,2008,2009,2010,2011,2012,2013,2014,2015,2016,2017,2018,2019,2020,2021,2022,2023,2024]
["January ","-","-","-","-","-","-","-","-","-","-","-","-","-","-","-","-","-","-","-","-",2756]
["February","-","-","-","-","-","-","-","-","-","-","-","-","-","-","-","-","-","-","-","-",1450]
["March","-","-","-","-","-","-","-","-","-","-","-","-","-","-","-","-","-","-","-","-",1856]
["April","-","-","-","-","-","-","-","-","-","-","-","-","-","-","-","-","-","-","-","-",1619]
["May","-","-","-","-","-","-","-","-","-","-","-","-","-","-","-","-","-","-","-","-",1191]
["June","-","-","-","-","-","-","-","-","-","-","-","-","-","-","-","-","-","-","-","-",3186]
["July","-","-","-","-","-","-","-","-","-","-","-","-","-","-","-","-","-","-","-",0,2465]
["August","-","-","-","-","-","-","-","-","-","-","-","-","-","-","-","-","-","-","-",1306,1383]
["September","-","-","-","-","-","-","-","-","-","-","-","-","-","-","-","-","-","-","-",1880,1910]
["October","-","-","-","-","-","-","-","-","-","-","-","-","-","-","-","-","-","-","-",1686,4215]
["November ","-","-","-","-","-","-","-","-","-","-","-","-","-","-","-","-","-","-","-",2319,2232.0300000000002]
["December","-","-","-","-","-","-","-","-","-","-","-","-","-","-","-","-","-","-","-",2352,1965.72]
["Total","-","-",{"$f":"SUM(D20:D31)","v":0},0,0,0,0,0,0,{"$f":"SUM(K20:K31)","v":0},0,0,0,0,0,0,0,0,0,9543,26228.75]
["Litchfield Refunds"]
["Month",2004,2005,2006,2007,2008,2009,2010,2011,2012,2013,2014,2015,2016,2017,2018,2019,2020,2021,2022,2023,2024]
["January ","-","-","-","-","-","-","-","-","-","-","-","-","-","-","-","-","-","-","-","-","-"]
["February","-","-","-","-","-","-","-","-","-","-","-","-","-","-","-","-","-","-","-","-","-"]
["March","-","-","-","-","-","-","-","-","-","-","-","-","-","-","-","-","-","-","-","-","-"]
["April","-","-","-","-","-","-","-","-","-","-","-","-","-","-","-","-","-","-","-","-","-"]
["May","-","-","-","-","-","-","-","-","-","-","-","-","-","-","-","-","-","-","-","-","-"]
["June","-","-","-","-","-","-","-","-","-","-","-","-","-","-","-","-","-","-","-","-","-"]
["July","-","-","-","-","-","-","-","-","-","-","-","-","-","-","-","-","-","-","-","-","-"]
["August","-","-","-","-","-","-","-","-","-","-","-","-","-","-","-","-","-","-","-","-","-"]
["September","-","-","-","-","-","-","-","-","-","-","-","-","-","-","-","-","-","-","-","-","-"]
["October","-","-","-","-","-","-","-","-","-","-","-","-","-","-","-","-","-","-","-","-","-"]
["November ","-","-","-","-","-","-","-","-","-","-","-","-","-","-","-","-","-","-","-","-","-"]
["December","-","-","-","-","-","-","-","-","-","-","-","-","-","-","-","-","-","-","-","-","-"]
["Total","-","-","-","-","-",{"$f":"SUM(G35:G46)","v":0},0,0,0,0,0,0,0,0,0,0,0,0,0,0,0]
["Hidden columns B-L do not contain any data for CY 2004-2015"]
["*Collections for November 2008 are included in December totals due to a new processing system."]
[{"$f":"'Local SUT'!A71","v":"Source:  Minnesota Department of Revenue, Tax Research Division, November 2025"}]
["end of worksheet"]

{"sheet":"Grand Rapids","index":11,"n_rows":51,"n_cols":22,"rows_kept":51,"cut":false,"hidden":true,"merged":[[48,0,48,19],[49,0,49,19],[50,0,50,19],[0,0,0,19],[1,0,1,19],[2,0,2,19],[17,0,17,19],[32,0,32,19],[47,0,47,19]]}
["Grand Rapids Monthly Detail for Minnesota Local Sales & Use Tax"]
[{"$f":"'Local SUT'!A2","v":"CY 2004-2024"}]
["Grand Rapids Local Sales Tax (0.5%)"]
["Month",2004,2005,2006,2007,2008,2009,2010,2011,2012,2013,2014,2015,2016,2017,2018,2019,2020,2021,2022,2023,2024]
["January ","-","-","-","-","-","-","-","-","-","-","-","-","-","-","-","-","-","-","-",null,172728]
["February","-","-","-","-","-","-","-","-","-","-","-","-","-","-","-","-","-","-","-",null,136662]
["March","-","-","-","-","-","-","-","-","-","-","-","-","-","-","-","-","-","-","-",null,128071]
["April","-","-","-","-","-","-","-","-","-","-","-","-","-","-","-","-","-","-","-",11,149523]
["May","-","-","-","-","-","-","-","-","-","-","-","-","-","-","-","-","-","-","-",131207,162967]
["June","-","-","-","-","-","-","-","-","-","-","-","-","-","-","-","-","-","-","-",183472,201754]
["July","-","-","-","-","-","-","-","-","-","-","-","-","-","-","-","-","-","-","-",193683,192897]
["August","-","-","-","-","-","-","-","-","-","-","-","-","-","-","-","-","-","-","-",185208,203983.81]
["September","-","-","-","-","-","-","-","-","-","-","-","-","-","-","-","-","-","-","-",176101,195757.19]
["October","-","-","-","-","-","-","-","-","-","-","-","-","-","-","-","-","-","-","-",173576,186187.11]
["November ","-","-","-","-","-","-","-","-","-","-","-","-","-","-","-","-","-","-","-",168123,177571.59]
["December","-","-","-","-","-","-","-","-","-","-","-","-","-","-","-","-","-","-","-",155024,155173.38]
["Total","-","-",{"$f":"SUM(D5:D16)","v":0},0,0,0,0,0,0,{"$f":"SUM(K5:K16)","v":0},0,0,0,0,0,0,0,0,0,1366405,2063275.08]
["Grand Rapids Local Use Tax (0.5%)"]
["Month",2004,2005,2006,2007,2008,2009,2010,2011,2012,2013,2014,2015,2016,2017,2018,2019,2020,2021,2022,2023,2024]
["January ","-","-","-","-","-","-","-","-","-","-","-","-","-","-","-","-","-","-","-",null,6655]
["February","-","-","-","-","-","-","-","-","-","-","-","-","-","-","-","-","-","-","-",null,6647]
["March","-","-","-","-","-","-","-","-","-","-","-","-","-","-","-","-","-","-","-",null,7190]
["April","-","-","-","-","-","-","-","-","-","-","-","-","-","-","-","-","-","-","-",0,5927]
["May","-","-","-","-","-","-","-","-","-","-","-","-","-","-","-","-","-","-","-",2887,3398]
["June","-","-","-","-","-","-","-","-","-","-","-","-","-","-","-","-","-","-","-",7234,14142]
["July","-","-","-","-","-","-","-","-","-","-","-","-","-","-","-","-","-","-","-",7734,6796]
["August","-","-","-","-","-","-","-","-","-","-","-","-","-","-","-","-","-","-","-",6237,6789.12]
["September","-","-","-","-","-","-","-","-","-","-","-","-","-","-","-","-","-","-","-",8523,6747.36]
["October","-","-","-","-","-","-","-","-","-","-","-","-","-","-","-","-","-","-","-",4314,6716]
["November ","-","-","-","-","-","-","-","-","-","-","-","-","-","-","-","-","-","-","-",7709,8779]
["December","-","-","-","-","-","-","-","-","-","-","-","-","-","-","-","-","-","-","-",5268,7331.14]
["Total","-","-",{"$f":"SUM(D20:D31)","v":0},0,0,0,0,0,0,{"$f":"SUM(K20:K31)","v":0},0,0,0,0,0,0,0,0,0,49906,87117.62000000001]
["Grand Rapids Refunds"]
["Month",2004,2005,2006,2007,2008,2009,2010,2011,2012,2013,2014,2015,2016,2017,2018,2019,2020,2021,2022,2023,2024]
["January ","-","-","-","-","-","-","-","-","-","-","-","-","-","-","-","-","-","-","-","-",-28]
["February","-","-","-","-","-","-","-","-","-","-","-","-","-","-","-","-","-","-","-","-",-30]
["March","-","-","-","-","-","-","-","-","-","-","-","-","-","-","-","-","-","-","-","-","-"]
["April","-","-","-","-","-","-","-","-","-","-","-","-","-","-","-","-","-","-","-","-",-28]
["May","-","-","-","-","-","-","-","-","-","-","-","-","-","-","-","-","-","-","-","-","-"]
["June","-","-","-","-","-","-","-","-","-","-","-","-","-","-","-","-","-","-","-","-","-"]
["July","-","-","-","-","-","-","-","-","-","-","-","-","-","-","-","-","-","-","-","-","-"]
["August","-","-","-","-","-","-","-","-","-","-","-","-","-","-","-","-","-","-","-","-","-"]
["September","-","-","-","-","-","-","-","-","-","-","-","-","-","-","-","-","-","-","-","-",-4.8499999999999996]
["October","-","-","-","-","-","-","-","-","-","-","-","-","-","-","-","-","-","-","-","-",-79.78]
["November ","-","-","-","-","-","-","-","-","-","-","-","-","-","-","-","-","-","-","-","-","-"]
["December","-","-","-","-","-","-","-","-","-","-","-","-","-","-","-","-","-","-","-",-81,"-"]
["Total","-","-","-","-","-",{"$f":"SUM(G35:G46)","v":0},0,0,0,0,0,0,0,0,0,0,0,0,0,-81,-170.63]
["Hidden columns B-L do not contain any data for CY 2004-2015"]
["*Collections for November 2008 are included in December totals due to a new processing system."]
[{"$f":"'Local SUT'!A71","v":"Source:  Minnesota Department of Revenue, Tax Research Division, November 2025"}]
["end of worksheet"]

{"sheet":"Albert Lea","index":12,"n_rows":51,"n_cols":22,"rows_kept":51,"cut":false,"hidden":true,"merged":[[50,0,50,19],[17,0,17,19],[32,0,32,19],[47,0,47,19],[0,0,0,19],[1,0,1,19],[2,0,2,19],[48,0,48,19],[49,0,49,19]]}
["Albert Lea Monthly Detail for Minnesota Local Sales & Use Tax"]
[{"$f":"'Local SUT'!A2","v":"CY 2004-2024"}]
["Albert Lea Local Sales Tax (0.5%)"]
["Month",2004,2005,2006,2007,2008,2009,2010,2011,2012,2013,2014,2015,2016,2017,2018,2019,2020,2021,2022,2023,2024]
["January ","-","-","-",{"$f":"109211+83","v":109294},122464.81,116687,111436,119333,119752,123958,119374,124069,129085,129546,134557,137541,128737,140234,162373,167911,163181]
["February","-","-","-",82364.11,84692.19,94176,85199,90391,97970,89684,100708,105133,102189,104153,107084,105974,107556,120829,137954,144609,136895]
["March","-","-","-",75678.84,{"$f":"80835.41+53","v":80888.41},87233,87419,88695,95332,90587,88841,105689,98100,95994,93914,98441,111239,107515,134169,138751,137124]
["April","-","-",35,95239.33,93499.59,93490,102574,103632,104735,100498,107344,121554,113981,115655,114790,122702,116778,142660,163653,159918,164628]
["May","-","-",62302,87272.05,93516.71,94775,95213,103968,97401,107455,104672,113592,111660,112928,105897,125534,118583,148133,146786,158452,158878]
["June","-","-",70776,99889.52,108420.2,106400,116349,115476,109792,116295,118807,130615,125175,125382,129633,142041,142330,151098,176336,176030,180048]
["July","-","-",73257,{"$f":"94695.65-83","v":94612.65},102785.95,101111,118739,110545,107744,117208,116530,119946,119645,119499,120403,132645,137875,161107,169382,177472,177285]
["August","-","-",89590,105786.65,113287.37,122518,145809,123318,122704,127558,130113,137809,132996,131831,137453,148180,147802,156966,168519,171920,184539.85]
["September","-","-",{"$f":"82714+4896","v":87610},99001.39,{"$f":"102355.85+24573","v":126928.85},98858,114997,121799,110687,111068,116463,120810,123484,123526,130409,140018,135375,141851,183995,177511,170350.43]
["October","-","-",93752,96225.9,{"$f":"105012.87+292.36","v":105305.23},104010,127556,117503,110105,106244,112884,146849,121775,121878,130046,129571,138395,147553,170365,171542,160877.35]
["November ","-","-",86704.09,92197.81,"*  ",94945,106127,104475,102624,102450,117998,111761,114939,117642,129224,132817,135216,147738,160402,159944,171217.16]
["December","-","-",83456.92,93176.94,192197,88714,103684,115629,97600,104542,123729,89502,112217,106914,124087,128617,128931,152803,174602,160646,172355.4]
["Total","-","-",{"$f":"SUM(D5:D16)","v":647483.01},1130739.19,1223986.31,1202917,1315102,1314764,1276446,{"$f":"SUM(K5:K16)","v":1297547},1357463,1427329,1405246,1404948,1457497,{"$f":"SUM(Q5:Q16)","v":1544081},{"$f":"SUM(R5:R16)","v":1548817},1718487,1948536,{"$f":"SUM(U5:U16)","v":1964706},1977379.19]
["Albert Lea Local Use Tax (0.5%)"]
["Month",2004,2005,2006,2007,2008,2009,2010,2011,2012,2013,2014,2015,2016,2017,2018,2019,2020,2021,2022,2023,2024]
["January ","-","-","-",7853,12337,7871,19231,3966,8702,10377,9544,7569,7073,9801,8230,5743,5172,6343,5573,9610,4887]
["February","-","-","-",11398.12,3221,9576,4069,5760,3908,4357,7528,8160,3162,3876,8334,4172,5485,4616,6413,7858,4876]
["March","-","-","-",1744,3307.21,1084,2913,6636,17827,3948,4163,5029,1224,3033,6555,3101,3808,3667,7418,4837,5761]
["April","-","-",0,3236,11517.27,16751,10312,7106,5581,4244,7238,9384,6191,5901,5010,4852,5434,7519,5770,6300,16730]
["May","-","-",1422,2012,4300.84,4786,4708,5397,2680,2750,6411,6151,4465,5812,3301,6794,5850,6446,7546,5373,6072]
["June","-","-",2046,3898.27,5339.16,13410,3717,17113,4277,4238,4937,8742,7082,4209,3572,5861,4284,3515,6165,6989,6357]
["July","-","-",5057,5200,6744.99,16503,36458,7055,17059,7558,7946,7157,7614,4429,4598,5786,5089,7003,7573,9700,5625]
["August","-","-",2444,3116.5,2367.91,5605,3594,-9823,5010,3645,5446,5222,6126,4760,7451,6580,5807,5482,6065,6987,6672]
["September","-","-",2817,5297.79,2973.27,4483,5256,5200,4640,4198,4961,5000,5443,5308,4061,4531,4253,7059,7759,4653,4416.28]
["October","-","-",4917,10435.68,{"$f":"11767.59+120.9","v":11888.49},11778,5227,4171,5253,8150,6989,5437,7540,8053,4100,4997,4444,5585,7692,5858,8513]
["November ","-","-",2399.19,2934.39,"*  ",5062,3240,3896,6684,6195,7914,5901,5607,4232,8550,4354,4757,4726,6671,6463,6225.96]
["December","-","-",3929.07,5777.59,7304,2571,4054,13944,3889,14520,5268,4740,4285,1632,5198,4295,3985,5718,5943,5469,4605.8599999999997]
["Total","-","-",{"$f":"SUM(D20:D31)","v":25031.26},62903.34,71301.139999999985,99480,102779,70421,85510,{"$f":"SUM(K20:K31)","v":74180},78345,78492,65812,61046,68960,{"$f":"SUM(Q20:Q31)","v":61066},{"$f":"SUM(R20:R31)","v":58368},67679,80588,{"$f":"SUM(U20:U31)","v":80097},80741.100000000006]
["Albert Lea Refunds"]
["Month",2004,2005,2006,2007,2008,2009,2010,2011,2012,2013,2014,2015,2016,2017,2018,2019,2020,2021,2022,2023,2024]
["January ","-","-","-","-","-",-368,0,0,-12639,-327,-10440,-7912,-3282,-3793,-304,-877,-16,0,-421,0,-284]
["February","-","-","-","-","-",-619,-1399,-94777,-28,-16419,-11415,-3122,0,-1984,-1543,0,-1868,0,0,-137,0]
["March","-","-","-","-","-",-15858,-6709,-435,-15684,-2160,-2762,-7349,-34801,0,-4833,0,-986,-8,0,-506,0]
["April","-","-","-","-","-",-13465,-10718,-4454,-4508,0,-1495,-1026,-1500,-319,-21437,-1,0,0,-332,-320,0]
["May","-","-","-","-","-",-62,-23833,-1348,-22511,-316,-452,-36,-8881,0,0,-2898,-41,0,0,-9,0]
["June","-","-","-","-","-",0,0,-770,0,-18624,-17751,-36048,6,-73,0,0,-1448,0,0,-32,-720]
["July","-","-","-","-","-",-1671,0,-663,-1335,-1450,-67,-6,-211,0,0,-921,0,0,-672,-6,-40]
["August","-","-","-","-","-",-2846,0,-1942,-3404,-4366,-20149,-548,-2952,-47,0,0,-4551,0,0,-14,0]
["September","-","-","-","-","-",-1039,-256,-161,-4436,-3020,-127,-963,0,-3367,-172,-1620,-390,0,-1,0,-504.33]
["October","-","-","-","-","-",-77,-2683,-4813,-399,-285,-691,-2182,-160,-62,-89,-15,-75,0,-641,0,0]
["November ","-","-","-","-","-",-3308,-22195,0,-4636,-1,-510,-536,-3342,-45,-473,-1853,0,0,0,-6663,0]
["December","-","-","-","-","-",0,-172,-2725,-12,-10914,-665,-509,0,-1570,0,-986,-1305,-5,-62,0,-31.28]
["Total","-","-","-","-","-",{"$f":"SUM(G35:G46)","v":-39313},-67965,-112088,-69592,-57882,-66524,-60237,-55123,-11260,-28851,{"$f":"SUM(Q35:Q46)","v":-9171},{"$f":"SUM(R35:R46)","v":-10680},-13,-2129,{"$f":"SUM(U35:U46)","v":-7687},-1579.61]
["Hidden columns B-C do not contain any data for CY 2004-2005"]
["*Collections for November 2008 are included in December totals due to a new processing system."]
[{"$f":"'Local SUT'!A71","v":"Source:  Minnesota Department of Revenue, Tax Research Division, November 2025"}]
["end of worksheet"]

{"sheet":"Austin","index":13,"n_rows":51,"n_cols":22,"rows_kept":51,"cut":false,"hidden":true,"merged":[[47,0,47,19],[48,0,48,19],[49,0,49,19],[50,0,50,19],[0,0,0,19],[1,0,1,19],[2,0,2,19],[17,0,17,19],[32,0,32,19]]}
["Austin Monthly Detail for Minnesota Local Sales & Use Tax"]
[{"$f":"'Local SUT'!A2","v":"CY 2004-2024"}]
["Austin Local Sales Tax (0.5%)"]
["Month",2004,2005,2006,2007,2008,2009,2010,2011,2012,2013,2014,2015,2016,2017,2018,2019,2020,2021,2022,2023,2024]
["January ","-","-","-","-",117148,121911,138725,139051,148602,145941,154653,156723,149774,143344,129705,144602,153574,153227,155804,161527,189085]
["February","-","-","-","-",83053.2,98273,106946,107843,114331,120125,130131,117091,104026,112024,103946,108837,114104,124514,136928,141867,152166]
["March","-","-","-","-",82544.47,84573,104909,115290,106109,114271,120653,115207,106391,104896,99075,107489,106357,106667,121574,136396,140440]
["April","-","-","-",0,91146.43,93916,123003,123552,120869,130266,130164,127055,125230,120114,117834,126219,120591,139931,144440,158429,155990]
["May","-","-","-",62677,82803.91,102243,116762,118560,115648,116117,130934,121675,111461,113592,109776,135708,113172,141618,145407,163822,151308]
["June","-","-","-",80268,97177.64,109831,116362,122316,122156,123442,145275,134607,132202,123072,125049,135869,133741,135806,146094,162990,169030]
["July","-","-","-",123009,95673.53,102973,104763,116365,116467,117674,124262,115016,118327,-2993,109875,120906,112908,143993,154994,170016,167595]
["August","-","-","-",100332,115409.36,133874,138827,141502,137340,137804,149919,173394,142060,-288829,145196,153320,152500,166897,155356,165522,171911.57]
["September","-","-","-",87300,97246.31,109637,116421,130122,119907,127355,134266,130131,128178,124749,145956,134130,120523,145858,154262,164724,162883.65]
["October","-","-","-",99586,104669.13,123714,119361,129536,128079,123850,142994,137355,129659,130160,124296,135712,126491,148385,158635,190718,161346.85]
["November ","-","-","-",87498.49,"*  ",109685,109489,124164,118747,128852,168502,129828,125356,113051,122340,135657,135098,146011,157211,170446,167894.6]
["December","-","-","-",85267.22,191595,112461,115787,133862,126380,133506,234876,125745,122290,107213,120781,128417,131366,147266,153684,168929,169613.57]
["Total","-","-","-",{"$f":"SUM(E5:E16)","v":725937.71},1158466.98,1303091,1411355,1502163,1474635,1519203,{"$f":"SUM(L5:L16)","v":1766629},1583827,1494954,900393,1453829,1566866,{"$f":"SUM(R5:R16)","v":1520425},1700173,1784389,{"$f":"SUM(U5:U16)","v":1955386},1959264.2400000002]
["Austin Local Use Tax (0.5%)"]
["Month",2004,2005,2006,2007,2008,2009,2010,2011,2012,2013,2014,2015,2016,2017,2018,2019,2020,2021,2022,2023,2024]
["January ","-","-","-","-",10452.4,7606,11030,26798,14802,10212,7566,7537,4410,5461,4385,4013,3966,5287,4360,6259,6692]
["February","-","-","-","-",7589.4,7376,2895,4632,7199,6613,9396,8513,6784,4987,4034,3928,3449,4106,4109,4130,3940]
["March","-","-","-","-",15323.48,10161,10032,6626,6920,5671,7454,11553,4374,4086,3361,3345,5369,4614,3842,4029,5297]
["April","-","-","-",0,12388,10043,9660,8201,6249,7146,9706,7165,5279,7676,-1648,6973,3444,5786,-60482,4370,4676]
["May","-","-","-",2147,14793.35,8737,9896,10640,5443,12262,8098,-2952,3921,4540,2706,8206,3899,4919,5496,3926,4828]
["June","-","-","-",8368,16638.16,10419,11372,4993,7481,7046,9384,16957,7560,1253,4867,3500,6520,-12345,6539,3396,6339]
["July","-","-","-",5787,3446,4065,2459,2485,4739,4049,6426,4926,4219,2147,5338,5483,4049,4978,7582,4944,4928]
["August","-","-","-",27799.95,20786.82,13744,14968,8740,18728,8842,12413,15538,7735,-367,3794,4094,3726,3506,-13167,3096,8015]
["September","-","-","-",18159,18690,8015,8521,6449,79373,6927,9909,5910,8025,2448,3263,1004,5998,2648,4070,4457,8167.03]
["October","-","-","-",13936,7377.58,10823,9312,7400,10226,8885,8361,7437,6792,3165,3950,5076,138870,3668,5493,4821,5567.63]
["November ","-","-","-",8868.7800000000007,"*  ",12866,9020,8947,9921,8981,7549,4977,4640,6942,4759,4512,4246,4434,5141,4831,5540.12]
["December","-","-","-",13836,20292,8719,10973,4816,9271,20288,7763,5308,3031,1677,2153,3306,2485,12654,4925,3472,5054.76]
["Total","-","-","-",{"$f":"SUM(E20:E31)","v":98901.73},147777.19,112574,110138,100727,180352,106922,{"$f":"SUM(L20:L31)","v":104025},92869,66770,44015,40962,53440,{"$f":"SUM(R20:R31)","v":186021},44255,-22092,51731,69044.539999999994]
["Austin Refunds"]
["Month",2004,2005,2006,2007,2008,2009,2010,2011,2012,2013,2014,2015,2016,2017,2018,2019,2020,2021,2022,2023,2024]
["January ","-","-","-","-","-",0,0,0,-2503,0,-869,-125795,-2725,-11847,-1939,-2204,0,-1,-10,-769,-2]
["February","-","-","-","-","-",-8397,-14431,-47064,-3149,0,0,-43050,-55,-65,0,-134,-13530,0,0,-1,0]
["March","-","-","-","-","-",0,-8782,-12861,0,0,-52,-525,-39656,0,-505,-466,0,-44825,0,0,0]
["April","-","-","-","-","-",0,-3052,-90,0,0,-42043,-5,-9,0,0,-48,0,0,0,0,0]
["May","-","-","-","-","-",-200,0,0,-54,-6250,-5,-25078,0,-6749,-877,0,0,0,0,-28,0]
["June","-","-","-","-","-",-54,0,0,0,-7,0,0,0,-258,0,-180,-1391,0,0,-2884,-25069]
["July","-","-","-","-","-",-2740,0,-6,0,0,0,0,0,0,0,-1,-1,0,-837,0,-2210]
["August","-","-","-","-","-",0,-6,-235,-96,-17174,-80204,-254,0,0,0,-1875,-47,-1403,-224,-2,-0.66]
["September","-","-","-","-","-",-103,0,-24,-319463,0,0,-170,0,-330,0,-3121,0,-403,0,0,-5657.64]
["October","-","-","-","-","-",0,0,-93184,0,-20008,0,0,0,0,0,0,0,0,0,0,0]
["November ","-","-","-","-","-",0,-418,-16730,-5608,-1111,-133442,-1,-1,-1,-70575,-13530,-79661,0,0,0,-973.24]
["December","-","-","-","-",-58,0,-27,-92,-7939,-239622,-1000,-612,0,-1,-2,0,-20499,0,-2,-875,-18367.919999999998]
["Total","-","-","-","-",{"$f":"SUM(F35:F46)","v":-58},-11494,-26716,-170286,-338812,-284172,{"$f":"SUM(L35:L46)","v":-257615},-195490,-42446,-19251,-73898,-21559,{"$f":"SUM(R35:R46)","v":-115129},-46632,-1073,-4559,-52280.46]
["Hidden columns B-D do not contain any data for CY 2004-2006"]
["*Collections for November 2008 are included in December totals due to a new processing system."]
[{"$f":"'Local SUT'!A71","v":"Source:  Minnesota Department of Revenue, Tax Research Division, November 2025"}]
["end of worksheet"]

{"sheet":"Baxter","index":14,"n_rows":51,"n_cols":22,"rows_kept":51,"cut":false,"hidden":true,"merged":[[48,0,48,19],[49,0,49,19],[50,0,50,19],[32,0,32,19],[0,0,0,19],[1,0,1,19],[2,0,2,19],[17,0,17,19],[47,0,47,19]]}
["Baxter Monthly Detail for Minnesota Local Sales & Use Tax"]
[{"$f":"'Local SUT'!A2","v":"CY 2004-2024"}]
["Baxter Local Sales Tax (0.5%)"]
["Month",2004,2005,2006,2007,2008,2009,2010,2011,2012,2013,2014,2015,2016,2017,2018,2019,2020,2021,2022,2023,2024]
["January ","-","-","-",189369,190538.72,198960,172530,175392,176015,195222,188309,190550,220400,226165,223385,228646,238166,258201,235525,288863,308171]
["February","-","-","-",126088,124512.13,148316,112476,115794,115318,138738,161615,149226,151939,156107,160445,168183,174860,206137,222404,227995,221259]
["March","-","-","-",114890,118447.9,118550,113494,117017,119654,133235,135450,155279,149563,146627,151291,153131,170807,202090,195192,219085,223980]
["April","-","-","-",134914.67000000001,134520.48000000001,121687,137512,121631,138232,144573,153172,166156,180426,179548,180680,187897,193434,249281,353471,260948,261741]
["May","-","-","-",146982,133766.41,136945,140994,154678,145277,149357,162214,179237,185560,195856,187899,201406,216166,259676,251929,262930,271476]
["June","-","-","-",160560.25,169469.76,157615,154921,160613,143526,187608,186394,207677,208915,225246,233309,244064,266499,284088,381624,318667,323704]
["July","-","-","-",152712.51,147540.35999999999,121253,155739,158134,176621,157367,193279,180278,187233,199751,193829,244725,206308,258730,279677,360986,328407]
["August","-","-","-",202760.23,203770.08,206907,178734,172788,220436,244520,220195,261002,269123,284360,297175,273595,355290,360586,312505,332100,328433.45]
["September","-","-","-",165010.32999999999,167602.64000000001,135495,158172,165669,208300,201560,209886,200513,226526,249529,249053,260306,273348,280670,340874,354555,329327.13]
["October","-","-",0,155503.75,149064.25,162572,149614,152652,164972,174795,178588,195741,203396,205704,205675,225224,251710,252132,280028,298883,288191.15999999997]
["November ","-","-",118211,152821,"*  ",137227,144700,156074,157381,165933,179917,198299,195308,198352,209134,217809,217901,231506,279316,299884,291763.05]
["December","-","-",147162,145197.20000000001,229640,136084,146816,145878,162903,164166,179357,186924,189081,200195,212090,214639,240956,201148,344582,287493,282093.26]
["Total","-","-",{"$f":"SUM(D5:D16)","v":265373},1846808.9400000002,1768872.73,1781611,1765702,1796320,{"$f":"SUM(J5:J16)","v":1928635},2057074,2148376,2270882,2367470,2467440,2503965,{"$f":"SUM(Q5:Q16)","v":2619625},{"$f":"SUM(R5:R16)","v":2805445},3044245,3477127,{"$f":"SUM(U5:U16)","v":3512389},3458546.05]
["Baxter Local Use Tax (0.5%)"]
["Month",2004,2005,2006,2007,2008,2009,2010,2011,2012,2013,2014,2015,2016,2017,2018,2019,2020,2021,2022,2023,2024]
["January ","-","-","-",3329,2402.38,3722,3027,4582,4532,7528,6646,6627,5222,4368,5731,5534,5425,5231,4464,5000,6072]
["February","-","-","-",3604,2507.77,5874,3357,3386,2820,4044,3594,7732,4125,3243,4519,7058,5795,3140,6208,3985,6653]
["March","-","-","-",1519.25,2662,-9623,3211,3379,3221,3917,4476,-1130,3057,3229,3050,3105,2411,3443,2898,5396,5672]
["April","-","-","-",4420,3360,3833,4178,3967,4004,7120,3882,5813,3874,4450,4162,5343,3233,3822,6074,3362,3564]
["May","-","-","-",5963,8910.01,4629,5215,3721,2858,3430,2903,5352,6956,6368,5318,5351,8614,8540,4958,3886,2186]
["June","-","-","-",11862,3061,2304,2846,3342,5002,5194,5910,5441,3779,5242,4775,6679,3839,5242,5970,5391,4246]
["July","-","-","-",4289,4269.29,4024,5950,3968,6302,4301,6009,7523,5751,5668,7097,4588,4361,7761,5999,20696,4793]
["August","-","-","-",5990,7616.14,3480,3944,2988,8490,5092,4027,6345,4507,8030,6506,6077,8712,3042,3909,6631,4457]
["September","-","-","-",6874,4815.1000000000004,3062,5658,3816,3841,5991,7820,5767,4367,4882,7819,5996,4809,3769,4157,4301,4973.92]
["October","-","-",1,5398,3194.78,3830,3000,4384,9521,4297,6639,4017,3730,5334,5819,5563,4762,6177,4988,5589,7449]
["November ","-","-",1851,4360,"*  ",5306,2858,5106,17338,3582,4027,5264,4667,7920,6914,4739,5338,3750,4414,7165,4545.4799999999996]
["December","-","-",2235,3062.78,5724,2373,3249,3229,6648,8841,4462,3134,4112,7500,6794,5357,4493,3465,5572,5640,5782.26]
["Total","-","-",{"$f":"SUM(D20:D31)","v":4087},60671.03,48522.47,32814,46493,45868,74577,63337,{"$f":"SUM(L20:L31)","v":60395},61885,54147,66234,68504,65390,{"$f":"SUM(R20:R31)","v":61792},57382,59611,77042,60393.659999999996]
["Baxter Refunds"]
["Month",2004,2005,2006,2007,2008,2009,2010,2011,2012,2013,2014,2015,2016,2017,2018,2019,2020,2021,2022,2023,2024]
["January ","-","-","-","-","-",0,0,0,-37,-461,-18,-1,-1885,0,-140,-586,0,-24,-43,0,-12]
["February","-","-","-","-","-",-1,-1,-1342,-130,-199,-1254,0,-20,-16,-91,0,-25,-42,-141,-89,-55]
["March","-","-","-","-","-",0,-69,0,0,-4,-2,-9,-349,-1,0,-1,-89,-68,0,-65,-298]
["April","-","-","-","-","-",-1089,-195,-305,0,-6,0,-2279,-170,-15,-176,-108,-10,-9192,-40,0,-30]
["May","-","-","-","-","-",-107,0,-1,-41,-5,-17,-260,-11,-4,-451,-7,-138,-1,-36,-64,-190]
["June","-","-","-","-","-",0,-29,-11,0,-3839,0,-30743,-731,0,-48,-14,-261,0,-906,-13,0]
["July","-","-","-","-","-",0,0,-318,-37,0,-14,-54,-48,0,0,-28,-422,0,0,0,-11]
["August","-","-","-","-","-",0,0,0,-365,-1852,-51,-517,-3,0,-48,-23,-251,0,-4,-17,-6.05]
["September","-","-","-","-","-",0,0,-2,-7,0,-4,-2,0,-121,-8,-2,-189,0,0,-2,0]
["October","-","-","-","-","-",0,0,-175,-5,-31,-1207,-7,0,0,-134,0,-34,-1,0,0,-1439.99]
["November ","-","-","-","-","-",-1338,-414,-1,-1,-1,-116,0,-1,0,-2,0,0,0,-239,0,0]
["December","-","-","-","-",-2594,-19,0,-76,0,-87,0,-29,0,-101,-412,0,-256,0,-35,0,-716.66]
["Total","-","-","-","-",{"$f":"SUM(F35:F46)","v":-2594},-2554,-708,-2231,-623,-6485,{"$f":"SUM(L35:L46)","v":-2683},-33901,-3218,-258,-1510,-769,{"$f":"SUM(R35:R46)","v":-1675},-9328,-1444,-250,-2758.7]
["Hidden columns B-C do not contain any data for CY 2004-2005"]
["*Collections for November 2008 are included in December totals due to a new processing system."]
[{"$f":"'Local SUT'!A71","v":"Source:  Minnesota Department of Revenue, Tax Research Division, November 2025"}]
["end of worksheet"]

{"sheet":"Bemidji","index":15,"n_rows":51,"n_cols":22,"rows_kept":51,"cut":false,"hidden":true,"merged":[[50,0,50,19],[17,0,17,19],[32,0,32,19],[47,0,47,19],[0,0,0,19],[1,0,1,19],[2,0,2,19],[48,0,48,19],[49,0,49,19]]}
["Bemidji Monthly Detail for Minnesota Local Sales & Use Tax"]
[{"$f":"'Local SUT'!A2","v":"CY 2004-2024"}]
["Bemidji Local Sales Tax (0.5%)"]
["Month",2004,2005,2006,2007,2008,2009,2010,2011,2012,2013,2014,2015,2016,2017,2018,2019,2020,2021,2022,2023,2024]
["January ","-","-",0,163950,170116.91,166783,188510,188533,187431,189675,193460,187350,206600,213904,202538,222373,227137,245496,238219,282540,290053]
["February","-","-",106415,118529,121811.65,123233,120534,122616,127167,143402,147692,146786,155069,150465,155950,171067,168514,202905,208086,221738,215518]
["March","-","-",100468,113309.83,120422.76,123378,120976,126904,135183,139740,143008,150954,152468,152235,151136,157274,171748,194527,207050,205910,218082]
["April","-","-",113870,120487.6,126124.82,116781,138064,140158,147967,149410,171203,164893,179336,176008,203415,188790,175419,259101,248288,243857,240740]
["May","-","-",120773.59,123805.57,118062.75,121892,133872,153353,149375,143569,163326,166707,172269,180015,182500,191255,189250,234817,237852,237847,249379]
["June","-","-",133486,137188.78,147740.24,131728,147161,152375,149102,182605,185155,189745,191983,201877,217229,221882,243588,264944,343776,294561,292504]
["July","-","-",119707.17,127903,129767.65,125571,151141,141230,158738,146145,172532,165822,182902,184800,190866,218532,217368,272119,294348,319095,289168]
["August","-","-",166740,166123.1,164939.63,161967,173801,177916,197312,215644,192592,233603,224391,231842,254298,231462,287028,290733,299470,301729,281126.81]
["September","-","-",133831.35999999999,147652.89000000001,139889.37,149587,153409,156264,170074,179646,180085,197564,197104,201379,214777,228559,229989,255429,276683,289864,285706.28999999998]
["October","-","-",133737,142547.51,139118.99,168136,157138,164496,165557,179478,187154,191709,195149,196749,203451,216451,236347,278438,265386,281413,260288.35]
["November ","-","-",122495,130426.38,"*  ",149038,141670,158185,155010,165509,174565,185129,189426,184927,204807,205181,220757,247721,274649,270364,257903.14]
["December","-","-",124550,128634.33,242702,135542,158254,149296,147406,206122,165376,166961,180178,187689,192745,187264,213372,228932,308664,249685,255302.53]
["Total","-","-",{"$f":"SUM(D5:D16)","v":1376073.12},1620557.9900000002,1620696.7700000003,1673636,1784530,1831326,{"$f":"SUM(J5:J16)","v":1890322},2040945,2076148,2147223,2226875,2261890,2373712,{"$f":"SUM(Q5:Q16)","v":2440090},{"$f":"SUM(R5:R16)","v":2580517},2975162,3202471,{"$f":"SUM(U5:U16)","v":3198603},3135771.12]
["Bemidji Local Use Tax (0.5%)"]
["Month",2004,2005,2006,2007,2008,2009,2010,2011,2012,2013,2014,2015,2016,2017,2018,2019,2020,2021,2022,2023,2024]
["January ","-","-",0,4903.88,5264,6224,9942,10322,8744,13059,7807,24927,8788,13014,8708,15638,14246,9976,10852,7728,12151]
["February","-","-",4992,3707.74,4057.98,5649,3696,4806,5307,5731,4663,11133,7321,9425,5796,8969,14679,7679,10134,12643,14284]
["March","-","-",2895,3121.9,2860,11657,3494,19605,4401,4872,5175,4705,13544,4765,5446,6472,6156,9933,10529,7206,9035]
["April","-","-",3427,6147.76,5534.36,3652,5639,6104,6428,5274,11301,6588,18581,8449,6694,6603,6461,7894,8629,10695,7252]
["May","-","-",3038,4518,9172.51,6747,4935,6346,5201,5485,18475,11529,38552,9244,10773,9054,4998,8892,12569,7708,10371]
["June","-","-",5346,5235,5988,6068,4283,22135,6006,65841,13063,10730,9256,10226,7511,7114,6137,7400,10837,12779,11310]
["July","-","-",3614,3982,5196.9399999999996,8613,6866,6295,7703,6983,7375,8658,17845,8304,5817,11645,5625,11485,10584,11531,8969]
["August","-","-",5967,6455.11,8399.01,6913,4430,3910,5815,7541,6589,11970,10390,10418,7594,11154,8759,9127,10280,10385,18878.02]
["September","-","-",4948,9556.56,6176,5703,4401,6054,6050,9213,16090,7127,9832,53193,8193,9258,5834,9717,8932,15257,9114.18]
["October","-","-",4187,7661.29,5433,4892,4919,4770,5269,6092,15848,11531,8293,10258,13872,21552,11349,14042,9286,15438,14326.88]
["November ","-","-",4201,9969.34,"*  ",4587,4825,35304,5814,7167,13488,33071,8195,10123,12212,25068,6400,6837,21375,13459,10688.84]
["December","-","-",4872.37,5159.59,9441,5346,4929,5108,5240,11377,11494,21543,7665,9134,7575,15091,7098,9081,9870,12385,6033.86]
["Total","-","-",{"$f":"SUM(D20:D31)","v":47487.37},70418.17,67522.8,76051,62359,130759,{"$f":"SUM(J20:J31)","v":71978},148635,131368,163512,158262,156553,100191,{"$f":"SUM(Q20:Q31)","v":147618},{"$f":"SUM(R20:R31)","v":97742},112063,133877,137214,132413.78]
["Bemidji Refunds"]
["Month",2004,2005,2006,2007,2008,2009,2010,2011,2012,2013,2014,2015,2016,2017,2018,2019,2020,2021,2022,2023,2024]
["January ","-","-","-","-","-",0,0,0,0,-4893,-4340,0,-53,0,-94,-6,-15,0,0,0,-105]
["February","-","-","-","-","-",-305,-3773,-16348,-17,-501,-23,0,-573,-9,0,-258,-1,0,0,-4,0]
["March","-","-","-","-","-",-5076,-97,-12223,-449,0,-13,-370,-107,-2415,-9448,0,-77,-10,-1333,0,-51]
["April","-","-","-","-","-",0,-201,-1418,-343,-1448,-1,-1056,-212,-165,-37,-62,-79,0,0,0,-387]
["May","-","-","-","-","-",-1229,-135,0,-1206,0,0,-15,0,-247,-76,0,-1,0,-1042,0,0]
["June","-","-","-","-","-",0,-160,-8,0,-202,0,-337,-2852,-4932,-88,-1,-81,-373,-8888,-66,0]
["July","-","-","-","-","-",-3086,0,-39,-128,0,-9,-1483,0,-217,0,-5,-2,0,-9,-431,-609]
["August","-","-","-","-","-",-1846,-668,-66,-43,-193,-319,-3014,-558,-70,0,-133,-272,0,0,-313,-0.02]
["September","-","-","-","-","-",-52,-153,-274,-6422,-4677,-1845,-53,-1597,-16,0,-1,0,0,0,0,-3.09]
["October","-","-","-","-","-",-24,-32,-18,-3,-27,-2855,-2483,-217,-8,-90,0,0,-54,0,0,-4.53]
["November ","-","-","-","-","-",-121,-154,-6258,0,0,-438,0,0,0,0,0,-291,0,0,-9930,0]
["December","-","-","-","-",-1,-5,0,-6508,-818,-518,-12379,-5635,0,-1071,-9,0,0,0,-14,0,-3293.99]
["Total","-","-","-","-",{"$f":"SUM(F35:F46)","v":-1},-11744,-5373,-43160,-9429,-12459,-22222,-14446,-6169,-9150,-9842,{"$f":"SUM(Q35:Q46)","v":-466},{"$f":"SUM(R35:R46)","v":-819},-437,-11286,-10744,-4453.6299999999992]
["Hidden columns B-C do not contain any data for CY 2004-2005"]
["*Collections for November 2008 are included in December totals due to a new processing system."]
[{"$f":"'Local SUT'!A71","v":"Source:  Minnesota Department of Revenue, Tax Research Division, November 2025"}]
["end of worksheet"]

{"sheet":"Brainerd","index":16,"n_rows":51,"n_cols":22,"rows_kept":51,"cut":false,"hidden":true,"merged":[[48,0,48,19],[49,0,49,19],[50,0,50,19],[32,0,32,19],[0,0,0,19],[1,0,1,19],[2,0,2,19],[17,0,17,19],[47,0,47,19]]}
["Brainerd Monthly Detail for Minnesota Local Sales & Use Tax"]
[{"$f":"'Local SUT'!A2","v":"CY 2004-2024"}]
["Brainerd Local Sales Tax (0.5%)"]
["Month",2004,2005,2006,2007,2008,2009,2010,2011,2012,2013,2014,2015,2016,2017,2018,2019,2020,2021,2022,2023,2024]
["January ","-","-","-","-",74422,71078,73056,81930,75293,74129,75634,75769,76320,87206,80241,85224,92543,108919,111315,120180,122272]
["February","-","-","-","-",59929.599999999999,63107,57260,54614,58651,62041,45888,59486,240076,62765,60993,70377,79091,88882,89639,93349,96743]
["March","-","-","-","-",53004,62825,57115,59978,56953,56246,53431,59419,-113177,62265,57535,61468,76506,79523,92396,89026,102943]
["April","-","-","-",87,62324.06,58061,60572,65092,76806,65572,64640,65577,74311,72531,69889,71399,75790,101506,109613,107642,106198]
["May","-","-","-",46525,60474.76,57782,61991,73818,65875,60323,61373,66104,81042,69165,71075,64123,78525,104244,103712,100662,115573]
["June","-","-","-",63371,65986.34,66381,61523,66207,72425,73394,77631,73771,80242,77161,97964,93134,103700,106072,117431,128508,128334]
["July","-","-","-",63270,67547.42,64663,67750,68333,72022,68080,72949,71766,78222,80274,88427,90970,126504,125820,137358,145196,130051]
["August","-","-","-",75658,80723.89,76521,77288,73184,79053,86201,77451,85200,86978,83655,87505,95914,115405,122843,128464,121866,123945.37]
["September","-","-","-",67948.39,73986.81,67058,72056,74059,71738,74107,74678,78209,82214,79605,82700,99674,112425,109287,120491,125861,124532.35]
["October","-","-","-",69441,67580.399999999994,75619,68370,75758,76549,74194,72163,76700,84535,80657,78897,86694,114392,118819,122732,121844,117849.25]
["November ","-","-",null,65630.210000000006,"*  ",68077,63148,64032,67651,67740,70072,72060,77658,72303,79018,86957,92611,96976,112354,113873,115743.66]
["December","-","-",null,63750.01,112604,61037,58668,61659,64020,67284,73872,74884,69130,64241,78301,79002,84070,100124,105331,105963,103767.14]
["Total","-","-","-",{"$f":"SUM(E5:E16)","v":515680.61000000004},778583.27999999991,792209,778797,818664,837036,829311,{"$f":"SUM(L5:L16)","v":819782},858945,917551,891828,932545,984936,{"$f":"SUM(R5:R16)","v":1151562},{"$f":"SUM(S5:S16)","v":1263015},1350836,1373970,1387951.7699999998]
["Brainerd Local Use Tax (0.5%)"]
["Month",2004,2005,2006,2007,2008,2009,2010,2011,2012,2013,2014,2015,2016,2017,2018,2019,2020,2021,2022,2023,2024]
["January ","-","-","-","-",5562,10675,5097,-21097,8838,4623,4843,5867,4609,7487,7319,6943,5373,6498,6100,3407,3932]
["February","-","-","-","-",3960,4129,3734,5588,4389,3955,2909,1757,3633,4446,4842,3256,2815,3422,5551,4013,3193]
["March","-","-","-","-",5410,4672,4235,3421,1685,1799,16375,2824,4020,7591,3532,2106,5756,3461,5493,1885,3137]
["April","-","-","-",0,2883.41,4166,3587,3603,2309,5027,2741,3764,4503,10761,5148,3548,3866,2826,5198,11572,3285]
["May","-","-","-",1030,7128.28,3916,3884,6210,2163,2168,3552,3412,4455,8560,4908,3127,4865,3997,4107,3308,3966]
["June","-","-","-",2135,4823.4799999999996,3728,3766,3213,3015,4792,2982,2049,4598,5145,5241,30659,3178,5476,2760,4477,9640]
["July","-","-","-",3047,3898,2963,4022,2314,3765,3489,3994,3537,5360,7388,6010,3949,5444,5760,6356,7479,4884]
["August","-","-","-",3368,4440.9799999999996,6905,6351,2097,2285,5521,4816,3869,4778,6638,2896,4159,3480,5060,3640,7016,4639.8599999999997]
["September","-","-","-",5254.26,3565.8,3645,4099,3747,2662,5729,1982,6374,5803,5593,4007,3248,-13215,7744,6399,4371,4399.1400000000003]
["October","-","-","-",3995,4758.58,7678,3603,2810,8559,4966,3497,3403,7089,4994,4015,4205,4658,8737,5181,4201,4094]
["November ","-","-","-",7840,"*  ",3002,5348,4272,3169,6209,4889,3547,6135,5040,4811,3640,3283,13449,3737,8273,5477.45]
["December","-","-","-",14390,5826,2926,3457,4311,3249,3655,3837,2757,4729,18371,2676,3472,3460,7382,2452,3925,27116.240000000002]
["Total","-","-","-",{"$f":"SUM(E20:E31)","v":41059.26},52256.53,58405,51183,20489,46088,51933,{"$f":"SUM(L20:L31)","v":56417},43160,59712,92014,55405,72312,{"$f":"SUM(R20:R31)","v":32963},{"$f":"SUM(S20:S31)","v":73812},56974,63927,77763.69]
["Brainerd Refunds"]
["Month",2004,2005,2006,2007,2008,2009,2010,2011,2012,2013,2014,2015,2016,2017,2018,2019,2020,2021,2022,2023,2024]
["January ","-","-","-","-","-",0,0,-105,-543,-5,-1204,-131,-791,-7,-655,-50,-21,-4,-6,-5,-341]
["February","-","-","-","-","-",0,-837,-1593,-3754,0,-1073,-113,-359,0,-118,-1,-2491,-62,-15,-291,-62]
["March","-","-","-","-","-",-1955,-253,-86,-1426,-46,-1,-91,40,-58,-1,0,-3,-16,-40,-105,-1378]
["April","-","-","-","-","-",-1365,-3,-1,-77,-178,-52,-30,-117,-879,-8,-40,0,-24,0,0,-46]
["May","-","-","-","-","-",0,-11,0,-312,0,-11,-33,0,-2308,-588,0,-2566,0,-1185,-143,0]
["June","-","-","-","-","-",-1,-588,-3807,-1,0,0,-823,-1562,-813,-58,-1,0,0,-29,0,0]
["July","-","-","-","-","-",-116,0,-668,-3393,0,-78,-2452,-9130,0,0,-32,0,-776,-85,0,-17]
["August","-","-","-","-","-",-8,-14,-3,-413,-5537,-1374,-104,-132,0,0,0,0,-7,-13,-1298,0]
["September","-","-","-","-","-",-530,-40,-258,0,-343,0,-1212,0,0,-29,0,-98,0,0,0,0]
["October","-","-","-","-","-",-6,0,-39,-32,-9584,-4,-1,-700,-12,-80,0,-24,-4,0,0,-67.63]
["November ","-","-","-","-","-",-1264,-20196,-43,0,0,-5207,-441,0,0,-134,-3,0,-722,-430,0,-5.67]
["December","-","-","-","-",-5,-14,-163,-859,-109,-441,-1495,-423,-1933,-17,-165,0,-521,0,-414,0,-21.45]
["Total","-","-","-","-",{"$f":"SUM(F35:F46)","v":-5},-5259,-22105,-7462,-10060,-16134,{"$f":"SUM(L35:L46)","v":-10499},-5854,-14684,-4094,-1836,-127,{"$f":"SUM(R35:R46)","v":-5724},{"$f":"SUM(S35:S46)","v":-1615},-2217,-1842,-1938.7500000000002]
["Hidden columns B-D do not contain any data for CY 2004-2006"]
["*Collections for November 2008 are included in December totals due to a new processing system."]
[{"$f":"'Local SUT'!A71","v":"Source:  Minnesota Department of Revenue, Tax Research Division, November 2025"}]
["end of worksheet"]

{"sheet":"Clearwater","index":17,"n_rows":50,"n_cols":22,"rows_kept":50,"cut":false,"hidden":true,"merged":[[47,0,47,19],[48,0,48,19],[49,0,49,19],[0,0,0,19],[1,0,1,19],[2,0,2,19],[17,0,17,19],[32,0,32,19]]}
["Clearwater Monthly Detail for Minnesota Local Sales & Use Tax"]
[{"$f":"'Local SUT'!A2","v":"CY 2004-2024"}]
["Clearwater Local Sales Tax (0.5%)"]
["Month",2004,2005,2006,2007,2008,2009,2010,2011,2012,2013,2014,2015,2016,2017,2018,2019,2020,2021,2022,2023,2024]
["January ","-","-","-","-","-",9666,11553,12374,15459,13943,16042,15952,18623,19999,19206,19866,22222,25492,27865,28952,28011]
["February","-","-","-","-","-",8292,11008,12673,11953,12963,13014,14506,15376,15349,14690,17616,18527,19379,19028,23009,27232]
["March","-","-","-","-","-",8625,9913,13950,12464,12379,13065,15212,15888,16280,14091,16669,19178,20632,24169,25632,25743]
["April","-","-","-","-","-",8741,11133,14076,13610,13107,14018,16617,18210,17795,16368,18413,17362,26855,26467,24779,28178]
["May","-","-","-","-","-",9348,11636,14414,13790,12860,14426,19035,16432,20154,16214,34030,17726,19446,26371,23852,28794]
["June","-","-","-","-","-",11158,14401,25375,15800,16264,18486,18849,20898,22506,20973,21085,22591,25746,29573,35931,31482]
["July","-","-","-","-","-",11479,13108,13570,13375,8758,15312,13733,15491,19116,15989,14528,22724,32384,35231,35221,34295]
["August","-","-","-","-","-",18003,20567,20877,19953,25424,23320,27895,29907,22505,25956,33307,27853,27814,29571,30510,32941.589999999997]
["September","-","-","-","-","-",14624,15244,21973,18556,18002,19599,19365,20376,19944,22251,25448,23475,26748,31624,35731,42384.71]
["October","-","-","-","-","-",12871,13745,16235,14700,15303,17021,19465,19729,22082,16851,22401,23745,27442,26524,34609,30832.46]
["November ","-","-","-","-","-",11170,17540,14177,13832,14865,16284,16709,16884,18254,19794,22316,22067,23683,26497,34010,28655.01]
["December","-","-","-","-",15274,11101,13117,13485,13454,15764,18358,17119,17976,17500,20842,19371,21147,23294,26901,30702,25688.85]
["Total","-","-","-","-",{"$f":"SUM(F5:F16)","v":15274},135078,162965,193179,176946,179632,{"$f":"SUM(L5:L16)","v":198945},214457,225790,231484,223225,265050,{"$f":"SUM(R5:R16)","v":258617},298915,329821,362938,364237.62]
["Clearwater Local Use Tax (0.5%)"]
["Month",2004,2005,2006,2007,2008,2009,2010,2011,2012,2013,2014,2015,2016,2017,2018,2019,2020,2021,2022,2023,2024]
["January ","-","-","-","-","-",600,1922,17600,1285,359,417,389,275,337,2410,1090,852,655,771,13738,554]
["February","-","-","-","-","-",156,724,5894,496,2660,297,229,173,216,662,897,2246,408,707,515,637]
["March","-","-","-","-","-",777,817,29357,-357,1353,222,345,205,91,234,859,1628,838,325,721,509]
["April","-","-","-","-","-",285,810,33899,-126,219,244,2231,151,100,289,222,411,937,678,263,5720]
["May","-","-","-","-","-",346,-171,5881,359,326,566,630,203,419,750,504,1796,525,1573,202,6493]
["June","-","-","-","-","-",170,210,6003,1104,-162,627,868,380,-413,1700,226,475,1319,348,2329,4300]
["July","-","-","-","-","-",359,285,285,360,403,778,439,112,2634,872,511,555,1221,-1643,387,628]
["August","-","-","-","-","-",149,191,585,563,226,363,322,126,300,459,650,928,528,1323,275,1763.87]
["September","-","-","-","-","-",132,715,5573,260,436,357,783,123,204,351,461,492,2480,1581,738,418.77]
["October","-","-","-","-","-",1883,211,1113,242,1910,-12,490,200,325,92,1016,543,2349,548,1193,1429]
["November ","-","-","-","-","-",1117,267,1592,211,612,281,1082,444,929,262,2228,10659,844,1092,1117,947.97]
["December","-","-","-","-",868,1998,1431,1038,667,465,663,448,1134,297,299,577,347,958,656,548,727]
["Total","-","-","-","-",{"$f":"SUM(F20:F31)","v":868},7972,7412,108820,5064,8807,{"$f":"SUM(L20:L31)","v":4803},8256,3526,5439,8380,9241,{"$f":"SUM(R20:R31)","v":20932},13062,7959,22026,24127.61]
["Clearwater Refunds"]
["Month",2004,2005,2006,2007,2008,2009,2010,2011,2012,2013,2014,2015,2016,2017,2018,2019,2020,2021,2022,2023,2024]
["January ","-","-","-","-","-",0,0,0,0,0,0,0,0,0,0,0,0,0,-2901,-8,0]
["February","-","-","-","-","-",0,-2569,0,0,-991,-97,0,-442,0,0,0,0,0,0,-1,0]
["March","-","-","-","-","-",0,0,0,-32657,0,0,0,0,0,0,0,0,0,0,0,0]
["April","-","-","-","-","-",0,0,0,0,0,0,0,0,0,0,-582,0,0,0,0,0]
["May","-","-","-","-","-",0,0,0,-1,0,0,0,0,0,0,0,0,0,0,0,0]
["June","-","-","-","-","-",0,0,0,0,0,0,0,0,0,0,0,0,0,0,0,-1]
["July","-","-","-","-","-",0,0,0,-22094,-310,0,0,0,0,0,0,0,-3,0,-3939,-19]
["August","-","-","-","-","-",0,0,0,0,-1,0,-49,0,0,0,0,0,0,0,-20,0]
["September","-","-","-","-","-",0,0,-368,-2064,0,0,0,0,-5778,0,0,0,0,-71,0,0]
["October","-","-","-","-","-",0,0,-80143,0,-41,-11256,0,0,0,0,0,-2,0,0,0,0]
["November ","-","-","-","-","-",0,0,0,0,0,0,0,0,0,0,0,0,0,0,0,0]
["December","-","-","-","-","-",0,0,0,0,0,0,0,0,0,0,0,0,0,0,0,0]
["Total","-","-","-","-","-",{"$f":"SUM(G35:G46)","v":0},-2569,-80511,-56816,-1343,-11353,-49,-442,-5778,0,{"$f":"SUM(Q35:Q46)","v":-582},{"$f":"SUM(R35:R46)","v":-2},-3,-2972,-3968,-20]
["Hidden columns B-E do not contain any data for CY 2004-2007"]
[{"$f":"'Local SUT'!A71","v":"Source:  Minnesota Department of Revenue, Tax Research Division, November 2025"}]
["end of worksheet"]

{"sheet":"Cloquet","index":18,"n_rows":50,"n_cols":22,"rows_kept":50,"cut":false,"hidden":true,"merged":[[47,0,47,19],[48,0,48,19],[49,0,49,19],[0,0,0,19],[1,0,1,19],[2,0,2,19],[17,0,17,19],[32,0,32,19]]}
["Cloquet Monthly Detail for Minnesota Local Sales & Use Tax"]
[{"$f":"'Local SUT'!A2","v":"CY 2004-2024"}]
["Cloquet Local Sales Tax (0.5%)"]
["Month",2004,2005,2006,2007,2008,2009,2010,2011,2012,2013,2014,2015,2016,2017,2018,2019,2020,2021,2022,2023,2024]
["January ","-","-","-","-","-","-","-","-","-","-",81318,79573,81133,91267,81208,81108,88292,100017,103012,111648,220038]
["February","-","-","-","-","-","-","-","-","-","-",66735,61559,65074,65085,59334,69129,71657,85364,80079,83175,163983]
["March","-","-","-","-","-","-","-","-","-","-",65172,56448,63811,58178,56429,64308,63060,76177,77647,78687,162597]
["April","-","-","-","-","-","-","-","-","-","-",65483,67771,67809,70770,69046,71960,72015,98582,89366,91835,194970]
["May","-","-","-","-","-","-","-","-","-",53608,61518,66465,69996,70092,60940,71986,77164,97455,87507,166572,187236]
["June","-","-","-","-","-","-","-","-","-",71819,75982,78272,79695,80034,78968,87336,99761,104899,110719,225040,228700]
["July","-","-","-","-","-","-","-","-","-",65427,76874,78447,80044,83139,76218,85219,90163,105373,110811,228694,232254]
["August","-","-","-","-","-","-","-","-","-",87489,78795,82176,84753,82484,82492,85977,97775,104011,107887,215707,220591.35]
["September","-","-","-","-","-","-","-","-","-",77174,76478,73640,78161,78379,76898,85321,87701,96586,110201,208285,212673.84]
["October","-","-","-","-","-","-","-","-","-",73159,71689,70050,77722,75187,76304,77532,90385,100705,100329,206236,194777.99]
["November ","-","-","-","-","-","-","-","-","-",71611,72305,73053,72716,70160,78284,77937,85795,95472,98039,192422,201010.39]
["December","-","-","-","-","-","-","-","-","-",68928,69429,67628,74592,69039,74205,75842,87561,92358,93607,196709,184373.34]
["Total","-","-","-","-","-","-","-","-","-",{"$f":"SUM(K5:K16)","v":569215},861778,855082,895506,893814,870326,{"$f":"SUM(Q5:Q16)","v":933655},{"$f":"SUM(R5:R16)","v":1011329},1156999,1169204,2005010,2403204.91]
["Cloquet Local Use Tax (0.5%)"]
["Month",2004,2005,2006,2007,2008,2009,2010,2011,2012,2013,2014,2015,2016,2017,2018,2019,2020,2021,2022,2023,2024]
["January ","-","-","-","-","-","-","-","-","-","-",13111,45241,6191,9917,8122,8057,7252,8320,8118,7054,24937]
["February","-","-","-","-","-","-","-","-","-","-",17953,15191,8513,8541,6395,10113,4735,5036,8798,9978,18151]
["March","-","-","-","-","-","-","-","-","-","-",10560,17407,6178,5448,5958,13311,6698,6327,9315,10391,18794]
["April","-","-","-","-","-","-","-","-","-","-",14176,21837,1712,6911,6276,8883,6894,7630,9507,11551,15467]
["May","-","-","-","-","-","-","-","-","-",16292,20155,17034,5264,6719,7127,7299,6315,8135,11800,18023,13034]
["June","-","-","-","-","-","-","-","-","-",13965,22237,13301,2210,9004,4824,7750,8702,11081,7798,18107,13748]
["July","-","-","-","-","-","-","-","-","-",7031,6273,3148,3434,4999,4016,5129,8494,10786,11812,-19636,23275]
["August","-","-","-","-","-","-","-","-","-",25192,25128,15660,11391,11554,7932,10989,6270,12823,13009,12879,25381.91]
["September","-","-","-","-","-","-","-","-","-",16268,13757,5129,6795,6672,5427,5873,11648,13241,11599,17746,32163.52]
["October","-","-","-","-","-","-","-","-","-",18251,23794,6079,9292,11995,5728,15948,10767,10249,11315,29578,20665]
["November ","-","-","-","-","-","-","-","-","-",12716,20307,5247,9211,11638,7396,5955,6357,9363,10279,18577,27712.2]
["December","-","-","-","-","-","-","-","-","-",16832,13677,4958,7247,5143,6805,6304,5372,7823,11112,16909,19931.41]
["Total","-","-","-","-","-","-","-","-","-",{"$f":"SUM(K20:K31)","v":126547},201128,170232,77438,98541,76006,{"$f":"SUM(Q20:Q31)","v":105611},{"$f":"SUM(R20:R31)","v":89504},110814,124462,151157,253260.04]
["Cloquet Refunds"]
["Month",2004,2005,2006,2007,2008,2009,2010,2011,2012,2013,2014,2015,2016,2017,2018,2019,2020,2021,2022,2023,2024]
["January ","-","-","-","-","-","-","-","-","-","-",0,0,-80916,0,-14,0,-5520,0,0,0,0]
["February","-","-","-","-","-","-","-","-","-","-",-11,-132,-43663,0,0,-35,0,0,0,0,0]
["March","-","-","-","-","-","-","-","-","-","-",-181,-3596,-241,0,0,-28,0,-2,-8,0,0]
["April","-","-","-","-","-","-","-","-","-","-",-41868,-73,-509,-11,-1784,-230,-628,0,0,0,0]
["May","-","-","-","-","-","-","-","-","-",0,-205,-50745,0,10,0,0,-11511,0,-6,0,0]
["June","-","-","-","-","-","-","-","-","-",0,0,-44,-15607,0,-38,0,0,-2,0,0,0]
["July","-","-","-","-","-","-","-","-","-",0,-466,-38382,-886,-47,0,0,-611,-20,-4,-11,-2409]
["August","-","-","-","-","-","-","-","-","-",0,-26684,-92,0,-31,0,0,-17,-30,0,0,-17.75]
["September","-","-","-","-","-","-","-","-","-",0,0,0,0,0,0,-549,0,0,0,0,0]
["October","-","-","-","-","-","-","-","-","-",0,0,-21120,0,-1974,0,0,0,-42,0,0,0]
["November ","-","-","-","-","-","-","-","-","-",0,0,-33,0,0,0,0,0,0,0,0,0]
["December","-","-","-","-","-","-","-","-","-",0,0,0,0,0,0,0,-4,0,0,0]
["Total","-","-","-","-","-","-","-","-","-",{"$f":"SUM(K35:K46)","v":0},-69415,-114217,-141822,-2053,-1836,{"$f":"SUM(Q35:Q46)","v":-842},{"$f":"SUM(R35:R46)","v":-18291},-96,-18,-11,-2426.75]
["Hidden columns B-J do not contain any data for CY 2004-2012"]
[{"$f":"'Local SUT'!A71","v":"Source:  Minnesota Department of Revenue, Tax Research Division, November 2025"}]
["end of worksheet"]

{"sheet":"Detroit Lakes","index":19,"n_rows":50,"n_cols":23,"rows_kept":50,"cut":false,"hidden":true,"merged":[[0,0,0,21],[32,0,32,19],[49,0,49,19],[47,0,47,20],[48,0,48,21],[1,0,1,19],[2,0,2,19],[17,0,17,19]]}
["Detroit Lakes Monthly Detail for Minnesota Local Sales & Use Tax"]
[{"$f":"'Local SUT'!A2","v":"CY 2004-2024"}]
["Detroit Lakes Local Sales Tax (0.5%)"]
["Month",2004,2005,2006,2007,2008,2009,2010,2011,2012,2013,2014,2015,2016,2017,2018,2019,2020,2021,2022,2023,2024]
["January ","-","-","-","-","-","-","-","-","-","-","-","-","-","-","-","-",124016,136533,147692,150371,1782]
["February","-","-","-","-","-","-","-","-","-","-","-","-","-","-","-","-",99010,113725,120169,134316,2265]
["March","-","-","-","-","-","-","-","-","-","-","-","-","-","-","-","-",101093,108285,115231,120753,5663]
["April","-","-","-","-","-","-","-","-","-","-","-","-","-","-","-","-",105762,148898,149611,143027,640]
["May","-","-","-","-","-","-","-","-","-","-","-","-","-","-","-","-",116827,164403,142594,142771,46]
["June","-","-","-","-","-","-","-","-","-","-","-","-","-","-","-","-",161488,186875,221053,204085,1602]
["July","-","-","-","-","-","-","-","-","-","-","-","-","-","-","-","-",135489,178413,210472,217828,-125,"Tax Ended 6/30/2023"]
["August","-","-","-","-","-","-","-","-","-","-","-","-","-","-","-","-",206077,198709,207464,941,2946.46]
["September","-","-","-","-","-","-","-","-","-","-","-","-","-","-","-","-",152731,168506,184497,370,276.74]
["October","-","-","-","-","-","-","-","-","-","-","-","-","-","-","-",25,140587,158145,178733,273,-151.11000000000001]
["November ","-","-","-","-","-","-","-","-","-","-","-","-","-","-","-",120536,129890,148927,155115,113,-157.76]
["December","-","-","-","-","-","-","-","-","-","-","-","-","-","-","-",114741,118501,118278,147815,1516,-2238.4]
["Total","-","-","-","-","-","-","-","-","-",{"$f":"SUM(K5:K16)","v":0},0,0,0,0,0,235302,{"$f":"SUM(R5:R16)","v":1591471},1829697,1980446,1116364,12548.929999999998]
["Detroit Lakes Local Use Tax (0.5%)"]
["Month",2004,2005,2006,2007,2008,2009,2010,2011,2012,2013,2014,2015,2016,2017,2018,2019,2020,2021,2022,2023,2024]
["January ","-","-","-","-","-","-","-","-","-","-","-","-","-","-","-","-",3219,10680,7759,8544,161]
["February","-","-","-","-","-","-","-","-","-","-","-","-","-","-","-","-",2882,3051,6104,6411,462]
["March","-","-","-","-","-","-","-","-","-","-","-","-","-","-","-","-",4158,5209,5215,3693,500]
["April","-","-","-","-","-","-","-","-","-","-","-","-","-","-","-","-",4192,6154,6355,13209,0]
["May","-","-","-","-","-","-","-","-","-","-","-","-","-","-","-","-",3861,6357,4917,5750,0]
["June","-","-","-","-","-","-","-","-","-","-","-","-","-","-","-","-",5380,5991,4082,7753,17]
["July","-","-","-","-","-","-","-","-","-","-","-","-","-","-","-","-",8556,7603,10816,7840,0]
["August","-","-","-","-","-","-","-","-","-","-","-","-","-","-","-","-",5810,11271,7065,412,0]
["September","-","-","-","-","-","-","-","-","-","-","-","-","-","-","-","-",4547,5244,8032,79,0]
["October","-","-","-","-","-","-","-","-","-","-","-","-","-","-","-",0,5059,5463,8219,3,243.52]
["November ","-","-","-","-","-","-","-","-","-","-","-","-","-","-","-",2651,5792,8245,7226,10,0]
["December","-","-","-","-","-","-","-","-","-","-","-","-","-","-","-",2502,5405,6930,6844,261,0]
["Total","-","-","-","-","-","-","-","-","-",{"$f":"SUM(K20:K31)","v":0},0,0,0,0,0,5153,{"$f":"SUM(R20:R31)","v":58861},82198,82634,53965,1383.52]
["Detroit Lakes Refunds"]
["Month",2004,2005,2006,2007,2008,2009,2010,2011,2012,2013,2014,2015,2016,2017,2018,2019,2020,2021,2022,2023,2024]
["January ","-","-","-","-","-","-","-","-","-","-","-","-","-","-","-","-",0,0,0,0,-487]
["February","-","-","-","-","-","-","-","-","-","-","-","-","-","-","-","-",0,0,0,0,-9]
["March","-","-","-","-","-","-","-","-","-","-","-","-","-","-","-","-",0,0,0,0,0]
["April","-","-","-","-","-","-","-","-","-","-","-","-","-","-","-","-",0,0,0,0,-32]
["May","-","-","-","-","-","-","-","-","-","-","-","-","-","-","-","-",0,0,0,0,0]
["June","-","-","-","-","-","-","-","-","-","-","-","-","-","-","-","-",0,0,0,0,-1097]
["July","-","-","-","-","-","-","-","-","-","-","-","-","-","-","-","-",0,0,-2,-45,0]
["August","-","-","-","-","-","-","-","-","-","-","-","-","-","-","-","-",0,-2597,0,0,0]
["September","-","-","-","-","-","-","-","-","-","-","-","-","-","-","-","-",0,0,0,-8,-3170.82]
["October","-","-","-","-","-","-","-","-","-","-","-","-","-","-","-",0,-505,0,0,-1032,-87.54]
["November ","-","-","-","-","-","-","-","-","-","-","-","-","-","-","-",0,0,0,-2004,0,0]
["December","-","-","-","-","-","-","-","-","-","-","-","-","-","-","-",0,0,-732,0,-96,0]
["Total","-","-","-","-","-","-","-","-","-",{"$f":"SUM(K35:K46)","v":0},0,0,0,0,0,0,{"$f":"SUM(R35:R46)","v":-505},-3329,-2006,-1181,-4883.3599999999997]
["Hidden columns B-P do not contain any data for CY 2004-2018"]
[{"$f":"'Local SUT'!A71","v":"Source:  Minnesota Department of Revenue, Tax Research Division, November 2025"}]
["end of worksheet"]

{"sheet":"Duluth","index":20,"n_rows":52,"n_cols":22,"rows_kept":52,"cut":false,"hidden":true,"merged":[[51,0,51,19],[0,0,0,19],[1,0,1,19],[2,0,2,19],[17,0,17,19],[32,0,32,19],[47,0,47,19],[48,0,48,19],[49,0,49,19],[50,0,50,19]]}
["Duluth Monthly Detail for Minnesota Local Sales & Use Tax"]
[{"$f":"'Local SUT'!A2","v":"CY 2004-2024"}]
["Duluth Local Sales Tax (1.0%)"]
["Month",2004,2005,2006,2007,2008,2009,2010,2011,2012,2013,2014,2015,2016,2017,2018,2019,2020,2021,2022,2023,2024]
["January ","-","-",1100000,1149700.81,1150477.43,1202596,1080470,1293108,1216559,1244904,1204872,1248226,1377822,1368880,1342642,1430798,2180025,2065588,2319004,2651363,2717559]
["February","-","-",636784,803335.18,811649.93,916337,758611,828005,847692,890505,917223,980647,943946,938801,991726,1016440,1564709,1585307,1786268,2023633,2106834]
["March","-","-",714252,762679.07,813192.23,840876,783762,824165,850853,878447,882235,958111,984618,886866,906465,965453,1526023,1608473,1783066,1958302,1993544]
["April","-","-",850040.92,907497.1,895118.82,823453,918438,917031,970290,973274,1014022,1079057,1109290,1066144,1103695,1155148,1543213,2157028,2308919,2289822,2298628]
["May","-","-",768187.6,814622.74,827826.89,791359,824062,914077,884184,897161,964869,1013959,1059982,1028633,1023261,1148645,1230669,1879028,1993723,2134625,2192282]
["June","-","-",851783.55,909642.13,951780.76,820463,887143,926239,913584,1035556,1040996,1099861,1122756,1086942,1160116,1191641,1505662,1980684,2597716,2392235,2356018]
["July","-","-",752721.99,867505.14,878346.3,726617,853723,946892,946288,933866,1034958,1048169,1085855,1138691,1125659,1196854,1697589,2220432,2490688,2773536,2623018]
["August","-","-",1102024.68,1146373.18,1177959.93,1145246,1151985,1157538,1189067,1307589,1379029,1430738,1384637,1329476,1451033,1505644,2116659,2507230,2457895,2669053,2645870.81]
["September","-","-",958702.59,1010893.21,1014974.82,913064,1042962,1070810,1142752,1144006,1209391,1227345,1263076,1292274,1320131,1388607,1975566,2300921,2628382,2727009,2749782.37]
["October","-","-",971138.17,1012141.04,1061739.79,1006823,1078319,1100150,1108974,1148424,1208922,1253834,1249606,1262801,1267794,1351088,2018896,2443761,2601085,2651005,2581302.58]
["November ","-","-",872638.32,931766.98,"*  ",876361,977353,997636,1038935,1083089,1202724,1203905,1168396,1163128,1256779,1878761,1846266,2125529,2403009,2497829,2573743.9900000002]
["December","-","-",925267.16,916494.18,1573405,842382,934411,926885,986061,1019220,1150050,1155927,1106518,1117621,1199884,1684209,1704728,2045675,2561862,2237458,2287450.7400000002]
["Total","-","-",{"$f":"SUM(D5:D16)","v":10503540.98},11232650.76,11156471.899999999,10905577,11291239,11902536,{"$f":"SUM(J5:J16)","v":12095239},12556041,13209291,13699779,13856502,13680257,14149185,{"$f":"SUM(Q5:Q16)","v":15913288},{"$f":"SUM(R5:R16)","v":20910005},24919656,27931617,29005870,29126033.490000002]
["Duluth Local Use Tax (1.0%)"]
["Month",2004,2005,2006,2007,2008,2009,2010,2011,2012,2013,2014,2015,2016,2017,2018,2019,2020,2021,2022,2023,2024]
["January ","-","-",1665,109404.8,82581.78,87968,158813,96146,79746,146565,130087,108857,73897,73015,84679,94634,121735,108772,35537,128631,145952]
["February","-","-",49278,78716.039999999994,87756.64,62737,-34941,56115,89958,82539,78212,83154,59346,58096,53590,57077,52805,65560,75128,91402,114614]
["March","-","-",67633.38,49452.61,67117.59,43724,31824,41964,59990,54494,76320,57228,50203,58205,90752,59422,54065,91763,88196,78129,169627]
["April","-","-",67957.679999999993,84562.09,124957.51,48273,57626,63982,73339,87769,78851,91532,58858,70468,72059,59575,92245,89381,96271,124337,119898]
["May","-","-",72218.679999999993,59086.12,100407.45,58239,64449,60369,73574,66815,84949,76954,59669,50310,73352,54437,68722,100667,119430,80309,87442]
["June","-","-",76318.710000000006,98071.05,95157.36,48296,49131,57943,69729,80631,74826,116543,47576,71577,58220,56787,66474,70955,91605,118263,107173]
["July","-","-",61267.86,98755.5,111151.48,69589,52128,78762,81409,100670,63687,79277,65977,62654,96548,61723,81727,110760,101892,130906,161651]
["August","-","-",89604.01,94631.78,104458.02,58987,83941,59133,87225,109450,81231,97700,60247,103590,151266,76004,185050,95190,96354,129727,98739.73]
["September","-","-",84969.29,73516.95,62521.33,59200,52264,61049,76196,83220,80018,79254,57232,68660,73335,68455,98896,85534,99218,116063,116748.2]
["October","-","-",89916.08,82079.17,91135.900000000009,80473,75578,84997,89951,127181,104976,84726,67316,92597,75936,73147,106078,98679,59242,119902,136968.79]
["November ","-","-",80804.63,86937.67,"*  ",69997,61384,71792,105354,106642,134328,74765,60548,62502,96699,95985,82157,106202,108544,161135,187596.54]
["December","-","-",152984.84,78114.240000000005,111219,48772,141222,73921,86514,83054,78032,63547,65621,54633,64108,47226,115096,84722,98613,133144,92828.97]
["Total","-","-",{"$f":"SUM(D20:D31)","v":894618.15999999992},993328.02,1038464.0599999999,736255,793419,806173,{"$f":"SUM(J20:J31)","v":972985},1129030,1065517,1013537,726490,826307,990544,{"$f":"SUM(Q20:Q31)","v":804472},{"$f":"SUM(R20:R31)","v":1125050},1108185,1070030,1411948,1539239.23]
["Duluth Refunds"]
["Month",2004,2005,2006,2007,2008,2009,2010,2011,2012,2013,2014,2015,2016,2017,2018,2019,2020,2021,2022,2023,2024]
["January ","-","-","-","-","-",-2267,-101,-201,-1286,-56385,-2584,-21228,-16346,-3922,-1037,0,-24914,0,-3603,0,-683]
["February","-","-","-","-","-",-369,-75069,-77542,-22342,-5725,-75884,-55610,-322358,-1325,-9263,-14139,-766,-1183,-3315,-1554,-289]
["March","-","-","-","-","-",-105022,-9173,-42456,-25721,-230,-8806,-2578,-2366,-467,-98197,-7064,-7796,-908,-2529,-1138,-32]
["April","-","-","-","-","-",-1151,-3060,-504,-3175,-18,-46647,-41470,-5032,-255,-650,-6275,-16212,-2934,0,-2451,0]
["May","-","-","-","-","-",-11114,-3131,0,-634,-7317,-4529,-378,-74607,-1116,0,-8770,-4636,-16159,-1167,0,-952]
["June","-","-","-","-","-",-5333,-2999,-2721,-1078,-5090,-11490,-205889,-6348,-3426,-8217,-9076,-6735,-71,-1293,-35783,0]
["July","-","-","-","-","-",-10571,-343,-25431,-3810,-704,-1344,-916,-39308,-1423,-48998,-7334,-20843,-193,-16285,-2186,-3904]
["August","-","-","-","-","-",-16232,0,-2919,-34731,-47200,-32303,-4798,-721,-23715,-42578,-502,-27007,0,-15313,0,-62.6]
["September","-","-","-","-","-",-536,0,-1148,-1827,-123006,-73727,-599,-28,-399,-1710,-22908,0,0,-7593,-531,-112.97]
["October","-","-","-","-","-",-125213,0,-332,-3761,-16637,-43562,-15,-11092,-949,-337,-11,-1,-1040,-474,-368,-79742.8]
["November ","-","-","-","-","-",-19991,-126313,-55644,-71796,-2445,-2284,-35814,0,0,-10751,-7,-519,-106638,-2238,-578,-835.42]
["December","-","-","-","-",-2849,-7937,-53222,-57130,-9813,-46078,-39913,-6651,-47,-392,-5,-10248,0,-65675,-21883,-6973,0]
["Total","-","-","-","-",{"$f":"SUM(F35:F46)","v":-2849},-305736,-273411,-266028,-179974,-310835,-343073,-375946,-478253,-37389,-221743,{"$f":"SUM(Q35:Q46)","v":-86334},{"$f":"SUM(R35:R46)","v":-109429},-194801,-75693,-51562,-86613.790000000008]
["Hidden columns B-C do not contain any data for CY 2004-2005"]
["*Collections for November 2008 are included in December totals due to a new processing system."]
["Note: Totals not available prior to state administration of the tax in 2006."]
[{"$f":"'Local SUT'!A71","v":"Source:  Minnesota Department of Revenue, Tax Research Division, November 2025"}]
["end of worksheet"]

{"sheet":"Edina","index":21,"n_rows":52,"n_cols":22,"rows_kept":52,"cut":false,"hidden":true,"merged":[[2,0,2,26],[17,0,17,26],[32,0,32,26],[0,0,0,26],[1,0,1,26]]}
["Edina Monthly Detail for Minnesota Local Sales & Use Tax"]
[{"$f":"'Local SUT'!A2","v":"CY 2004-2024"}]
["Edina Local Sales Tax (0.5%)"]
["Month",null,null,null,null,null,null,null,null,null,null,null,null,null,null,null,null,null,null,null,2023,2024]
["January ",null,null,null,null,null,null,null,null,null,null,null,null,null,null,null,null,null,null,null,null,720169]
["February",null,null,null,null,null,null,null,null,null,null,null,null,null,null,null,null,null,null,null,null,522614]
["March",null,null,null,null,null,null,null,null,null,null,null,null,null,null,null,null,null,null,null,null,484125]
["April",null,null,null,null,null,null,null,null,null,null,null,null,null,null,null,null,null,null,null,0,574863]
["May",null,null,null,null,null,null,null,null,null,null,null,null,null,null,null,null,null,null,null,506929,556854]
["June",null,null,null,null,null,null,null,null,null,null,null,null,null,null,null,null,null,null,null,558779,572299]
["July",null,null,null,null,null,null,null,null,null,null,null,null,null,null,null,null,null,null,null,655253,659156]
["August",null,null,null,null,null,null,null,null,null,null,null,null,null,null,null,null,null,null,null,555712,573761.54]
["September",null,null,null,null,null,null,null,null,null,null,null,null,null,null,null,null,null,null,null,598542,576480.93000000005]
["October",null,null,null,null,null,null,null,null,null,null,null,null,null,null,null,null,null,null,null,611307,578080.18000000005]
["November ",null,null,null,null,null,null,null,null,null,null,null,null,null,null,null,null,null,null,null,575817,563442.87]
["December",null,null,null,null,null,null,null,null,null,null,null,null,null,null,null,null,null,null,null,605187,580154.01]
["Total",null,null,null,null,null,null,null,null,null,null,null,null,null,null,null,null,null,null,null,{"$f":"SUM(U5:U16)","v":4667526},6961999.5299999993]
["Edina Local Use Tax (0.5%)"]
["Month",null,null,null,null,null,null,null,null,null,null,null,null,null,null,null,null,null,null,null,2023,2024]
["January ",null,null,null,null,null,null,null,null,null,null,null,null,null,null,null,null,null,null,null,null,31602]
["February",null,null,null,null,null,null,null,null,null,null,null,null,null,null,null,null,null,null,null,null,28528]
["March",null,null,null,null,null,null,null,null,null,null,null,null,null,null,null,null,null,null,null,null,28163]
["April",null,null,null,null,null,null,null,null,null,null,null,null,null,null,null,null,null,null,null,0,26964]
["May",null,null,null,null,null,null,null,null,null,null,null,null,null,null,null,null,null,null,null,13244,14646]
["June",null,null,null,null,null,null,null,null,null,null,null,null,null,null,null,null,null,null,null,16594,20563]
["July",null,null,null,null,null,null,null,null,null,null,null,null,null,null,null,null,null,null,null,27699,24498]
["August",null,null,null,null,null,null,null,null,null,null,null,null,null,null,null,null,null,null,null,19173,27082.1]
["September",null,null,null,null,null,null,null,null,null,null,null,null,null,null,null,null,null,null,null,20947,29470.04]
["October",null,null,null,null,null,null,null,null,null,null,null,null,null,null,null,null,null,null,null,22018,26551.040000000001]
["November ",null,null,null,null,null,null,null,null,null,null,null,null,null,null,null,null,null,null,null,25320,31989.06]
["December",null,null,null,null,null,null,null,null,null,null,null,null,null,null,null,null,null,null,null,30685,21209.32]
["Total",null,null,null,null,null,null,null,null,null,null,null,null,null,null,null,null,null,null,null,{"$f":"SUM(U20:U31)","v":175680},311265.56000000006]
["Edina Refunds"]
["Month",null,null,null,null,null,null,null,null,null,null,null,null,null,null,null,null,null,null,null,2023,2024]
["January ",null,null,null,null,null,null,null,null,null,null,null,null,null,null,null,null,null,null,null,null,0]
["February",null,null,null,null,null,null,null,null,null,null,null,null,null,null,null,null,null,null,null,null,0]
["March",null,null,null,null,null,null,null,null,null,null,null,null,null,null,null,null,null,null,null,null,0]
["April",null,null,null,null,null,null,null,null,null,null,null,null,null,null,null,null,null,null,null,0,-844]
["May",null,null,null,null,null,null,null,null,null,null,null,null,null,null,null,null,null,null,null,0,0]
["June",null,null,null,null,null,null,null,null,null,null,null,null,null,null,null,null,null,null,null,0,-6]
["July",null,null,null,null,null,null,null,null,null,null,null,null,null,null,null,null,null,null,null,0,0]
["August",null,null,null,null,null,null,null,null,null,null,null,null,null,null,null,null,null,null,null,0,0]
["September",null,null,null,null,null,null,null,null,null,null,null,null,null,null,null,null,null,null,null,0,0]
["October",null,null,null,null,null,null,null,null,null,null,null,null,null,null,null,null,null,null,null,0,-0.8]
["November ",null,null,null,null,null,null,null,null,null,null,null,null,null,null,null,null,null,null,null,0,-133.02000000000001]
["December",null,null,null,null,null,null,null,null,null,null,null,null,null,null,null,null,null,null,null,0,0]
["Total",null,null,null,null,null,null,null,null,null,null,null,null,null,null,null,null,null,null,null,{"$f":"SUM(U35:U46)","v":0},-983.81999999999994]
[]
["Columns B through T are empty as data before 2023 is unavailable."]
["Note: Totals not available prior to state administration of the tax in 2023."]
[{"$f":"'Local SUT'!A71","v":"Source:  Minnesota Department of Revenue, Tax Research Division, November 2025"}]
["end of worksheet"]

{"sheet":"East Grand Forks","index":22,"n_rows":50,"n_cols":22,"rows_kept":50,"cut":false,"hidden":true,"merged":[[0,0,0,20],[49,0,49,19],[47,0,47,19],[17,0,17,19],[32,0,32,19],[1,0,1,19],[48,0,48,20],[2,0,2,19]]}
["East Grand Forks Monthly Detail for Minnesota Local Sales & Use Tax"]
[{"$f":"'Local SUT'!A2","v":"CY 2004-2024"}]
["East Grand Forks Local Sales Tax (1.0% ended 10/1/20)"]
["Month",2004,2005,2006,2007,2008,2009,2010,2011,2012,2013,2014,2015,2016,2017,2018,2019,2020,2021,2022,2023,2024]
["January ","-","-","-","-","-","-","-","-","-","-","-","-","-","-",0,90463,92830,2676,70,60,546]
["February","-","-","-","-","-","-","-","-","-","-","-","-","-","-",60783,64854,70911,1466,13,12,-1]
["March","-","-","-","-","-","-","-","-","-","-","-","-","-","-",60576,63527,68901,1289,1940,24,-162]
["April","-","-","-","-","-","-","-","-","-","-","-","-","-","-",70090,78589,83153,1924,249,634,820]
["May","-","-","-","-","-","-","-","-","-","-","-","-","-","-",69411,70475,62736,454,6,5,0]
["June","-","-","-","-","-","-","-","-","-","-","-","-","-","-",74749,77978,74124,647,382,15,0]
["July","-","-","-","-","-","-","-","-","-","-","-","-","-","-",72066,81537,83112,79,10,426,0]
["August","-","-","-","-","-","-","-","-","-","-","-","-","-","-",84208,97577,92583,737,151,37,0]
["September","-","-","-","-","-","-","-","-","-","-","-","-","-","-",81142,76324,85101,292,35,4,0]
["October","-","-","-","-","-","-","-","-","-","-","-","-","-","-",79124,84868,84782,181,5,-605,1]
["November ","-","-","-","-","-","-","-","-","-","-","-","-","-","-",75616,73795,279,20,48,3,4.16]
["December","-","-","-","-","-","-","-","-","-","-","-","-","-","-",75699,78988,4392,114,237,-140,1500.72]
["Total","-","-","-","-","-","-","-","-","-","-","-","-","-","-",{"$f":"SUM(P5:P16)","v":803464},938975,{"$f":"SUM(R5:R16)","v":802904},9879,3146,475,2708.88]
["East Grand Forks Local Use Tax (1.0%)"]
["Month",2004,2005,2006,2007,2008,2009,2010,2011,2012,2013,2014,2015,2016,2017,2018,2019,2020,2021,2022,2023,2024]
["January ","-","-","-","-","-","-","-","-","-","-","-","-","-","-",0,2732,7373,-14592,28,0,0]
["February","-","-","-","-","-","-","-","-","-","-","-","-","-","-",984,1818,2616,141,-25012,0,-515]
["March","-","-","-","-","-","-","-","-","-","-","-","-","-","-",1399,7758,2753,0,0,0,0]
["April","-","-","-","-","-","-","-","-","-","-","-","-","-","-",1985,2531,9156,0,0,0,0]
["May","-","-","-","-","-","-","-","-","-","-","-","-","-","-",3931,6158,-840,0,0,21,0]
["June","-","-","-","-","-","-","-","-","-","-","-","-","-","-",3468,7707,7573,0,0,0,-131]
["July","-","-","-","-","-","-","-","-","-","-","-","-","-","-",2845,9683,8578,-43,0,0,0]
["August","-","-","-","-","-","-","-","-","-","-","-","-","-","-",4516,9225,-1376,-3356,-21865,0,0]
["September","-","-","-","-","-","-","-","-","-","-","-","-","-","-",2028,10330,11741,89,0,0,0]
["October","-","-","-","-","-","-","-","-","-","-","-","-","-","-",2299,6711,3974,0,0,-2897,0]
["November ","-","-","-","-","-","-","-","-","-","-","-","-","-","-",1991,19657,36,0,0,0,0]
["December","-","-","-","-","-","-","-","-","-","-","-","-","-","-",2884,4525,47,0,0,0,0]
["Total","-","-","-","-","-","-","-","-","-","-","-","-","-","-",{"$f":"SUM(P20:P31)","v":28330},88835,{"$f":"SUM(R20:R31)","v":51631},-17761,-46849,-2876,-646]
["East Grand Forks Refunds"]
["Month",2004,2005,2006,2007,2008,2009,2010,2011,2012,2013,2014,2015,2016,2017,2018,2019,2020,2021,2022,2023,2024]
["January ","-","-","-","-","-","-","-","-","-","-","-","-","-","-",0,0,0,0,0,0,0]
["February","-","-","-","-","-","-","-","-","-","-","-","-","-","-",0,0,0,0,-36627,0,0]
["March","-","-","-","-","-","-","-","-","-","-","-","-","-","-",0,-11097,0,-172,0,0,0]
["April","-","-","-","-","-","-","-","-","-","-","-","-","-","-",0,0,0,0,0,0,0]
["May","-","-","-","-","-","-","-","-","-","-","-","-","-","-",0,0,0,0,0,0,0]
["June","-","-","-","-","-","-","-","-","-","-","-","-","-","-",0,-3,-14042,0,0,0,-1559]
["July","-","-","-","-","-","-","-","-","-","-","-","-","-","-",0,0,0,-14761,0,0,0]
["August","-","-","-","-","-","-","-","-","-","-","-","-","-","-",0,-29,0,0,0,0,0]
["September","-","-","-","-","-","-","-","-","-","-","-","-","-","-",0,0,0,0,-44940,-8280,0]
["October","-","-","-","-","-","-","-","-","-","-","-","-","-","-",-434,0,0,-9,0,0,0]
["November ","-","-","-","-","-","-","-","-","-","-","-","-","-","-",0,0,-22377,0,0,0,0]
["December","-","-","-","-","-","-","-","-","-","-","-","-","-","-",0,0,0,0,0,0,0]
["Total","-","-","-","-","-","-","-","-","-","-","-","-","-","-",{"$f":"SUM(P35:P46)","v":-434},-11129,{"$f":"SUM(R35:R46)","v":-36419},-14942,-81567,-8280,-1559]
["Hidden columns B-O do not contain any data for CY 2004-2017"]
[{"$f":"'Local SUT'!A71","v":"Source:  Minnesota Department of Revenue, Tax Research Division, November 2025"}]
["end of worksheet"]

{"sheet":"Fairmont","index":23,"n_rows":50,"n_cols":22,"rows_kept":50,"cut":false,"hidden":true,"merged":[[0,0,0,19],[47,0,47,19],[48,0,48,19],[49,0,49,19],[1,0,1,19],[2,0,2,19],[17,0,17,19],[32,0,32,19]]}
["Fairmont Monthly Detail for Minnesota Local Sales & Use Tax"]
[{"$f":"'Local SUT'!A2","v":"CY 2004-2024"}]
["Fairmont Local Sales Tax (0.5%)"]
["Month",2004,2005,2006,2007,2008,2009,2010,2011,2012,2013,2014,2015,2016,2017,2018,2019,2020,2021,2022,2023,2024]
["January ","-","-","-","-","-","-","-","-","-","-","-","-","-","-",61711,65978,85068,91397,103925,102917,109254]
["February","-","-","-","-","-","-","-","-","-","-","-","-","-","-",49927,60134,65968,69294,80290,81226,78861]
["March","-","-","-","-","-","-","-","-","-","-","-","-","-","-",42273,57092,65863,65864,76831,80324,77902]
["April","-","-","-","-","-","-","-","-","-","-","-","-","-","-",60479,68960,67133,95096,84108,96881,94291]
["May","-","-","-","-","-","-","-","-","-","-","-","-","-","-",52768,69937,63477,88960,79483,90540,93523]
["June","-","-","-","-","-","-","-","-","-","-","-","-","-","-",61091,79612,80126,90204,92952,105309,96053]
["July","-","-","-","-","-","-","-","-","-","-","-","-","-","-",54436,73798,79979,95812,103283,106236,106578]
["August","-","-","-","-","-","-","-","-","-","-","-","-","-","-",79215,91028,94084,101642,100795,97763,96731.57]
["September","-","-","-","-","-","-","-","-","-","-","-","-","-","-",67022,80461,80241,88229,105675,100676,100486.56]
["October","-","-","-","-","-","-","-","-","-","-","-","-","-","-",61457,78276,78825,103537,100745,94684,95125.81]
["November ","-","-","-","-","-","-","-","-","-","-","-","-","-",50902,61158,73868,78252,88701,94721,92205,96915.24]
["December","-","-","-","-","-","-","-","-","-","-","-","-","-",55913,59595,73948,91215,87937,98519,91868,96595.31]
["Total","-","-","-","-","-","-","-","-","-","-","-","-","-",{"$f":"SUM(O5:O16)","v":106815},711132,{"$f":"SUM(Q5:Q16)","v":873092},{"$f":"SUM(R5:R16)","v":930231},1066673,1121327,1140629,1142316.4900000002]
["Fairmont Local Use Tax (0.5%)"]
["Month",2004,2005,2006,2007,2008,2009,2010,2011,2012,2013,2014,2015,2016,2017,2018,2019,2020,2021,2022,2023,2024]
["January ","-","-","-","-","-","-","-","-","-","-","-","-","-","-",2322,2363,4367,4290,2031,5093,5551]
["February","-","-","-","-","-","-","-","-","-","-","-","-","-","-",970,1988,3221,2903,5254,2578,4246]
["March","-","-","-","-","-","-","-","-","-","-","-","-","-","-",2037,1192,2494,1755,2794,3749,3464]
["April","-","-","-","-","-","-","-","-","-","-","-","-","-","-",2326,3101,2014,2933,3168,2542,2842]
["May","-","-","-","-","-","-","-","-","-","-","-","-","-","-",1607,2117,2497,2086,2703,2000,2105]
["June","-","-","-","-","-","-","-","-","-","-","-","-","-","-",2187,2804,2812,1549,2387,3190,3287]
["July","-","-","-","-","-","-","-","-","-","-","-","-","-","-",3503,2987,1849,2642,4049,5017,5170]
["August","-","-","-","-","-","-","-","-","-","-","-","-","-","-",1983,2159,2859,2965,2548,3420,4650.1400000000003]
["September","-","-","-","-","-","-","-","-","-","-","-","-","-","-",1933,2261,2570,2560,9282,5391,3146.85]
["October","-","-","-","-","-","-","-","-","-","-","-","-","-","-",1805,3205,4117,2807,7444,4970,3301.32]
["November ","-","-","-","-","-","-","-","-","-","-","-","-","-",2949,2881,5533,2583,2354,4958,3593,2175.84]
["December","-","-","-","-","-","-","-","-","-","-","-","-","-",1680,2618,3191,2209,3575,3078,3475,4310.3500000000004]
["Total","-","-","-","-","-","-","-","-","-","-","-","-","-",{"$f":"SUM(O20:O31)","v":4629},26172,{"$f":"SUM(Q20:Q31)","v":32901},{"$f":"SUM(R20:R31)","v":33592},32419,49696,45018,44249.499999999993]
["Fairmont Refunds"]
["Month",2004,2005,2006,2007,2008,2009,2010,2011,2012,2013,2014,2015,2016,2017,2018,2019,2020,2021,2022,2023,2024]
["January ","-","-","-","-","-","-","-","-","-","-","-","-","-","-",0,0,0,-1,-8,0,0]
["February","-","-","-","-","-","-","-","-","-","-","-","-","-","-",0,0,0,0,0,-2,0]
["March","-","-","-","-","-","-","-","-","-","-","-","-","-","-",-72,0,-105,0,0,-423,-22]
["April","-","-","-","-","-","-","-","-","-","-","-","-","-","-",-3,0,0,-54,0,0,0]
["May","-","-","-","-","-","-","-","-","-","-","-","-","-","-",0,0,0,0,0,-41,0]
["June","-","-","-","-","-","-","-","-","-","-","-","-","-","-",0,0,-397,0,0,-571,0]
["July","-","-","-","-","-","-","-","-","-","-","-","-","-","-",0,0,0,-2479,-4,-571,-1]
["August","-","-","-","-","-","-","-","-","-","-","-","-","-","-",0,0,0,-7309,-175,0,0]
["September","-","-","-","-","-","-","-","-","-","-","-","-","-","-",0,0,0,0,0,0,0]
["October","-","-","-","-","-","-","-","-","-","-","-","-","-","-",-1066,0,0,-1141,-5,-289,-28.94]
["November ","-","-","-","-","-","-","-","-","-","-","-","-","-",0,0,0,0,0,-1057,0,0]
["December","-","-","-","-","-","-","-","-","-","-","-","-","-",0,0,-105,-167,0,0,0,0]
["Total","-","-","-","-","-","-","-","-","-","-","-","-","-",{"$f":"SUM(O35:O46)","v":0},-1141,{"$f":"SUM(Q35:Q46)","v":-105},{"$f":"SUM(R35:R46)","v":-669},-10984,-1249,-1897,-51.94]
["Hidden columns B-N do not contain any data for CY 2004-2016"]
[{"$f":"'Local SUT'!A71","v":"Source:  Minnesota Department of Revenue, Tax Research Division, November 2025"}]
["end of worksheet"]

{"sheet":"Fergus Falls","index":24,"n_rows":51,"n_cols":23,"rows_kept":51,"cut":false,"hidden":true,"merged":[[50,0,50,19],[32,0,32,19],[47,0,47,19],[48,0,48,19],[0,0,0,19],[1,0,1,19],[2,0,2,19],[17,0,17,19],[49,0,49,19]]}
["Fergus Falls Monthly Detail for Minnesota Local Sales & Use Tax"]
[{"$f":"'Local SUT'!A2","v":"CY 2004-2024"}]
["Fergus Falls Local Sales Tax (0.5%)"]
["Month",2004,2005,2006,2007,2008,2009,2010,2011,2012,2013,2014,2015,2016,2017,2018,2019,2020,2021,2022,2023,2024]
["January ","-","-","-","-","-","-","-","-","-",113430,138483,117471,114598,118749,-777,110676,114212,125425,129997,2319,136143]
["February","-","-","-","-","-","-","-","-",65616,78142,79512,83262,81429,4700,75070,89982,90738,99844,112116,3074,131186]
["March","-","-","-","-","-","-","-","-",69518,72362,78260,76289,85133,1476,76671,79180,82058,95904,103330,2392,116311]
["April","-","-","-","-","-","-","-","-",87297,80850,97617,96376,97774,2095,93045,98469,95744,128933,125103,3950,125038]
["May","-","-","-","-","-","-","-","-",90892,87587,103705,106863,105735,6242,103398,104693,103498,129796,129529,1648,135178]
["June","-","-","-","-","-","-","-","-",99098,109203,106877,114079,117194,2212,130935,120182,134452,139158,165425,570,144018]
["July","-","-","-","-","-","-","-","-",94145,103897,108645,110425,119903,1710,120027,122009,124479,143135,175680,258,146194]
["August","-","-","-","-","-","-","-","-",110147,117032,126203,129546,119541,3418,119157,127586,144158,137668,144781,171,146975.51999999999]
["September","-","-","-","-","-","-","-","-",99534,100386,105193,101548,105058,2141,109285,114383,121705,126334,131780,87,134367.69]
["October","-","-","-","-","-","-","-","-",94824,103959,108342,105488,106269,1619,114959,111699,128339,132960,145248,77,140793.57999999999]
["November ","-","-","-","-","-","-","-","-",94183,97633,105709,98642,102589,-81,103778,112851,119424,130871,1320,128691,137097.45000000001,"Tax Restarted 10/1/2023 at 0.5%"]
["December","-","-","-","-","-","-","-","-",87040,93862,100241,98298,98800,-46,97159,103384,111917,124068,117,125852,124436.09]
["Total","-","-","-","-","-","-","-","-",{"$f":"SUM(J5:J16)","v":992294},1158343,1258787,1238287,1254023,144235,1142707,{"$f":"SUM(Q5:Q16)","v":1295094},{"$f":"SUM(R5:R16)","v":1370724},1514096,1364426,269089,1617738.33]
["Fergus Falls Local Use Tax (0.5%)"]
["Month",2004,2005,2006,2007,2008,2009,2010,2011,2012,2013,2014,2015,2016,2017,2018,2019,2020,2021,2022,2023,2024]
["January ","-","-","-","-","-","-","-","-","-",2391,4044,3211,1848,4161,80,3392,4832,5331,3993,-549,5930]
["February","-","-","-","-","-","-","-","-",2741,1676,2454,2340,2797,-626,2638,5607,4989,2488,3167,2697,6563]
["March","-","-","-","-","-","-","-","-",2536,2977,4373,1865,1805,-337,3839,3284,3424,3734,2396,7,3132]
["April","-","-","-","-","-","-","-","-",2636,2332,3651,2714,3106,97,4588,3700,10008,4129,3757,-73,4053]
["May","-","-","-","-","-","-","-","-",1305,2605,4180,2159,2338,-12,3942,3574,3529,4242,3631,71,331]
["June","-","-","-","-","-","-","-","-",2308,2577,3330,2685,2744,2453,6664,7179,2472,3181,4297,6,5888]
["July","-","-","-","-","-","-","-","-",3287,2652,3662,3861,4129,11,7024,3288,2777,4770,11965,652,4597]
["August","-","-","-","-","-","-","-","-",1959,3044,3080,3624,3610,-664,3492,6570,7820,3557,5555,171,7877.95]
["September","-","-","-","-","-","-","-","-",4300,2392,2304,3122,4087,561,3472,3819,4676,2526,7383,29,7441.85]
["October","-","-","-","-","-","-","-","-",2493,2947,12150,3487,3275,141,5092,3432,3506,3238,8333,0,6296.32]
["November ","-","-","-","-","-","-","-","-",1590,2301,6812,3049,3293,0,3487,3307,3155,3646,-385,2981,6204.98]
["December","-","-","-","-","-","-","-","-",1790,3519,3923,1567,3593,92,4219,3904,2348,3254,-127,5377,1355.5]
["Total","-","-","-","-","-","-","-","-",{"$f":"SUM(J20:J31)","v":26945},31413,53963,33684,36625,5877,48537,{"$f":"SUM(Q20:Q31)","v":51056},{"$f":"SUM(R20:R31)","v":53536},44096,53965,11369,59670.599999999991]
["Fergus Falls Refunds"]
["Month",2004,2005,2006,2007,2008,2009,2010,2011,2012,2013,2014,2015,2016,2017,2018,2019,2020,2021,2022,2023,2024]
["January ","-","-","-","-","-","-","-","-","-",0,-155,-184,-2,0,-146,0,-4,0,0,0,0]
["February","-","-","-","-","-","-","-","-","-",0,0,-13163,-4,0,0,0,-39,0,0,0,-1477]
["March","-","-","-","-","-","-","-","-","-",0,-1553,-232,-59,-7501,-12,0,-2278,-30,0,-21,0]
["April","-","-","-","-","-","-","-","-","-",-4768,0,-1479,-206,-164,0,-20,0,0,-14,0,0]
["May","-","-","-","-","-","-","-","-","-",0,0,-46,-4276,-1,0,0,-66,0,-28,0,0]
["June","-","-","-","-","-","-","-","-","-",0,0,-4737,-22,0,0,0,-2278,0,0,0,0]
["July","-","-","-","-","-","-","-","-","-",-67,-137,-10953,0,0,0,0,-180,0,-222,-5,0]
["August","-","-","-","-","-","-","-","-","-",-4314,-85,-162,0,0,0,0,-17,0,0,-299,-497.77]
["September","-","-","-","-","-","-","-","-","-",0,0,-305,-5496,0,0,0,-35,0,0,0,0]
["October","-","-","-","-","-","-","-","-","-",-112,-41611,-3432,0,-1364,-28,0,0,0,0,-4,0]
["November ","-","-","-","-","-","-","-","-","-",0,0,-201,0,-208,0,-39,0,0,0,0,0]
["December","-","-","-","-","-","-","-","-",-1,-1732,-136,0,0,0,0,0,0,0,0,0,-28286.83]
["Total","-","-","-","-","-","-","-","-",{"$f":"SUM(J35:J46)","v":-1},-10993,-43677,-34894,-10065,-9238,-186,{"$f":"SUM(Q35:Q46)","v":-59},{"$f":"SUM(R35:R46)","v":-4897},-30,-264,-329,-30261.600000000002]
["Hidden columns B-I do not contain any data for CY 2004-2011"]
["Note: Local Sales & Use Tax ended December 2016. Collections in later months are late tax payments or refunds."]
[{"$f":"'Local SUT'!A71","v":"Source:  Minnesota Department of Revenue, Tax Research Division, November 2025"}]
["end of worksheet"]

{"sheet":"GKWMLL Sanitary","index":25,"n_rows":50,"n_cols":22,"rows_kept":50,"cut":false,"hidden":true,"merged":[[0,0,0,20],[1,0,1,19],[49,0,49,19],[47,0,47,19],[48,0,48,20],[32,0,32,19],[17,0,17,19],[2,0,2,20]]}
["GKWMLL Sanitary Monthly Detail for Minnesota Local Sales & Use Tax"]
[{"$f":"'Local SUT'!A2","v":"CY 2004-2024"}]
["Garrison, Kathio, West Mille Lacs Sanitary District Local Sales Tax (1.0%)"]
["Month",2004,2005,2006,2007,2008,2009,2010,2011,2012,2013,2014,2015,2016,2017,2018,2019,2020,2021,2022,2023,2024]
["January ","-","-","-","-","-","-","-","-","-","-","-","-","-","-",0,14423,14170,18636,21123,20488,40021]
["February","-","-","-","-","-","-","-","-","-","-","-","-","-","-",22041,11701,13623,18660,18455,21741,42048]
["March","-","-","-","-","-","-","-","-","-","-","-","-","-","-",11320,12739,12756,21371,18592,22999,27624]
["April","-","-","-","-","-","-","-","-","-","-","-","-","-","-",13429,11193,13013,19575,19742,19700,31212]
["May","-","-","-","-","-","-","-","-","-","-","-","-","-","-",9313,10546,12789,15470,15250,18167,29678]
["June","-","-","-","-","-","-","-","-","-","-","-","-","-","-",13150,15332,19221,23219,23897,24929,36259]
["July","-","-","-","-","-","-","-","-","-","-","-","-","-","-",23451,18291,21806,24247,28860,28740,38146]
["August","-","-","-","-","-","-","-","-","-","-","-","-","-","-",18663,23842,26186,27513,26752,30385,39993.68]
["September","-","-","-","-","-","-","-","-","-","-","-","-","-","-",14841,20309,24022,24090,19618,26184,36447.550000000003]
["October","-","-","-","-","-","-","-","-","-","-","-","-","-","-",16067,17941,22362,22158,25047,29481,36204.370000000003]
["November ","-","-","-","-","-","-","-","-","-","-","-","-","-","-",11365,13807,19753,17914,20193,47246,30694.82]
["December","-","-","-","-","-","-","-","-","-","-","-","-","-","-",10355,11982,20937,17855,19516,26594,23393.97]
["Total","-","-","-","-","-","-","-","-","-","-","-","-","-","-",{"$f":"SUM(P5:P16)","v":163995},182106,{"$f":"SUM(R5:R16)","v":220638},250708,257045,316654,411722.39]
["Garrison, Kathio, West Mille Lacs Sanitary District Local Use Tax (1.0%)"]
["Month",2004,2005,2006,2007,2008,2009,2010,2011,2012,2013,2014,2015,2016,2017,2018,2019,2020,2021,2022,2023,2024]
["January ","-","-","-","-","-","-","-","-","-","-","-","-","-","-",0,483,335,1342,206,281,1104]
["February","-","-","-","-","-","-","-","-","-","-","-","-","-","-",88,341,98,76,148,299,301]
["March","-","-","-","-","-","-","-","-","-","-","-","-","-","-",129,136,122,19575,218,114,295]
["April","-","-","-","-","-","-","-","-","-","-","-","-","-","-",288,142,154,842,383,697,362]
["May","-","-","-","-","-","-","-","-","-","-","-","-","-","-",507,355,496,273,134,333,401]
["June","-","-","-","-","-","-","-","-","-","-","-","-","-","-",1037,657,353,136,512,393,495]
["July","-","-","-","-","-","-","-","-","-","-","-","-","-","-",1077,370,211,165,637,1112,977]
["August","-","-","-","-","-","-","-","-","-","-","-","-","-","-",1471,356,314,427,2120,642,565]
["September","-","-","-","-","-","-","-","-","-","-","-","-","-","-",956,202,275,203,385,424,634]
["October","-","-","-","-","-","-","-","-","-","-","-","-","-","-",389,598,275,558,712,470,600]
["November ","-","-","-","-","-","-","-","-","-","-","-","-","-","-",492,263,198,1429,351,518,450]
["December","-","-","-","-","-","-","-","-","-","-","-","-","-","-",62,93,176,188,378,1450,439]
["Total","-","-","-","-","-","-","-","-","-","-","-","-","-","-",{"$f":"SUM(P20:P31)","v":6496},3996,{"$f":"SUM(R20:R31)","v":3007},25214,6184,6733,6623]
["Garrison, Kathio, West Mille Lacs Sanitary District Refunds"]
["Month",2004,2005,2006,2007,2008,2009,2010,2011,2012,2013,2014,2015,2016,2017,2018,2019,2020,2021,2022,2023,2024]
["January ","-","-","-","-","-","-","-","-","-","-","-","-","-","-",0,0,0,0,0,0,0]
["February","-","-","-","-","-","-","-","-","-","-","-","-","-","-",0,0,0,0,0,0,0]
["March","-","-","-","-","-","-","-","-","-","-","-","-","-","-",0,0,0,0,0,0,0]
["April","-","-","-","-","-","-","-","-","-","-","-","-","-","-",0,0,0,0,0,0,0]
["May","-","-","-","-","-","-","-","-","-","-","-","-","-","-",0,0,0,0,0,0,0]
["June","-","-","-","-","-","-","-","-","-","-","-","-","-","-",0,0,0,0,0,-214,0]
["July","-","-","-","-","-","-","-","-","-","-","-","-","-","-",0,0,0,0,0,0,0]
["August","-","-","-","-","-","-","-","-","-","-","-","-","-","-",0,0,0,0,0,0,0]
["September","-","-","-","-","-","-","-","-","-","-","-","-","-","-",0,0,0,0,0,0,0]
["October","-","-","-","-","-","-","-","-","-","-","-","-","-","-",0,0,0,0,0,0,0]
["November ","-","-","-","-","-","-","-","-","-","-","-","-","-","-",0,0,0,0,0,0,0]
["December","-","-","-","-","-","-","-","-","-","-","-","-","-","-",0,0,0,0,0,0,0]
["Total","-","-","-","-","-","-","-","-","-","-","-","-","-","-",{"$f":"SUM(P35:P46)","v":0},0,{"$f":"SUM(R35:R46)","v":0},0,0,-214,0]
["Hidden columns B-O do not contain any data for CY 2004-2017"]
[{"$f":"'Local SUT'!A71","v":"Source:  Minnesota Department of Revenue, Tax Research Division, November 2025"}]
["end of worksheet"]

{"sheet":"Hermantown","index":26,"n_rows":50,"n_cols":22,"rows_kept":50,"cut":false,"hidden":true,"merged":[[0,0,0,19],[1,0,1,19],[2,0,2,19],[17,0,17,19],[49,0,49,19],[32,0,32,19],[47,0,47,19],[48,0,48,19]]}
["Hermantown Monthly Detail for Minnesota Local Sales & Use Tax"]
[{"$f":"'Local SUT'!A2","v":"CY 2004-2024"}]
["Hermantown Local Sales Tax ( 0.5% enacted 2000; 1.0% since 4/1/13)"]
["Month",2004,2005,2006,2007,2008,2009,2010,2011,2012,2013,2014,2015,2016,2017,2018,2019,2020,2021,2022,2023,2024]
["January ",89514.99,100721,104768,110415.97,102873.67,91403,97965,101337,109857,108112,185330,200577,239494,271382,247827,258279,271499,297574,301795,324580,512525]
["February",87277.37,70042,74564.08,78772.5,117377.28,84313,69694,72373,77413,79958,198653,179173,192010,185799,188665,202779,212191,252371,243308,262837,391465]
["March",67678.02,71962.39,65365.2,72486,72055.360000000001,64562,69508,72838,77337,76366,146968,195583,180703,174098,172167,180986,205156,225892,225907,248993,386022]
["April",76885,79894,81271,88767.93,79293.31,84337,84727,66328,92674,89015,172932,198056,210152,214026,219038,219932,225094,296613,287464,298852,448699]
["May",85754.16,89520,86781.19,85734,82498.210000000006,84060,87376,99084,92496,163871,181398,197350,208683,230447,215260,228003,234036,310700,283211,431934,456547]
["June",97632,105550,100533,109135.31,102267.77,104743,103150,104036,87328,226420,231253,246442,255985,270133,287632,281623,326272,361135,424220,577675,553813]
["July",71828.95,65823.17,91194,100345,87247.05,77414,99589,104518,119665,180441,236295,195829,201743,228462,227193,290751,209636,336094,375479,603519,525289]
["August",125735.92,133257.09,113687.82,113566.64,94283.23,126971,108812,106241,132140,278465,244451,312843,317466,318587,327823,291099,425907,340101,341869,539254,527783.31999999995]
["September",104256,101201.8,105124.21,104586.75,79197.08,78990,100443,100894,108943,233612,235635,245076,269249,276060,269836,296522,294080,326121,354738,542513,524318.78]
["October",92348.5,104085,103622.5,97929.22,83221.459999999992,117732,99087,102868,102557,208124,213583,240017,259734,241939,255238,268030,297220,318517,335605,511682,474941.59]
["November ",93154.93,96565,94754,95808.43,"*  ",90974,97516,106450,100214,210517,224797,241682,254276,242205,258076,276087,305193,317327,360982,512613,508052.05]
["December",86343.56,90035,92109,96530,137664,88347,90464,95824,100268,198507,213444,217950,241689,226969,247516,260975,272761,240676,317242,495879,477695.28]
["Total",{"$f":"SUM(B5:B16)","v":1078409.4000000001},{"$f":"SUM(C5:C16)","v":1108656.4500000002},1113774,1154077.75,1037978.4199999999,1093846,1108331,1132791,{"$f":"SUM(J5:J16)","v":1200892},2053408,2484739,2670578,2831184,2880107,2916271,{"$f":"SUM(Q5:Q16)","v":3055066},{"$f":"SUM(R5:R16)","v":3279045},3623121,3851820,5350331,5787151.0199999996]
["Hermantown Local Use Tax ( 0.5% enacted 2000; 1.0% since 4/1/13)"]
["Month",2004,2005,2006,2007,2008,2009,2010,2011,2012,2013,2014,2015,2016,2017,2018,2019,2020,2021,2022,2023,2024]
["January ",1491.59,2875,2322.7399999999998,3556.5,3108.4,4829,2939,4461,3040,3130,4143,6445,11529,11215,7015,5660,7147,6683,10327,9260,13101]
["February",1027,1204,1894,3420.4,2361.12,1946,1853,3306,3146,1476,2628,3412,10383,4628,4678,4370,5153,7846,5876,6594,9418]
["March",2196,3552.3,1101,4069.3,25692,1630,1326,2981,933,2058,3207,3098,100070,3812,36248,5483,8556,3709,5561,7448,11468]
["April",2009,1967,2628.72,1425,1602.28,6188,497,2482,1633,1207,5578,4955,7184,9458,5371,8266,7184,4835,16705,8581,11906]
["May",1390.2,2296,1277.6099999999999,1220.8,20240,3196,1519,2480,968,2447,3423,3370,6488,5486,3637,4218,4341,7193,6454,10695,9463]
["June",1541.8,3428,1231.83,5207.66,1656.36,2291,1427,3514,1586,3067,2848,5166,11025,5518,3479,4332,11040,5052,5750,12618,9487]
["July",3053.37,3020,1541,3158.92,1758.21,1664,2174,2463,1435,4204,8067,5975,9696,5912,7802,7517,14034,7270,8452,13708,23887]
["August",1803,6056,1943.11,4289.18,3453.79,2164,2575,1428,1314,3716,2666,6656,7197,6184,5987,6615,9072,7383,9776,13695,11671.87]
["September",1573,8942.41,1786.09,5047.2,2874,1835,2983,2354,1792,3235,1465,6850,7358,5672,5107,3527,7819,10241,5413,14657,11849.05]
["October",2239,2888.77,3971,2374,3889.45,3228,3535,2408,1812,4108,6632,11146,5724,13253,13152,3814,11411,11005,8093,13781,14379.84]
["November ",1902.19,1902,2346.83,2722.03,"*  ",2249,2671,6835,2305,3206,3303,9819,8258,9020,4020,5749,6453,-5768,7529,12183,15839.85]
["December",1129,6881.02,1860.5,2468.37,5091,2157,2286,2429,3578,4296,7682,4803,7101,5019,19974,2488,4414,20432,7446,9605,10184.73]
["Total",{"$f":"SUM(B20:B31)","v":21355.149999999998},{"$f":"SUM(C20:C31)","v":45012.5},23904.43,38959.360000000008,71726.61,33377,25785,37141,{"$f":"SUM(J20:J31)","v":23542},36150,51642,71695,192013,85177,116470,{"$f":"SUM(Q20:Q31)","v":62039},{"$f":"SUM(R20:R31)","v":96624},85881,97382,132825,152655.34]
["Hermantown Refunds"]
["Month",2004,2005,2006,2007,2008,2009,2010,2011,2012,2013,2014,2015,2016,2017,2018,2019,2020,2021,2022,2023,2024]
["January ","-","-","-","-","-",0,0,0,0,0,0,0,0,0,-263,-1,0,0,0,0,-102]
["February","-","-","-","-","-",0,-83,0,-1,0,0,0,-64,0,-25,0,0,0,-4,-47,0]
["March","-","-","-","-","-",-3,0,0,-263,0,0,-8,-443,0,-20,-30,0,-3,-4277,-3,-15]
["April","-","-","-","-","-",0,0,0,-102,-383,0,0,-16,-49,-154,-63,-1702,-167,0,-138,-991]
["May","-","-","-","-","-",0,0,0,0,-1213,0,-70,0,8,0,0,-227,0,-49,0,0]
["June","-","-","-","-","-",0,0,0,0,0,0,-75,0,0,-1147,0,0,-42,-44,0,0]
["July","-","-","-","-","-",0,0,-72,-258,0,-3254,0,-812,-10,0,-3,0,0,-67,-1,-43]
["August","-","-","-","-","-",0,0,-537,0,-68,-9,-1,0,0,0,-1,-1929,0,-72,-38,0]
["September","-","-","-","-","-",0,0,-1,0,-1046,-490,0,0,-124,0,0,-1,0,0,-7399,-37.01]
["October","-","-","-","-","-",-24802,0,-1,0,-302,-71,0,0,0,0,0,0,0,0,0,-407.62]
["November ","-","-","-","-","-",-9,0,0,-72,0,0,-151,0,0,0,0,-67,0,0,0,0]
["December","-","-","-","-",0,0,0,0,0,-10,0,0,-15445,-2,0,0,-8,0,-24,0,0]
["Total","-","-","-","-",{"$f":"SUM(F35:F46)","v":0},-24814,-83,-611,-696,-3022,-3824,-305,-16780,-177,-1609,{"$f":"SUM(Q35:Q46)","v":-98},{"$f":"SUM(R35:R46)","v":-3934},-212,-4537,-7626,-1595.63]
["*Collections for November 2008 are included in December totals due to a new processing system."]
[{"$f":"'Local SUT'!A71","v":"Source:  Minnesota Department of Revenue, Tax Research Division, November 2025"}]
["end of worksheet"]

{"sheet":"Hutchinson","index":27,"n_rows":50,"n_cols":22,"rows_kept":50,"cut":false,"hidden":true,"merged":[[0,0,0,19],[1,0,1,19],[2,0,2,19],[17,0,17,19],[49,0,49,19],[32,0,32,19],[47,0,47,19],[48,0,48,19]]}
["Hutchinson Monthly Detail for Minnesota Local Sales & Use Tax"]
[{"$f":"'Local SUT'!A2","v":"CY 2004-2024"}]
["Hutchinson Local Sales Tax (0.5%)"]
["Month",2004,2005,2006,2007,2008,2009,2010,2011,2012,2013,2014,2015,2016,2017,2018,2019,2020,2021,2022,2023,2024]
["January ","-","-","-","-","-","-","-","-","-",112044,108702,114414,123973,128919,131404,132547,132797,139637,145617,171619,177460]
["February","-","-","-","-","-","-","-","-",72944,86084,97875,94735,87852,90965,95248,99926,104054,117640,118922,123313,129922]
["March","-","-","-","-","-","-","-","-",80547,76905,78061,94263,85793,87738,91199,90607,107595,112440,128834,125828,127131]
["April","-","-","-","-","-","-","-","-",94315,88885,96461,100802,106983,101641,112644,112763,112495,147180,140987,153300,150741]
["May","-","-","-","-","-","-","-","-",87101,87692,93587,103622,104502,104801,112675,117035,125253,134005,141551,156011,148875]
["June","-","-","-","-","-","-","-","-",79969,103059,105288,111476,112087,122016,127148,127044,142430,141257,195971,165323,171709]
["July","-","-","-","-","-","-","-","-",97328,79032,103581,105878,91465,109240,105523,121876,112660,149791,155877,177478,167289]
["August","-","-","-","-","-","-","-","-",110900,110338,107243,134540,130936,141849,146391,131987,160087,149589,158216,148828,162431.26]
["September","-","-","-","-","-","-","-","-",98142,102958,104041,105546,111107,118511,124536,126172,129859,130745,151858,152085,155132.38]
["October","-","-","-","-","-","-","-","-",88465,101025,107124,107817,109358,120337,115892,125622,129923,145798,152387,159740,151875.12]
["November ","-","-","-","-","-","-","-","-",89529,90882,94203,99389,102804,108745,119461,121990,126266,130536,145710,145755,148302.44]
["December","-","-","-","-","-","-","-","-",103968,106010,106465,104378,112891,115803,124702,121963,128601,117934,193655,148104,152932.54]
["Total","-","-","-","-","-","-","-","-",{"$f":"SUM(J5:J16)","v":1003208},1144914,1202631,1276860,1279751,1350565,1406823,{"$f":"SUM(Q5:Q16)","v":1429532},{"$f":"SUM(R5:R16)","v":1512020},1616552,1829585,1827384,1843800.7400000002]
["Hutchinson Local Use Tax (0.5%)"]
["Month",2004,2005,2006,2007,2008,2009,2010,2011,2012,2013,2014,2015,2016,2017,2018,2019,2020,2021,2022,2023,2024]
["January ","-","-","-","-","-","-","-","-","-",23003,23128,32515,8576,7944,6346,7827,11610,10097,15705,13432,11072]
["February","-","-","-","-","-","-","-","-",13422,18178,21751,23300,5278,7371,2140,11679,5308,8965,12983,8028,16765]
["March","-","-","-","-","-","-","-","-",15076,23640,23785,12250,5137,7243,7039,-779,7336,-2403,8530,9786,7711]
["April","-","-","-","-","-","-","-","-",16318,23594,26072,14249,7045,10797,8463,10366,8246,22042,9447,10840,6967]
["May","-","-","-","-","-","-","-","-",18007,24885,24290,21899,4867,11587,7880,20298,12294,9797,8745,-28112,7982]
["June","-","-","-","-","-","-","-","-",21005,20799,18843,18227,6331,14042,8665,7076,3028,12641,8298,8830,11164]
["July","-","-","-","-","-","-","-","-",2013,2297,4365,4800,7862,15805,7693,12106,-4566,9778,10344,9208,11977]
["August","-","-","-","-","-","-","-","-",26809,54861,32720,23790,5818,5955,7819,6933,11820,10444,7357,7038,8164.95]
["September","-","-","-","-","-","-","-","-",13230,18573,18158,5500,6233,7966,6515,7310,10329,9165,11471,11710,8230.7099999999991]
["October","-","-","-","-","-","-","-","-",15415,26128,16459,6355,7080,6540,14347,10731,11266,8436,10688,5548,7505.05]
["November ","-","-","-","-","-","-","-","-",31553,32306,28876,4091,8384,10175,1384,8525,9036,12120,7703,6264,6377.59]
["December","-","-","-","-","-","-","-","-",17500,18991,13112,5041,7203,4768,10932,10555,8586,10316,12219,9921,4513.38]
["Total","-","-","-","-","-","-","-","-",{"$f":"SUM(J20:J31)","v":190348},287255,251559,172017,79814,110193,89223,{"$f":"SUM(Q20:Q31)","v":112627},{"$f":"SUM(R20:R31)","v":94293},121398,123490,72493,108429.68000000001]
["Hutchinson Refunds"]
["Month",2004,2005,2006,2007,2008,2009,2010,2011,2012,2013,2014,2015,2016,2017,2018,2019,2020,2021,2022,2023,2024]
["January ","-","-","-","-","-","-","-","-","-",-3515,-2895,-14675,-3157,-12154,-1,-15,-1,-5,-946,-59,0]
["February","-","-","-","-","-","-","-","-",0,-1757,-1991,-3115,-17745,0,0,0,-28,-31,-41,0,-3220]
["March","-","-","-","-","-","-","-","-",0,-2079,-17196,-2092,-69630,0,-5602,-2950,-9333,-93,0,-49,0]
["April","-","-","-","-","-","-","-","-",0,0,0,-699,-16,-387,-159,-4,1719,0,0,0,-34]
["May","-","-","-","-","-","-","-","-",0,-712,-1834,-9163,0,-244,-8681,0,-77,0,0,-3112,-2]
["June","-","-","-","-","-","-","-","-",0,-1268,-1,-64982,-251,-20689,0,0,-10409,0,0,0,-11]
["July","-","-","-","-","-","-","-","-",0,-16812,0,-177,-1325,-1701,0,0,-295,0,-102,-8,-33]
["August","-","-","-","-","-","-","-","-",-106,-339,-1,-224,-4,-1407,-167,-2411,1667,0,-6,0,-7.39]
["September","-","-","-","-","-","-","-","-",-20386,0,-6552,-134511,-4893,-58,0,-171,0,-70,-11,0,0]
["October","-","-","-","-","-","-","-","-",-866,-7345,-104,-2648,-10,-69,-1,0,-2,0,0,-11116,-27.14]
["November ","-","-","-","-","-","-","-","-",-97,-35799,-256,-81,0,-11,-275,-23,-1245,-1,-11,-119,-243.23]
["December","-","-","-","-","-","-","-","-",-1,-4256,-122994,-10,-8,-1,-66,0,-53,0,-3,0,3.8]
["Total","-","-","-","-","-","-","-","-",{"$f":"SUM(J35:J46)","v":-21456},-73882,-153824,-232377,-97039,-36721,-14952,{"$f":"SUM(Q35:Q46)","v":-5574},{"$f":"SUM(R35:R46)","v":-18057},-200,-1120,-14463,-3573.9599999999996]
["Hidden columns B-I do not contain any data for CY 2004-2011"]
[{"$f":"'Local SUT'!A71","v":"Source:  Minnesota Department of Revenue, Tax Research Division, November 2025"}]
["end of worksheet"]

{"sheet":"Lanesboro","index":28,"n_rows":50,"n_cols":22,"rows_kept":50,"cut":false,"hidden":true,"merged":[[0,0,0,19],[1,0,1,19],[2,0,2,19],[17,0,17,19],[49,0,49,19],[32,0,32,19],[47,0,47,19],[48,0,48,19]]}
["Lanesboro Monthly Detail for Minnesota Local Sales & Use Tax"]
[{"$f":"'Local SUT'!A2","v":"CY 2004-2024"}]
["Lanesboro Local Sales Tax (0.5%)"]
["Month",2004,2005,2006,2007,2008,2009,2010,2011,2012,2013,2014,2015,2016,2017,2018,2019,2020,2021,2022,2023,2024]
["January ","-","-","-","-","-","-","-","-","-",4034,14720,4345,3772,4519,4413,5017,5317,4432,5376,5982,5350]
["February","-","-","-","-","-","-","-","-",1642,3215,3728,2683,2419,2389,2369,2881,2701,2683,3087,3532,3462]
["March","-","-","-","-","-","-","-","-",2058,1903,1774,2047,2424,1766,2359,1966,2424,3313,3334,3856,3483]
["April","-","-","-","-","-","-","-","-",2914,2306,3659,2927,3167,2856,3202,3195,3142,4057,4556,4469,5875]
["May","-","-","-","-","-","-","-","-",2476,2843,3741,3023,3056,3218,2863,2841,2451,4925,5147,4856,4498]
["June","-","-","-","-","-","-","-","-",4073,4452,4980,3335,4281,4630,4646,4357,3092,5942,7006,5907,5791]
["July","-","-","-","-","-","-","-","-",6754,6294,9029,7287,6960,6858,6179,6651,6680,7724,8693,8891,8575]
["August","-","-","-","-","-","-","-","-",5540,5989,6508,6662,7176,7756,6309,5516,6070,7728,7426,8558,7364.22]
["September","-","-","-","-","-","-","-","-",4863,6092,6210,6509,5948,6108,5827,6508,6384,6394,11683,7872,7750.53]
["October","-","-","-","-","-","-","-","-",6916,9340,7807,9333,7935,8065,6643,6727,6220,7896,9308,9202,8296.1299999999992]
["November ","-","-","-","-","-","-","-","-",3893,10571,4525,5685,4979,4318,5498,4463,5038,5844,6194,6173,6433.77]
["December","-","-","-","-","-","-","-","-",2434,17502,3195,3001,3232,3511,3637,3392,3982,3862,4672,4360,4607.8]
["Total","-","-","-","-","-","-","-","-",{"$f":"SUM(J5:J16)","v":43563},74541,69876,56837,55349,55994,53945,{"$f":"SUM(Q5:Q16)","v":53514},{"$f":"SUM(R5:R16)","v":53501},64800,76482,73658,71486.45]
["Lanesboro Local Use Tax (0.5%)"]
["Month",2004,2005,2006,2007,2008,2009,2010,2011,2012,2013,2014,2015,2016,2017,2018,2019,2020,2021,2022,2023,2024]
["January ","-","-","-","-","-","-","-","-","-",1404,160,440,2213,460,73,312,167,422,149,118,281]
["February","-","-","-","-","-","-","-","-",314,232,224,235,331,224,215,77,126,138,1313,51,124]
["March","-","-","-","-","-","-","-","-",521,45,46,100,13,172,145,99,227,615,355,1057,213]
["April","-","-","-","-","-","-","-","-",38,99,62,149,214,57,37,75,70,161,225,111,271]
["May","-","-","-","-","-","-","-","-",315,318,288,199,130,177,244,336,194,523,87,404,10]
["June","-","-","-","-","-","-","-","-",141,82,132,1159,125,144,215,146,6789,2131,1530,420,457]
["July","-","-","-","-","-","-","-","-",341,299,269,248,519,288,420,408,622,2780,324,525,441]
["August","-","-","-","-","-","-","-","-",236,348,53,300,87,278,198,733,1116,1353,218,9,348]
["September","-","-","-","-","-","-","-","-",259,-244,10,118,283,145,77,59,669,345,411,392,554]
["October","-","-","-","-","-","-","-","-",990,1848,49,256,1016,239,254,221,485,43,473,219,407]
["November ","-","-","-","-","-","-","-","-",381,217,125,23,174,168,510,228,545,145,133,360,61]
["December","-","-","-","-","-","-","-","-",27,227,246,183,87,389,212,43,300,501,212,399,343]
["Total","-","-","-","-","-","-","-","-",{"$f":"SUM(J20:J31)","v":3563},4875,1664,3410,5192,2741,2600,{"$f":"SUM(Q20:Q31)","v":2737},{"$f":"SUM(R20:R31)","v":11310},9157,5430,4065,3510]
["Lanesboro Refunds"]
["Month",2004,2005,2006,2007,2008,2009,2010,2011,2012,2013,2014,2015,2016,2017,2018,2019,2020,2021,2022,2023,2024]
["January ","-","-","-","-","-","-","-","-","-",0,0,0,0,0,0,0,0,0,0,0,0]
["February","-","-","-","-","-","-","-","-",0,0,0,0,0,0,0,0,0,0,0,0,0]
["March","-","-","-","-","-","-","-","-",0,0,0,0,0,0,0,0,0,0,0,0,0]
["April","-","-","-","-","-","-","-","-",0,0,0,0,0,0,0,0,0,0,0,0,0]
["May","-","-","-","-","-","-","-","-",0,0,0,0,0,0,0,0,0,0,0,0,0]
["June","-","-","-","-","-","-","-","-",0,0,0,0,0,0,0,0,0,0,0,0,0]
["July","-","-","-","-","-","-","-","-",0,0,0,0,0,0,0,0,0,0,-2,0,0]
["August","-","-","-","-","-","-","-","-",0,0,0,0,0,0,0,0,0,0,0,0,0]
["September","-","-","-","-","-","-","-","-",0,0,0,0,0,0,0,0,0,0,0,0,0]
["October","-","-","-","-","-","-","-","-",-1,0,-834,0,0,0,0,0,0,0,0,0,0]
["November ","-","-","-","-","-","-","-","-",0,0,0,0,0,0,0,0,0,0,0,0,0]
["December","-","-","-","-","-","-","-","-",0,0,0,0,0,0,0,0,0,0,0,0,0]
["Total","-","-","-","-","-","-","-","-",{"$f":"SUM(J35:J46)","v":-1},0,-834,0,0,0,0,{"$f":"SUM(Q35:Q46)","v":0},{"$f":"SUM(R35:R46)","v":0},0,-2,0,0]
["Hidden columns B-I do not contain any data for CY 2004-2011"]
[{"$f":"'Local SUT'!A71","v":"Source:  Minnesota Department of Revenue, Tax Research Division, November 2025"}]
["end of worksheet"]

{"sheet":"Mankato","index":29,"n_rows":50,"n_cols":22,"rows_kept":50,"cut":false,"hidden":true,"merged":[[0,0,0,19],[1,0,1,19],[2,0,2,19],[17,0,17,19],[49,0,49,19],[32,0,32,19],[47,0,47,19],[48,0,48,19]]}
["Mankato Monthly Detail for Minnesota Local Sales & Use Tax"]
[{"$f":"'Local SUT'!A2","v":"CY 2004-2024"}]
["Mankato Local Sales Tax (0.5%)"]
["Month",2004,2005,2006,2007,2008,2009,2010,2011,2012,2013,2014,2015,2016,2017,2018,2019,2020,2021,2022,2023,2024]
["January ",402333.35,423341.49,425052.91,444697.33,454129.46,474565,424024,452375,470005,480742,472443,476587,534683,515547,496604,515245,545591,517964,546616,610383,641221]
["February",275334.40000000002,261312.78,269662.38,290633.34000000003,364207.45,358158,287954,320160,338125,350838,386976,379865,390339,362835,379754,383928,392007,423476,457892,504232,512692]
["March",251128.25,392141.1,265464.64,273446.46999999997,308261.11,314843,284152,317904,335495,328953,341991,372665,359554,335808,341290,338078,386702,384529,455891,472648,488094]
["April",290085.03000000003,303766.65000000002,316353.05,342663.54,331678.09000000003,328980,363935,344027,387921,372543,384508,423749,422118,405916,432008,432712,392427,511006,525700,621169,564455]
["May",289301.53999999998,306687.48,300426.39,322414.11,327144.09999999998,320939,320159,376609,369596,355709,385737,437437,413829,405576,394006,414916,353873,475985,490013,531429,542008]
["June",292646.58,315550.3,310730.64,344156.49,361148.02,329447,357007,373376,355757,409575,401507,451161,411386,422879,444965,436214,421519,498176,676020,585555,591548]
["July",238928.75,222792.81,275047.05,304044.68,321733,272391,343910,340438,374160,348725,443820,406009,382303,402763,398894,431265,383135,500515,553972,650906,542882]
["August",380241.12,398145.32,381886.85,372407.79,375217.24,392063,385076,382019,431683,449280,429682,509661,465107,475497,488078,458416,524474,546317,546215,563288,568223.81000000006]
["September",300536.08,314942.52,342225.23,356363.1,349861.26,315188,374196,428869,423812,425547,414896,433393,435157,432310,449665,458624,445113,514631,571988,584883,577721.21]
["October",319787.33,319579.49,337444.93,359725.99,356112.7,391375,381568,399568,390133,405808,423824,434607,412432,426677,440776,439926,456763,534062,563406,586518,574054.14]
["November ",294406.86,304427.52000000002,309142.2,347316.47999999998,"*  ",324966,370470,378298,372401,385719,412070,440456,424563,448964,452578,457177,440825,506647,555695,570317,575772.64]
["December",316073.27,307146.01,359595.91,343938.32,583400,348759,379053,378723,390910,415135,424147,425488,417049,410327,490397,449028,452330,484552,642002,800059,581876.23]
["Total",{"$f":"SUM(B5:B16)","v":3650802.56},3869833.4699999997,3893032.1800000006,4101807.6399999997,4132892.4299999997,4171674,4271504,4492366,4639998,4728574,4921601,5191078,5068520,5045099,5209015,{"$f":"SUM(Q5:Q16)","v":5215529},{"$f":"SUM(R5:R16)","v":5194759},5897860,6585410,7081387,6760548.0299999993]
["Mankato Local Use Tax (0.5%)"]
["Month",2004,2005,2006,2007,2008,2009,2010,2011,2012,2013,2014,2015,2016,2017,2018,2019,2020,2021,2022,2023,2024]
["January ",10580.81,18758.93,43376.56,20755.73,24855.84,24714,70129,18047,44561,21556,23472,62651,26525,27210,25279,26944,14759,23022,22872,30671,41281]
["February",10828.4,16869.12,18967.46,19632.169999999998,31783.26,19724,10594,19742,17311,25706,19361,27080,17719,14448,17600,25920,7481,15661,20404,21098,33654]
["March",12533.93,-3128,10959.82,12783.15,16631.97,14346,33956,12275,10377,15200,32694,24514,32054,8314,17083,14892,13565,12094,19273,24807,26307]
["April",9639.49,20454.57,18656.77,18604.04,29242.92,10839,16677,13706,16021,17912,15111,24427,18173,19741,20680,24822,14552,19186,19253,20741,30032]
["May",11193,25814.76,12080.73,12298.85,24536.14,18316,11129,18119,10553,15025,28674,40752,15692,16173,17593,18022,-6095,14698,21781,23179,22638]
["June",10635.14,27039.65,12518.48,40304.33,12018.18,14571,11824,14357,20219,23063,16423,16069,12761,14638,21145,19555,12925,17217,20100,19213,31111]
["July",12708.72,29328.26,22312.06,23951.57,15363,15488,19228,22450,18483,16329,20341,22410,19075,19734,24931,14504,14751,24614,31555,27506,24168]
["August",14039.07,21011.16,20906.79,15900.48,27391.63,19791,20565,16145,16225,31057,13566,39971,33472,20567,23038,22290,16330,21601,21541,23878,20626.419999999998]
["September",25219.59,92005.18,15847.2,12066.62,15591.64,15061,15347,28200,18960,13073,17546,22837,15454,29431,19184,17181,17880,14285,23419,25550,24792.26]
["October",14040.28,26765.81,30800.71,21041.81,25955.219999999998,29099,15367,19403,15729,22222,30308,25109,21282,26303,27387,21148,19450,17037,38025,22394,30089.53]
["November ",15688.01,20565.88,16857.72,14663.16,"*  ",14736,12479,14665,29383,22835,29045,16648,14452,18324,23081,20750,15525,19348,21202,25585,28536.22]
["December",12495.94,220707.62,12112.55,20545.97,32237,13044,12153,12945,24119,22296,31914,15355,15750,18376,24213,16191,14085,17645,23420,24242,24961.48]
["Total",{"$f":"SUM(B20:B31)","v":159602.38},516192.94,235396.85,232547.88,255606.80000000002,209729,249448,210054,241941,246274,278455,337823,242409,233259,261214,{"$f":"SUM(Q20:Q31)","v":242219},{"$f":"SUM(R20:R31)","v":155208},216408,282845,288864,338196.90999999992]
["Mankato Refunds"]
["Month",2004,2005,2006,2007,2008,2009,2010,2011,2012,2013,2014,2015,2016,2017,2018,2019,2020,2021,2022,2023,2024]
["January ","-","-","-","-","-",-20371,-47192,-399,-17932,-9576,-15367,-4771,-3254,-14,-262,-1036,-11245,-14124,-2418,0,-96]
["February","-","-","-","-","-",-737,-1221,-16006,-5136,-38636,-17644,-12432,-8,-705,-1106,-9126,-2020,-550,-160,-1668,-30]
["March","-","-","-","-","-",-17600,-22386,-6051,-1147,-22677,-13333,-8895,-5740,-8813,-2553,-98,-5213,-3007,-74,-399,-671]
["April","-","-","-","-","-",-4928,-1648,-33819,-191,-4843,-2593,-13437,-6994,-10204,-3038,-11282,-1356,-403,-108,-8474,-2015]
["May","-","-","-","-","-",-18545,-2567,-4238,-7128,-1020,-52523,-3992,-19566,-1134,-1019,-628,-14065,-459,-2466,-127,-803]
["June","-","-","-","-","-",-3021,-25588,-5672,-5900,-1638,-81,-453,-2574,-4026,-161,-453,-304,-1226,-2300,-4478,-2]
["July","-","-","-","-","-",-3618,-2312,-19688,-23332,-6659,-2514,-41,-21874,-214,-1705,-189,-12097,-114,-127,-4,-533]
["August","-","-","-","-","-",-10924,-2124,-1094,-52,-12965,-1527,-5734,-43155,-226,-767,-11,-2457,-4221,-1136,-43940,-45.8]
["September","-","-","-","-","-",0,-46,-3664,-3931,-653,-1507,-1668,-39152,-2533,0,-3705,0,0,-112,-63,-53.41]
["October","-","-","-","-","-",-7130,-97,-2508,-21682,-16511,-61910,-9402,-7848,-780,-288,0,-97,0,-853,-2780,-14947.66]
["November ","-","-","-","-","-",-2050,-30953,-653,-627,-6841,-5547,-4471,0,-9270,-397,-3995,0,0,-4,0,-61.26]
["December","-","-","-","-",-136,-9434,-68,-3019,-11496,-835,-12548,-10347,-789,-4248,-7733,-997,-1305,-1689,0,-3751,-0.95]
["Total","-","-","-","-",{"$f":"SUM(F35:F46)","v":-136},-98358,-136202,-96811,-98554,-122854,-187094,-75643,-150954,-42167,-19029,{"$f":"SUM(Q35:Q46)","v":-31520},{"$f":"SUM(R35:R46)","v":-50159},-25793,-9758,-65684,-19259.079999999998]
["*Collections for November 2008 are included in December totals due to a new processing system."]
[{"$f":"'Local SUT'!A71","v":"Source:  Minnesota Department of Revenue, Tax Research Division, November 2025"}]
["end of worksheet"]

{"sheet":"Marshall","index":30,"n_rows":50,"n_cols":22,"rows_kept":50,"cut":false,"hidden":true,"merged":[[0,0,0,19],[1,0,1,19],[2,0,2,19],[17,0,17,19],[49,0,49,19],[32,0,32,19],[47,0,47,19],[48,0,48,19]]}
["Marshall Monthly Detail for Minnesota Local Sales & Use Tax"]
[{"$f":"'Local SUT'!A2","v":"CY 2004-2024"}]
["Marshall Local Sales Tax (0.5%)"]
["Month",2004,2005,2006,2007,2008,2009,2010,2011,2012,2013,2014,2015,2016,2017,2018,2019,2020,2021,2022,2023,2024]
["January ","-","-","-","-","-","-","-","-","-","-",121363,116263,127685,127694,130934,121058,133617,145670,155116,156062,163133]
["February","-","-","-","-","-","-","-","-","-","-",103394,101210,92961,95050,95518,93748,106314,115858,121326,120391,125499]
["March","-","-","-","-","-","-","-","-","-","-",90993,103362,118175,89174,87117,86097,109831,105502,117501,130809,127733]
["April","-","-","-","-","-","-","-","-","-","-",102870,112750,107451,101888,104691,115854,115547,141865,146898,149349,141375]
["May","-","-","-","-","-","-","-","-","-",88865,103212,107498,106835,108337,95271,111361,110888,140001,134496,154047,144314]
["June","-","-","-","-","-","-","-","-","-",112640,122008,117714,111908,119627,119690,126792,135023,138009,169486,195954,157289]
["July","-","-","-","-","-","-","-","-","-",85506,109247,88801,98495,96194,94597,118350,104633,148120,167740,162382,150648]
["August","-","-","-","-","-","-","-","-","-",134339,136669,145169,151908,138257,145026,135235,161827,164514,145778,159632,157281.56]
["September","-","-","-","-","-","-","-","-","-",118733,118007,117716,113193,128748,118641,122817,132414,147026,170168,164129,155070.53]
["October","-","-","-","-","-","-","-","-","-",104941,121142,120720,124481,132816,112784,125533,136415,150816,158569,158010,145982.9]
["November ","-","-","-","-","-","-","-","-","-",103480,107540,106811,101348,102782,120409,125007,118702,134574,147135,158023,145728.92000000001]
["December","-","-","-","-","-","-","-","-","-",109344,105802,107610,109070,109202,114133,120307,119244,120381,158565,153908,152873.76999999999]
["Total","-","-","-","-","-","-","-","-","-",{"$f":"SUM(K5:K16)","v":857848},1342247,1345624,1363510,1349769,1338811,{"$f":"SUM(Q5:Q16)","v":1402159},{"$f":"SUM(R5:R16)","v":1484455},1652336,1792778,1862696,1766928.68]
["Marshall Local Use Tax (0.5%)"]
["Month",2004,2005,2006,2007,2008,2009,2010,2011,2012,2013,2014,2015,2016,2017,2018,2019,2020,2021,2022,2023,2024]
["January ","-","-","-","-","-","-","-","-","-","-",8305,11008,16119,8471,7588,10239,11560,7967,16748,10990,12738]
["February","-","-","-","-","-","-","-","-","-","-",4655,5519,8060,6178,6934,11956,8573,7434,12204,7957,11846]
["March","-","-","-","-","-","-","-","-","-","-",6119,3826,7858,7707,7607,6461,-64008,8375,16606,6481,12517]
["April","-","-","-","-","-","-","-","-","-","-",5289,6903,15103,8745,9756,6796,7936,10974,15796,12260,11158]
["May","-","-","-","-","-","-","-","-","-",2495,5851,4725,7189,-22107,9537,11761,7977,8577,14307,11837,9532]
["June","-","-","-","-","-","-","-","-","-",4280,8013,12918,10884,9511,9330,10041,-63473,9730,15066,10673,10569]
["July","-","-","-","-","-","-","-","-","-",4732,12332,20883,14157,7562,9700,10603,9322,12056,20127,12124,13228]
["August","-","-","-","-","-","-","-","-","-",4558,8177,46868,7507,10881,8845,12312,7861,10834,13717,8657,14758.1]
["September","-","-","-","-","-","-","-","-","-",5970,7349,12185,13897,9940,8497,18970,14307,16322,16378,10514,11433.07]
["October","-","-","-","-","-","-","-","-","-",4418,6665,9534,8950,10870,8207,11736,7067,9738,19771,8669,14751.03]
["November ","-","-","-","-","-","-","-","-","-",5559,4812,9253,9255,7545,10248,12875,11925,14248,12548,-71321,23509.05]
["December","-","-","-","-","-","-","-","-","-",4490,6438,8475,8953,5843,13435,9489,9281,9375,10741,10338,8481.31]
["Total","-","-","-","-","-","-","-","-","-",{"$f":"SUM(K20:K31)","v":36502},84005,152097,127932,71146,109684,{"$f":"SUM(Q20:Q31)","v":133239},{"$f":"SUM(R20:R31)","v":-31672},125630,184009,39179,154520.56]
["Marshall Refunds"]
["Month",2004,2005,2006,2007,2008,2009,2010,2011,2012,2013,2014,2015,2016,2017,2018,2019,2020,2021,2022,2023,2024]
["January ","-","-","-","-","-","-","-","-","-","-",0,-694,-2404,-76337,-97,-636,0,-397,0,-16913,0]
["February","-","-","-","-","-","-","-","-","-","-",-925,-288,-2609,-100416,-25,-7568,-273,-68,-314,-258,0]
["March","-","-","-","-","-","-","-","-","-","-",-1,-43338,-118,0,0,-148,-334,0,0,-218,-463]
["April","-","-","-","-","-","-","-","-","-","-",-670,0,-599,0,-453,0,0,0,0,-686,-172]
["May","-","-","-","-","-","-","-","-","-",0,-461,0,0,-3432,-677,-22,-258,0,0,-57,-301]
["June","-","-","-","-","-","-","-","-","-",0,0,-411,-14,-3742,-39,0,-447,-521,0,-2891,0]
["July","-","-","-","-","-","-","-","-","-",0,-312,0,0,-589,-162,0,-588,0,-8,0,-103]
["August","-","-","-","-","-","-","-","-","-",0,-23,-1063,0,0,0,0,0,-248,0,0,-5.07]
["September","-","-","-","-","-","-","-","-","-",0,0,-1623,-7042,0,0,0,0,0,0,0,0]
["October","-","-","-","-","-","-","-","-","-",-11,-35,0,0,-682,-30,0,0,0,0,-9,-0.22]
["November ","-","-","-","-","-","-","-","-","-",0,-385,-10,0,0,0,-14,-2,0,-44,0,0]
["December","-","-","-","-","-","-","-","-","-",0,-140,-18,-2686,0,0,-178,0,-152,0,-116]
["Total","-","-","-","-","-","-","-","-","-",{"$f":"SUM(K35:K46)","v":-11},-2952,-47445,-15472,-185198,-1483,{"$f":"SUM(Q35:Q46)","v":-8566},{"$f":"SUM(R35:R46)","v":-1902},-1386,-366,-21148,-1044.29]
["Hidden columns B-J do not contain any data for CY 2004-2012"]
[{"$f":"'Local SUT'!A71","v":"Source:  Minnesota Department of Revenue, Tax Research Division, November 2025"}]
["end of worksheet"]

{"sheet":"Medford","index":31,"n_rows":50,"n_cols":22,"rows_kept":50,"cut":false,"hidden":true,"merged":[[0,0,0,19],[1,0,1,19],[2,0,2,19],[17,0,17,19],[49,0,49,19],[32,0,32,19],[47,0,47,19],[48,0,48,19]]}
["Medford Monthly Detail for Minnesota Local Sales & Use Tax"]
[{"$f":"'Local SUT'!A2","v":"CY 2004-2024"}]
["Medford Local Sales Tax (0.5%)"]
["Month",2004,2005,2006,2007,2008,2009,2010,2011,2012,2013,2014,2015,2016,2017,2018,2019,2020,2021,2022,2023,2024]
["January ","-","-","-","-","-","-","-","-","-","-",15074,18564,25125,26198,21140,43841,22482,27858,36598,24918,32349]
["February","-","-","-","-","-","-","-","-","-","-",6149,8822,8657,6858,7594,7379,7242,8592,9135,11332,6341]
["March","-","-","-","-","-","-","-","-","-","-",5438,6814,8750,7897,7819,6771,6711,7941,6722,7941,8281]
["April","-","-","-","-","-","-","-","-","-","-",20270,19760,25036,26367,9398,27056,22968,29854,28901,29334,34047]
["May","-","-","-","-","-","-","-","-","-",5286,6147,8930,8112,9348,21237,8308,5993,7380,7219,8422,11113]
["June","-","-","-","-","-","-","-","-","-",7143,6489,9631,8073,9540,7827,8936,11308,16116,9199,11742,11306]
["July","-","-","-","-","-","-","-","-","-",17922,15753,21491,29767,17961,7160,25238,20334,19077,33725,28718,24560]
["August","-","-","-","-","-","-","-","-","-",8911,10822,8528,8882,14660,25575,9525,10995,11682,8676,10837,8545.6200000000008]
["September","-","-","-","-","-","-","-","-","-",8102,9003,9471,9726,9685,9558,10000,9115,11510,11630,12513,7484.12]
["October","-","-","-","-","-","-","-","-","-",13203,14710,15016,28574,24863,8498,26729,24646,21105,27078,25994,24460.3]
["November ","-","-","-","-","-","-","-","-","-",6824,8963,9365,7996,8987,9084,8825,8540,10846,11588,7875,9556.98]
["December","-","-","-","-","-","-","-","-","-",8334,9281,10176,9464,9847,9500,8323,8051,12161,10251,8962,9462.33]
["Total","-","-","-","-","-","-","-","-","-",{"$f":"SUM(K5:K16)","v":75725},128099,146568,178162,172211,144390,{"$f":"SUM(Q5:Q16)","v":190931},{"$f":"SUM(R5:R16)","v":158385},184122,200722,188588,187506.34999999998]
["Medford Local Use Tax (0.5%)"]
["Month",2004,2005,2006,2007,2008,2009,2010,2011,2012,2013,2014,2015,2016,2017,2018,2019,2020,2021,2022,2023,2024]
["January ","-","-","-","-","-","-","-","-","-","-",243,173,164,894,439,499,144,190,115,1439,73]
["February","-","-","-","-","-","-","-","-","-","-",84,40,322,73,112,771,82,90,285,65,88]
["March","-","-","-","-","-","-","-","-","-","-",54,51,182,104,111,118,144,102,52,63,149]
["April","-","-","-","-","-","-","-","-","-","-",96,667,113,221,149,272,119,121,124,76,336]
["May","-","-","-","-","-","-","-","-","-",1552,45,202,2663,103,94,75,46,73,109,49,69]
["June","-","-","-","-","-","-","-","-","-",989,87,138,408,97,95,396,52,90,102,157,147]
["July","-","-","-","-","-","-","-","-","-",861,165,458,260,108,424,97,163,52,74,69,205]
["August","-","-","-","-","-","-","-","-","-",993,158,56,106,99,75,85,76,109,62,121,78]
["September","-","-","-","-","-","-","-","-","-",355,274,63,131,111,99,107,149,47,-77,56,160]
["October","-","-","-","-","-","-","-","-","-",695,271,164,138,172,249,92,281,45,71,69,410]
["November ","-","-","-","-","-","-","-","-","-",402,203,178,146,135,112,80,86,188,69,204,151.03]
["December","-","-","-","-","-","-","-","-","-",238,481,46,95,131,155,73,120,67,132,93,60]
["Total","-","-","-","-","-","-","-","-","-",{"$f":"SUM(K20:K31)","v":6085},2161,2236,4728,2248,2114,{"$f":"SUM(Q20:Q31)","v":2665},{"$f":"SUM(R20:R31)","v":1462},1174,1118,2461,1926.03]
["Medford Refunds"]
["Month",2004,2005,2006,2007,2008,2009,2010,2011,2012,2013,2014,2015,2016,2017,2018,2019,2020,2021,2022,2023,2024]
["January ","-","-","-","-","-","-","-","-","-","-",0,0,0,0,-419,0,0,0,-370,0,0]
["February","-","-","-","-","-","-","-","-","-","-",0,0,0,0,0,0,0,0,0,0,0]
["March","-","-","-","-","-","-","-","-","-","-",0,0,-2046,-196,0,0,-80,0,0,0,0]
["April","-","-","-","-","-","-","-","-","-","-",0,-1,-926,0,0,0,0,0,0,0,0]
["May","-","-","-","-","-","-","-","-","-",0,0,0,0,0,0,0,0,0,-454,0,0]
["June","-","-","-","-","-","-","-","-","-",0,0,0,0,-179,0,0,0,0,0,0,0]
["July","-","-","-","-","-","-","-","-","-",0,0,0,-300,0,0,0,-80,0,0,0,-1]
["August","-","-","-","-","-","-","-","-","-",0,0,0,0,0,-550,0,0,0,0,0,0]
["September","-","-","-","-","-","-","-","-","-",0,0,0,0,0,0,0,0,0,0,0,-36.96]
["October","-","-","-","-","-","-","-","-","-",0,0,0,0,0,0,0,0,0,0,0,0]
["November ","-","-","-","-","-","-","-","-","-",0,0,0,0,0,0,0,0,0,0,0,0]
["December","-","-","-","-","-","-","-","-","-",0,0,0,0,0,0,0,0,0,0,0,0]
["Total","-","-","-","-","-","-","-","-","-",{"$f":"SUM(K35:K46)","v":0},0,-1,-3272,-375,-969,{"$f":"SUM(Q35:Q46)","v":0},{"$f":"SUM(R35:R46)","v":-160},0,-824,0,-37.96]
["Hidden columns B-J do not contain any data for CY 2004-2012"]
[{"$f":"'Local SUT'!A71","v":"Source:  Minnesota Department of Revenue, Tax Research Division, November 2025"}]
["end of worksheet"]

{"sheet":"Minneapolis","index":32,"n_rows":50,"n_cols":22,"rows_kept":50,"cut":false,"hidden":true,"merged":[[0,0,0,19],[1,0,1,19],[2,0,2,19],[17,0,17,19],[49,0,49,19],[32,0,32,19],[47,0,47,19],[48,0,48,19]]}
["Minneapolis Monthly Detail for Minnesota Local Sales & Use Tax"]
[{"$f":"'Local SUT'!A2","v":"CY 2004-2024"}]
["Minneapolis Local Sales Tax (0.5%)"]
["Month",2004,2005,2006,2007,2008,2009,2010,2011,2012,2013,2014,2015,2016,2017,2018,2019,2020,2021,2022,2023,2024]
["January ",2327880.12,2580526.64,2506590.02,2581450.2599999998,2532660.15,2723768,2301732,2527168,2608212,2725902,3074292,3125722,3129924,3262441,3060926,3245821,3853340,2844465,3502468,4129551,3793957]
["February",2005954.86,2085759.11,1939843.27,2088663.24,2140054.5099999998,2259913,1893322,2115498,2101283,2230741,2378513,2603872,2458372,2499787,2766396,2666398,2957945,2156979,2910204,3285348,3024684]
["March",1780700.4,1942425.12,1829655.48,2191595.79,2056420.71,1952198,1700643,2133867,1947559,2058358,2069834,2296261,2519349,2418394,2649160,2632582,2719444,2107288,2718581,3009812,2815080]
["April",2171308.92,2235513.06,2280410.69,2434056.86,2422632.04,2154419,2099513,2233559,2535817,2443996,2410691,2662781,2763230,2775053,2806374,3103733,2631577,2683774,3489156,3536689,3510167]
["May",1960443.49,1956518.23,2028969.21,2070405.38,2266911.27,2178054,1578756,2473311,2267038,2579200,2556002,2588709,2741085,2669316,2751840,3238731,1939085,2478002,2981473,3387508,3465815]
["June",2075997.91,2013019.34,2071287.33,2600737.35,2321264.94,2197772,2289039,2394059,2395336,2600514,2716650,2877069,2991082,2829923,3049682,3186191,1935205,2696904,3747268,3274592,3920995]
["July",1668310.94,1685337.79,1679937.3,1993371.93,1983541.79,1672760,1963017,2080206,2398216,2446595,2556229,2820326,2723652,2789070,2977367,3113670,2254102,2908090,3720244,4508579,4000088]
["August",2500680.35,2542391.48,2609179.11,2708228.82,2627216.21,2317420,2546429,2721563,2845142,3002823,3279214,3187249,3213603,3397084,3354965,3521142,2470247,3120782,3383065,3306473,3616732.07]
["September",1906141.21,2043185.36,2413804.09,2094169.64,2318126.42,2023638,2295132,2698603,2534668,2644562,2698691,2794125,2952400,2965145,3161840,3330830,2572058,3085638,3676594,3834567,4027606.25]
["October",2154138.84,2181407.88,2255023.27,2212026.5699999998,2638188.73,2151968,2605578,2571578,2791772,2814688,2780792,2928902,3154838,3210028,3573398,3561026,2436578,3298283,3751016,3980805,3997297.91]
["November ",2006687.49,2073990.76,2136714.1800000002,2373174.88,"*  ",2034373,2176039,2315848,2451745,2685245,2753579,2791745,2840985,2893553,3309295,3375805,2749815,3239740,3516437,3627746,3714965.63]
["December",1867139.13,1942694.37,1915995.65,2170796.79,3703996,1724864,1936185,2091896,2195482,2498441,2454556,2503885,2609894,2676063,3021910,2986353,2271859,3154990,3653907,3515770,3426359.35]
["Total",{"$f":"SUM(B5:B16)","v":24425383.659999996},25282769.140000001,25667409.599999998,27518677.509999998,27011012.77,25391147,25385385,28357156,29072270,30731065,31729043,33180646,34098414,34385857,36483153,{"$f":"SUM(Q5:Q16)","v":37962282},{"$f":"SUM(R5:R16)","v":30791255},33774935,41050413,43397440,43313747.210000008]
["Minneapolis Local Use Tax (0.5%)"]
["Month",2004,2005,2006,2007,2008,2009,2010,2011,2012,2013,2014,2015,2016,2017,2018,2019,2020,2021,2022,2023,2024]
["January ",228084.52,376140.31,318065.5,290725.40000000002,303009.44,385490,270571,369925,256564,322169,298265,359946,410049,625779,620671,10060167,436990,334638,271316,357292,395227]
["February",190673.98,762427.59,226855.23,250821.42,216380.64,208565,306183,201796,748706,224607,341748,268097,375285,226743,390692,183185,249807,268690,181884,294730,312960]
["March",225023.95,165199.6,170995.64,187980.29,198803.12,172267,408879,190889,147534,150098,361289,192231,170939,236085,156667,295341,261554,242501,361236,380632,352099]
["April",168393.82,219508.41,248005.22,253233.87,307427.46000000002,132932,157422,195168,194663,267763,535387,204193,255341,248482,259252,270779,356622,218440,320323,418497,313983]
["May",163773.21,208220.16,197880.69,210986.35,270981.06,156847,187038,260971,211422,213474,186073,257135,326764,196649,186078,242224,148109,217524,193367,336821,404935]
["June",220367.65,174555.86,262725.34000000003,245443.07,215594.77,113640,203227,141627,234630,224024,163683,253734,212581,244481,272778,214058,203691,213805,390891,306744,284742]
["July",179658.16,240286.2,159098.68,194069.17,176363.96,168985,142564,181544,221467,257334,219557,208964,294924,390226,238713,282052,282462,239901,196748,303171,288793]
["August",232069.52,238546.63,255943.51,240836.16,245689.81,205980,157891,165674,212762,261361,206191,434831,230780,285164,266717,228766,146295,248157,232407,317860,364067.91]
["September",227544.22,200103.17,311246.15999999997,271331.28999999998,197004.01,148812,163801,149434,214153,171069,208370,249791,317555,323193,322129,268816,185780,246525,199410,304175,364878.82]
["October",209801.36,286096.84999999998,207478.77,296802.04000000004,566573.92000000004,184175,158744,157660,610047,323473,329748,263103,292101,395604,413430,276429,224630,260568,193728,308786,275026.21000000002]
["November ",212909.77,184572.63,237780.48000000001,236514.24,"*  ",186232,187581,224016,249264,190515,279964,239723,376956,461134,366554,271667,242342,132186,235407,286957,276039.71999999997]
["December",159965.07999999999,217843.34,230462.97,227960.03,399384,148154,184419,163643,187932,211788,231824,264469,262911,277360,366932,262989,232056,302182,-8569622,300180,220800.47]
["Total",{"$f":"SUM(B20:B31)","v":2418265.2399999998},3273500.7499999995,2826538.1900000004,2906703.3299999996,3097212.19,2212079,2528320,2402347,3489144,2817675,3362099,3196217,3526186,3910900,3860613,{"$f":"SUM(Q20:Q31)","v":12856473},{"$f":"SUM(R20:R31)","v":2970338},2925117,-5792905,3915845,3853552.1300000004]
["Minneapolis Refunds"]
["Month",2004,2005,2006,2007,2008,2009,2010,2011,2012,2013,2014,2015,2016,2017,2018,2019,2020,2021,2022,2023,2024]
["January ","-","-","-","-","-",-67753,-59734,-3405,-20421,-13732,-23770,-67574,-81295,-14957,-36178,-1129773,-19992,-34351,-207563,-14836,-39154]
["February","-","-","-","-","-",0,-28871,-112202,-100881,-62758,-70986,-73765,-62742,-61700,-21096,-150153,-721492,-277478,-4149,-234132,-4771]
["March","-","-","-","-","-",-220867,-53671,-63001,-106777,-53146,-24407,-137560,-21096,-148697,-27357,-41355,-411177,-210804,-303438,-2471,-54976]
["April","-","-","-","-","-",-101989,-27418,-45691,-18229,-35173,-61786,-34767,-71765,-7771,-402964,-87933,-35048,-18838,-52979,-32736,-6224]
["May","-","-","-","-","-",-105276,-17991,-16940,-30337,-22841,-64514,-5005,-46525,-51032,-260428,-96060,-71367,-4570,-2408,-23355,-71872]
["June","-","-","-","-","-",-24403,-10238,-20173,-67349,-23063,-24697,-45478,-81997,-67991,-35446,-30110,-31148,-322736,-95703,-1650,-13046]
["July","-","-","-","-","-",-20861,-1544,-36693,-8206,-42930,-31897,-39954,-81179,-192356,-92575,-23083,-397477,-8389,-63204,-9208,-4917]
["August","-","-","-","-","-",-86124,-11994,-19600,-36938,-132578,-27877,-88299,-35715,-390456,-4654,-15200,-170859,-1652,-1203,-28740,-706.12]
["September","-","-","-","-","-",-6190,-23901,-63407,-139021,-21604,-3808,-47179,-30983,-81838,-394549,-2418,-11588,-3138,-64517,-269486,-18524.689999999999]
["October","-","-","-","-","-",-36002,-7654,-40174,-20889,-84716,-63777,-9847,-28544,-32443,-66403,-314735,-16796,-76828,-152711,-176618,-85521.77]
["November ","-","-","-","-","-",-27814,-201306,-123617,-62348,-27045,-34490,-62301,-12353,-47354,-24732,-400306,-22850,-52814,-31975,-7006,-27125]
["December","-","-","-","-",-8340,-40950,-3911,-83563,-41182,-36577,-90990,-40533,-3857,-58719,-618,-21983,-2450,-1974,-43252,-700796,-98834.42]
["Total","-","-","-","-",{"$f":"SUM(F35:F46)","v":-8340},-738229,-448233,-628466,-652578,-556163,-522999,-652262,-558051,-1155314,-1367000,{"$f":"SUM(Q35:Q46)","v":-2313109},{"$f":"SUM(R35:R46)","v":-1912244},-1013572,-1023102,-1501034,-425672]
["*Collections for November 2008 are included in December totals due to a new processing system."]
[{"$f":"'Local SUT'!A71","v":"Source:  Minnesota Department of Revenue, Tax Research Division, November 2025"}]
["end of worksheet"]

{"sheet":"Moose Lake","index":33,"n_rows":50,"n_cols":22,"rows_kept":50,"cut":false,"hidden":true,"merged":[[0,0,0,19],[49,0,49,19],[32,0,32,19],[47,0,47,19],[48,0,48,19],[1,0,1,19],[2,0,2,19],[17,0,17,19]]}
["Moose Lake Monthly Detail for Minnesota Local Sales & Use Tax"]
[{"$f":"'Local SUT'!A2","v":"CY 2004-2024"}]
["Moose Lake Local Sales Tax (0.5%)"]
["Month",2004,2005,2006,2007,2008,2009,2010,2011,2012,2013,2014,2015,2016,2017,2018,2019,2020,2021,2022,2023,2024]
["January ","-","-","-","-","-","-","-","-","-","-","-","-","-","-",15003,17636,22020,22799,22653,26675,24448]
["February","-","-","-","-","-","-","-","-","-","-","-","-","-","-",11717,13816,14532,17418,17939,21032,18736]
["March","-","-","-","-","-","-","-","-","-","-","-","-","-","-",11784,12928,14997,15640,18357,18622,17931]
["April","-","-","-","-","-","-","-","-","-","-","-","-","-","-",14938,15781,15254,21382,19184,19895,18583]
["May","-","-","-","-","-","-","-","-","-","-","-","-","-","-",14369,15320,16069,19375,18914,19493,20242]
["June","-","-","-","-","-","-","-","-","-","-","-","-","-","-",20363,22130,23975,27095,23402,27820,25063]
["July","-","-","-","-","-","-","-","-","-","-","-","-","-","-",17418,19501,21885,24712,24944,27691,25315]
["August","-","-","-","-","-","-","-","-","-","-","-","-","-","-",23254,20713,25055,22695,27397,25595,27185.06]
["September","-","-","-","-","-","-","-","-","-","-","-","-","-","-",18489,18733,22703,23447,27908,24374,24436.16]
["October","-","-","-","-","-","-","-","-","-","-","-","-","-",22,18082,18041,20662,24963,24260,25010,22384.59]
["November ","-","-","-","-","-","-","-","-","-","-","-","-","-",13330,17635,16504,20837,22412,23864,24215,21759.49]
["December","-","-","-","-","-","-","-","-","-","-","-","-","-",13900,14389,16927,17148,19629,23398,21710,21275.72]
["Total","-","-","-","-","-","-","-","-","-","-","-","-","-",{"$f":"SUM(O5:O16)","v":27252},197441,{"$f":"SUM(Q5:Q16)","v":208030},{"$f":"SUM(R5:R16)","v":235137},261567,272220,282132,267359.02]
["Moose Lake Local Use Tax (0.5%)"]
["Month",2004,2005,2006,2007,2008,2009,2010,2011,2012,2013,2014,2015,2016,2017,2018,2019,2020,2021,2022,2023,2024]
["January ","-","-","-","-","-","-","-","-","-","-","-","-","-","-",2913,2011,2293,1342,1249,3306,2202]
["February","-","-","-","-","-","-","-","-","-","-","-","-","-","-",3258,2702,2668,413,4032,2039,2544]
["March","-","-","-","-","-","-","-","-","-","-","-","-","-","-",2317,2318,2115,1447,2405,3127,3801]
["April","-","-","-","-","-","-","-","-","-","-","-","-","-","-",1868,2266,1487,2028,2088,2912,2228]
["May","-","-","-","-","-","-","-","-","-","-","-","-","-","-",2701,1638,1563,2912,2619,1450,386]
["June","-","-","-","-","-","-","-","-","-","-","-","-","-","-",3189,1831,1512,2756,2911,3148,4047]
["July","-","-","-","-","-","-","-","-","-","-","-","-","-","-",3334,3026,2886,4233,2468,3841,2636]
["August","-","-","-","-","-","-","-","-","-","-","-","-","-","-",2982,2158,651,2095,2758,1291,2144.04]
["September","-","-","-","-","-","-","-","-","-","-","-","-","-","-",1498,1746,1738,1038,3803,2817,1718.02]
["October","-","-","-","-","-","-","-","-","-","-","-","-","-",0,2410,2702,1484,1495,2800,1935,2769]
["November ","-","-","-","-","-","-","-","-","-","-","-","-","-",1028,1759,2141,3470,2597,2082,2491,3290.36]
["December","-","-","-","-","-","-","-","-","-","-","-","-","-",2411,1973,2299,1867,3126,2711,2499,3403.07]
["Total","-","-","-","-","-","-","-","-","-","-","-","-","-",{"$f":"SUM(O20:O31)","v":3439},30202,{"$f":"SUM(Q20:Q31)","v":26838},{"$f":"SUM(R20:R31)","v":23734},25482,31926,30856,31168.49]
["Moose Lake Refunds"]
["Month",2004,2005,2006,2007,2008,2009,2010,2011,2012,2013,2014,2015,2016,2017,2018,2019,2020,2021,2022,2023,2024]
["January ","-","-","-","-","-","-","-","-","-","-","-","-","-","-",0,0,0,-13,0,0,0]
["February","-","-","-","-","-","-","-","-","-","-","-","-","-","-",0,0,0,0,0,0,0]
["March","-","-","-","-","-","-","-","-","-","-","-","-","-","-",0,0,0,-4,0,0,0]
["April","-","-","-","-","-","-","-","-","-","-","-","-","-","-",0,0,0,0,0,0,0]
["May","-","-","-","-","-","-","-","-","-","-","-","-","-","-",0,0,0,0,-2,0,0]
["June","-","-","-","-","-","-","-","-","-","-","-","-","-","-",0,-43,-37,0,0,0,0]
["July","-","-","-","-","-","-","-","-","-","-","-","-","-","-",0,0,0,0,0,0,-1]
["August","-","-","-","-","-","-","-","-","-","-","-","-","-","-",0,-37,0,0,0,0,0]
["September","-","-","-","-","-","-","-","-","-","-","-","-","-","-",0,0,0,0,0,0,0]
["October","-","-","-","-","-","-","-","-","-","-","-","-","-",0,0,0,0,0,0,0,0]
["November ","-","-","-","-","-","-","-","-","-","-","-","-","-",0,0,0,0,0,0,0,0]
["December","-","-","-","-","-","-","-","-","-","-","-","-","-",0,0,0,0,0,0,0,0]
["Total","-","-","-","-","-","-","-","-","-","-","-","-","-",{"$f":"SUM(O35:O46)","v":0},0,{"$f":"SUM(Q35:Q46)","v":-80},{"$f":"SUM(R35:R46)","v":-37},-17,-2,0,-1]
["Hidden columns B-N do not contain data for CY 2004-2016"]
[{"$f":"'Local SUT'!A71","v":"Source:  Minnesota Department of Revenue, Tax Research Division, November 2025"}]
["end of worksheet"]

{"sheet":"New London","index":34,"n_rows":50,"n_cols":22,"rows_kept":50,"cut":false,"hidden":true,"merged":[[0,0,0,19],[47,0,47,19],[48,0,48,19],[49,0,49,19],[1,0,1,19],[2,0,2,19],[17,0,17,19],[32,0,32,19]]}
["New London Monthly Detail for Minnesota Local Sales & Use Tax"]
[{"$f":"'Local SUT'!A2","v":"CY 2004-2024"}]
["New London Local Sales Tax (0.5%)"]
["Month",2004,2005,2006,2007,2008,2009,2010,2011,2012,2013,2014,2015,2016,2017,2018,2019,2020,2021,2022,2023,2024]
["January ","-","-","-","-","-","-","-","-","-","-","-","-","-","-",7305,12005,9747,8806,10854,11117,11881]
["February","-","-","-","-","-","-","-","-","-","-","-","-","-","-",6145,8872,6417,6477,8486,9119,9169]
["March","-","-","-","-","-","-","-","-","-","-","-","-","-","-",4798,6032,6000,6154,7531,7876,10608]
["April","-","-","-","-","-","-","-","-","-","-","-","-","-","-",7041,8164,6439,7024,8545,9336,11346]
["May","-","-","-","-","-","-","-","-","-","-","-","-","-","-",5881,6686,6154,8616,9365,9270,10409]
["June","-","-","-","-","-","-","-","-","-","-","-","-","-","-",8137,7671,7565,11043,11812,11178,11829]
["July","-","-","-","-","-","-","-","-","-","-","-","-","-","-",8729,9150,9719,10348,13200,14499,12270]
["August","-","-","-","-","-","-","-","-","-","-","-","-","-","-",9134,9238,10174,10647,12956,11741,13221.94]
["September","-","-","-","-","-","-","-","-","-","-","-","-","-","-",8787,9091,8722,10382,10701,12648,12406.81]
["October","-","-","-","-","-","-","-","-","-","-","-","-","-","-",8228,8419,8893,10908,11465,11670,12496.41]
["November ","-","-","-","-","-","-","-","-","-","-","-","-","-",5629,10920,7318,7990,8855,9990,10763,11112.92]
["December","-","-","-","-","-","-","-","-","-","-","-","-","-",7257,12463,7095,9803,11514,10380,11193,10069.870000000001]
["Total","-","-","-","-","-","-","-","-","-","-","-","-","-",{"$f":"SUM(O5:O16)","v":12886},97568,{"$f":"SUM(Q5:Q16)","v":99741},{"$f":"SUM(R5:R16)","v":97623},110774,125285,130410,136819.95000000001]
["New London Local Use Tax (0.5%)"]
["Month",2004,2005,2006,2007,2008,2009,2010,2011,2012,2013,2014,2015,2016,2017,2018,2019,2020,2021,2022,2023,2024]
["January ","-","-","-","-","-","-","-","-","-","-","-","-","-","-",359,458,319,544,404,1595,858]
["February","-","-","-","-","-","-","-","-","-","-","-","-","-","-",57,654,126,319,322,388,507]
["March","-","-","-","-","-","-","-","-","-","-","-","-","-","-",38,387,305,662,507,100,899]
["April","-","-","-","-","-","-","-","-","-","-","-","-","-","-",401,231,255,1340,-32,522,529]
["May","-","-","-","-","-","-","-","-","-","-","-","-","-","-",291,188,142,230,170,254,99]
["June","-","-","-","-","-","-","-","-","-","-","-","-","-","-",257,109,312,412,441,525,555]
["July","-","-","-","-","-","-","-","-","-","-","-","-","-","-",493,453,592,824,353,406,418]
["August","-","-","-","-","-","-","-","-","-","-","-","-","-","-",584,667,213,507,502,712,106.02]
["September","-","-","-","-","-","-","-","-","-","-","-","-","-","-",267,363,264,297,305,668,439]
["October","-","-","-","-","-","-","-","-","-","-","-","-","-","-",315,477,541,620,344,236,397]
["November ","-","-","-","-","-","-","-","-","-","-","-","-","-",199,608,297,636,391,836,558,316]
["December","-","-","-","-","-","-","-","-","-","-","-","-","-",540,237,434,253,435,158,676,273]
["Total","-","-","-","-","-","-","-","-","-","-","-","-","-",{"$f":"SUM(O20:O31)","v":739},3907,{"$f":"SUM(Q20:Q31)","v":4718},{"$f":"SUM(R20:R31)","v":3958},6581,4310,6640,5396.02]
["New London Refunds"]
["Month",2004,2005,2006,2007,2008,2009,2010,2011,2012,2013,2014,2015,2016,2017,2018,2019,2020,2021,2022,2023,2024]
["January ","-","-","-","-","-","-","-","-","-","-","-","-","-","-",0,0,-47,-41,-184,0,0]
["February","-","-","-","-","-","-","-","-","-","-","-","-","-","-",0,0,0,0,0,0,0]
["March","-","-","-","-","-","-","-","-","-","-","-","-","-","-",0,-2,0,0,0,0,0]
["April","-","-","-","-","-","-","-","-","-","-","-","-","-","-",0,0,-47,0,0,0,0]
["May","-","-","-","-","-","-","-","-","-","-","-","-","-","-",0,0,0,0,0,0,0]
["June","-","-","-","-","-","-","-","-","-","-","-","-","-","-",0,0,0,0,0,0,0]
["July","-","-","-","-","-","-","-","-","-","-","-","-","-","-",0,0,0,0,-6,0,0]
["August","-","-","-","-","-","-","-","-","-","-","-","-","-","-",0,0,0,0,0,0,0]
["September","-","-","-","-","-","-","-","-","-","-","-","-","-","-",0,0,0,0,0,0,0]
["October","-","-","-","-","-","-","-","-","-","-","-","-","-","-",-4,0,0,0,0,0,0]
["November ","-","-","-","-","-","-","-","-","-","-","-","-","-",0,0,0,0,0,0,0,0]
["December","-","-","-","-","-","-","-","-","-","-","-","-","-",0,-27,0,0,0,0,0,0]
["Total","-","-","-","-","-","-","-","-","-","-","-","-","-",{"$f":"SUM(O35:O46)","v":0},-31,{"$f":"SUM(Q35:Q46)","v":-2},{"$f":"SUM(R35:R46)","v":-94},-41,-190,0,0]
["Hidden columns B-N do not contain any data for CY 2004-2016"]
[{"$f":"'Local SUT'!A71","v":"Source:  Minnesota Department of Revenue, Tax Research Division, November 2025"}]
["end of worksheet"]

{"sheet":"New Ulm","index":35,"n_rows":50,"n_cols":22,"rows_kept":50,"cut":false,"hidden":true,"merged":[[0,0,0,19],[1,0,1,19],[2,0,2,19],[17,0,17,19],[49,0,49,19],[32,0,32,19],[47,0,47,19],[48,0,48,19]]}
["New Ulm Monthly Detail for Minnesota Local Sales & Use Tax"]
[{"$f":"'Local SUT'!A2","v":"CY 2004-2024"}]
["New Ulm Local Sales Tax (0.5%)"]
["Month",2004,2005,2006,2007,2008,2009,2010,2011,2012,2013,2014,2015,2016,2017,2018,2019,2020,2021,2022,2023,2024]
["January ",77026,74319,80182,84062.31,91124.98,85124,88876,91544,89862,97465,149355,100337,113453,109400,103175,102675,114180,113134,134796,144436,145737]
["February",49443.43,56423.18,56376.74,60549.15,60446.59,65766,60722,60815,63202,66577,107892,82799,83766,79686,77978,81133,87179,97775,107799,118424,110320]
["March",45681.39,53518.7,51113.18,58531.13,63337.23,56198,56729,62240,64153,66218,82729,86247,81563,78320,74261,74334,86389,90954,102040,112434,108388]
["April",59736.34,65672.639999999999,57742.67,67750.55,70043.12,62144,70224,70612,75468,82977,86463,92518,93551,91146,89394,90381,106514,125832,122568,140452,122929]
["May",58353,57361.38,57509.78,62575.61,63450.11,64186,67789,74482,72392,79954,81224,94462,92790,88035,83612,92461,100084,118924,111908,136135,138173]
["June",62424.58,64176.09,68258.69,75972.58,74858.509999999995,69563,68883,80936,82886,94186,95624,104894,88950,97757,103496,109303,115570,116908,147487,139342,138657]
["July",58568.32,49737.87,58308.14,72750.53,72833.7,70023,74114,79272,79026,74588,101681,89594,88284,88047,86114,100110,92617,130943,131318,148281,134759]
["August",78331,79043.199999999997,76004.59,74172.509999999995,77548.28,73786,79945,77950,84628,107301,100119,112570,114559,104071,115533,114807,132218,133300,123232,130969,137884.84]
["September",60133.82,65491.42,72672.399999999994,71503,73472.73,70874,82616,85103,86508,94664,95503,94221,102522,95927,100137,107156,111359,121809,134103,135208,132057.68]
["October",61015.61,67879.509999999995,75709.710000000006,77703.27,74220.91,73410,90017,82878,84337,93841,97286,94564,91874,95804,94873,108355,110919,125221,134480,133760,132171.34]
["November ",57413,59974,61813.14,68645.240000000005,"*  ",70457,76140,76240,78979,95303,94970,97930,98166,94185,95883,103246,106176,122052,141334,127153,135894.76999999999]
["December",54588,59581.01,64168.7,71719.210000000006,129797,67284,76502,74062,78108,135900,93310,98104,92900,89426,102613,98700,107555,109387,135424,131102,130845.24]
["Total",{"$f":"SUM(B5:B16)","v":722714.49},{"$f":"SUM(C5:C16)","v":753178},779859.74,845935.09,851133.16,828815,892557,916134,{"$f":"SUM(J5:J16)","v":939549},1088974,1186156,1148240,1142378,1111804,1127069,{"$f":"SUM(Q5:Q16)","v":1182661},{"$f":"SUM(R5:R16)","v":1270760},1406239,1526489,1597696,1567816.87]
["New Ulm Local Use Tax (0.5%)"]
["Month",2004,2005,2006,2007,2008,2009,2010,2011,2012,2013,2014,2015,2016,2017,2018,2019,2020,2021,2022,2023,2024]
["January ",5120,6600.37,8113,8369.82,9485,3896,11348,14093,11091,10127,23460,13243,5682,8913,5438,6016,8332,5039,5241,6361,9268]
["February",3806,4338,10455.68,4453,5436.86,6897,3072,4772,8347,10947,12684,-18803,3340,4128,-3913,6101,15592,1166,4987,8192,4395]
["March",4103.59,7443.72,13837.1,5828.06,6513.33,9233,29017,6314,7077,16983,17770,8706,9302,4151,3156,-2546,3403,-5789,3875,4858,6873]
["April",4749.8900000000003,10292.44,2979.49,7484.5,7620.32,9576,6056,9020,12303,9993,18841,4792,5121,5501,4257,4645,-1352,5326,7508,6567,6113]
["May",7889.63,7125,4389,12743,7219.37,5445,4564,8793,12306,5507,11938,13067,4883,4845,3272,6298,7780,5790,7434,10991,5553]
["June",5814.43,7549,10753.07,7565.31,7090.24,15800,4883,5783,7624,9975,13743,7695,6415,5620,3634,6650,3444,6384,5742,7907,6702]
["July",5304.5,8225,7380.18,5905.61,6672.85,6109,6164,7709,5234,9851,7691,6004,-19694,8846,8901,6195,1270,9398,10245,10155,8408]
["August",6110,9883.06,12149.56,8120.28,6562,33710,7164,9066,17608,13740,19697,10123,6070,4932,2990,7315,5465,5690,5661,7349,7016.07]
["September",4855,5929.69,6687,7198,6747.63,4437,6309,10388,11092,15093,9086,5244,5287,6016,5387,7525,7356,12849,13505,8196,5703.18]
["October",5194,8696.74,11403.1,8887.3799999999992,6113,5628,5667,11677,11717,13339,10798,7003,5482,5010,6050,5426,4900,8226,7879,6639,7089]
["November ",8107.04,7001,7810.99,9048.2999999999993,"*  ",4763,6170,6901,7924,9506,11262,5141,4396,5496,-289,8604,6587,8869,7297,6963,5560.96]
["December",4010,6938.57,11170.01,7886.25,12925,5448,10692,12230,11016,19208,12162,4747,4656,4027,3739,5861,5616,6481,8539,6292,4146.4399999999996]
["Total",{"$f":"SUM(B20:B31)","v":65064.08},{"$f":"SUM(C20:C31)","v":90022.59},107128.18000000001,93489.510000000009,82385.600000000006,110942,101106,106746,{"$f":"SUM(J20:J31)","v":123339},144269,169132,66962,40940,67485,42622,{"$f":"SUM(Q20:Q31)","v":68090},{"$f":"SUM(R20:R31)","v":68393},69429,87913,90470,76827.650000000009]
["New Ulm Refunds"]
["Month",2004,2005,2006,2007,2008,2009,2010,2011,2012,2013,2014,2015,2016,2017,2018,2019,2020,2021,2022,2023,2024]
["January ","-","-","-","-","-",-90,-12034,-13,-8017,-11336,-2,0,0,0,-2563,0,0,-425,-4447,0,0]
["February","-","-","-","-","-",-1597,0,-9200,-551,-18707,-1879,-2040,-248,0,-19152,-27,-662,-1001,-45,-432,-12680]
["March","-","-","-","-","-",-36840,-8135,-32,-15,0,-3478,-1844,-16991,-11,-2805,-15329,-7112,-84,-288,0,0]
["April","-","-","-","-","-",-183,0,0,-6115,-1828,-303,-258,-307,-2,-778,-3542,198,0,0,-223,0]
["May","-","-","-","-","-",-1,-1,0,0,-951,-678,-2136,-1,0,0,-6575,-139,0,0,-3326,0]
["June","-","-","-","-","-",0,-869,-15519,-27,-12,-4,-12995,-908,-1515,-424,0,-8425,-39,-843,0,0]
["July","-","-","-","-","-",-119,0,-1110,-31,-86,-14,-23,-79601,-368,0,0,-1,-90,-8,0,-10]
["August","-","-","-","-","-",-27530,0,-13781,-331,-446,-131,-3811,0,-18,-9699,0,-21,0,-151,-197,0]
["September","-","-","-","-","-",0,0,-1576,-18474,-2682,0,-38154,-1903,0,0,0,-1070,-9956,0,0,0]
["October","-","-","-","-","-",-173,-3,-4,-6,44,-682,-9,-146,0,0,0,-255,0,0,-27935,-3.4]
["November ","-","-","-","-","-",-14,-15484,-85,-1088,-17312,0,0,0,0,-1215,-293,0,0,0,0,0]
["December","-","-","-","-",-92,-2217,-18,-2697,-53,-459,-19732,-9795,-238,-152,0,0,0,0,0,-46,-37.83]
["Total","-","-","-","-",{"$f":"SUM(F35:F46)","v":-92},-68764,-36544,-44017,-34708,-53775,-26903,-71065,-100343,-2066,-36636,{"$f":"SUM(Q35:Q46)","v":-25766},{"$f":"SUM(R35:R46)","v":-17487},-11595,-5782,-32159,-12731.23]
["*Collections for November 2008 are included in December totals due to a new processing system."]
[{"$f":"'Local SUT'!A71","v":"Source:  Minnesota Department of Revenue, Tax Research Division, November 2025"}]
["end of worksheet"]

{"sheet":"North Mankato","index":36,"n_rows":51,"n_cols":22,"rows_kept":51,"cut":false,"hidden":true,"merged":[[50,0,50,19],[17,0,17,19],[32,0,32,19],[0,0,0,19],[1,0,1,19],[47,0,47,19],[48,0,48,19],[49,0,49,19],[2,0,2,19]]}
["North Mankato Monthly Detail for Minnesota Local Sales & Use Tax"]
[{"$f":"'Local SUT'!A2","v":"CY 2004-2024"}]
["North Mankato Local Sales Tax (0.5%)"]
["Month",2004,2005,2006,2007,2008,2009,2010,2011,2012,2013,2014,2015,2016,2017,2018,2019,2020,2021,2022,2023,2024]
["January ","-","-","-","-","-",35878,35854,37603,36175,42418,53902,54754,51447,55072,54584,62536,59933,67457,72800,81477,87153]
["February","-","-","-","-","-",24870,29379,32093,32756,43111,40770,46026,43836,40751,40984,49635,53466,51784,63384,67905,62373]
["March","-","-","-","-","-",23884,28833,30790,32216,36202,38462,40863,44861,40473,42397,44226,47399,52259,58532,60196,66708]
["April","-","-","-","-","-",27883,32571,32817,42571,40437,43981,49962,48803,46110,48223,49627,49728,66649,74662,83070,78661]
["May","-","-","-","-","-",26917,30977,34757,37342,42947,43385,66448,48027,46070,46005,55997,51623,66819,69317,81352,81141]
["June","-","-","-","-","-",26783,31338,36999,45692,46256,44396,49289,52398,50089,55071,54593,57436,70274,75331,86373,89023]
["July","-","-","-","-","-",24573,30809,30156,37290,38863,45840,41089,49666,51699,51904,62464,60932,68981,77581,88351,76062]
["August","-","-","-","-","-",37306,39264,44871,53755,50411,54140,65136,63183,53198,60237,61298,61660,72526,79805,79168,77608.59]
["September","-","-","-","-","-",30434,39549,47646,46520,45824,49078,53380,53860,48578,54573,56611,55950,77560,79443,82498,83330.86]
["October","-","-","-","-",19,37243,39595,45177,46831,47880,50630,58339,53386,52536,53136,60480,63391,73594,78265,78727,76542.06]
["November ","-","-","-","-","*  ",34407,38291,39529,47470,47218,54491,54359,50991,53543,60575,60518,58674,67764,90011,75440,75819.56]
["December","-","-","-","-",45734,35479,32409,36502,42527,43092,48472,49199,50880,52722,55594,53799,59488,62972,72634,75591,70028.52]
["Total","-","-","-","-",{"$f":"SUM(F5:F16)","v":45753},365657,408869,448940,501145,524659,{"$f":"SUM(L5:L16)","v":567547},628844,611338,590841,623283,671784,{"$f":"SUM(R5:R16)","v":679680},{"$f":"SUM(S5:S16)","v":798639},{"$f":"SUM(T5:T16)","v":891765},{"$f":"SUM(U5:U16)","v":940148},924450.59000000008]
["North Mankato Local Use Tax (0.5%)"]
["Month",2004,2005,2006,2007,2008,2009,2010,2011,2012,2013,2014,2015,2016,2017,2018,2019,2020,2021,2022,2023,2024]
["January ","-","-","-","-","-",2294,2053,3011,11381,12609,4372,4739,2713,3715,2932,3707,3792,3406,3189,2852,6570]
["February","-","-","-","-","-",1554,1481,1801,6353,3858,3682,8153,1490,18599,3035,2083,4579,2471,2500,2649,2445]
["March","-","-","-","-","-",2836,18397,1201,2751,7017,2350,6060,1395,1851,5091,1967,5354,1786,4211,1884,526]
["April","-","-","-","-","-",2337,6573,3670,5447,4559,2181,1759,5445,2752,7865,2016,3339,2313,4342,3985,5509]
["May","-","-","-","-","-",2169,3033,3143,7528,2873,3157,3219,1568,7455,2883,1693,3812,2353,3484,2682,3621]
["June","-","-","-","-","-",2191,2264,2737,3921,3713,10912,1448,939,1647,-919,414,2462,2394,7080,2704,2877]
["July","-","-","-","-","-",4277,3759,1727,869,5568,4904,12502,2481,3372,2750,4058,3380,2769,3818,3898,4786]
["August","-","-","-","-","-",2380,2489,2294,2968,28361,2972,3281,2247,2132,3053,1893,2415,1642,2477,2726,3381.04]
["September","-","-","-","-","-",2154,6049,5118,3007,2419,2793,2684,1703,3189,2373,3119,2488,2511,2997,2712,3666.03]
["October","-","-","-","-",0,2643,2247,3855,5125,7026,5471,27253,1868,1461,2470,2557,2563,2564,3484,2948,2830.7]
["November ","-","-","-","-","*  ",1404,2895,5708,3597,5658,2668,2041,1589,1611,4926,3734,4118,1857,2440,2670,2496.09]
["December","-","-","-","-",3304,1530,2956,5177,14273,6413,4081,2178,1550,2344,1977,1195,1883,1616,3500,3081,4297.8500000000004]
["Total","-","-","-","-",{"$f":"SUM(F20:F31)","v":3304},27769,54196,39442,67220,90074,{"$f":"SUM(L20:L31)","v":49543},75317,24988,50128,38436,28436,{"$f":"SUM(R20:R31)","v":40185},27682,43522,34791,43005.71]
["North Mankato Refunds"]
["Month",2004,2005,2006,2007,2008,2009,2010,2011,2012,2013,2014,2015,2016,2017,2018,2019,2020,2021,2022,2023,2024]
["January ","-","-","-","-","-",0,0,-43,-443,-2825,-11006,-22751,-27154,-74,-3416,0,0,-396,0,0,-2292]
["February","-","-","-","-","-",0,0,-2367,0,-12070,-25296,-5631,0,0,-15019,-5583,0,0,-3565,0,-2847]
["March","-","-","-","-","-",0,-41,-6170,0,-19880,-208,-24118,-3124,-2726,-33409,-45,-74,-131,-1,0,-1139]
["April","-","-","-","-","-",0,0,-1251,-4356,-12660,0,-568,-10162,-1146,-1277,0,-482,0,0,-10064,-1925]
["May","-","-","-","-","-",0,-1199,-7,-80,0,-3928,0,-271,-3148,-304,0,-730,0,0,0,0]
["June","-","-","-","-","-",0,-13,-3265,-3055,-4968,-83,-3964,-1531,0,-1349,0,-141,-594,-571,-185,0]
["July","-","-","-","-","-",-70,0,-62,-420,-1056,-32,-6416,0,0,-7156,-5,-76,0,-136,0,-61]
["August","-","-","-","-","-",0,-126,-2822,0,0,-3120,0,-1225,-22,-1952,0,-1350,0,0,-101,-6047.54]
["September","-","-","-","-","-",0,0,-4,-1257,-15,0,-2394,-1453,-525,0,-1,-699,-3336,0,0,-0.13]
["October","-","-","-","-","-",0,0,-45,-72,-533,0,-36311,0,-3226,0,0,-2185,0,-312,0,-228.96]
["November ","-","-","-","-","-",-1298,-3353,-3438,0,-6283,0,-7111,0,0,0,0,0,0,0,0,-2977.69]
["December","-","-","-","-","-",-10,0,-162,-5044,-161,-3756,-730,0,0,0,0,-1988,0,0,0,0]
["Total","-","-","-","-","-",{"$f":"SUM(G35:G46)","v":-1378},-4732,-19636,-14727,-60451,-47429,-109994,-44920,-10867,-63882,{"$f":"SUM(Q35:Q46)","v":-5634},{"$f":"SUM(R35:R46)","v":-7725},-4457,-4585,-10350,-17518.32]
["Hidden columns B-E do not contain any data for CY 2004-2007"]
["*Collections for November 2008 are included in December totals due to a new processing system."]
[{"$f":"'Local SUT'!A71","v":"Source:  Minnesota Department of Revenue, Tax Research Division, November 2025"}]
["end of worksheet"]

{"sheet":"Owatonna","index":37,"n_rows":52,"n_cols":22,"rows_kept":52,"cut":false,"hidden":true,"merged":[[50,0,50,19],[51,0,51,19],[32,0,32,19],[47,0,47,19],[48,0,48,19],[0,0,0,19],[1,0,1,19],[2,0,2,19],[17,0,17,19],[49,0,49,19]]}
["Owatonna Monthly Detail for Minnesota Local Sales & Use Tax"]
[{"$f":"'Local SUT'!A2","v":"CY 2004-2024"}]
["Owatonna Local Sales Tax (0.5% from 2007-2011)"]
["Month",2004,2005,2006,2007,2008,2009,2010,2011,2012,2013,2014,2015,2016,2017,2018,2019,2020,2021,2022,2023,2024]
["January ","-","-","-","-",179312.06,188541,178813,187857,4739,2380,786,1853,0,0,0,6,0,0,0,0,0]
["February","-","-","-","-",123058.92,149031,123911,129730,-2818,146,10,9,-3350,0,0,0,0,0,0,0,0]
["March","-","-","-","-",126163.28,128807,117667,124719,-1042,459,7,0,0,0,0,0,0,0,0,0,0]
["April","-","-","-",214,140904.06,136666,133319,147009,432,1,36,-72,0,0,0,0,0,0,0,0,0]
["May","-","-","-",120682,143721.35,139996,136046,153703,1246,3,141,0,0,0,0,0,0,0,0,0,0]
["June","-","-","-",150864,168021.85,290600,146362,157132,4,325,0,0,0,0,0,0,0,0,0,0,0]
["July","-","-","-",165548,156055.82999999999,137955,149756,150621,1038,38,58,0,0,0,0,0,0,0,0,0,0]
["August","-","-","-",150027.82999999999,165207.09,175635,174349,20837,134,536,12189,-1,0,0,0,0,0,0,0,0,0]
["September","-","-","-",147945.78,156574.66,166226,162218,46875,121,1136,71,0,0,0,0,0,0,0,0,0,0]
["October","-","-","-",140609.98000000001,165431.99000000002,168620,163430,6650,582,205,-2535,0,0,0,0,0,0,0,0,0,0]
["November ","-","-","-",142654,"*  ",146007,156273,5484,717,113,0,0,0,0,0,0,0,0,0,0,0]
["December","-","-","-",138713.01,281118,141975,153350,3731,52,273,568,1073,0,-337,-45,0,0,0,0,0,0]
["Total","-","-","-",{"$f":"SUM(E5:E16)","v":1157258.6000000001},1805569.0899999999,1970059,1795494,1134348,5205,5615,11331,2862,-3350,-337,-45,{"$f":"SUM(Q5:Q16)","v":6},{"$f":"SUM(R5:R16)","v":0},0,0,{"$f":"SUM(U5:U16)","v":0},0]
["Owatonna Local Use Tax (0.5% from 2007-2011)"]
["Month",2004,2005,2006,2007,2008,2009,2010,2011,2012,2013,2014,2015,2016,2017,2018,2019,2020,2021,2022,2023,2024]
["January ","-","-","-","-",12289,28323,6991,18529,868,7,0,0,0,0,0,0,0,0,0,0,0]
["February","-","-","-","-",17569.71,15504,6859,6512,1499,32,42,0,0,0,0,0,0,0,0,0,0]
["March","-","-","-","-",17430.060000000001,9784,8210,12071,3,151,-16,0,0,0,0,0,0,0,0,0,0]
["April","-","-","-",0,12460.36,3788,6651,8200,156,0,0,0,0,0,0,0,0,0,0,0,0]
["May","-","-","-",7859,18052,5920,7455,11432,54,0,17,0,0,0,0,0,0,0,0,0,0]
["June","-","-","-",6879,7929.5,6415,5601,8253,0,115,1884,0,0,0,0,0,0,0,0,0,0]
["July","-","-","-",9165,9518.73,9082,7975,10255,25,0,103,1,0,0,0,0,0,0,0,0,0]
["August","-","-","-",11893.37,8408.7000000000007,6960,6937,562,1915,250,0,0,0,0,0,0,0,0,0,0,0]
["September","-","-","-",9645,7544.77,11281,9208,9861,1607,53,0,467,0,0,0,0,0,0,0,0,0]
["October","-","-","-",20672,11590.070000000002,10726,9298,265,44,1234,-5,0,0,0,0,0,0,0,0,0,0]
["November ","-","-","-",10169,"*  ",9246,7247,5503,3799,2,-229,0,0,0,0,0,0,0,0,0,0]
["December","-","-","-",7081,17994,5741,8221,-982,155,0,0,0,0,0,0,0,0,0,0,0,0]
["Total","-","-","-",{"$f":"SUM(E20:E31)","v":83363.37},140786.90000000002,122770,90653,90461,10125,1844,1796,468,{"$f":"SUM(N20:N31)","v":0},{"$f":"SUM(O20:O31)","v":0},{"$f":"SUM(P20:P31)","v":0},{"$f":"SUM(Q20:Q31)","v":0},{"$f":"SUM(R20:R31)","v":0},{"$f":"SUM(S20:S31)","v":0},0,0,0]
["Owatonna Refunds"]
["Month",2004,2005,2006,2007,2008,2009,2010,2011,2012,2013,2014,2015,2016,2017,2018,2019,2020,2021,2022,2023,2024]
["January ","-","-","-","-","-",0,-8887,-35,-1044,-863,-52,0,0,0,0,0,0,0,0,0,0]
["February","-","-","-","-","-",-20628,-11151,-17448,-9505,0,0,0,0,0,0,0,0,0,0,0,0]
["March","-","-","-","-","-",-32579,-103,-7441,0,-110,-314,0,0,0,0,0,0,0,0,0,0]
["April","-","-","-","-","-",-4353,-4293,-2624,-624,-465,0,-3739,0,0,0,0,0,0,0,0,0]
["May","-","-","-","-","-",-16349,-1412,-11045,-2014,0,0,0,0,0,0,0,0,0,0,0,0]
["June","-","-","-","-","-",-2391,-465,0,0,-7881,-60,0,0,0,0,0,0,0,0,0,0]
["July","-","-","-","-","-",-5,-73,-19835,-566,-240,0,0,0,0,0,0,0,0,0,0,0]
["August","-","-","-","-","-",-6461,-2784,-203,-935,0,-14,0,0,0,0,0,0,0,0,0,0]
["September","-","-","-","-","-",-14748,-831,-6083,0,0,-229,0,0,0,0,0,0,0,0,0,0]
["October","-","-","-","-","-",-19439,-6335,-16486,-4506,-141,0,0,0,0,0,0,0,0,0,0,0]
["November ","-","-","-","-","-",-4694,-13545,-2724,-21360,-566,0,0,0,0,0,0,0,0,0,0,0]
["December","-","-","-","-",-19,-2309,0,-8530,-2587,-9370,0,0,0,0,0,0,0,0,0,0,0]
["Total","-","-","-","-",{"$f":"SUM(F35:F46)","v":-19},-123956,-49879,-92454,-43141,-19636,-669,-3739,{"$f":"SUM(N35:N46)","v":0},{"$f":"SUM(O35:O46)","v":0},{"$f":"SUM(P35:P46)","v":0},{"$f":"SUM(Q35:Q46)","v":0},{"$f":"SUM(R35:R46)","v":0},{"$f":"SUM(S35:S46)","v":0},0,0,0]
["Hidden columns B-D do not contain any data for CY 2004-2006"]
["*Collections for November 2008 are included in December totals due to a new processing system."]
["Note: Local Sales & Use Tax ended June 30, 2011. Collections in later months are late tax payments or refunds."]
[{"$f":"'Local SUT'!A71","v":"Source:  Minnesota Department of Revenue, Tax Research Division, November 2025"}]
["end of worksheet"]

{"sheet":"Proctor","index":38,"n_rows":50,"n_cols":22,"rows_kept":50,"cut":false,"hidden":true,"merged":[[49,0,49,19],[0,0,0,19],[1,0,1,19],[2,0,2,19],[17,0,17,19],[32,0,32,19],[47,0,47,19],[48,0,48,19]]}
["Proctor Monthly Detail for Minnesota Local Sales & Use Tax"]
[{"$f":"'Local SUT'!A2","v":"CY 2004-2024"}]
["Proctor Local Sales Tax (0.5% enabled 2000; 1.0% since 10/1/17)"]
["Month",2004,2005,2006,2007,2008,2009,2010,2011,2012,2013,2014,2015,2016,2017,2018,2019,2020,2021,2022,2023,2024]
["January ",8506.85,9701,8915.98,10406,9119,9804,10655,9269,9969,12546,10584,11490,11067,14049,31922,27405,27372,26054,28615,30607,34499]
["February",7178.96,8454,7920,8321,9051,14562,7882,8218,2454,9225,9229,10343,11021,10537,22517,22508,24926,23703,24405,26714,26142]
["March",6889.97,7537.15,7673,7490,6825,8677,7325,8384,7170,9306,8325,10654,10849,11208,19884,21791,22699,23009,24536,24785,25857]
["April",8950,8093,7796,8457.2900000000009,8208,8417,8445,8880,8568,10072,9561,12041,11801,12687,22083,23687,27327,29225,28264,47761,27297]
["May",7562,7595,7350,7336.17,8213,8660,8779,8217,7306,9395,8568,10523,10510,13905,21282,22493,19644,28418,26917,27432,29625]
["June",8219,8539,8150,9579,10564.34,9790,9927,9905,11146,35562,10344,14789,12360,18547,26481,31394,23481,30483,29888,32872,34743]
["July",9650.7199999999993,8774,9334,8751,7248,11498,17369,10689,10190,10739,11751,16267,12788,17366,29382,34161,30321,32482,37783,46072,37486]
["August",12187.85,11833.38,12534,10920.41,13871.23,11724,14196,12521,14830,20983,13132,16700,19325,16227,29403,32841,29952,30703,38210,36009,37132.269999999997]
["September",10884.92,11857,13016,12388.07,12926.44,11438,13801,13122,13822,16586,14125,18706,16973,15054,41760,36463,33052,34429,35962,41476,40087.5]
["October",10755.66,10458,12000,10305,10463.4,11093,11849,12223,13249,13525,11472,14382,13927,18444,35016,31696,33083,35916,34367,38327,39330.22]
["November ",9975,-6209,9751,9273,"*  ",10228,11490,10662,12410,11876,13669,14336,15356,30581,26861,29474,28118,30570,32872,42342,37779.21]
["December",8158,7785,8049.28,8350.7000000000007,17937,8235,9560,10808,9771,10472,10538,12242,12270,21572,24073,23199,25612,27634,31288,33390,32934.980000000003]
["Total",{"$f":"SUM(B5:B16)","v":108918.93000000001},94417.53,112489.26,111577.64,114426.40999999999,124126,131278,122898,120885,170287,131298,162473,158247,200177,330664,{"$f":"SUM(Q5:Q16)","v":337112},{"$f":"SUM(R5:R16)","v":325587},352626,373107,427787,402913.18]
["Proctor Local Use Tax (0.5% enabled 2000; 1.0% since 10/1/17)"]
["Month",2004,2005,2006,2007,2008,2009,2010,2011,2012,2013,2014,2015,2016,2017,2018,2019,2020,2021,2022,2023,2024]
["January ",3084.23,811,3700,1668.15,956,1357,2703,2583,1463,1185,1528,7106,1903,1319,10627,15333,4972,12686,3041,9516,14488]
["February",686,1095,4805,743.88,1404,5199,-3556,1137,734,1133,3082,2176,1996,1217,20298,3233,4843,3628,466,5240,4093]
["March",914.84,1832.65,5000,1740.35,1026,850,1169,1156,1105,1308,1643,4286,1963,2188,1978,5827,5247,3637,-88,4511,3922]
["April",1316,5441.15,4686,1347.78,1838,1080,351,1977,3049,1015,1183,1788,3412,2393,57953,5130,3300,8719,3562,5841,5365]
["May",841,2641,3541.62,2574,812,939,1248,1831,589,7174,4650,7632,3124,2134,16645,9103,31321,4485,8429,3774,5719]
["June",763,2755,1750.62,2659,1511,1092,1586,3295,2510,6731,2813,2484,5126,4261,6680,5939,117,3912,7249,14389,-21979]
["July",1285,510,636,1540.61,1475,2375,1494,3878,10415,2535,829,6303,11209,2755,10293,3168,5335,5383,35738,3420,2319]
["August",1058,4068,4476,2228,1766,1717,1705,2212,6023,2457,17912,4777,14625,2120,4252,7252,6013,9646,16633,20225,3187]
["September",1510,1979,3451,1282,941,3452,1941,3244,4593,9442,6853,4102,6979,6087,12266,3284,9179,7516,31061,13038,6898]
["October",775,2462,2724,2204,2488.6999999999998,3846,6232,3385,6900,6591,3637,2646,6840,3515,5545,3384,8769,-20325,11181,5315,-9298.43]
["November ",643,3474,2898.09,2182,"*  ",2619,2231,1892,2483,2102,2903,4930,3640,2788,6561,2257,13784,5431,2913,5315,7453.07]
["December",883,5083.2299999999996,1157,834,1523,5764,2559,1618,1614,1870,5270,2318,2625,5400,6030,4914,20890,5219,2810,7349,6620.24]
["Total",{"$f":"SUM(B20:B31)","v":13759.07},32152.03,38825.33,21003.77,15740.7,30290,19663,28208,41478,43543,52303,50548,63442,36177,159128,{"$f":"SUM(Q20:Q31)","v":68824},{"$f":"SUM(R20:R31)","v":113770},49937,122995,97933,28786.879999999997]
["Proctor Refunds"]
["Month",2004,2005,2006,2007,2008,2009,2010,2011,2012,2013,2014,2015,2016,2017,2018,2019,2020,2021,2022,2023,2024]
["January ","-","-","-","-","-",0,0,0,0,0,0,0,0,0,0,0,-283,0,0,0,0]
["February","-","-","-","-","-",0,0,0,-4,0,0,-43,0,-9,0,0,0,0,0,0,0]
["March","-","-","-","-","-",-4702,0,-24,-1,0,0,0,-31,0,0,-38,0,0,-18,0,0]
["April","-","-","-","-","-",0,-48,0,-6,0,0,0,-42,0,0,0,-485,-133,0,-20,0]
["May","-","-","-","-","-",0,-128,0,0,0,-33,0,0,0,0,0,0,0,0,0,0]
["June","-","-","-","-","-",0,0,0,0,-16155,0,0,0,0,0,-120,0,0,0,0,0]
["July","-","-","-","-","-",-1031,0,-188,0,0,0,0,0,0,0,0,0,0,0,0,-6.36]
["August","-","-","-","-","-",0,-1008,0,0,-32,0,0,0,0,0,0,-485,0,0,-10,-57.34]
["September","-","-","-","-","-",0,0,0,0,0,-11,0,0,-1,0,-283,0,0,0,0,0]
["October","-","-","-","-","-",0,0,0,0,0,-421,0,0,0,0,0,0,0,0,0,0]
["November ","-","-","-","-","-",0,-1094,0,0,0,0,0,0,0,0,0,0,0,0,0,0]
["December","-","-","-","-","-",0,0,0,0,0,0,0,0,0,0,0,0,0,0,0,0]
["Total","-","-","-","-","-",{"$f":"SUM(G35:G46)","v":-5733},-2278,-212,-11,-16187,-465,-43,-73,-10,0,{"$f":"SUM(Q35:Q46)","v":-441},{"$f":"SUM(R35:R46)","v":-1253},-133,-18,-30,-63.7]
["*Collections for November 2008 are included in December totals due to a new processing system."]
[{"$f":"'Local SUT'!A71","v":"Source:  Minnesota Department of Revenue, Tax Research Division, November 2025"}]
["end of worksheet"]

{"sheet":"Rochester","index":39,"n_rows":50,"n_cols":22,"rows_kept":50,"cut":false,"hidden":true,"merged":[[49,0,49,19],[0,0,0,19],[1,0,1,19],[2,0,2,19],[17,0,17,19],[32,0,32,19],[47,0,47,19],[48,0,48,19]]}
["Rochester Monthly Detail for Minnesota Local Sales & Use Tax"]
[{"$f":"'Local SUT'!A2","v":"CY 2004-2024"}]
["Rochester Local Sales Tax (0.5% enabled 1993; 0.75% since 1/1/16)"]
["Month",2004,2005,2006,2007,2008,2009,2010,2011,2012,2013,2014,2015,2016,2017,2018,2019,2020,2021,2022,2023,2024]
["January ",775903.69,823283.89,813109.86,835614.07,853929.23,937589,822467,819149,879824,924880,926954,974084,1042149,1581797,1549456,1618752,1725552,1666457,1786133,1950764,2046777]
["February",579006.47,553115.36,588331.94999999995,630078.56000000006,689567.11,720599,577256,659209,632150,679850,701807,741965,1172763,1162979,1213218,1267989,1442892,1322106,1533043,1549431,1512549]
["March",513972.55,528953.35,548558.63,598668.78,609264.30000000005,660370,571831,611353,675085,637679,650241,724423,1122661,1078011,1149973,1158721,1251818,1287844,1450883,1532523,1593214]
["April",644991.84,619722.28,652202.9,729713.34,716350.91,681669,710281,687703,761975,747238,790744,836037,1343578,1329348,1366183,1437190,1319865,1630004,1893905,1956177,1800088]
["May",621929.53,650964.32999999996,628528.23,675065.65,682824.69,666392,669320,731865,719978,778592,756508,845171,1277355,1265679,1308265,1447269,1125718,1559955,1603420,1751010,1753009]
["June",640598.61,691621.5,690037.68,752727.93,745058.43,694113,720427,723202,745680,823596,822041,884052,1338896,1387327,1499538,1656036,1336026,1635359,2074931,1923693,1929594]
["July",498817.05,500691.7,563990.16,655332.62,646845.89,596080,644714,680367,739725,690189,770883,831233,1186258,1264962,1271855,1436042,1351442,1691994,1794828,2028678,1961568]
["August",840699.82,861969.85,874349.2,880234.27,888551.7,902180,841730,791490,923472,953242,978568,1064524,1603521,1641344,1766162,1630893,1701074,1869371,1814971,1815688,1854088.9]
["September",662747.15,664042.14,742426.07,742938.1,750839.08,677821,713295,747478,799936,832127,876175,903964,1385387,1451085,1567296,1476420,1483141,1619412,1853342,1920490,1879801.52]
["October",719592.31,675715.72,727055.91,737353.71,760792.73,925967,729585,745903,822308,841565,896258,932746,1388532,1471469,1466180,1522285,1501031,1696080,1816121,1873441,1827162.56]
["November ",639096.91,634752.52,690235.79,720871.29,"*  ",672755,701680,716645,763221,791495,873077,905165,1378170,1348650,1499171,1536743,1397710,1598164,1747558,1951787,1790106.67]
["December",623896.01,606721.84,793137.95,741752.58,1260386,678585,724323,763283,755260,775392,898765,862923,1327435,1360424,1508748,1490051,1494345,1608270,2041846,1822882,1841505.54]
["Total",{"$f":"SUM(B5:B16)","v":7761251.9400000013},7811554.4799999986,8311964.330000001,8700350.9000000004,8604410.0700000003,8814120,8426909,8677647,9218614,9475845,9942021,10506287,15566705,16343075,17166045,{"$f":"SUM(Q5:Q16)","v":17678391},{"$f":"SUM(R5:R16)","v":17130614},19185016,21410981,{"$f":"SUM(U5:U16)","v":22076564},21789464.189999998]
["Rochester Local Use Tax (0.5% enabled 1993; 0.75% since 1/1/16)"]
["Month",2004,2005,2006,2007,2008,2009,2010,2011,2012,2013,2014,2015,2016,2017,2018,2019,2020,2021,2022,2023,2024]
["January ",77789.89,76638.95,62474.75,74754.09,117213.44,82904,68413,91222,182866,106439,113957,109527,155886,192432,151818,156944,143327,249183,151413,204933,165586]
["February",70984.53,41518.410000000003,86963.07,117356.3,81857.81,63279,73466,40561,62067,-56707,95231,82630,100035,107721,149603,158016,185406,201520,180492,132642,165656]
["March",59269.83,56917.07,52282.99,59169.02,59807.15,49240,70839,68846,55521,82020,64272,80854,107221,91277,83589,102711,141322,154891,175997,143835,133698]
["April",71477.17,74530.87,70681.02,110096.32000000001,71470.009999999995,73305,77115,73491,126244,82034,81335,83953,134954,147997,136229,128205,115908,104520,149619,211448,164430]
["May",65843.259999999995,47215.08,38883.019999999997,70907.929999999993,55104.85,68673,61077,74490,90951,82637,84901,96844,92995,101347,103172,157548,122509,140830,135352,84934,147560]
["June",58575.31,49080.13,81456.639999999999,97888.16,59851.32,58827,83243,80038,-161364,79702,91784,91555,96436,136623,114350,148999,108400,132697,122540,175736,169111]
["July",43534.01,34388.11,41423.67,125818.98,33535.599999999999,54738,135359,69332,66696,83501,72233,77972,79972,118709,153515,151995,184255,146030,143781,184167,121843]
["August",89060.06,99183.67,124247.87,96543.21,114872.28,67341,72246,123794,67177,167440,153662,117728,150790,117215,124192,171792,168147,109057,163511,150499,160302.1]
["September",58821.97,207500.88,83791.210000000006,82475.56,84113.26,68688,64918,96221,77886,85594,95108,96415,103347,143377,148552,130594,218791,175015,144727,186905,218962.68]
["October",60466.67,89505.78,80561.94,114836.61,78480.78,65542,46556,87310,108502,-223324,95153,170162,122804,145024,110637,141101,196874,160988,175126,166312,127214.12]
["November ",64569.440000000002,72000.740000000005,85341.17,102988.53,"*  ",116694,68442,92309,79422,377253,83834,83998,97993,123895,157613,138002,122555,141749,140805,140934,200695.7]
["December",66505.960000000006,72465.91,135759.70000000001,80444.77,122154,52283,71087,82756,96550,85988,79217,77207,121354,122185,122941,128146,275449,144547,129691,126992,154881.63]
["Total",{"$f":"SUM(B20:B31)","v":786898.10000000009},920945.6,943867.05,1133279.4799999997,878460.5,821514,892761,980370,852518,952577,1110687,1168845,1363787,1547802,1556211,{"$f":"SUM(Q20:Q31)","v":1714053},{"$f":"SUM(R20:R31)","v":1982943},1861027,1813054,1909337,1929940.23]
["Rochester Refunds"]
["Month",2004,2005,2006,2007,2008,2009,2010,2011,2012,2013,2014,2015,2016,2017,2018,2019,2020,2021,2022,2023,2024]
["January ","-","-","-","-","-",-3291,-13651,-1377,-30,-3156,-4023,-27715,-28637,-378,-11126,-7575,-883,0,-21852,-383,-303]
["February","-","-","-","-","-",-16808,-105766,-135735,-1042,-63706,-12162,-368,-1721,-3255,-86479,-3610,-2548,-585,-6609,-535,-720]
["March","-","-","-","-","-",-17100,-53369,-18941,-19145,-116,-492,-5600,-568,-3671,-7538,-1,-90545,-185,-32,-35,-1121]
["April","-","-","-","-","-",-343826,-23365,-8884,-526,-18808,-762,-649,-1455,-70,-2731,-201688,-1344,0,-6363,-53,-2]
["May","-","-","-","-","-",-10549,-3175,-1484,-49566,-1100,-1046,-1881,-56035,-22354,-6918,-22147,-159,0,-2490,-257,0]
["June","-","-","-","-","-",-35792,-17740,-1452,-90310,-15588,-9102,-6782,-35765,-38091,-3388,-8987,-103339,0,-159,-14,-1186]
["July","-","-","-","-","-",-5,-366,-12005,-12585,-3093,-93515,-56461,-15841,-28360,-106,-2133,-2441,-4163,-1060,-1226,-228]
["August","-","-","-","-","-",-19267,-4966,-6584,-18242,-29847,-6269,-5458,-5679,-22542,-3,-455,-38671,31,-452,-2,-659.89]
["September","-","-","-","-","-",-2307,-688,-16942,-7380,-7995,-311,-10630,-5673,-134,0,0,-24470,-38,-1359,-193955,-495.25]
["October","-","-","-","-","-",-8509,-336,-4610,-9303,-245709,-324,-1915,-3,-1284,-27325,-332,-241805,-120137,-68,-176,-1206.7]
["November ","-","-","-","-","-",-5154,-29815,-7909,-19176,-23663,-24648,-32021,-17644,-71,-95,-2526,-102,-464,-85,-160,-980.42]
["December","-","-","-","-",-27,-26928,-306,-4591,-17908,-28768,-48507,-5417,-18079,-10661,-108,-2447,-1231,-1772,-11672,-68,-622561.18999999994]
["Total","-","-","-","-",{"$f":"SUM(F35:F46)","v":-27},-489536,-253543,-220514,-245213,-441549,-201161,-154897,-187100,-130871,-145817,{"$f":"SUM(Q35:Q46)","v":-251901},{"$f":"SUM(R35:R46)","v":-507538},-127313,-52201,-196864,-629463.44999999995]
["*Collections for November 2008 are included in December totals due to a new processing system."]
[{"$f":"'Local SUT'!A71","v":"Source:  Minnesota Department of Revenue, Tax Research Division, November 2025"}]
["end of worksheet"]

{"sheet":"Spicer","index":40,"n_rows":50,"n_cols":22,"rows_kept":50,"cut":false,"hidden":true,"merged":[[0,0,0,19],[49,0,49,19],[32,0,32,19],[47,0,47,19],[48,0,48,19],[1,0,1,19],[2,0,2,19],[17,0,17,19]]}
["Spicer Monthly Detail for Minnesota Local Sales & Use Tax"]
[{"$f":"'Local SUT'!A2","v":"CY 2004-2024"}]
["Spicer Local Sales Tax (0.5%)"]
["Month",2004,2005,2006,2007,2008,2009,2010,2011,2012,2013,2014,2015,2016,2017,2018,2019,2020,2021,2022,2023,2024]
["January ","-","-","-","-","-","-","-","-","-","-","-","-","-","-",13525,13139,12131,15587,18612,18918,17505]
["February","-","-","-","-","-","-","-","-","-","-","-","-","-","-",10783,11429,11328,14430,16394,15987,15608]
["March","-","-","-","-","-","-","-","-","-","-","-","-","-","-",9085,7916,10229,14466,13122,12937,15567]
["April","-","-","-","-","-","-","-","-","-","-","-","-","-","-",12729,9986,13206,16613,17825,15410,15365]
["May","-","-","-","-","-","-","-","-","-","-","-","-","-","-",10488,12778,14628,19351,17420,17305,20361]
["June","-","-","-","-","-","-","-","-","-","-","-","-","-","-",14376,18580,19459,22862,26958,26038,25398]
["July","-","-","-","-","-","-","-","-","-","-","-","-","-","-",17707,17566,19674,23488,30983,32442,26350]
["August","-","-","-","-","-","-","-","-","-","-","-","-","-","-",21134,19546,27231,26470,29779,31859,27923.87]
["September","-","-","-","-","-","-","-","-","-","-","-","-","-","-",17001,15983,20143,21774,25079,28107,24132.05]
["October","-","-","-","-","-","-","-","-","-","-","-","-","-","-",14547,16080,19016,19343,22457,21356,20666.29]
["November ","-","-","-","-","-","-","-","-","-","-","-","-","-",12176,14145,13658,18107,19257,20992,20310,21136.99]
["December","-","-","-","-","-","-","-","-","-","-","-","-","-",11502,12504,12874,13474,15941,16874,18667,16611.22]
["Total","-","-","-","-","-","-","-","-","-","-","-","-","-",{"$f":"SUM(O5:O16)","v":23678},168024,{"$f":"SUM(Q5:Q16)","v":169535},{"$f":"SUM(R5:R16)","v":198626},229582,256495,{"$f":"SUM(U5:U16)","v":259336},246624.41999999998]
["Spicer Local Use Tax (0.5%)"]
["Month",2004,2005,2006,2007,2008,2009,2010,2011,2012,2013,2014,2015,2016,2017,2018,2019,2020,2021,2022,2023,2024]
["January ","-","-","-","-","-","-","-","-","-","-","-","-","-","-",162,295,407,179,355,417,291]
["February","-","-","-","-","-","-","-","-","-","-","-","-","-","-",163,548,254,346,259,435,545]
["March","-","-","-","-","-","-","-","-","-","-","-","-","-","-",473,232,192,350,133,332,125]
["April","-","-","-","-","-","-","-","-","-","-","-","-","-","-",252,181,158,191,978,546,357]
["May","-","-","-","-","-","-","-","-","-","-","-","-","-","-",449,297,165,290,230,154,227]
["June","-","-","-","-","-","-","-","-","-","-","-","-","-","-",1396,316,210,316,334,302,434]
["July","-","-","-","-","-","-","-","-","-","-","-","-","-","-",558,299,725,452,626,543,465]
["August","-","-","-","-","-","-","-","-","-","-","-","-","-","-",343,888,221,1062,418,245,1255.73]
["September","-","-","-","-","-","-","-","-","-","-","-","-","-","-",565,457,182,501,472,280,720]
["October","-","-","-","-","-","-","-","-","-","-","-","-","-","-",399,500,566,904,555,282,488]
["November ","-","-","-","-","-","-","-","-","-","-","-","-","-",985,173,895,302,310,399,531,439]
["December","-","-","-","-","-","-","-","-","-","-","-","-","-",203,231,636,739,259,343,627,439.21]
["Total","-","-","-","-","-","-","-","-","-","-","-","-","-",{"$f":"SUM(O20:O31)","v":1188},5164,{"$f":"SUM(Q20:Q31)","v":5544},{"$f":"SUM(R20:R31)","v":4121},5160,5102,4694,5785.94]
["Spicer Refunds"]
["Month",2004,2005,2006,2007,2008,2009,2010,2011,2012,2013,2014,2015,2016,2017,2018,2019,2020,2021,2022,2023,2024]
["January ","-","-","-","-","-","-","-","-","-","-","-","-","-","-",0,0,0,0,0,0,0]
["February","-","-","-","-","-","-","-","-","-","-","-","-","-","-",0,0,0,0,0,0,0]
["March","-","-","-","-","-","-","-","-","-","-","-","-","-","-",0,0,0,0,0,0,0]
["April","-","-","-","-","-","-","-","-","-","-","-","-","-","-",0,0,0,0,0,0,0]
["May","-","-","-","-","-","-","-","-","-","-","-","-","-","-",0,0,0,0,0,0,0]
["June","-","-","-","-","-","-","-","-","-","-","-","-","-","-",0,0,0,0,0,0,0]
["July","-","-","-","-","-","-","-","-","-","-","-","-","-","-",0,0,0,0,-2,-7,0]
["August","-","-","-","-","-","-","-","-","-","-","-","-","-","-",0,0,0,0,0,0,0]
["September","-","-","-","-","-","-","-","-","-","-","-","-","-","-",0,0,0,0,0,0,0]
["October","-","-","-","-","-","-","-","-","-","-","-","-","-","-",0,0,0,0,0,0,0]
["November ","-","-","-","-","-","-","-","-","-","-","-","-","-",0,0,0,0,0,0,0,0]
["December","-","-","-","-","-","-","-","-","-","-","-","-","-",0,0,0,0,-82,0,0,0]
["Total","-","-","-","-","-","-","-","-","-","-","-","-","-",{"$f":"SUM(O35:O46)","v":0},0,{"$f":"SUM(Q35:Q46)","v":0},{"$f":"SUM(R35:R46)","v":0},-82,-2,-7,0]
["Hidden columns B-N do not contain any data for CY 2004-2016"]
[{"$f":"'Local SUT'!A71","v":"Source:  Minnesota Department of Revenue, Tax Research Division, November 2025"}]
["end of worksheet"]

{"sheet":"St. Cloud Area","index":41,"n_rows":50,"n_cols":22,"rows_kept":50,"cut":false,"hidden":true,"merged":[[49,0,49,19],[32,0,32,19],[47,0,47,19],[48,0,48,19],[0,0,0,19],[1,0,1,19],[2,0,2,19],[17,0,17,19]]}
["St. Cloud Monthly Detail for Minnesota Local Sales & Use Tax"]
[{"$f":"'Local SUT'!A2","v":"CY 2004-2024"}]
["St. Cloud Local Sales Tax (0.5%)"]
["Month",2004,2005,2006,2007,2008,2009,2010,2011,2012,2013,2014,2015,2016,2017,2018,2019,2020,2021,2022,2023,2024]
["January ",603600.85,639683.30000000005,649724.92000000004,846078.51,832601.22,837350,789415,832243,872036,882843,856712,898032,1007753,986658,936366,966208,1017120,1043908,1123123,1202272,1250001]
["February",373612.15,416695.3,526480.16,582430.51,588619.86,698070,542224,574703,584503,653519,677033,675935,710967,709789,728835,767182,783718,840979,966621,929889,956368]
["March",381070.71,398847.07,540110.80000000005,565308.59,579303.91,566831,537245,599372,603463,645214,627434,677269,746488,719425,678113,713677,733281,817762,939200,912162,930555]
["April",442729.42,477768.4,645420.91,656743.29,646335.4,628806,639725,643905,701784,701643,712161,760493,821783,810230,807097,850647,782618,1046108,1206934,1102649,1069941]
["May",410716.79,435222.8,590440.5,626111.97,617160.54,602309,623202,668437,679731,685135,698912,744767,821925,800932,783274,904662,770609,1007719,1031654,1094285,1083070]
["June",427514.93,459267.23,643622.05000000005,664963.68000000005,673089.56,630650,636996,701012,708338,763273,807531,791482,868776,872262,912837,959279,868765,1069997,1285341,1245169,1162819]
["July",374742.79,360424.87,529534.44999999995,610488.68999999994,591468.39,532584,640309,600313,677201,651684,732774,689109,792369,816278,775926,830644,896805,1064673,1139321,1292428,1160457]
["August",534791,577598.15,753504.04,744404.47,743929.02,742900,724512,662427,814335,885310,850168,953692,930727,940694,984302,1000777,1018805,1152062,1120005,1118940,1138191.8]
["September",453387.02,475711.79,687874.18,688720.31,698453.45,597182,636942,777405,739732,782128,759587,803677,872778,869362,897538,936433,917136,1050154,1206606,1203255,1142006.03]
["October",476348.31,494590.24,679554.01,674617.35,689714.44000000006,657106,688894,727532,732657,769911,761116,809672,867758,843484,796013,885398,908791,1063121,1146328,1162714,1076175.8500000001]
["November ",434645.35,465934.4,626130.49,655533.61,"*  ",619821,637415,669874,706994,740744,760262,787235,810453,879127,881309,914387,876009,1029633,1116452,1091240,1147626.53]
["December",475863.76,481636.13,672021.31,759344.88,1092966,607858,640118,667506,695839,725450,784699,769275,806208,793249,888400,874027,900972,1008807,1273329,1095464,1083294.8]
["Total",{"$f":"SUM(B5:B16)","v":5389023.0799999991},5683379.6800000006,7544417.8200000003,8074745.8599999994,7753641.790000001,7721467,7736997,8124729,8516613,8886854,9028389,9360638,10057985,10041490,10070010,{"$f":"SUM(Q5:Q16)","v":10603321},{"$f":"SUM(R5:R16)","v":10474629},12194923,13554914,13450467,13200506.01]
["St. Cloud Local Use Tax (0.5%)"]
["Month",2004,2005,2006,2007,2008,2009,2010,2011,2012,2013,2014,2015,2016,2017,2018,2019,2020,2021,2022,2023,2024]
["January ",39186.92,51810.11,52068.24,46903.9,54229.74,75455,85062,69747,77192,53674,61044,77938,57166,65332,61933,53796,34704,46253,-45112,60076,72369]
["February",38661.440000000002,45401.04,46990.879999999997,40388.11,37148.67,49215,32915,33155,46681,45819,46449,50720,42628,28149,47831,37727,42939,35980,38718,109145,80906]
["March",19708.78,28148.2,37553.339999999997,29347.46,57167.98,28309,28891,50275,26943,41596,46501,66989,36289,32942,43593,40734,141251,40795,51997,34595,-2978]
["April",33452.57,39564.78,81402.899999999994,70330.31,60769.88,38849,30259,45716,54567,45553,51285,63974,44699,32120,52180,50187,32396,51021,122918,66502,104311]
["May",28114.09,47912.21,46508.19,48199.43,70111.520000000004,45042,39453,40575,82788,41375,52205,53953,43841,39071,45544,48870,22055,46062,55429,44667,78123]
["June",36567.379999999997,36781.550000000003,48718.75,44466.86,62270.79,29308,37114,38422,52363,47634,56674,51345,48075,43688,54390,56180,56588,53379,57419,52627,103656]
["July",28773.59,32836.11,42228.34,38488.800000000003,88892.99,32788,48250,39253,44579,58050,43943,63372,45506,48457,41446,48365,41447,43479,62283,71529,95522]
["August",38998.339999999997,52595.8,49530.02,56617.89,70742.850000000006,53078,63426,73592,59160,49644,52661,60840,52277,58868,41557,73803,49854,66142,64192,81860,105142.48]
["September",30493.54,31612.59,44137.31,40107.93,49545.65,35106,54812,54602,47895,47397,54221,33678,40355,55723,55926,68972,135948,38177,64896,56099,95672.41]
["October",36308.35,48280.36,49579.02,105960.52,58867.899999999994,42786,55090,53608,64433,46508,62299,46692,50905,49531,53068,58304,59328,58072,52217,53798,94106.61]
["November ",38343.449999999997,40879.199999999997,39115.57,58411.46,"  *  ",58797,36733,46073,54007,52766,63017,64820,67734,46321,48519,58078,38698,72372,44801,60945,73247.45]
["December",39714.1,25388.560000000001,32338.13,65096.6,71601,40410,33587,44837,48146,57059,68287,39025,46343,44102,83470,127654,27556,50220,54423,79357,197085.4]
["Total",{"$f":"SUM(B20:B31)","v":408322.54999999993},481210.51,570170.69000000006,644319.27,681348.97000000009,529143,545592,589855,658754,587075,658586,673346,575818,544304,629457,{"$f":"SUM(Q20:Q31)","v":722670},{"$f":"SUM(R20:R31)","v":682764},601952,624181,771200,1097163.3499999999]
["St. Cloud Refunds"]
["Month",2004,2005,2006,2007,2008,2009,2010,2011,2012,2013,2014,2015,2016,2017,2018,2019,2020,2021,2022,2023,2024]
["January ","-","-","-","-","-",-9854,-8915,-426,-2195,-746,-4627,-24601,-44156,-7425,-2315,-2124,-6176,-2216,-681,-1624,-241]
["February","-","-","-","-","-",-20578,-9707,-81534,-15895,-33581,-19801,-26650,-24340,-19762,-3703,-1041,-4334,-2934,-116,-2573,-3195]
["March","-","-","-","-","-",-119226,-5225,-15690,-16157,-38177,-21845,-23235,-22457,-590,-21251,-1211,-2714,-26,-234,-2756,-23]
["April","-","-","-","-","-",-5226,-6036,-39750,-25652,-8457,-15870,-8642,-8690,-16613,-28134,-2738,-1490,-1012,-62,-804,-596]
["May","-","-","-","-","-",-10291,-10816,-196,-31426,-3770,-12013,-2290,-13127,-3195,-1549,-1403,-6736,-66,-96,-67,-1361]
["June","-","-","-","-","-",-622,-1902,-5352,-26791,-10508,-1908,-22063,-10471,-5317,-146,-958,-2883,-1118,-1204,-360,-733]
["July","-","-","-","-","-",-7347,-889,-9433,-3048,-10087,-13690,-51161,-485,-746,-8894,-1407,-1455,-256,-500,-7309,-1337]
["August","-","-","-","-","-",-53445,-4161,-6110,-21342,-15047,-21366,-9273,-8486,-319,-227,-381,-4779,-46,-1,-10883,-2758.21]
["September","-","-","-","-","-",-652,0,-12973,-15481,-62395,-33,-2987,-943,-14063,-9,-965,-224,-1045,-196,-377,-31.27]
["October","-","-","-","-","-",-6054,-646,-9245,-13997,-71193,-12630,-8077,-29166,-7919,-182,-1795,-1724,-499,-177,-16016,-26033.78]
["November ","-","-","-","-","-",-10654,-49842,-20004,-5233,-2121,-8664,-19110,-20518,-1229,-1701,-2888,-21,-393,-5058,-1223,-475.78]
["December","-","-","-","-",-35,-29974,-632,-18060,-1595,-7418,-20932,-8054,-1595,-2060,-10,-538,-2432,-3826,-484,-780,-1417.28]
["Total","-","-","-","-",{"$f":"SUM(F35:F46)","v":-35},-273923,-98771,-218773,-178812,-263500,-153379,-206143,-184434,-79238,-68121,{"$f":"SUM(Q35:Q46)","v":-17449},{"$f":"SUM(R35:R46)","v":-34968},-13437,-8809,-44772,-38202.319999999992]
["*Collections for November 2008 are included in December totals due to a new processing system."]
[{"$f":"'Local SUT'!A71","v":"Source:  Minnesota Department of Revenue, Tax Research Division, November 2025"}]
["end of worksheet"]

{"sheet":"St. Paul","index":42,"n_rows":50,"n_cols":22,"rows_kept":50,"cut":false,"hidden":true,"merged":[[0,0,0,19],[1,0,1,19],[2,0,2,19],[17,0,17,19],[49,0,49,19],[32,0,32,19],[47,0,47,19],[48,0,48,19]]}
["St. Paul Monthly Detail for Minnesota Local Sales & Use Tax"]
[{"$f":"'Local SUT'!A2","v":"CY 2004-2024"}]
["St. Paul Local Sales Tax (1.5%) \n(Rate increased to 1.5%, April 2024)"]
["Month",2004,2005,2006,2007,2008,2009,2010,2011,2012,2013,2014,2015,2016,2017,2018,2019,2020,2021,2022,2023,2024]
["January ",1312376.56,1356465.65,1340814.8999999999,{"$f":"1377305.68-27","v":1377278.68},1374414.98,1388167,1368929,1374216,1488910,1366013,1468413,1607734,1558898,1602944,1573855,1618796,1687941,1508062,1886322,1977221,1952783]
["February",983480.2,1177867.95,1067704.17,{"$f":"1129711.57-6","v":1129705.57},{"$f":"1142243.38+96","v":1142339.3799999999},1225212,1114649,1057124,1046353,1200855,1241770,1267419,1392758,1309332,1358359,1382102,1437083,1227434,1729757,1640399,1737299]
["March",963927.76,915264.16,980289.09,{"$f":"1021663.68+24","v":1021687.68},{"$f":"1100351.64+1685","v":1102036.6399999999},1130208,1067802,1134859,1057577,1151555,1137542,1210492,1376792,1307732,1431475,1286915,1360158,1180609,1420130,1609503,1540378]
["April",1110732.3899999999,1103057.6200000001,1158970.6499999999,1275167.55,{"$f":"1187829.37-428","v":1187401.3700000001},1227773,1241784,1219101,1270920,1390082,1350310,1444444,1440900,1575295,1539578,1542300,1349921,1496279,2029003,1928518,1942585]
["May",997742,1038423.46,1039421.45,{"$f":"1113108.94-1","v":1113107.94},{"$f":"1137439.3-2941","v":1134498.3},1047375,1072048,1149764,1088384,1205003,1260981,1311579,1321384,1376014,1215101,1561304,1066863,1393973,1652876,1734683,5069709]
["June",975375.18,1095791.1100000001,1130306.46,{"$f":"1183318.23+4085","v":1187403.23},{"$f":"1161628.52-4","v":1161624.52},1091109,1077570,1234276,1088644,1251218,1304143,1326827,1334614,1390428,1405119,1474151,1150823,1446309,1972678,1783594,5341592]
["July",1000090.29,892511.15,931454.16,{"$f":"1026554.5-598","v":1025956.5},1030033.26,915103,1094634,1079680,1200273,1220258,1251944,1199320,1301560,1376567,1370558,1422243,1302481,1624955,1861638,2054045,5511939]
["August",1250286.71,1429811.1,1377760.23,1376431.45,{"$f":"1407938.16-5570","v":1402368.16},1392569,1274860,1195339,1368627,1479374,1503225,1543570,1604046,1573914,1558482,1800854,1447796,1722585,1781736,1747111,5382684.2400000002]
["September",1063057.28,1062135.07,1175389.78,1183749.5900000001,{"$f":"1144010.2-11","v":1143999.2},1064165,1188472,1345639,1191010,1312396,1311647,1402853,1481448,1573603,1454134,1574210,1317036,1594686,1889080,1934073,5486738.6399999997]
["October",1093259.7,1176298.99,1173723.1399999999,{"$f":"1204154.24+183","v":1204337.24},{"$f":"1296903.5+3195+9852.46+398-357","v":1309991.96},1361192,1277186,1233211,1202274,1381553,1253702,1457247,1447198,1498818,1515806,1639573,1404868,1740135,1866301,2008561,5541289.4000000004]
["November ",1034784.81,1138431.76,1165857.1399999999,1197971.81,"*",1130780,1147169,1361358,1395399,1378419,1373448,1419446,1488561,1386620,1635312,1666725,1542672,1600163,1822116,1849644,5590483.5499999998]
["December",993452.96,1050766.31,1113168.3700000001,{"$f":"1131496.45+66","v":1131562.45},2095423,1064390,1106381,1111783,1123528,1340969,1199320,1435608,1325433,1521852,1575402,1459848,1357694,1599837,1960185,1862549,5326529.68]
["Total",{"$f":"SUM(B5:B16)","v":12778565.84},13436824.330000002,13654859.539999999,14224359.689999999,14084130.77,14038043,14031484,14496350,14521899,15677695,15656445,16626539,17073592,17493119,17633181,{"$f":"SUM(Q5:Q16)","v":18429021},{"$f":"SUM(R5:R16)","v":16425336},{"$f":"SUM(S5:S16)","v":18135027},21871822,{"$f":"SUM(U5:U16)","v":22129901},{"$f":"SUM(V5:V16)","v":50424010.509999998}]
["St. Paul Local Use Tax (0.5%)"]
["Month",2004,2005,2006,2007,2008,2009,2010,2011,2012,2013,2014,2015,2016,2017,2018,2019,2020,2021,2022,2023,2024]
["January ",81784,154380.82,225259.28,192454.68,92062.62,198581,665548,146277,152910,213208,174049,255741,187288,141296,154691,192333,155553,746177,143230,171537,224233]
["February",119037,136050.49,114288.75,163053.07999999999,{"$f":"65245.49-128","v":65117.49},175901,118546,116552,159234,166669,783075,164283,194751,88693,166418,177969,168163,78899,253116,176162,160445]
["March",226635.92,85248.94,101592.36,66245.16,60501.91,143339,114570,140276,140471,107411,143663,129748,128299,144440,144246,137863,146409,84709,109742,118369,106556]
["April",113324.23,111813.35,108819.27,554756.87,{"$f":"72188.68+428","v":72616.679999999993},150917,108087,176772,288715,110632,111851,136169,292247,66580,131983,132426,156359,149425,184575,155351,142561]
["May",87583.06,120276.3,79516.710000000006,74652.86,471543.71,168547,118352,155655,181516,149559,91665,137530,149449,201378,132694,160836,129697,-284488,179766,108022,229867]
["June",94141.91,101936.52,161320,{"$f":"-179665.49+45","v":-179620.49},40486.83,102012,95005,118404,163448,163741,161755,128923,65267,164001,144673,174614,217190,121238,461368,183718,478407]
["July",189210.26,147543.29999999999,279437.25,241274.02,136018.88,174388,191647,185501,146654,194565,202429,149496,188536,152107,163547,157480,155876,157177,101283,250623,437822]
["August",127704.82,167217.25,196380.29,180514.32,212702.01,214397,72735,108234,131308,140407,150740,212596,193002,213155,194715,-194758,65442,295409,150055,129681,375577.52]
["September",113875.57,142492.85999999999,133291.35999999999,199926.22,141049.34,126503,115635,300156,147637,124308,197299,164799,159324,192866,146423,127649,120510,80017,228582,171623,573690.31000000006]
["October",115577.18,133108.89000000001,148263.92000000001,{"$f":"157102.81+140","v":157242.81},{"$f":"121010.53-180+3216.76","v":124047.29},150746,127292,106026,126913,165701,185744,174114,152866,201089,175938,197794,134245,166386,167600,207086,500447.77]
["November ",122877,112899.73,119641.87,216801.44,"*",116778,133025,144971,151062,153626,153804,132280,130580,156747,189412,163251,390023,113173,145445,173682,651389.16]
["December",93205.71,84947.9,129798.55,80011.58,170601,82844,131393,187889,143006,134794,97502,145785,141403,118401,147535,135629,134536,129116,164350,141656,462078.2]
["Total",{"$f":"SUM(B20:B31)","v":1484956.66},1497916.35,1797609.61,1947312.5500000003,1586747.76,1804953,1991835,1886713,1932874,1824621,2453576,1931464,1983012,1840753,1892275,{"$f":"SUM(Q20:Q31)","v":1563086},{"$f":"SUM(R20:R31)","v":1974003},{"$f":"SUM(S20:S31)","v":1837238},2289112,{"$f":"SUM(U20:U31)","v":1987510},{"$f":"SUM(V20:V31)","v":4343073.96}]
["St. Paul Refunds"]
["Month",2004,2005,2006,2007,2008,2009,2010,2011,2012,2013,2014,2015,2016,2017,2018,2019,2020,2021,2022,2023,2024]
["January ","-","-","-","-","-",-7582,-415368,-260,-23589,-12985,-30202,-2180,-27582,-4874,-1393,-2154,-5295,-12555,-8337,-1992,-61379]
["February","-","-","-","-","-",-6703,-27927,-138532,-24327,-8401,-26528,-94837,-10681,-13379,-76082,-397,-290811,-52254,-579,-14,-1268]
["March","-","-","-","-","-",-19191,-20483,-33887,-31132,-26298,-9126,-43957,-11372,-33049,-69330,-13036,-12738,-9529,-643,-54286,-18101]
["April","-","-","-","-","-",-15354,-26655,-14699,-9393,-13998,-124020,-3931,-29808,-12302,-15495,-106944,-24662,-5135,-38587,-21573,-17274]
["May","-","-","-","-","-",-35140,-5986,-1582,-5104,-31251,-8457,-2534,-3740,-6586,-7413,-1914,-103726,-1300,-3229,-679,-1295]
["June","-","-","-","-","-",-56535,-2740,-30116,-13890,-27405,-34669,-29790,-46324,-70415,-14861,-1159,-16461,-112370,-9045,-15376,-14156]
["July","-","-","-","-","-",-12068,-9688,-164072,-4907,-69210,-28084,-60738,-9960,-14079,-1564,-8169,-21937,-3313,-26435,-5085,-7251]
["August","-","-","-","-","-",-26996,-5548,-16407,-10328,-13071,-32408,-41641,-3655,-25123,-322713,-2761,-30206,-1538,-1091,-2378,-4418.3500000000004]
["September","-","-","-","-","-",-4175,-174017,-2646,-48281,-7399,-3502,-44290,-1727,-39374,-22729,-8363,-5511,-1246,-15339,-16786,-63783.77]
["October","-","-","-","-","-",-3692,-476,-26590,-66237,-32586,-37696,-9805,-20010,-19787,-15519,-197515,-2782,-16331,-7178,-8334,-6411.09]
["November ","-","-","-","-","-",-8079,-59520,-107760,-30402,-19726,-11478,-2183,-14551,-3566,-18484,-1663,-71770,-52613,-6143,-176,-46040.33]
["December","-","-","-","-",-24509,-3872,-874,-26975,-49123,-8240,-238148,-15315,-972,-3207,-22291,-11247,-16882,-3534,-26706,-217,-16624.87]
["Total","-","-","-","-",{"$f":"SUM(F35:F46)","v":-24509},-199387,-749282,-563526,-316713,-270570,-584318,-351201,-180382,-245741,-587874,{"$f":"SUM(Q35:Q46)","v":-355322},{"$f":"SUM(R35:R46)","v":-602781},{"$f":"SUM(S35:S46)","v":-271718},-143312,{"$f":"SUM(U35:U46)","v":-126896},{"$f":"SUM(V35:V46)","v":-258002.40999999997}]
["*Collections for November 2008 are included in December totals due to a new processing system."]
[{"$f":"'Local SUT'!A71","v":"Source:  Minnesota Department of Revenue, Tax Research Division, November 2025"}]
["end of worksheet"]

{"sheet":"Two Harbors","index":43,"n_rows":50,"n_cols":22,"rows_kept":50,"cut":false,"hidden":true,"merged":[[49,0,49,19],[32,0,32,19],[47,0,47,19],[48,0,48,19],[0,0,0,19],[1,0,1,19],[2,0,2,19],[17,0,17,19]]}
["Two Harbors Monthly Detail for Minnesota Local Sales & Use Tax"]
[{"$f":"'Local SUT'!A2","v":"CY 2004-2024"}]
["Two Harbors Local Sales Tax (0.5%)"]
["Month",2004,2005,2006,2007,2008,2009,2010,2011,2012,2013,2014,2015,2016,2017,2018,2019,2020,2021,2022,2023,2024]
["January ",15296.7,20529,19904.34,18855.29,19663,19162,17277,19351,17180,20573,20036,20769,23710,23943,28270,26833,60255,75093,68967,95472,104314]
["February",14763.54,13191,16645.25,15605,15187.4,16470,13714,15466,13833,15152,17337,18415,20794,19084,20028,24796,43220,47170,51634,62726,64349]
["March",12689,14291.79,13563.05,15366.58,15884.01,15163,14803,16467,14724,14835,15157,16167,17287,18109,17413,19205,39553,45609,52635,80537,58162]
["April",14200,16475,16171.26,17715,16523.45,16917,16589,16826,18963,16904,17108,18702,20528,21455,22037,22633,43162,56438,61127,59093,68541]
["May",14556,15852.15,15362.16,15668.18,15414.1,12719,14201,14683,16757,15316,16441,17996,19141,18358,18059,23242,43737,57775,51138,52636,57821]
["June",15083,16893,18164.919999999998,19671.09,30238,15845,16103,18625,18754,23609,22212,20876,22715,21999,24516,26329,46145,66908,70360,75033,78000]
["July",16380.57,18594,15407,20638.650000000001,17099,20967,54645,20036,17859,21495,23134,24775,28898,26447,24227,30915,62653,74000,85540,92481,91053]
["August",24282,24727.81,29521,22010.68,26691.56,22144,28051,72685,45429,31128,37451,33858,32734,28694,35973,35577,72438,87129,89714,101681,97310.56]
["September",17691,19941.7,21123.38,24375.1,24691.42,21094,24540,23342,26852,26138,29826,26432,30899,29576,31727,32241,74639,78505,101861,100438,94191.84]
["October",20591.919999999998,20861,21585,21124.11,18949.43,21027,22036,28449,22464,22670,26490,29011,31646,26232,28961,29241,68315,75844,89791,94474,84973.73]
["November ",16299,16117,16931,18023,"*  ",18346,19450,17974,18760,20435,23006,26221,24669,23270,29424,53915,69684,68588,78520,78879,85788.02]
["December",14568.5,16713,14999,19563.96,36799,13742,15129,13729,16052,16828,12614,20598,19994,20914,26124,41189,49914,57168,66005,63408,60152.56]
["Total",{"$f":"SUM(B5:B16)","v":196401.22999999998},{"$f":"SUM(C5:C16)","v":214186.45},219377.36,228616.63999999998,237140.37,213596,256538,277633,{"$f":"SUM(J5:J16)","v":247627},245083,260812,273820,293015,278081,306759,{"$f":"SUM(Q5:Q16)","v":366116},{"$f":"SUM(R5:R16)","v":673715},{"$f":"SUM(S5:S16)","v":790227},867292,{"$f":"SUM(U5:U16)","v":956858},{"$f":"SUM(V5:V16)","v":944656.71}]
["Two Harbors Local Use Tax (0.5%)"]
["Month",2004,2005,2006,2007,2008,2009,2010,2011,2012,2013,2014,2015,2016,2017,2018,2019,2020,2021,2022,2023,2024]
["January ",649.39,1064,5969,7872,1923,2497,5356,4301,3277,4313,2240,4851,2474,3178,4894,4748,9841,6900,22911,13258,5336]
["February",866.73,1156,4399,4423,642,1145,-13588,3204,1736,1838,3635,1322,1554,-18,2306,2599,4275,4225,2228,9397,10544]
["March",541,565,3253,3768,1628,1534,2882,1655,5285,3265,2462,2666,1478,3131,2718,1350,4707,5764,4796,5977,14138]
["April",818,3008,4097.26,3051,1465.1,2693,1800,2388,3529,2002,5283,2354,4826,3949,2562,3552,9001,5024,6419,4551,15939]
["May",472,2390,2862.75,1722,2439,1783,1616,5188,2052,2426,2293,1621,5994,-295,2697,2515,5577,7455,4188,13368,7464]
["June",704,3638,2040.49,3175,1342,962,1451,2109,5026,1648,2684,1832,1650,4243,3005,2225,1049,5459,3789,9752,9843]
["July",2102.0100000000002,639,316,623.69000000000005,199,517,1257,2128,1859,1705,13040,1683,1736,2459,2818,2818,5754,6701,6611,5188,3534]
["August",667,2591,2861,3002.35,1264,1108,938,926,1952,1076,1234,3120,11596,1496,2739,1592,5955,7427,6723,6807,7909]
["September",10,3065.51,4361,2528.84,862,805,1116,3217,3567,1891,1561,2020,1346,1940,899,3113,3307,852,7980,13491,6260.03]
["October",920.13,2219,4368,4692,1140,1182,1475,1918,1155,1225,2595,1784,1183,-11405,917,3632,5751,-197,6171,9523,3551.84]
["November ",-61,2309,5404.74,4954.51,1139.42,380,3753,1183,3022,2844,1113,3347,3936,1956,3473,4725,5282,7063,5741,6870,19230]
["December",498,3303,5798,2338.33,3555,1200,951,5587,4566,1618,1964,1322,2672,4214,3387,2695,6084,3469,26093,14038,16593.439999999999]
["Total",{"$f":"SUM(B20:B31)","v":8187.26},{"$f":"SUM(C20:C31)","v":25947.510000000002},45730.239999999998,42150.720000000001,17598.52,15806,9007,33804,{"$f":"SUM(J20:J31)","v":37026},25851,40104,27922,40445,14848,32415,{"$f":"SUM(Q20:Q31)","v":35564},{"$f":"SUM(R20:R31)","v":66583},{"$f":"SUM(S20:S31)","v":60142},103650,{"$f":"SUM(U20:U31)","v":112220},{"$f":"SUM(V20:V31)","v":120342.31}]
["Two Harbors Refunds"]
["Month",2004,2005,2006,2007,2008,2009,2010,2011,2012,2013,2014,2015,2016,2017,2018,2019,2020,2021,2022,2023,2024]
["January ","-","-","-","-","-",0,0,-11,0,0,-17,0,0,0,0,0,0,0,0,0,0]
["February","-","-","-","-","-",-90,-59,0,0,0,0,-57,-62,0,0,0,0,0,0,0,0]
["March","-","-","-","-","-",-4,-71,0,-30,0,0,-1405,0,0,0,0,-2822,0,0,0,0]
["April","-","-","-","-","-",0,0,0,0,-25,0,-26,-176,0,0,0,0,0,0,-1,0]
["May","-","-","-","-","-",0,0,0,0,-12,0,0,0,0,0,0,0,0,0,0,0]
["June","-","-","-","-","-",0,0,0,0,0,0,0,0,0,0,0,-9,0,0,0,0]
["July","-","-","-","-","-",-8,0,-430,0,0,-13063,0,0,-5197,0,0,-2813,0,0,0,-236]
["August","-","-","-","-","-",0,0,0,0,0,0,0,0,-87,0,0,0,0,0,0,0]
["September","-","-","-","-","-",0,0,0,0,-3248,-200,-5,0,0,0,0,0,0,0,-39,0]
["October","-","-","-","-","-",0,0,0,0,0,0,0,0,-26,0,0,0,0,0,-15,0]
["November ","-","-","-","-","-",0,0,-166,0,0,0,-16,0,0,0,0,0,0,0,0,0]
["December","-","-","-","-","-",0,0,-2799,0,0,-1149,0,0,0,0,0,-870,-546,0,0,0]
["Total","-","-","-","-","-",{"$f":"SUM(G35:G46)","v":-102},-130,-3406,{"$f":"SUM(J35:J46)","v":-30},-3285,-14429,-1509,-238,-5310,0,{"$f":"SUM(Q35:Q46)","v":0},{"$f":"SUM(R35:R46)","v":-6514},{"$f":"SUM(S35:S46)","v":-546},0,{"$f":"SUM(U35:U46)","v":-55},{"$f":"SUM(V35:V46)","v":-236}]
["*Collections for November 2008 are included in December totals due to a new processing system."]
[{"$f":"'Local SUT'!A71","v":"Source:  Minnesota Department of Revenue, Tax Research Division, November 2025"}]
["end of worksheet"]

{"sheet":"Walker","index":44,"n_rows":50,"n_cols":22,"rows_kept":50,"cut":false,"hidden":true,"merged":[[0,0,0,19],[49,0,49,19],[47,0,47,19],[48,0,48,21],[1,0,1,19],[2,0,2,19],[17,0,17,19],[32,0,32,19]]}
["Walker Monthly Detail for Minnesota Local Sales & Use Tax"]
[{"$f":"'Local SUT'!A2","v":"CY 2004-2024"}]
["Walker Local Sales Tax (1.5%)"]
["Month",2004,2005,2006,2007,2008,2009,2010,2011,2012,2013,2014,2015,2016,2017,2018,2019,2020,2021,2022,2023,2024]
["January ","-","-","-","-","-","-","-","-","-","-","-","-","-","-",0,55523,52729,66952,73308,70229,77932]
["February","-","-","-","-","-","-","-","-","-","-","-","-","-","-",36932,43418,41676,66924,58275,58508,71751]
["March","-","-","-","-","-","-","-","-","-","-","-","-","-","-",46313,49461,45983,56403,54873,59405,49394]
["April","-","-","-","-","-","-","-","-","-","-","-","-","-","-",46167,45057,43621,68334,58309,52766,57688]
["May","-","-","-","-","-","-","-","-","-","-","-","-","-","-",41348,44889,36263,66130,74565,73696,64062]
["June","-","-","-","-","-","-","-","-","-","-","-","-","-","-",59534,65733,64688,88678,87540,64072,71814]
["July","-","-","-","-","-","-","-","-","-","-","-","-","-","-",80479,84625,97903,108603,111578,122473,118965]
["August","-","-","-","-","-","-","-","-","-","-","-","-","-","-",106206,101949,114908,132942,125247,104859,105545.04]
["September","-","-","-","-","-","-","-","-","-","-","-","-","-","-",96206,96975,107854,130732,120463,93466,135788.72]
["October","-","-","-","-","-","-","-","-","-","-","-","-","-","-",67186,71340,86304,96713,99589,76148,99774.21]
["November ","-","-","-","-","-","-","-","-","-","-","-","-","-","-",52369,56243,70014,74933,72055,82835,82092.52]
["December","-","-","-","-","-","-","-","-","-","-","-","-","-","-",48435,44530,53317,59808,59978,65117,45875.56]
["Total","-","-","-","-","-","-","-","-","-","-","-","-","-","-",{"$f":"SUM(P5:P16)","v":681175},{"$f":"SUM(Q5:Q16)","v":759743},{"$f":"SUM(R5:R16)","v":815260},{"$f":"SUM(S5:S16)","v":1017152},995780,{"$f":"SUM(U5:U16)","v":923574},{"$f":"SUM(V5:V16)","v":980682.05}]
["Walker Local Use Tax (1.5%)"]
["Month",2004,2005,2006,2007,2008,2009,2010,2011,2012,2013,2014,2015,2016,2017,2018,2019,2020,2021,2022,2023,2024]
["January ","-","-","-","-","-","-","-","-","-","-","-","-","-","-",0,541,1272,1075,976,2483,2140]
["February","-","-","-","-","-","-","-","-","-","-","-","-","-","-",407,1429,570,584,2082,1752,714]
["March","-","-","-","-","-","-","-","-","-","-","-","-","-","-",492,292,1277,834,951,486,3492]
["April","-","-","-","-","-","-","-","-","-","-","-","-","-","-",1248,1140,599,585,754,890,1339]
["May","-","-","-","-","-","-","-","-","-","-","-","-","-","-",296,464,210,532,255,548,2174]
["June","-","-","-","-","-","-","-","-","-","-","-","-","-","-",577,671,417,1474,217,1209,674]
["July","-","-","-","-","-","-","-","-","-","-","-","-","-","-",730,3095,476,1129,859,1366,2461]
["August","-","-","-","-","-","-","-","-","-","-","-","-","-","-",431,722,1110,3222,817,503,1654]
["September","-","-","-","-","-","-","-","-","-","-","-","-","-","-",1798,1273,1577,1011,2518,933,4312.05]
["October","-","-","-","-","-","-","-","-","-","-","-","-","-","-",1980,1688,1139,1054,3375,3615,417]
["November ","-","-","-","-","-","-","-","-","-","-","-","-","-","-",1666,831,345,1071,962,1596,1665]
["December","-","-","-","-","-","-","-","-","-","-","-","-","-","-",1401,716,5457,1597,1725,2058,541.22]
["Total","-","-","-","-","-","-","-","-","-","-","-","-","-","-",{"$f":"SUM(P20:P31)","v":11026},{"$f":"SUM(Q20:Q31)","v":12862},{"$f":"SUM(R20:R31)","v":14449},{"$f":"SUM(S20:S31)","v":14168},15491,{"$f":"SUM(U20:U31)","v":17439},{"$f":"SUM(V20:V31)","v":21583.27}]
["Walker Refunds"]
["Month",2004,2005,2006,2007,2008,2009,2010,2011,2012,2013,2014,2015,2016,2017,2018,2019,2020,2021,2022,2023,2024]
["January ","-","-","-","-","-","-","-","-","-","-","-","-","-","-",0,0,0,0,0,0,0]
["February","-","-","-","-","-","-","-","-","-","-","-","-","-","-",0,0,0,0,0,-1,0]
["March","-","-","-","-","-","-","-","-","-","-","-","-","-","-",0,0,0,-6,0,0,0]
["April","-","-","-","-","-","-","-","-","-","-","-","-","-","-",0,0,0,0,0,0,0]
["May","-","-","-","-","-","-","-","-","-","-","-","-","-","-",0,0,0,0,-6,0,0]
["June","-","-","-","-","-","-","-","-","-","-","-","-","-","-",0,0,0,0,0,0,0]
["July","-","-","-","-","-","-","-","-","-","-","-","-","-","-",0,0,-206,0,0,0,0]
["August","-","-","-","-","-","-","-","-","-","-","-","-","-","-",0,-396,0,0,0,0,0]
["September","-","-","-","-","-","-","-","-","-","-","-","-","-","-",0,-130,0,0,0,0,-14.5]
["October","-","-","-","-","-","-","-","-","-","-","-","-","-","-",0,0,0,0,0,0,0]
["November ","-","-","-","-","-","-","-","-","-","-","-","-","-","-",0,0,0,0,0,0,0]
["December","-","-","-","-","-","-","-","-","-","-","-","-","-","-",0,0,0,0,0,0,0]
["Total","-","-","-","-","-","-","-","-","-","-","-","-","-","-",{"$f":"SUM(P35:P46)","v":0},{"$f":"SUM(Q35:Q46)","v":-526},{"$f":"SUM(R35:R46)","v":-206},{"$f":"SUM(S35:S46)","v":-6},-6,{"$f":"SUM(U35:U46)","v":-1},{"$f":"SUM(V35:V46)","v":-14.5}]
["Hidden columns B-O do not contain any data for CY 2004-2017"]
[{"$f":"'Local SUT'!A71","v":"Source:  Minnesota Department of Revenue, Tax Research Division, November 2025"}]
["end of worksheet"]

{"sheet":"Willmar","index":45,"n_rows":52,"n_cols":22,"rows_kept":52,"cut":false,"hidden":true,"merged":[[50,0,50,19],[51,0,51,19],[32,0,32,19],[47,0,47,19],[48,0,48,19],[0,0,0,19],[1,0,1,19],[2,0,2,19],[17,0,17,19],[49,0,49,19]]}
["Willmar Monthly Detail for Minnesota Local Sales & Use Tax"]
[{"$f":"'Local SUT'!A2","v":"CY 2004-2024"}]
["Willmar Local Sales Tax (0.5% from 2006-2012)"]
["Month",2004,2005,2006,2007,2008,2009,2010,2011,2012,2013,2014,2015,2016,2017,2018,2019,2020,2021,2022,2023,2024]
["January ","-","-",4,164796.78,172824.39,197747,179521,163456,213079,191501,4854,1811,0,0,0,0,175515,205041,198378,237694,266498]
["February","-","-",86026,119245.09,124451.98,157304,118179,122814,142441,5873,1018,730,0,0,0,0,132576,170355,180670,198311,225093]
["March","-","-",106519,107330.42,125285.1,118569,120083,130198,145460,1157,-15,1448,0,475,0,0,140315,156494,181190,192448,199375]
["April","-","-",117280,132583.51999999999,131835.25,130003,135773,124321,156824,1644,90,5,95,0,0,0,147192,212157,204020,233076,213694]
["May","-","-",117174,129804.35,137727.69,137639,134768,158871,150908,781,269,3,0,0,358,0,151839,189228,224444,224546,236319]
["June","-","-",131004,143098.01,154110.57,140328,144165,143486,143475,1536,36,-236,463,56,0,0,177452,196838,277244,265922,258275]
["July","-","-",123351,130903.75,134095.71,117349,139881,143709,161623,1683,2442,-328,2,0,0,0,150960,203098,247204,269771,245717]
["August","-","-",139429,157258,160996.51999999999,173976,152817,148326,188726,21070,2770,2459,-30,9,0,0,216525,217878,252681,235856,242939.53]
["September","-","-",121051.05,135381.95000000001,141342.44,126668,139653,156374,172562,4264,0,-133,14,0,0,0,174955,187017,241756,246466,236008.39]
["October","-","-",128717.63,139527.59,145516.60999999999,159379,147505,166025,159900,1922,-44,0,5,0,0,12,176775,217436,240223,258376,233753.66]
["November ","-","-",125121.38,131306.93,"*  ",132284,134873,157192,149283,2128,97,-1523,0,0,0,142848,169781,190777,237992,234079,233336.82]
["December","-","-",129094.99,138741.04999999999,219822,138524,145807,164067,161711,2094,12209,147,587,-6452,-48,166928,178834,184189,284303,237129,237773.76]
["Total","-","-",{"$f":"SUM(D5:D16)","v":1324772.05},1629977.44,1648008.2599999998,1729770,1693025,1778839,{"$f":"SUM(J5:J16)","v":1945992},235653,23726,4383,1136,-5912,310,{"$f":"SUM(Q5:Q16)","v":309788},{"$f":"SUM(R5:R16)","v":1992719},{"$f":"SUM(S5:S16)","v":2330508},2770105,{"$f":"SUM(U5:U16)","v":2833674},{"$f":"SUM(V5:V16)","v":2828783.16}]
["Willmar Local Use Tax (0.5% from 2006-2012)"]
["Month",2004,2005,2006,2007,2008,2009,2010,2011,2012,2013,2014,2015,2016,2017,2018,2019,2020,2021,2022,2023,2024]
["January ","-","-",0,17693,13351,8725,10684,11818,13080,172371,1331,7,0,0,0,0,13259,7228,9605,10187,23316]
["February","-","-",10009,11225,6332,6697,5642,4719,7282,681,155,-8,0,0,0,0,14949,3486,8556,17732,28549]
["March","-","-",11059,11387,7479.18,4776,5350,4186,8642,2394,17013,9272,0,0,0,0,7888,3379,6864,8264,6722]
["April","-","-",12978,22875.200000000001,7283,9199,10012,7310,5376,1074,693,0,0,0,0,0,12895,5387,13331,10309,11055]
["May","-","-",12191,14146,8655.0300000000007,7981,5377,7735,7627,1102,2160,0,0,0,2,0,5962,6122,12836,9089,6470]
["June","-","-",14498,14208,10078,6302,3099,8037,9058,1321,104,-158746,0,0,0,0,6088,5038,12535,10485,12916]
["July","-","-",11249,11185,5585.9,12590,4903,6979,8888,2067,295,-641,0,0,0,0,6812,10770,17575,15115,12498]
["August","-","-",18954,15128,10291.780000000001,-83525,4572,9238,16709,1426,-1336,648,0,0,0,0,18449,6513,23862,12548,14560.27]
["September","-","-",16904,17216,7131.85,8744,-1972,9057,18394,3424,0,-522,0,0,0,0,7162,6975,15883,8819,16532.3]
["October","-","-",15068,16349.32,7701,9051,4369,7371,8546,4005,-15,-284,-41,0,0,0,14151,6497,13024,15912,8318.31]
["November ","-","-",16953,7465,5964,6323,4210,9200,7501,2074,0,-44,0,0,0,13793,7650,10445,11127,9750,8197.23]
["December","-","-",10999,5564.16,13702,7154,4215,6310,7829,1584,129,0,0,48,0,7492,5906,8118,12244,-1164,-4330.3500000000004]
["Total","-","-",{"$f":"SUM(D20:D31)","v":150862},164441.68000000002,103554.74,4017,60461,91960,{"$f":"SUM(J20:J31)","v":118932},193523,20529,-150318,-41,48,2,{"$f":"SUM(Q20:Q31)","v":21285},{"$f":"SUM(R20:R31)","v":121171},{"$f":"SUM(S20:S31)","v":79958},157442,{"$f":"SUM(U20:U31)","v":127046},{"$f":"SUM(V20:V31)","v":144803.76}]
["Willmar Refunds"]
["Month",2004,2005,2006,2007,2008,2009,2010,2011,2012,2013,2014,2015,2016,2017,2018,2019,2020,2021,2022,2023,2024]
["January ","-","-","-","-","-",-499,-31945,-152,-202,-601,-608,0,-10745,0,0,0,0,-3263,-527,0,-18283]
["February","-","-","-","-","-",0,-38,-6760,-471,0,-161,-491,0,0,0,0,0,-77,-62,0,-260]
["March","-","-","-","-","-",-144,-409,-2807,-2,-1176,-496,-178,0,0,0,0,0,-401,-529,-16,0]
["April","-","-","-","-","-",-134,-303,-275,-2255,-26,0,-72,0,0,0,0,0,0,0,-181,-6184]
["May","-","-","-","-","-",-188,0,-21,-38074,-4,-5,0,0,0,0,0,0,0,-15,-19,0]
["June","-","-","-","-","-",0,0,0,0,-212,-1149,-70,0,0,0,0,0,-21,0,0,0]
["July","-","-","-","-","-",-421,0,-150,-5279,-83,-604,-24063,0,0,-134,0,0,0,-70,0,-86]
["August","-","-","-","-","-",-363,-1081,-148,-99,-1411,-4153,0,0,0,0,0,0,0,0,0,0]
["September","-","-","-","-","-",-1019,0,-1116,-10549,-150,0,0,0,0,0,0,-101,0,-1,0,-411.87]
["October","-","-","-","-","-",-12421,0,-2250,-270,-1530,0,0,-312,0,0,0,0,-4,0,0,-12620.99]
["November ","-","-","-","-","-",-529,-3468,-160,-1034,-697,0,0,0,0,0,0,0,0,0,0,0]
["December","-","-","-","-",-209,0,-16,-53,-12,-79,-57159,0,0,0,0,0,0,0,-48,0,0]
["Total","-","-","-","-",{"$f":"SUM(F35:F46)","v":-209},-15718,-37260,-13892,{"$f":"SUM(J35:J46)","v":-58247},-5969,-64335,-24874,-11057,0,-134,{"$f":"SUM(Q35:Q46)","v":0},{"$f":"SUM(R35:R46)","v":-101},{"$f":"SUM(S35:S46)","v":-3766},-1252,{"$f":"SUM(U35:U46)","v":-216},{"$f":"SUM(V35:V46)","v":-37845.86}]
["Hidden columns B-C do not contain any data for CY 2004-2005"]
["*Collections for November 2008 are included in December totals due to a new processing system. "]
["Note: Local Sales & Use Tax ended December 31, 2012. Collections in later months are late tax payments or refunds."]
[{"$f":"'Local SUT'!A71","v":"Source:  Minnesota Department of Revenue, Tax Research Division, November 2025"}]
["end of worksheet"]

{"sheet":"Worthington","index":46,"n_rows":50,"n_cols":22,"rows_kept":50,"cut":false,"hidden":true,"merged":[[47,0,47,19],[48,0,48,19],[49,0,49,19],[17,0,17,19],[0,0,0,19],[1,0,1,19],[2,0,2,19],[32,0,32,19]]}
["Worthington Monthly Detail for Minnesota Local Sales & Use Tax"]
[{"$f":"'Local SUT'!A2","v":"CY 2004-2024"}]
["Worthington Local Sales Tax (0.5% ended 10/1/2019; reimposed 1/1/2020)"]
["Month",2004,2005,2006,2007,2008,2009,2010,2011,2012,2013,2014,2015,2016,2017,2018,2019,2020,2021,2022,2023,2024]
["January ","-","-","-","-","-","-",61703,79250,70506,76755,80527,74503,72069,93656,80423,3170,82,100193,112681,116163,109411]
["February","-","-","-","-","-","-",44644,52194,55810,60031,59597,64283,65708,70572,72888,1016,62490,81161,86951,87986,90939]
["March","-","-","-","-","-","-",43070,49450,51367,52207,50094,63826,48617,63709,58399,19,65994,77853,95412,95952,89247]
["April","-","-","-","-","-",1,61300,64221,66265,65859,65573,63004,73462,71701,76715,712,72423,95995,105484,100720,95583]
["May","-","-","-","-","-",44853,56651,56453,56730,60864,55238,59489,64548,72990,68607,202,68777,95369,87829,104989,91304]
["June","-","-","-","-","-",48657,57441,65284,63879,70914,65133,72926,75333,86629,87188,271,79291,94778,99470,120058,106980]
["July","-","-","-","-","-",41795,53802,54940,65543,74426,65015,68291,79758,195683,77360,57,87324,103992,114691,117680,104505]
["August","-","-","-","-","-",61687,75081,71466,70980,73173,74253,83811,77568,501899,98870,-208,93180,107938,99691,95821,105729.48]
["September","-","-","-","-","-",54449,62026,69219,63983,67676,65077,65781,77898,75973,85810,345,84592,98336,111858,113747,91342.17]
["October","-","-","-","-","-",55462,67110,66078,68496,67702,70053,78026,80250,82456,85884,2,87090,98639,115193,105998,99509.8]
["November ","-","-","-","-","-",49683,54694,70251,67922,59988,67843,81355,72439,72604,332,268,89794,100742,108460,103793,98383.47]
["December","-","-","-","-","-",47876,59348,62587,66247,70725,65741,63519,76319,79921,1871,-1097,89717,100632,109007,102998,102720.73]
["Total","-","-","-","-","-",{"$f":"SUM(G5:G16)","v":404463},696870,761393,767728,800320,784144,838814,863969,1467793,794347,{"$f":"SUM(Q5:Q16)","v":4757},{"$f":"SUM(R5:R16)","v":880754},{"$f":"SUM(S5:S16)","v":1155628},1246727,{"$f":"SUM(U5:U16)","v":1265905},{"$f":"SUM(V5:V16)","v":1185654.6500000001}]
["Worthington Local Use Tax (0.5%)"]
["Month",2005,2005,2006,2007,2008,2009,2010,2011,2012,2013,2014,2015,2016,2017,2018,2019,2020,2021,2022,2023,2024]
["January ","-","-","-","-","-","-",1799,4026,4027,7818,4873,13470,3466,3000,12680,304,475,4023,8258,4966,3637]
["February","-","-","-","-","-","-",1961,2506,4151,1743,3968,4230,1737,2521,3250,123,1878,3733,4117,2953,3166]
["March","-","-","-","-","-","-",1571,7178,1202,2413,6683,1716,1667,1827,10191,0,2394,9076,9232,2723,2680]
["April","-","-","-","-","-",0,2198,3818,2288,2426,1822,2557,2285,3465,3444,0,4401,2982,7175,4941,3051]
["May","-","-","-","-","-",1337,2146,3801,1434,1681,2833,3968,2480,2586,8849,0,2434,2919,8577,3675,2742]
["June","-","-","-","-","-",1203,3706,1846,6815,1572,1811,2623,2508,2510,3921,5383,3176,5391,5188,3996,3411]
["July","-","-","-","-","-",792,1868,2854,2531,3626,3421,2396,1565,3167,7913,1363,3729,4203,5043,8359,9634]
["August","-","-","-","-","-",893,1370,2418,2728,4384,4131,2229,2218,15430,5060,186,3406,2259,4390,2786,3188]
["September","-","-","-","-","-",1329,1634,5367,2018,1558,3611,4660,4010,8406,3941,-8550,6209,12844,2267,3934,12240.02]
["October","-","-","-","-","-",1850,-1351,4367,4161,5233,6236,3848,12859,8455,5565,475,6274,8977,2878,8042,2207.17]
["November ","-","-","-","-","-",1194,2356,2824,1544,6483,4091,3331,3266,3264,1001,155,3260,3092,4744,4415,2695]
["December","-","-","-","-","-",1203,1747,2208,1982,3345,5291,1174,3587,8150,-23543,0,18757,1793,2115,3278,3191.17]
["Total","-","-","-","-","-",{"$f":"SUM(G20:G31)","v":9801},21005,43213,34881,42282,48771,46202,41648,62781,42272,{"$f":"SUM(Q20:Q31)","v":-561},{"$f":"SUM(R20:R31)","v":56393},{"$f":"SUM(S20:S31)","v":61292},63984,{"$f":"SUM(U20:U31)","v":54068},{"$f":"SUM(V20:V31)","v":51842.36}]
["Worthington Refunds"]
["Month",2005,2005,2006,2007,2008,2009,2010,2011,2012,2013,2014,2015,2016,2017,2018,2019,2020,2021,2022,2023,2024]
["January ","-","-","-","-","-","-",0,0,0,-3272,0,0,-709,0,0,0,0,0,0,0,0]
["February","-","-","-","-","-","-",-22288,-46561,-1,-633,-498,0,-21619,0,0,0,0,-1,0,0,0]
["March","-","-","-","-","-","-",-68,0,-738,-62517,-301,-377,-81,-288,-111,0,0,0,0,0,0]
["April","-","-","-","-","-",0,0,0,0,0,-20047,-1912,-1906,-277,0,-1,0,0,0,0,0]
["May","-","-","-","-","-",0,0,0,0,0,0,0,-3949,-8783,0,0,0,0,0,-21,0]
["June","-","-","-","-","-",0,0,0,-2593,0,-226,0,0,-841,-96,0,0,0,0,0,0]
["July","-","-","-","-","-",0,0,-21,-3385,-2744,-1146,0,0,0,0,0,0,0,0,0,-4]
["August","-","-","-","-","-",-15,0,-14704,-821,0,0,-11481,-6407,-18,0,0,0,0,0,0,0]
["September","-","-","-","-","-",0,-2,0,-47066,-124,-15,-1200,-20241,0,0,0,0,0,0,0,0]
["October","-","-","-","-","-",-6,0,0,-807,-871,0,-36456,0,0,0,0,0,0,0,0,0]
["November ","-","-","-","-","-",0,-1978,-7,0,-49192,-19996,0,0,0,0,0,0,0,0,0,0]
["December","-","-","-","-","-",0,0,-9309,0,-5291,-31519,-6,0,-9163,0,0,-882,-116,0,-10,0]
["Total","-","-","-","-","-",{"$f":"SUM(G35:G46)","v":-21},-24336,-70602,-55411,-124644,-73748,-51432,-54912,-19370,-207,{"$f":"SUM(Q35:Q46)","v":-1},{"$f":"SUM(R35:R46)","v":-882},{"$f":"SUM(S35:S46)","v":-117},0,{"$f":"SUM(U35:U46)","v":-31},{"$f":"SUM(V35:V46)","v":-4}]
["Hidden columns B-F do not contain any data for CY 2004-2008"]
[{"$f":"'Local SUT'!A71","v":"Source:  Minnesota Department of Revenue, Tax Research Division, November 2025"}]
["end of worksheet"]

{"sheet":"Avon","index":47,"n_rows":50,"n_cols":22,"rows_kept":50,"cut":false,"hidden":true,"merged":[[49,0,49,19],[17,0,17,19],[0,0,0,19],[47,0,47,19],[48,0,48,19],[1,0,1,19],[2,0,2,19],[32,0,32,19]]}
["Avon Historical Minnesota Local Sales & Use Tax"]
[{"$f":"'Local SUT'!A2","v":"CY 2004-2024"}]
["Avon Local Sales Tax (0.5%)"]
["Month",2004,2005,2006,2007,2008,2009,2010,2011,2012,2013,2014,2015,2016,2017,2018,2019,2020,2021,2022,2023,2024]
["January ","-","-","-","-","-","-","-","-","-","-","-","-","-","-","-","-",14813,17136,19050,29293,28082]
["February","-","-","-","-","-","-","-","-","-","-","-","-","-","-","-","-",13698,12686,17061,16750,72914]
["March","-","-","-","-","-","-","-","-","-","-","-","-","-","-","-","-",14132,12485,17315,16611,109464]
["April","-","-","-","-","-","-","-","-","-","-","-","-","-","-","-","-",17365,14594,19184,23052,29017]
["May","-","-","-","-","-","-","-","-","-","-","-","-","-","-","-","-",17850,23124,16560,23701,29665]
["June","-","-","-","-","-","-","-","-","-","-","-","-","-","-","-","-",18854,23063,16048,30734,26618]
["July","-","-","-","-","-","-","-","-","-","-","-","-","-","-","-","-",19285,18594,20626,34902,30435]
["August","-","-","-","-","-","-","-","-","-","-","-","-","-","-","-","-",19426,16102,21086,32824,25898.240000000002]
["September","-","-","-","-","-","-","-","-","-","-","-","-","-","-","-","-",17309,16851,27434,31908,29453.7]
["October","-","-","-","-","-","-","-","-","-","-","-","-","-","-","-",2,14402,22795,18952,33029,28208.82]
["November ","-","-","-","-","-","-","-","-","-","-","-","-","-","-","-",12057,14391,19188,22366,28628,24992.25]
["December","-","-","-","-","-","-","-","-","-","-","-","-","-","-","-",12540,14262,15640,16996,39848,23638.080000000002]
["Total","-","-","-","-","-",{"$f":"SUM(G5:G16)","v":0},0,0,0,0,0,0,0,0,0,24599,{"$f":"SUM(R5:R16)","v":195787},212258,232678,{"$f":"SUM(U5:U16)","v":341280},{"$f":"SUM(V5:V16)","v":458386.09}]
["Avon Local Use Tax (0.5%)"]
["Month",2005,2005,2006,2007,2008,2009,2010,2011,2012,2013,2014,2015,2016,2017,2018,2019,2020,2021,2022,2023,2024]
["January ","-","-","-","-","-","-","-","-","-","-","-","-","-","-","-","-",643,1597,1129,961,683]
["February","-","-","-","-","-","-","-","-","-","-","-","-","-","-","-","-",395,909,786,785,473]
["March","-","-","-","-","-","-","-","-","-","-","-","-","-","-","-","-",342,888,761,730,600]
["April","-","-","-","-","-","-","-","-","-","-","-","-","-","-","-","-",563,922,1191,981,354]
["May","-","-","-","-","-","-","-","-","-","-","-","-","-","-","-","-",1134,931,856,1012,535]
["June","-","-","-","-","-","-","-","-","-","-","-","-","-","-","-","-",1462,965,2019,1139,630]
["July","-","-","-","-","-","-","-","-","-","-","-","-","-","-","-","-",1308,1472,963,1414,456]
["August","-","-","-","-","-","-","-","-","-","-","-","-","-","-","-","-",1030,7109,1302,1001,1063.28]
["September","-","-","-","-","-","-","-","-","-","-","-","-","-","-","-","-",993,931,1093,1330,640.25]
["October","-","-","-","-","-","-","-","-","-","-","-","-","-","-","-",0,1373,1190,2040,949,499]
["November ","-","-","-","-","-","-","-","-","-","-","-","-","-","-","-",448,932,1202,2392,1091,403]
["December","-","-","-","-","-","-","-","-","-","-","-","-","-","-","-",681,988,1948,948,1002,1022.03]
["Total","-","-","-","-","-",{"$f":"SUM(G20:G31)","v":0},0,0,0,0,0,0,0,0,0,1129,{"$f":"SUM(R20:R31)","v":11163},20064,15480,{"$f":"SUM(U20:U31)","v":12395},{"$f":"SUM(V20:V31)","v":7358.5599999999995}]
["Avon Refunds"]
["Month",2005,2005,2006,2007,2008,2009,2010,2011,2012,2013,2014,2015,2016,2017,2018,2019,2020,2021,2022,2023,2024]
["January ","-","-","-","-","-","-","-","-","-","-","-","-","-","-","-","-",0,0,0,0,0]
["February","-","-","-","-","-","-","-","-","-","-","-","-","-","-","-","-",0,0,0,0,0]
["March","-","-","-","-","-","-","-","-","-","-","-","-","-","-","-","-",0,0,0,0,0]
["April","-","-","-","-","-","-","-","-","-","-","-","-","-","-","-","-",0,0,0,0,0]
["May","-","-","-","-","-","-","-","-","-","-","-","-","-","-","-","-",0,0,0,0,0]
["June","-","-","-","-","-","-","-","-","-","-","-","-","-","-","-","-",0,0,0,0,0]
["July","-","-","-","-","-","-","-","-","-","-","-","-","-","-","-","-",0,0,0,0,0]
["August","-","-","-","-","-","-","-","-","-","-","-","-","-","-","-","-",0,0,0,-123,0]
["September","-","-","-","-","-","-","-","-","-","-","-","-","-","-","-","-",0,0,0,0,0]
["October","-","-","-","-","-","-","-","-","-","-","-","-","-","-","-",0,0,0,0,0,0]
["November ","-","-","-","-","-","-","-","-","-","-","-","-","-","-","-",0,0,0,0,0,0]
["December","-","-","-","-","-","-","-","-","-","-","-","-","-","-","-",0,0,0,0,0,0]
["Total","-","-","-","-","-",{"$f":"SUM(G35:G46)","v":0},0,0,0,0,0,0,0,0,0,0,{"$f":"SUM(R35:R46)","v":0},0,0,{"$f":"SUM(U35:U46)","v":-123},{"$f":"SUM(V35:V46)","v":0}]
["Hidden columns B-P do not contain any data for CY 2004-2018"]
[{"$f":"'Local SUT'!A71","v":"Source:  Minnesota Department of Revenue, Tax Research Division, November 2025"}]
["end of worksheet"]

{"sheet":"Blue Earth","index":48,"n_rows":50,"n_cols":22,"rows_kept":50,"cut":false,"hidden":true,"merged":[[32,0,32,19],[47,0,47,20],[48,0,48,21],[49,0,49,19],[0,0,0,21],[1,0,1,19],[2,0,2,19],[17,0,17,19]]}
["Blue Earth Historical Minnesota Local Sales & Use Tax"]
[{"$f":"'Local SUT'!A2","v":"CY 2004-2024"}]
["Blue Earth Local Sales Tax (0.5%)"]
["Month",2004,2005,2006,2007,2008,2009,2010,2011,2012,2013,2014,2015,2016,2017,2018,2019,2020,2021,2022,2023,2024]
["January ","-","-","-","-","-","-","-","-","-","-","-","-","-","-","-","-",24496,30977,34420,47217,44363]
["February","-","-","-","-","-","-","-","-","-","-","-","-","-","-","-","-",20152,26028,29044,34505,44203]
["March","-","-","-","-","-","-","-","-","-","-","-","-","-","-","-","-",18730,21795,26499,33661,29515]
["April","-","-","-","-","-","-","-","-","-","-","-","-","-","-","-","-",21870,30329,30800,54508,41375]
["May","-","-","-","-","-","-","-","-","-","-","-","-","-","-","-","-",23753,26069,25024,34595,34106]
["June","-","-","-","-","-","-","-","-","-","-","-","-","-","-","-","-",30258,29399,37259,40358,41961]
["July","-","-","-","-","-","-","-","-","-","-","-","-","-","-","-","-",34721,28273,34911,45016,36538]
["August","-","-","-","-","-","-","-","-","-","-","-","-","-","-","-","-",31389,26816,31817,37623,36000.54]
["September","-","-","-","-","-","-","-","-","-","-","-","-","-","-","-","-",31629,29808,34677,39057,36785.56]
["October","-","-","-","-","-","-","-","-","-","-","-","-","-","-","-",48,26208,30865,33822,42795,35381.22]
["November ","-","-","-","-","-","-","-","-","-","-","-","-","-","-","-",20957,26489,29522,36044,32028,34641.15]
["December","-","-","-","-","-","-","-","-","-","-","-","-","-","-","-",18631,22939,29472,31651,34588,33026.33]
["Total","-","-","-","-","-",{"$f":"SUM(G5:G16)","v":0},0,0,0,0,0,0,0,0,0,39636,{"$f":"SUM(R5:R16)","v":312634},339353,385968,{"$f":"SUM(U5:U16)","v":475951},447895.8]
["Blue Earth Local Use Tax (0.5%)"]
["Month",2005,2005,2006,2007,2008,2009,2010,2011,2012,2013,2014,2015,2016,2017,2018,2019,2020,2021,2022,2023,2024]
["January ","-","-","-","-","-","-","-","-","-","-","-","-","-","-","-","-",598,1050,2143,1067,2018]
["February","-","-","-","-","-","-","-","-","-","-","-","-","-","-","-","-",893,741,893,1369,1056]
["March","-","-","-","-","-","-","-","-","-","-","-","-","-","-","-","-",365,1426,487,822,903]
["April","-","-","-","-","-","-","-","-","-","-","-","-","-","-","-","-",395,794,1455,976,1058]
["May","-","-","-","-","-","-","-","-","-","-","-","-","-","-","-","-",593,1522,653,1678,681]
["June","-","-","-","-","-","-","-","-","-","-","-","-","-","-","-","-",656,1086,1479,1793,2103]
["July","-","-","-","-","-","-","-","-","-","-","-","-","-","-","-","-",819,812,586,2943,2573]
["August","-","-","-","-","-","-","-","-","-","-","-","-","-","-","-","-",825,1418,649,1302,2118.1]
["September","-","-","-","-","-","-","-","-","-","-","-","-","-","-","-","-",900,749,4834,1774,3136]
["October","-","-","-","-","-","-","-","-","-","-","-","-","-","-","-",0,1653,1273,2031,1841,9212.17]
["November ","-","-","-","-","-","-","-","-","-","-","-","-","-","-","-",277,1429,1189,1151,1616,1628]
["December","-","-","-","-","-","-","-","-","-","-","-","-","-","-","-",688,792,809,2109,1104,1497.09]
["Total","-","-","-","-","-",{"$f":"SUM(G20:G31)","v":0},0,0,0,0,0,0,0,0,0,965,{"$f":"SUM(R20:R31)","v":9918},12869,18470,{"$f":"SUM(U20:U31)","v":18285},27983.360000000001]
["Blue Earth Refunds"]
["Month",2005,2005,2006,2007,2008,2009,2010,2011,2012,2013,2014,2015,2016,2017,2018,2019,2020,2021,2022,2023,2024]
["January ","-","-","-","-","-","-","-","-","-","-","-","-","-","-","-","-",0,0,0,0,0]
["February","-","-","-","-","-","-","-","-","-","-","-","-","-","-","-","-",0,0,0,-86,0]
["March","-","-","-","-","-","-","-","-","-","-","-","-","-","-","-","-",0,0,0,0,0]
["April","-","-","-","-","-","-","-","-","-","-","-","-","-","-","-","-",0,0,0,0,-603]
["May","-","-","-","-","-","-","-","-","-","-","-","-","-","-","-","-",-22,0,0,0,0]
["June","-","-","-","-","-","-","-","-","-","-","-","-","-","-","-","-",0,0,0,0,0]
["July","-","-","-","-","-","-","-","-","-","-","-","-","-","-","-","-",0,0,0,0,-51]
["August","-","-","-","-","-","-","-","-","-","-","-","-","-","-","-","-",-22,0,-6,0,0]
["September","-","-","-","-","-","-","-","-","-","-","-","-","-","-","-","-",0,0,-442,-1809,-1.27]
["October","-","-","-","-","-","-","-","-","-","-","-","-","-","-","-",0,0,0,-305,0,-662.91]
["November ","-","-","-","-","-","-","-","-","-","-","-","-","-","-","-",0,0,0,0,0,-97.93]
["December","-","-","-","-","-","-","-","-","-","-","-","-","-","-","-",0,0,0,0,0,-363.35]
["Total","-","-","-","-","-",{"$f":"SUM(G35:G46)","v":0},0,0,0,0,0,0,0,0,0,0,{"$f":"SUM(R35:R46)","v":-44},0,-753,{"$f":"SUM(U35:U46)","v":-1895},-1779.46]
["Hidden columns B-P do not contain any data for CY 2004-2018"]
[{"$f":"'Local SUT'!A71","v":"Source:  Minnesota Department of Revenue, Tax Research Division, November 2025"}]
["end of worksheet"]

{"sheet":"Cambridge","index":49,"n_rows":50,"n_cols":22,"rows_kept":50,"cut":false,"hidden":true,"merged":[[0,0,0,20],[32,0,32,19],[47,0,47,20],[48,0,48,21],[49,0,49,19],[1,0,1,19],[2,0,2,19],[17,0,17,19]]}
["Cambridge Historical Minnesota Local Sales & Use Tax"]
[{"$f":"'Local SUT'!A2","v":"CY 2004-2024"}]
["Cambridge Local Sales Tax (0.5%)"]
["Month",2004,2005,2006,2007,2008,2009,2010,2011,2012,2013,2014,2015,2016,2017,2018,2019,2020,2021,2022,2023,2024]
["January ","-","-","-","-","-","-","-","-","-","-","-","-","-","-","-","-",126535,150245,145407,162981,176034]
["February","-","-","-","-","-","-","-","-","-","-","-","-","-","-","-","-",98345,116118,123256,119202,133924]
["March","-","-","-","-","-","-","-","-","-","-","-","-","-","-","-","-",92433,109442,130328,117058,135029]
["April","-","-","-","-","-","-","-","-","-","-","-","-","-","-","-","-",110957,148901,144228,135170,152671]
["May","-","-","-","-","-","-","-","-","-","-","-","-","-","-","-","-",131275,139611,148617,146301,149626]
["June","-","-","-","-","-","-","-","-","-","-","-","-","-","-","-","-",149826,152895,225768,173184,173243]
["July","-","-","-","-","-","-","-","-","-","-","-","-","-","-","-","-",95149,146005,170756,178995,168399]
["August","-","-","-","-","-","-","-","-","-","-","-","-","-","-","-","-",187722,151428,150448,154794,174386.4]
["September","-","-","-","-","-","-","-","-","-","-","-","-","-","-","-","-",125950,132167,146588,161074,157549.38]
["October","-","-","-","-","-","-","-","-","-","-","-","-","-","-","-",15,131321,151182,148376,165852,154814.96]
["November ","-","-","-","-","-","-","-","-","-","-","-","-","-","-","-",111411,131643,139256,148963,166804,156422.21]
["December","-","-","-","-","-","-","-","-","-","-","-","-","-","-","-",116469,132885,126367,200129,164976,162148.35999999999]
["Total","-","-","-","-","-",{"$f":"SUM(G5:G16)","v":0},0,0,0,0,0,0,0,0,0,227895,{"$f":"SUM(R5:R16)","v":1514041},1663617,1882864,{"$f":"SUM(U5:U16)","v":1846391},{"$f":"SUM(V5:V16)","v":1894247.3099999996}]
["Cambridge Local Use Tax (0.5%)"]
["Month",2005,2005,2006,2007,2008,2009,2010,2011,2012,2013,2014,2015,2016,2017,2018,2019,2020,2021,2022,2023,2024]
["January ","-","-","-","-","-","-","-","-","-","-","-","-","-","-","-","-",2607,3129,2307,3596,6123]
["February","-","-","-","-","-","-","-","-","-","-","-","-","-","-","-","-",2302,2961,2030,2974,3192]
["March","-","-","-","-","-","-","-","-","-","-","-","-","-","-","-","-",2499,1988,2803,2992,2249]
["April","-","-","-","-","-","-","-","-","-","-","-","-","-","-","-","-",1984,2527,2134,2195,2684]
["May","-","-","-","-","-","-","-","-","-","-","-","-","-","-","-","-",1934,3537,3674,3832,6118]
["June","-","-","-","-","-","-","-","-","-","-","-","-","-","-","-","-",2591,8702,5380,2892,2306]
["July","-","-","-","-","-","-","-","-","-","-","-","-","-","-","-","-",1845,4284,4601,4485,3019]
["August","-","-","-","-","-","-","-","-","-","-","-","-","-","-","-","-",2330,6920,5465,2450,4659.12]
["September","-","-","-","-","-","-","-","-","-","-","-","-","-","-","-","-",3262,2876,6458,2982,2884.37]
["October","-","-","-","-","-","-","-","-","-","-","-","-","-","-","-",0,3521,1917,2619,3492,3851.23]
["November ","-","-","-","-","-","-","-","-","-","-","-","-","-","-","-",1811,2380,1787,2897,3359,3254.13]
["December","-","-","-","-","-","-","-","-","-","-","-","-","-","-","-",1961,2793,1783,2358,2607,2442.34]
["Total","-","-","-","-","-",{"$f":"SUM(G20:G31)","v":0},0,0,0,0,0,0,0,0,0,3772,{"$f":"SUM(R20:R31)","v":30048},42411,42726,{"$f":"SUM(U20:U31)","v":37856},{"$f":"SUM(V20:V31)","v":42782.19}]
["Cambridge Refunds"]
["Month",2005,2005,2006,2007,2008,2009,2010,2011,2012,2013,2014,2015,2016,2017,2018,2019,2020,2021,2022,2023,2024]
["January ","-","-","-","-","-","-","-","-","-","-","-","-","-","-","-","-",0,0,-2,0,-5]
["February","-","-","-","-","-","-","-","-","-","-","-","-","-","-","-","-",0,-1,-15,0,-5]
["March","-","-","-","-","-","-","-","-","-","-","-","-","-","-","-","-",0,-1921,0,0,0]
["April","-","-","-","-","-","-","-","-","-","-","-","-","-","-","-","-",0,0,-2,-1,0]
["May","-","-","-","-","-","-","-","-","-","-","-","-","-","-","-","-",0,0,-7095,0,-42]
["June","-","-","-","-","-","-","-","-","-","-","-","-","-","-","-","-",0,-15,0,-16,0]
["July","-","-","-","-","-","-","-","-","-","-","-","-","-","-","-","-",-33,0,-656,-7,0]
["August","-","-","-","-","-","-","-","-","-","-","-","-","-","-","-","-",0,0,0,0,-4.67]
["September","-","-","-","-","-","-","-","-","-","-","-","-","-","-","-","-",0,-125,0,0,-9.86]
["October","-","-","-","-","-","-","-","-","-","-","-","-","-","-","-",0,0,-705,-3349,0,-0.55000000000000004]
["November ","-","-","-","-","-","-","-","-","-","-","-","-","-","-","-",0,0,0,-690,0,-13.87]
["December","-","-","-","-","-","-","-","-","-","-","-","-","-","-","-",0,0,0,0,0,-1.62]
["Total","-","-","-","-","-",{"$f":"SUM(G35:G46)","v":0},0,0,0,0,0,0,0,0,0,0,{"$f":"SUM(R35:R46)","v":-33},-2767,-11809,{"$f":"SUM(U35:U46)","v":-24},{"$f":"SUM(V35:V46)","v":-82.570000000000007}]
["Hidden columns B-P do not contain any data for CY 2004-2018"]
[{"$f":"'Local SUT'!A71","v":"Source:  Minnesota Department of Revenue, Tax Research Division, November 2025"}]
["end of worksheet"]

{"sheet":"Elk River","index":50,"n_rows":50,"n_cols":22,"rows_kept":50,"cut":false,"hidden":true,"merged":[[0,0,0,19],[32,0,32,19],[47,0,47,20],[48,0,48,21],[49,0,49,19],[1,0,1,19],[2,0,2,19],[17,0,17,19]]}
["Elk River Historical Minnesota Local Sales & Use Tax"]
[{"$f":"'Local SUT'!A2","v":"CY 2004-2024"}]
["Elk River Local Sales Tax (0.5%)"]
["Month",2004,2005,2006,2007,2008,2009,2010,2011,2012,2013,2014,2015,2016,2017,2018,2019,2020,2021,2022,2023,2024]
["January ","-","-","-","-","-","-","-","-","-","-","-","-","-","-","-","-",241422,304760,394173,307032,326351]
["February","-","-","-","-","-","-","-","-","-","-","-","-","-","-","-","-",218145,220068,242503,246839,240439]
["March","-","-","-","-","-","-","-","-","-","-","-","-","-","-","-","-",186676,208632,216470,266468,272716]
["April","-","-","-","-","-","-","-","-","-","-","-","-","-","-","-","-",204826,252158,277193,295376,264344]
["May","-","-","-","-","-","-","-","-","-","-","-","-","-","-","-","-",245576,262823,293994,257722,266070]
["June","-","-","-","-","-","-","-","-","-","-","-","-","-","-","-","-",253853,297356,368051,367904,340471]
["July","-","-","-","-","-","-","-","-","-","-","-","-","-","-","-","-",224633,290564,398886,354600,315165]
["August","-","-","-","-","-","-","-","-","-","-","-","-","-","-","-","-",383919,313623,301526,293647,296665]
["September","-","-","-","-","-","-","-","-","-","-","-","-","-","-","-","-",244516,344496,323641,343028,315755.96000000002]
["October","-","-","-","-","-","-","-","-","-","-","-","-","-","-","-",86,236702,292528,319316,402826,262878.2]
["November ","-","-","-","-","-","-","-","-","-","-","-","-","-","-","-",213985,234213,292902,383937,297580,299087.65000000002]
["December","-","-","-","-","-","-","-","-","-","-","-","-","-","-","-",197322,236839,252578,355905,308711,293396.43]
["Total","-","-","-","-","-",{"$f":"SUM(G5:G16)","v":0},0,0,0,0,0,0,0,0,0,411393,{"$f":"SUM(R5:R16)","v":2911320},3332488,3875595,{"$f":"SUM(U5:U16)","v":3741733},{"$f":"SUM(V5:V16)","v":3493339.24}]
["Elk River Local Use Tax (0.5%)"]
["Month",2005,2005,2006,2007,2008,2009,2010,2011,2012,2013,2014,2015,2016,2017,2018,2019,2020,2020,2022,2023,2024]
["January ","-","-","-","-","-","-","-","-","-","-","-","-","-","-","-","-",8979,8291,10220,12910,10887]
["February","-","-","-","-","-","-","-","-","-","-","-","-","-","-","-","-",5172,5184,11012,8194,6348]
["March","-","-","-","-","-","-","-","-","-","-","-","-","-","-","-","-",8661,5316,8240,10638,-3521]
["April","-","-","-","-","-","-","-","-","-","-","-","-","-","-","-","-",18524,6055,9633,6361,13174]
["May","-","-","-","-","-","-","-","-","-","-","-","-","-","-","-","-",6018,10216,9227,13802,10954]
["June","-","-","-","-","-","-","-","-","-","-","-","-","-","-","-","-",4526,8128,9604,10935,8468]
["July","-","-","-","-","-","-","-","-","-","-","-","-","-","-","-","-",6376,8955,10646,14391,17288]
["August","-","-","-","-","-","-","-","-","-","-","-","-","-","-","-","-",6275,6896,34581,10267,9019.0499999999993]
["September","-","-","-","-","-","-","-","-","-","-","-","-","-","-","-","-",10065,5693,9210,8633,6122.12]
["October","-","-","-","-","-","-","-","-","-","-","-","-","-","-","-",0,5274,13777,6736,7362,11765.2]
["November ","-","-","-","-","-","-","-","-","-","-","-","-","-","-","-",7654,8969,6601,8512,7352,5972.32]
["December","-","-","-","-","-","-","-","-","-","-","-","-","-","-","-",10736,5264,8832,11659,8814,11222.01]
["Total","-","-","-","-","-",{"$f":"SUM(G20:G31)","v":0},0,0,0,0,0,0,0,0,0,18390,{"$f":"SUM(R20:R31)","v":94103},93944,139280,{"$f":"SUM(U20:U31)","v":119659},{"$f":"SUM(V20:V31)","v":107698.7}]
["Elk River Refunds"]
["Month",2005,2005,2006,2007,2008,2009,2010,2011,2012,2013,2014,2015,2016,2017,2018,2019,2020,2020,2022,2023,2024]
["January ","-","-","-","-","-","-","-","-","-","-","-","-","-","-","-","-",0,0,-5000,0,-118]
["February","-","-","-","-","-","-","-","-","-","-","-","-","-","-","-","-",0,0,0,-2,-610]
["March","-","-","-","-","-","-","-","-","-","-","-","-","-","-","-","-",-46,-4250,-18646,-4,-318338]
["April","-","-","-","-","-","-","-","-","-","-","-","-","-","-","-","-",0,0,-101,-7927,0]
["May","-","-","-","-","-","-","-","-","-","-","-","-","-","-","-","-",-385,-113,-3602,-1,-104]
["June","-","-","-","-","-","-","-","-","-","-","-","-","-","-","-","-",-41,-3,-5025,-1,-116392]
["July","-","-","-","-","-","-","-","-","-","-","-","-","-","-","-","-",-104,0,-4,-1961,-23]
["August","-","-","-","-","-","-","-","-","-","-","-","-","-","-","-","-",-385,-19,0,-389,-0.76]
["September","-","-","-","-","-","-","-","-","-","-","-","-","-","-","-","-",0,0,0,-162,-61.88]
["October","-","-","-","-","-","-","-","-","-","-","-","-","-","-","-",0,-943,0,0,-175,-67.88]
["November ","-","-","-","-","-","-","-","-","-","-","-","-","-","-","-",0,0,-527,-874,-637,0]
["December","-","-","-","-","-","-","-","-","-","-","-","-","-","-","-",0,-3,0,-1044,-18265,-36.950000000000003]
["Total","-","-","-","-","-",{"$f":"SUM(G35:G46)","v":0},0,0,0,0,0,0,0,0,0,0,{"$f":"SUM(R35:R46)","v":-1907},-4912,-34296,{"$f":"SUM(U35:U46)","v":-29524},{"$f":"SUM(V35:V46)","v":-435752.47000000003}]
["Hidden columns B-P do not contain any data for CY 2004-2018"]
[{"$f":"'Local SUT'!A71","v":"Source:  Minnesota Department of Revenue, Tax Research Division, November 2025"}]
["end of worksheet"]

{"sheet":"Excelsior","index":51,"n_rows":50,"n_cols":22,"rows_kept":50,"cut":false,"hidden":true,"merged":[[0,0,0,19],[32,0,32,19],[47,0,47,20],[48,0,48,21],[49,0,49,19],[1,0,1,19],[2,0,2,19],[17,0,17,19]]}
["Excelsior Historical Minnesota Local Sales & Use Tax"]
[{"$f":"'Local SUT'!A2","v":"CY 2004-2024"}]
["Excelsior Local Sales Tax (0.5%)"]
["Month",2004,2005,2006,2007,2008,2009,2010,2011,2012,2013,2014,2015,2016,2017,2018,2019,2020,2021,2022,2023,2024]
["January ","-","-","-","-","-","-","-","-","-","-","-","-","-","-","-","-",49484,46805,68978,64398,61223]
["February","-","-","-","-","-","-","-","-","-","-","-","-","-","-","-","-",40421,41410,74303,42861,41343]
["March","-","-","-","-","-","-","-","-","-","-","-","-","-","-","-","-",47770,110426,82525,49562,57761]
["April","-","-","-","-","-","-","-","-","-","-","-","-","-","-","-","-",54124,80921,111898,66308,75861]
["May","-","-","-","-","-","-","-","-","-","-","-","-","-","-","-","-",51297,69695,117371,57212,67056]
["June","-","-","-","-","-","-","-","-","-","-","-","-","-","-","-","-",69222,56176,102960,86757,82742]
["July","-","-","-","-","-","-","-","-","-","-","-","-","-","-","-","-",50952,63577,104506,106113,81912]
["August","-","-","-","-","-","-","-","-","-","-","-","-","-","-","-","-",136650,101466,90232,84506,82246.73]
["September","-","-","-","-","-","-","-","-","-","-","-","-","-","-","-","-",66815,54906,82499,73600,70335.3]
["October","-","-","-","-","-","-","-","-","-","-","-","-","-","-","-",9,56466,56960,81986,59636,65578.509999999995]
["November ","-","-","-","-","-","-","-","-","-","-","-","-","-","-","-",38462,41096,56653,67045,50662,53686.3]
["December","-","-","-","-","-","-","-","-","-","-","-","-","-","-","-",39193,40578,75798,64469,49827,47871.31]
["Total","-","-","-","-","-",{"$f":"SUM(G5:G16)","v":0},0,0,0,0,0,0,0,0,0,77664,{"$f":"SUM(R5:R16)","v":704875},814793,1048772,{"$f":"SUM(U5:U16)","v":791442},{"$f":"SUM(V5:V16)","v":787616.15000000014}]
["Excelsior Local Use Tax (0.5%)"]
["Month",2005,2005,2006,2007,2008,2009,2010,2011,2012,2013,2014,2015,2016,2017,2018,2019,2020,2021,2022,2023,2024]
["January ","-","-","-","-","-","-","-","-","-","-","-","-","-","-","-","-",1096,975,2175,2055,1326]
["February","-","-","-","-","-","-","-","-","-","-","-","-","-","-","-","-",1710,1093,1671,1069,3588]
["March","-","-","-","-","-","-","-","-","-","-","-","-","-","-","-","-",449,2444,1382,1396,1940]
["April","-","-","-","-","-","-","-","-","-","-","-","-","-","-","-","-",1668,1616,2617,1435,2580]
["May","-","-","-","-","-","-","-","-","-","-","-","-","-","-","-","-",1417,421,2005,898,1868]
["June","-","-","-","-","-","-","-","-","-","-","-","-","-","-","-","-",261,817,1304,1608,1286]
["July","-","-","-","-","-","-","-","-","-","-","-","-","-","-","-","-",1400,2746,2084,2085,1655]
["August","-","-","-","-","-","-","-","-","-","-","-","-","-","-","-","-",878,846,1608,1380,943.87]
["September","-","-","-","-","-","-","-","-","-","-","-","-","-","-","-","-",873,1378,1791,4204,1471.77]
["October","-","-","-","-","-","-","-","-","-","-","-","-","-","-","-",0,929,1960,1867,1567,996]
["November ","-","-","-","-","-","-","-","-","-","-","-","-","-","-","-",841,510,1154,1856,1203,4291]
["December","-","-","-","-","-","-","-","-","-","-","-","-","-","-","-",845,1371,1563,1546,1140,1113.27]
["Total","-","-","-","-","-",{"$f":"SUM(G20:G31)","v":0},0,0,0,0,0,0,0,0,0,1686,{"$f":"SUM(R20:R31)","v":12562},17013,21906,{"$f":"SUM(U20:U31)","v":20040},{"$f":"SUM(V20:V31)","v":23058.91}]
["Excelsior Refunds"]
["Month",2005,2005,2006,2007,2008,2009,2010,2011,2012,2013,2014,2015,2016,2017,2018,2019,2020,2021,2022,2023,2024]
["January ","-","-","-","-","-","-","-","-","-","-","-","-","-","-","-","-",0,0,0,0,0]
["February","-","-","-","-","-","-","-","-","-","-","-","-","-","-","-","-",0,0,0,0,0]
["March","-","-","-","-","-","-","-","-","-","-","-","-","-","-","-","-",0,0,0,0,0]
["April","-","-","-","-","-","-","-","-","-","-","-","-","-","-","-","-",0,0,0,0,0]
["May","-","-","-","-","-","-","-","-","-","-","-","-","-","-","-","-",0,0,0,0,0]
["June","-","-","-","-","-","-","-","-","-","-","-","-","-","-","-","-",0,0,0,0,0]
["July","-","-","-","-","-","-","-","-","-","-","-","-","-","-","-","-",0,0,0,0,0]
["August","-","-","-","-","-","-","-","-","-","-","-","-","-","-","-","-",0,0,0,-420,0]
["September","-","-","-","-","-","-","-","-","-","-","-","-","-","-","-","-",0,0,0,0,0]
["October","-","-","-","-","-","-","-","-","-","-","-","-","-","-","-",0,0,0,0,0,0]
["November ","-","-","-","-","-","-","-","-","-","-","-","-","-","-","-",0,0,0,0,0,0]
["December","-","-","-","-","-","-","-","-","-","-","-","-","-","-","-",0,0,0,0,0,-13.09]
["Total","-","-","-","-","-",{"$f":"SUM(G35:G46)","v":0},0,0,0,0,0,0,0,0,0,0,{"$f":"SUM(R35:R46)","v":0},0,0,{"$f":"SUM(U35:U46)","v":-420},{"$f":"SUM(V35:V46)","v":-13.09}]
["Hidden columns B-P do not contain any data for CY 2004-2018"]
[{"$f":"'Local SUT'!A71","v":"Source:  Minnesota Department of Revenue, Tax Research Division, November 2025"}]
["end of worksheet"]

{"sheet":"Int. Falls","index":52,"n_rows":50,"n_cols":22,"rows_kept":50,"cut":false,"hidden":true,"merged":[[0,0,0,19],[47,0,47,19],[48,0,48,19],[32,0,32,19],[49,0,49,19],[1,0,1,19],[2,0,2,19],[17,0,17,19]]}
["Int. Falls Historical Minnesota Local Sales & Use Tax"]
[{"$f":"'Local SUT'!A2","v":"CY 2004-2024"}]
["Int. Falls Local Sales Tax (1.0%)"]
["Month",2004,2005,2006,2007,2008,2009,2010,2011,2012,2013,2014,2015,2016,2017,2018,2019,2020,2021,2022,2023,2024]
["January ","-","-","-","-","-","-","-","-","-","-","-","-","-","-","-","-",87088,80833,91731,104918,103312]
["February","-","-","-","-","-","-","-","-","-","-","-","-","-","-","-","-",64499,68314,70852,85167,90513]
["March","-","-","-","-","-","-","-","-","-","-","-","-","-","-","-","-",66887,62942,70321,80041,83833]
["April","-","-","-","-","-","-","-","-","-","-","-","-","-","-","-","-",73305,91333,88874,95832,100525]
["May","-","-","-","-","-","-","-","-","-","-","-","-","-","-","-","-",73217,86192,90827,94548,99026]
["June","-","-","-","-","-","-","-","-","-","-","-","-","-","-","-","-",90755,98389,117958,131072,122045]
["July","-","-","-","-","-","-","-","-","-","-","-","-","-","-","-","-",75276,114636,124274,160968,140490]
["August","-","-","-","-","-","-","-","-","-","-","-","-","-","-","-","-",118071,106749,110887,135959,134892.47]
["September","-","-","-","-","-","-","-","-","-","-","-","-","-","-","-","-",95859,102255,124281,153836,129690.68]
["October","-","-","-","-","-","-","-","-","-","-","-","-","-","-","-",424,90658,115705,121774,136241,119177.02]
["November ","-","-","-","-","-","-","-","-","-","-","-","-","-","-","-",77950,87600,92351,98455,114880,112839.83]
["December","-","-","-","-","-","-","-","-","-","-","-","-","-","-","-",80465,73771,66660,89037,92397,102961.13]
["Total","-","-","-","-","-",{"$f":"SUM(G5:G16)","v":0},0,0,0,0,0,0,0,0,0,158839,{"$f":"SUM(R5:R16)","v":996986},1086359,1199271,{"$f":"SUM(U5:U16)","v":1385859},{"$f":"SUM(V5:V16)","v":1339305.1299999999}]
["Int. Falls Local Use Tax (0.5%)"]
["Month",2005,2005,2006,2007,2008,2009,2010,2011,2012,2013,2014,2015,2016,2017,2018,2019,2020,2021,2022,2023,2024]
["January ","-","-","-","-","-","-","-","-","-","-","-","-","-","-","-","-",1794,4010,16360,14609,9213]
["February","-","-","-","-","-","-","-","-","-","-","-","-","-","-","-","-",7701,3118,15102,5663,8195]
["March","-","-","-","-","-","-","-","-","-","-","-","-","-","-","-","-",2344,1054,12977,6665,5338]
["April","-","-","-","-","-","-","-","-","-","-","-","-","-","-","-","-",1640,2019,19739,11497,7060]
["May","-","-","-","-","-","-","-","-","-","-","-","-","-","-","-","-",2371,-387,18263,10016,11737]
["June","-","-","-","-","-","-","-","-","-","-","-","-","-","-","-","-",2175,1286,26406,11679,9018]
["July","-","-","-","-","-","-","-","-","-","-","-","-","-","-","-","-",2585,10570,14449,11922,10595]
["August","-","-","-","-","-","-","-","-","-","-","-","-","-","-","-","-",3425,12269,17555,12241,7745]
["September","-","-","-","-","-","-","-","-","-","-","-","-","-","-","-","-",4324,9746,18266,8107,6840]
["October","-","-","-","-","-","-","-","-","-","-","-","-","-","-","-",0,5046,14436,13535,8920,7146.79]
["November ","-","-","-","-","-","-","-","-","-","-","-","-","-","-","-",1839,2431,11663,10992,8653,7078]
["December","-","-","-","-","-","-","-","-","-","-","-","-","-","-","-",978,3092,12592,11609,8024,7917.14]
["Total","-","-","-","-","-",{"$f":"SUM(G20:G31)","v":0},0,0,0,0,0,0,0,0,0,2817,{"$f":"SUM(R20:R31)","v":38928},82376,195253,{"$f":"SUM(U20:U31)","v":117996},{"$f":"SUM(V20:V31)","v":97882.93}]
["Int. Falls Refunds"]
["Month",2005,2005,2006,2007,2008,2009,2010,2011,2012,2013,2014,2015,2016,2017,2018,2019,2020,2021,2022,2023,2024]
["January ","-","-","-","-","-","-","-","-","-","-","-","-","-","-","-","-",0,0,0,0,0]
["February","-","-","-","-","-","-","-","-","-","-","-","-","-","-","-","-",-2,0,0,0,0]
["March","-","-","-","-","-","-","-","-","-","-","-","-","-","-","-","-",0,-14,0,0,0]
["April","-","-","-","-","-","-","-","-","-","-","-","-","-","-","-","-",0,0,0,0,0]
["May","-","-","-","-","-","-","-","-","-","-","-","-","-","-","-","-",-2,0,0,0,0]
["June","-","-","-","-","-","-","-","-","-","-","-","-","-","-","-","-",0,0,0,0,0]
["July","-","-","-","-","-","-","-","-","-","-","-","-","-","-","-","-",-59,0,-70,0,0]
["August","-","-","-","-","-","-","-","-","-","-","-","-","-","-","-","-",0,0,0,0,0]
["September","-","-","-","-","-","-","-","-","-","-","-","-","-","-","-","-",0,0,0,0,0]
["October","-","-","-","-","-","-","-","-","-","-","-","-","-","-","-",0,0,0,0,0,0]
["November ","-","-","-","-","-","-","-","-","-","-","-","-","-","-","-",0,0,0,0,-23,0]
["December","-","-","-","-","-","-","-","-","-","-","-","-","-","-","-",0,-84,0,0,0,0]
["Total","-","-","-","-","-",{"$f":"SUM(G35:G46)","v":0},0,0,0,0,0,0,0,0,0,0,{"$f":"SUM(R35:R46)","v":-147},-14,-70,{"$f":"SUM(U35:U46)","v":-23},{"$f":"SUM(V35:V46)","v":0}]
["Hidden columns B-P do not contain any data for CY 2004-2018"]
[{"$f":"'Local SUT'!A71","v":"Source:  Minnesota Department of Revenue, Tax Research Division, November 2025"}]
["end of worksheet"]

{"sheet":"Rogers","index":53,"n_rows":50,"n_cols":22,"rows_kept":50,"cut":false,"hidden":true,"merged":[[0,0,0,19],[48,0,48,19],[47,0,47,19],[32,0,32,19],[49,0,49,19],[1,0,1,19],[2,0,2,19],[17,0,17,19]]}
["Rogers Historical Minnesota Local Sales & Use Tax"]
[{"$f":"'Local SUT'!A2","v":"CY 2004-2024"}]
["Rogers Local Sales Tax (0.25%)"]
["Month",2004,2005,2006,2007,2008,2009,2010,2011,2012,2013,2014,2015,2016,2017,2018,2019,2020,2021,2022,2023,2024]
["January ","-","-","-","-","-","-","-","-","-","-","-","-","-","-","-","-",90955,132405,114722,131400,125375]
["February","-","-","-","-","-","-","-","-","-","-","-","-","-","-","-","-",73662,75966,89569,89683,93790]
["March","-","-","-","-","-","-","-","-","-","-","-","-","-","-","-","-",78986,92163,92375,91657,95387]
["April","-","-","-","-","-","-","-","-","-","-","-","-","-","-","-","-",87140,114848,113984,121378,118655]
["May","-","-","-","-","-","-","-","-","-","-","-","-","-","-","-","-",76276,105527,113793,108178,112006]
["June","-","-","-","-","-","-","-","-","-","-","-","-","-","-","-","-",102994,111375,140597,136368,130597]
["July","-","-","-","-","-","-","-","-","-","-","-","-","-","-","-","-",112137,121239,127411,134783,131821]
["August","-","-","-","-","-","-","-","-","-","-","-","-","-","-","-","-",116480,117680,120247,124351,117186.43]
["September","-","-","-","-","-","-","-","-","-","-","-","-","-","-","-","-",96948,104665,126614,125373,134270.21]
["October","-","-","-","-","-","-","-","-","-","-","-","-","-","-","-",13,99619,119402,121126,127362,120822.27]
["November ","-","-","-","-","-","-","-","-","-","-","-","-","-","-","-",75317,94233,109812,106560,120158,122837.88]
["December","-","-","-","-","-","-","-","-","-","-","-","-","-","-","-",79018,88384,107477,135705,113556,101097.89]
["Total","-","-","-","-","-",{"$f":"SUM(G5:G16)","v":0},0,0,0,0,0,0,0,0,0,154348,{"$f":"SUM(R5:R16)","v":1117814},1312559,1402703,{"$f":"SUM(U5:U16)","v":1424247},{"$f":"SUM(V5:V16)","v":1403845.68}]
["Rogers Local Use Tax (0.25%)"]
["Month",2005,2005,2006,2007,2008,2009,2010,2011,2012,2013,2014,2015,2016,2017,2018,2019,2020,2021,2022,2023,2024]
["January ","-","-","-","-","-","-","-","-","-","-","-","-","-","-","-","-",4955,4685,4258,5133,4769]
["February","-","-","-","-","-","-","-","-","-","-","-","-","-","-","-","-",3463,5373,-4029,2829,6621]
["March","-","-","-","-","-","-","-","-","-","-","-","-","-","-","-","-",5693,5894,9009,5975,4988]
["April","-","-","-","-","-","-","-","-","-","-","-","-","-","-","-","-",6601,5354,3925,5197,4309]
["May","-","-","-","-","-","-","-","-","-","-","-","-","-","-","-","-",3136,938,4454,6287,7787]
["June","-","-","-","-","-","-","-","-","-","-","-","-","-","-","-","-",8066,7902,5753,7785,4871]
["July","-","-","-","-","-","-","-","-","-","-","-","-","-","-","-","-",2529,4644,4951,9490,32007]
["August","-","-","-","-","-","-","-","-","-","-","-","-","-","-","-","-",3805,5814,4491,8796,4922.63]
["September","-","-","-","-","-","-","-","-","-","-","-","-","-","-","-","-",0,6200,5027,9063,5521.87]
["October","-","-","-","-","-","-","-","-","-","-","-","-","-","-","-",0,3467,6522,14021,12265,6387.05]
["November ","-","-","-","-","-","-","-","-","-","-","-","-","-","-","-",4134,5409,3894,5935,5734,6434.61]
["December","-","-","-","-","-","-","-","-","-","-","-","-","-","-","-",3365,5969,4931,8320,5148,5087.43]
["Total","-","-","-","-","-",{"$f":"SUM(G20:G31)","v":0},0,0,0,0,0,0,0,0,0,7499,{"$f":"SUM(R20:R31)","v":53093},62151,66115,{"$f":"SUM(U20:U31)","v":83702},{"$f":"SUM(V20:V31)","v":93705.59}]
["Rogers Refunds"]
["Month",2005,2005,2006,2007,2008,2009,2010,2011,2012,2013,2014,2015,2016,2017,2018,2019,2020,2021,2022,2023,2024]
["January ","-","-","-","-","-","-","-","-","-","-","-","-","-","-","-","-",-15,-294,-259,-4,-182]
["February","-","-","-","-","-","-","-","-","-","-","-","-","-","-","-","-",0,-25,-2693,-38,-674]
["March","-","-","-","-","-","-","-","-","-","-","-","-","-","-","-","-",-16,-41,-245,-36,-75]
["April","-","-","-","-","-","-","-","-","-","-","-","-","-","-","-","-",0,0,-13,-103,-12]
["May","-","-","-","-","-","-","-","-","-","-","-","-","-","-","-","-",-16,-492,-76,-2,-13]
["June","-","-","-","-","-","-","-","-","-","-","-","-","-","-","-","-",-172,0,-63,0,-490]
["July","-","-","-","-","-","-","-","-","-","-","-","-","-","-","-","-",-10,-29,-14,-9,-719]
["August","-","-","-","-","-","-","-","-","-","-","-","-","-","-","-","-",-23,0,0,-88,-45.02]
["September","-","-","-","-","-","-","-","-","-","-","-","-","-","-","-","-",0,0,-467,-75,-17.91]
["October","-","-","-","-","-","-","-","-","-","-","-","-","-","-","-",0,0,-547,-160,-51,-6.04]
["November ","-","-","-","-","-","-","-","-","-","-","-","-","-","-","-",0,0,-1,-81,-1317,-2614.4899999999998]
["December","-","-","-","-","-","-","-","-","-","-","-","-","-","-","-",-14,-112,-1,-1,-236,-131.16999999999999]
["Total","-","-","-","-","-",{"$f":"SUM(G35:G46)","v":0},0,0,0,0,0,0,0,0,0,-14,{"$f":"SUM(R35:R46)","v":-364},-1430,-4072,{"$f":"SUM(U35:U46)","v":-1959},{"$f":"SUM(V35:V46)","v":-4979.6299999999992}]
["Hidden columns B-P do not contain any data for CY 2004-2018"]
[{"$f":"'Local SUT'!A71","v":"Source:  Minnesota Department of Revenue, Tax Research Division, November 2025"}]
["end of worksheet"]

{"sheet":"Glenwood","index":54,"n_rows":50,"n_cols":22,"rows_kept":50,"cut":false,"hidden":true,"merged":[[0,0,0,21],[2,0,2,19],[1,0,1,19],[32,0,32,19],[49,0,49,19],[17,0,17,20],[47,0,47,21],[48,0,48,22]]}
["Glenwood Historical Minnesota Local Sales & Use Tax"]
[{"$f":"'Local SUT'!A2","v":"CY 2004-2024"}]
["Glenwood Local Sales Tax (0.5%)"]
["Month",2004,2005,2006,2007,2008,2009,2010,2011,2012,2013,2014,2015,2016,2017,2018,2019,2020,2021,2022,2023,2024]
["January ","-","-","-","-","-","-","-","-","-","-","-","-","-","-","-","-",0,19711,23448,26859,29308]
["February","-","-","-","-","-","-","-","-","-","-","-","-","-","-","-","-",15639,26140,19394,20845,20246]
["March","-","-","-","-","-","-","-","-","-","-","-","-","-","-","-","-",14234,16807,25381,19770,20686]
["April","-","-","-","-","-","-","-","-","-","-","-","-","-","-","-","-",16062,21981,22138,22649,22901]
["May","-","-","-","-","-","-","-","-","-","-","-","-","-","-","-","-",15179,24083,23575,22257,27644]
["June","-","-","-","-","-","-","-","-","-","-","-","-","-","-","-","-",17293,25364,34393,29372,31783]
["July","-","-","-","-","-","-","-","-","-","-","-","-","-","-","-","-",18667,23783,32144,31093,30904]
["August","-","-","-","-","-","-","-","-","-","-","-","-","-","-","-","-",24337,23953,27981,31425,29836.93]
["September","-","-","-","-","-","-","-","-","-","-","-","-","-","-","-","-",22978,24664,27521,29591,30670.31]
["October","-","-","-","-","-","-","-","-","-","-","-","-","-","-","-","-",20300,23356,27017,29015,26479.119999999999]
["November ","-","-","-","-","-","-","-","-","-","-","-","-","-","-","-","-",19421,21126,26960,27003,28264.01]
["December","-","-","-","-","-","-","-","-","-","-","-","-","-","-","-","-",19303,23236,26344,28447,23666.91]
["Total","-","-","-","-","-",{"$f":"SUM(G5:G16)","v":0},0,0,0,0,0,0,0,0,0,0,{"$f":"SUM(R5:R16)","v":203413},274204,316296,{"$f":"SUM(U5:U16)","v":318326},{"$f":"SUM(V5:V16)","v":322389.27999999997}]
["Glenwood Local Use Tax (0.5%)"]
["Month",2005,2005,2006,2007,2008,2009,2010,2011,2012,2013,2014,2015,2016,2017,2018,2019,2020,2021,2022,2023,2024]
["January ","-","-","-","-","-","-","-","-","-","-","-","-","-","-","-","-",0,1288,1243,992,1240]
["February","-","-","-","-","-","-","-","-","-","-","-","-","-","-","-","-",538,529,852,1036,754]
["March","-","-","-","-","-","-","-","-","-","-","-","-","-","-","-","-",802,1149,2340,603,1009]
["April","-","-","-","-","-","-","-","-","-","-","-","-","-","-","-","-",635,857,712,2234,2512]
["May","-","-","-","-","-","-","-","-","-","-","-","-","-","-","-","-",1061,368,526,1500,940]
["June","-","-","-","-","-","-","-","-","-","-","-","-","-","-","-","-",348,-93,1259,665,1772]
["July","-","-","-","-","-","-","-","-","-","-","-","-","-","-","-","-",763,1039,586,714,756]
["August","-","-","-","-","-","-","-","-","-","-","-","-","-","-","-","-",461,587,4837,593,726]
["September","-","-","-","-","-","-","-","-","-","-","-","-","-","-","-","-",784,1040,612,829,842]
["October","-","-","-","-","-","-","-","-","-","-","-","-","-","-","-","-",787,1206,3833,759,1162.77]
["November ","-","-","-","-","-","-","-","-","-","-","-","-","-","-","-","-",723,1147,959,1544,1047]
["December","-","-","-","-","-","-","-","-","-","-","-","-","-","-","-","-",407,814,1293,1377,808.1]
["Total","-","-","-","-","-",{"$f":"SUM(G20:G31)","v":0},0,0,0,0,0,0,0,0,0,0,{"$f":"SUM(R20:R31)","v":7309},9931,19052,{"$f":"SUM(U20:U31)","v":12846},{"$f":"SUM(V20:V31)","v":13568.87}]
["Glenwood Refunds"]
["Month",2005,2005,2006,2007,2008,2009,2010,2011,2012,2013,2014,2015,2016,2017,2018,2019,2020,2021,2022,2023,2024]
["January ","-","-","-","-","-","-","-","-","-","-","-","-","-","-","-","-",0,0,0,0,0]
["February","-","-","-","-","-","-","-","-","-","-","-","-","-","-","-","-",0,-391,-42,0,-58]
["March","-","-","-","-","-","-","-","-","-","-","-","-","-","-","-","-",0,-1,0,0,0]
["April","-","-","-","-","-","-","-","-","-","-","-","-","-","-","-","-",0,0,0,0,0]
["May","-","-","-","-","-","-","-","-","-","-","-","-","-","-","-","-",0,0,0,-223,0]
["June","-","-","-","-","-","-","-","-","-","-","-","-","-","-","-","-",0,0,0,0,0]
["July","-","-","-","-","-","-","-","-","-","-","-","-","-","-","-","-",0,0,0,0,0]
["August","-","-","-","-","-","-","-","-","-","-","-","-","-","-","-","-",0,0,-362,0,0]
["September","-","-","-","-","-","-","-","-","-","-","-","-","-","-","-","-",0,-35,0,0,0]
["October","-","-","-","-","-","-","-","-","-","-","-","-","-","-","-","-",0,0,0,0,0]
["November ","-","-","-","-","-","-","-","-","-","-","-","-","-","-","-","-",0,0,0,0,0]
["December","-","-","-","-","-","-","-","-","-","-","-","-","-","-","-","-",0,0,-32,0,0]
["Total","-","-","-","-","-",{"$f":"SUM(G35:G46)","v":0},0,0,0,0,0,0,0,0,0,0,{"$f":"SUM(R35:R46)","v":0},-427,-436,{"$f":"SUM(U35:U46)","v":-223},{"$f":"SUM(V35:V46)","v":-58}]
["Hidden columns B-Q do not contain any data for CY 2004-2019"]
[{"$f":"'Local SUT'!A71","v":"Source:  Minnesota Department of Revenue, Tax Research Division, November 2025"}]
["end of worksheet"]

{"sheet":"Perham","index":55,"n_rows":50,"n_cols":22,"rows_kept":50,"cut":false,"hidden":true,"merged":[[32,0,32,19],[49,0,49,19],[1,0,1,19],[0,0,0,20],[2,0,2,19],[17,0,17,19],[47,0,47,19],[48,0,48,20]]}
["Perham Historical Minnesota Local Sales & Use Tax"]
[{"$f":"'Local SUT'!A2","v":"CY 2004-2024"}]
["Perham Local Sales Tax (0.5%)"]
["Month",2004,2005,2006,2007,2008,2009,2010,2011,2012,2013,2014,2015,2016,2017,2018,2019,2020,2021,2022,2023,2024]
["January ","-","-","-","-","-","-","-","-","-","-","-","-","-","-","-","-",0,41918,55526,62206,57500]
["February","-","-","-","-","-","-","-","-","-","-","-","-","-","-","-","-",29118,39427,47276,50537,54733]
["March","-","-","-","-","-","-","-","-","-","-","-","-","-","-","-","-",26821,38413,51567,51804,49692]
["April","-","-","-","-","-","-","-","-","-","-","-","-","-","-","-","-",30638,51808,54900,55222,58942]
["May","-","-","-","-","-","-","-","-","-","-","-","-","-","-","-","-",33950,51406,54077,54405,69233]
["June","-","-","-","-","-","-","-","-","-","-","-","-","-","-","-","-",48776,55982,69264,73788,76652]
["July","-","-","-","-","-","-","-","-","-","-","-","-","-","-","-","-",46668,64868,75330,85736,77536]
["August","-","-","-","-","-","-","-","-","-","-","-","-","-","-","-","-",53258,61958,73779,72510,84530.83]
["September","-","-","-","-","-","-","-","-","-","-","-","-","-","-","-","-",46178,51829,66090,84216,74279.67]
["October","-","-","-","-","-","-","-","-","-","-","-","-","-","-","-","-",47860,56762,59813,73178,63444.08]
["November ","-","-","-","-","-","-","-","-","-","-","-","-","-","-","-","-",44436,53455,62855,62916,66280.42]
["December","-","-","-","-","-","-","-","-","-","-","-","-","-","-","-","-",35480,52648,56569,52324,52437.120000000003]
["Total","-","-","-","-","-",{"$f":"SUM(G5:G16)","v":0},0,0,0,0,0,0,0,0,0,0,{"$f":"SUM(R5:R16)","v":443183},620474,727046,{"$f":"SUM(U5:U16)","v":778842},{"$f":"SUM(V5:V16)","v":785260.12}]
["Perham Local Use Tax (0.5%)"]
["Month",2005,2005,2006,2007,2008,2009,2010,2011,2012,2013,2014,2015,2016,2017,2018,2019,2020,2021,2022,2023,2024]
["January ","-","-","-","-","-","-","-","-","-","-","-","-","-","-","-","-",0,6344,3064,4907,4072]
["February","-","-","-","-","-","-","-","-","-","-","-","-","-","-","-","-",1391,4067,2747,3443,3483]
["March","-","-","-","-","-","-","-","-","-","-","-","-","-","-","-","-",3813,3081,6030,2848,3588]
["April","-","-","-","-","-","-","-","-","-","-","-","-","-","-","-","-",5214,6619,3817,3341,5437]
["May","-","-","-","-","-","-","-","-","-","-","-","-","-","-","-","-",4389,5222,3226,3717,3371]
["June","-","-","-","-","-","-","-","-","-","-","-","-","-","-","-","-",3796,5953,3260,4506,4513]
["July","-","-","-","-","-","-","-","-","-","-","-","-","-","-","-","-",4918,5589,3302,6281,3965]
["August","-","-","-","-","-","-","-","-","-","-","-","-","-","-","-","-",5185,3763,3188,3564,10821]
["September","-","-","-","-","-","-","-","-","-","-","-","-","-","-","-","-",7214,5034,4327,5775,6141]
["October","-","-","-","-","-","-","-","-","-","-","-","-","-","-","-","-",4584,5170,3393,5308,4188]
["November ","-","-","-","-","-","-","-","-","-","-","-","-","-","-","-","-",6311,3635,3515,3574,3023.06]
["December","-","-","-","-","-","-","-","-","-","-","-","-","-","-","-","-",3354,3467,2556,2542,2551.9899999999998]
["Total","-","-","-","-","-",{"$f":"SUM(G20:G31)","v":0},0,0,0,0,0,0,0,0,0,0,{"$f":"SUM(R20:R31)","v":50169},57944,42425,{"$f":"SUM(U20:U31)","v":49806},{"$f":"SUM(V20:V31)","v":55154.049999999996}]
["Perham Refunds"]
["Month",2005,2005,2006,2007,2008,2009,2010,2011,2012,2013,2014,2015,2016,2017,2018,2019,2020,2021,2022,2023,2024]
["January ","-","-","-","-","-","-","-","-","-","-","-","-","-","-","-","-",0,0,0,0,0]
["February","-","-","-","-","-","-","-","-","-","-","-","-","-","-","-","-",0,0,0,0,0]
["March","-","-","-","-","-","-","-","-","-","-","-","-","-","-","-","-",0,0,-258,0,0]
["April","-","-","-","-","-","-","-","-","-","-","-","-","-","-","-","-",0,0,0,0,0]
["May","-","-","-","-","-","-","-","-","-","-","-","-","-","-","-","-",0,-1,0,0,0]
["June","-","-","-","-","-","-","-","-","-","-","-","-","-","-","-","-",0,0,0,0,0]
["July","-","-","-","-","-","-","-","-","-","-","-","-","-","-","-","-",0,0,-34,0,0]
["August","-","-","-","-","-","-","-","-","-","-","-","-","-","-","-","-",0,0,0,0,0]
["September","-","-","-","-","-","-","-","-","-","-","-","-","-","-","-","-",0,0,0,0,0]
["October","-","-","-","-","-","-","-","-","-","-","-","-","-","-","-","-",0,0,0,-28,-2514]
["November ","-","-","-","-","-","-","-","-","-","-","-","-","-","-","-","-",0,0,-167,0,0]
["December","-","-","-","-","-","-","-","-","-","-","-","-","-","-","-","-",0,0,0,0,-4479.91]
["Total","-","-","-","-","-",{"$f":"SUM(G35:G46)","v":0},0,0,0,0,0,0,0,0,0,0,{"$f":"SUM(R35:R46)","v":0},-1,-459,{"$f":"SUM(U35:U46)","v":-28},{"$f":"SUM(V35:V46)","v":-6993.91}]
["Hidden columns B-Q do not contain any data for CY 2004-2019"]
[{"$f":"'Local SUT'!A71","v":"Source:  Minnesota Department of Revenue, Tax Research Division, November 2025"}]
["end of worksheet"]

{"sheet":"Virginia","index":56,"n_rows":50,"n_cols":22,"rows_kept":50,"cut":false,"hidden":true,"merged":[[32,0,32,19],[49,0,49,19],[1,0,1,19],[0,0,0,21],[2,0,2,19],[17,0,17,19],[47,0,47,19],[48,0,48,20]]}
["Virginia Monthly Detail for Minnesota Local Sales & Use Tax"]
[{"$f":"'Local SUT'!A2","v":"CY 2004-2024"}]
["Virginia Local Sales Tax (1.0%)"]
["Month",2004,2005,2006,2007,2008,2009,2010,2011,2012,2013,2014,2015,2016,2017,2018,2019,2020,2021,2022,2023,2024]
["January ","-","-","-","-","-","-","-","-","-","-","-","-","-","-","-","-",0,178048,165297,203203,211479]
["February","-","-","-","-","-","-","-","-","-","-","-","-","-","-","-","-",86090,143815,153600,166103,159321]
["March","-","-","-","-","-","-","-","-","-","-","-","-","-","-","-","-",98418,145429,174315,158103,165491]
["April","-","-","-","-","-","-","-","-","-","-","-","-","-","-","-","-",139773,202179,182937,192324,187049]
["May","-","-","-","-","-","-","-","-","-","-","-","-","-","-","-","-",220928,180577,167685,173265,189079]
["June","-","-","-","-","-","-","-","-","-","-","-","-","-","-","-","-",179907,209000,313466,241165,224423]
["July","-","-","-","-","-","-","-","-","-","-","-","-","-","-","-","-",131203,220452,206710,246167,237320]
["August","-","-","-","-","-","-","-","-","-","-","-","-","-","-","-","-",240297,209055,191214,212657,231385.62]
["September","-","-","-","-","-","-","-","-","-","-","-","-","-","-","-","-",170543,188513,211583,232317,253131.82]
["October","-","-","-","-","-","-","-","-","-","-","-","-","-","-","-","-",179351,244768,199549,220850,236140.4]
["November ","-","-","-","-","-","-","-","-","-","-","-","-","-","-","-","-",167463,185272,182916,206955,225453.3]
["December","-","-","-","-","-","-","-","-","-","-","-","-","-","-","-","-",158472,151706,284092,190902,203928.28]
["Total","-","-","-","-","-",{"$f":"SUM(G5:G16)","v":0},0,0,0,0,0,0,0,0,0,0,{"$f":"SUM(R5:R16)","v":1772445},2258814,2433364,{"$f":"SUM(U5:U16)","v":2444011},{"$f":"SUM(V5:V16)","v":2524201.42}]
["Virginia Local Use Tax (1.0%)"]
["Month",2005,2005,2006,2007,2008,2009,2010,2011,2012,2013,2014,2015,2016,2017,2018,2019,2020,2021,2022,2023,2024]
["January ","-","-","-","-","-","-","-","-","-","-","-","-","-","-","-","-",0,10928,11870,9718,12912]
["February","-","-","-","-","-","-","-","-","-","-","-","-","-","-","-","-",10304,8418,10934,7733,6427]
["March","-","-","-","-","-","-","-","-","-","-","-","-","-","-","-","-",6235,7755,13359,7927,6571]
["April","-","-","-","-","-","-","-","-","-","-","-","-","-","-","-","-",5056,8239,18301,7770,5967]
["May","-","-","-","-","-","-","-","-","-","-","-","-","-","-","-","-",5563,8030,12544,7201,5439]
["June","-","-","-","-","-","-","-","-","-","-","-","-","-","-","-","-",8455,10649,14299,9031,7966]
["July","-","-","-","-","-","-","-","-","-","-","-","-","-","-","-","-",8524,12259,15728,19499,8355]
["August","-","-","-","-","-","-","-","-","-","-","-","-","-","-","-","-",6220,10281,13049,17245,9204]
["September","-","-","-","-","-","-","-","-","-","-","-","-","-","-","-","-",9436,12766,15552,10703,9138.2999999999993]
["October","-","-","-","-","-","-","-","-","-","-","-","-","-","-","-","-",6151,20025,20092,11542,9232.3700000000008]
["November ","-","-","-","-","-","-","-","-","-","-","-","-","-","-","-","-",10408,16836,10838,11076,9249.4]
["December","-","-","-","-","-","-","-","-","-","-","-","-","-","-","-","-",12059,13312,10849,10617,5394.49]
["Total","-","-","-","-","-",{"$f":"SUM(G20:G31)","v":0},0,0,0,0,0,0,0,0,0,0,{"$f":"SUM(R20:R31)","v":88411},139498,167415,{"$f":"SUM(U20:U31)","v":130062},{"$f":"SUM(V20:V31)","v":95855.56}]
["Virginia Refunds"]
["Month",2005,2005,2006,2007,2008,2009,2010,2011,2012,2013,2014,2015,2016,2017,2018,2019,2020,2021,2022,2023,2024]
["January ","-","-","-","-","-","-","-","-","-","-","-","-","-","-","-","-",0,0,0,0,0]
["February","-","-","-","-","-","-","-","-","-","-","-","-","-","-","-","-",0,0,-4,-10,0]
["March","-","-","-","-","-","-","-","-","-","-","-","-","-","-","-","-",0,-28,0,-55,-63]
["April","-","-","-","-","-","-","-","-","-","-","-","-","-","-","-","-",0,-47,0,-181,-46]
["May","-","-","-","-","-","-","-","-","-","-","-","-","-","-","-","-",0,0,-100,0,-67]
["June","-","-","-","-","-","-","-","-","-","-","-","-","-","-","-","-",0,0,0,0,0]
["July","-","-","-","-","-","-","-","-","-","-","-","-","-","-","-","-",-3,0,-857,0,-46]
["August","-","-","-","-","-","-","-","-","-","-","-","-","-","-","-","-",0,0,-6857,0,0]
["September","-","-","-","-","-","-","-","-","-","-","-","-","-","-","-","-",0,0,0,0,0]
["October","-","-","-","-","-","-","-","-","-","-","-","-","-","-","-","-",0,0,0,0,0]
["November ","-","-","-","-","-","-","-","-","-","-","-","-","-","-","-","-",0,0,-39,0,-235.06]
["December","-","-","-","-","-","-","-","-","-","-","-","-","-","-","-","-",0,0,-137,0,0]
["Total","-","-","-","-","-",{"$f":"SUM(G35:G46)","v":0},0,0,0,0,0,0,0,0,0,0,{"$f":"SUM(R35:R46)","v":-3},-75,-7994,{"$f":"SUM(U35:U46)","v":-246},{"$f":"SUM(V35:V46)","v":-457.06}]
["Hidden columns B-Q do not contain any data for CY 2004-2019"]
[{"$f":"'Local SUT'!A71","v":"Source:  Minnesota Department of Revenue, Tax Research Division, November 2025"}]
["end of worksheet"]

{"sheet":"West St. Paul","index":57,"n_rows":50,"n_cols":22,"rows_kept":50,"cut":false,"hidden":true,"merged":[[0,0,0,22],[2,0,2,19],[17,0,17,19],[49,0,49,19],[1,0,1,19],[32,0,32,19],[48,0,48,20],[47,0,47,19]]}
["West St. Paul Monthly Detail for Minnesota Local Sales & Use Tax"]
[{"$f":"'Local SUT'!A2","v":"CY 2004-2024"}]
["West St. Paul Local Sales Tax (0.5%)"]
["Month",2004,2005,2006,2007,2008,2009,2010,2011,2012,2013,2014,2015,2016,2017,2018,2019,2020,2021,2022,2023,2024]
["January ","-","-","-","-","-","-","-","-","-","-","-","-","-","-","-","-",1,154475,155497,187070,197163]
["February","-","-","-","-","-","-","-","-","-","-","-","-","-","-","-","-",97383,131102,159257,150592,160252]
["March","-","-","-","-","-","-","-","-","-","-","-","-","-","-","-","-",102048,120601,157438,140356,151298]
["April","-","-","-","-","-","-","-","-","-","-","-","-","-","-","-","-",129158,168154,173551,176128,178396]
["May","-","-","-","-","-","-","-","-","-","-","-","-","-","-","-","-",163135,141877,158808,166325,171960]
["June","-","-","-","-","-","-","-","-","-","-","-","-","-","-","-","-",122758,169551,257504,190094,191412]
["July","-","-","-","-","-","-","-","-","-","-","-","-","-","-","-","-",127224,171230,179995,198456,191169]
["August","-","-","-","-","-","-","-","-","-","-","-","-","-","-","-","-",177450,184995,158142,176576,193870.96]
["September","-","-","-","-","-","-","-","-","-","-","-","-","-","-","-","-",145583,147678,162699,178633,184929.26]
["October","-","-","-","-","-","-","-","-","-","-","-","-","-","-","-","-",151715,185443,161938,187622,185372.23]
["November ","-","-","-","-","-","-","-","-","-","-","-","-","-","-","-","-",143053,154055,175198,199348,183941.35]
["December","-","-","-","-","-","-","-","-","-","-","-","-","-","-","-","-",138631,176126,250754,198102,180458.78]
["Total","-","-","-","-","-",{"$f":"SUM(G5:G16)","v":0},0,0,0,0,0,0,0,0,0,0,{"$f":"SUM(R5:R16)","v":1498139},1905287,2150781,{"$f":"SUM(U5:U16)","v":2149302},{"$f":"SUM(V5:V16)","v":2170222.58}]
["West St. Paul Local Use Tax (0.5%)"]
["Month",2005,2005,2006,2007,2008,2009,2010,2011,2012,2013,2014,2015,2016,2017,2018,2019,2020,2021,2022,2023,2024]
["January ","-","-","-","-","-","-","-","-","-","-","-","-","-","-","-","-",0,2426,5361,4744,8193]
["February","-","-","-","-","-","-","-","-","-","-","-","-","-","-","-","-",1267,3407,2528,2951,4410]
["March","-","-","-","-","-","-","-","-","-","-","-","-","-","-","-","-",1113,3229,3357,6417,4168]
["April","-","-","-","-","-","-","-","-","-","-","-","-","-","-","-","-",1848,2516,4299,4491,5959]
["May","-","-","-","-","-","-","-","-","-","-","-","-","-","-","-","-",1604,2624,2574,2655,13041]
["June","-","-","-","-","-","-","-","-","-","-","-","-","-","-","-","-",1539,3288,3716,6416,5795]
["July","-","-","-","-","-","-","-","-","-","-","-","-","-","-","-","-",2990,3450,2914,7682,5205]
["August","-","-","-","-","-","-","-","-","-","-","-","-","-","-","-","-",2507,2372,3607,3156,4514.8100000000004]
["September","-","-","-","-","-","-","-","-","-","-","-","-","-","-","-","-",2840,3381,3372,6637,3153.8]
["October","-","-","-","-","-","-","-","-","-","-","-","-","-","-","-","-",2131,3508,3721,9898,4065.35]
["November ","-","-","-","-","-","-","-","-","-","-","-","-","-","-","-","-",2186,3127,3986,7254,3458.17]
["December","-","-","-","-","-","-","-","-","-","-","-","-","-","-","-","-",1936,2660,4513,5687,3785.44]
["Total","-","-","-","-","-",{"$f":"SUM(G20:G31)","v":0},0,0,0,0,0,0,0,0,0,0,{"$f":"SUM(R20:R31)","v":21961},35988,43948,{"$f":"SUM(U20:U31)","v":67988},{"$f":"SUM(V20:V31)","v":65748.569999999992}]
["West St. Paul Refunds"]
["Month",2005,2005,2006,2007,2008,2009,2010,2011,2012,2013,2014,2015,2016,2017,2018,2019,2020,2021,2022,2023,2024]
["January ","-","-","-","-","-","-","-","-","-","-","-","-","-","-","-","-",0,0,0,0,-1]
["February","-","-","-","-","-","-","-","-","-","-","-","-","-","-","-","-",0,0,-1,-5,0]
["March","-","-","-","-","-","-","-","-","-","-","-","-","-","-","-","-",0,0,-136,0,0]
["April","-","-","-","-","-","-","-","-","-","-","-","-","-","-","-","-",0,0,-1,-56,0]
["May","-","-","-","-","-","-","-","-","-","-","-","-","-","-","-","-",0,0,-10,0,-31]
["June","-","-","-","-","-","-","-","-","-","-","-","-","-","-","-","-",0,0,-3,0,-87]
["July","-","-","-","-","-","-","-","-","-","-","-","-","-","-","-","-",0,0,-5,-235,-5]
["August","-","-","-","-","-","-","-","-","-","-","-","-","-","-","-","-",0,0,0,0,-0.16]
["September","-","-","-","-","-","-","-","-","-","-","-","-","-","-","-","-",-173,0,-1,0,0]
["October","-","-","-","-","-","-","-","-","-","-","-","-","-","-","-","-",0,0,0,0,-40.369999999999997]
["November ","-","-","-","-","-","-","-","-","-","-","-","-","-","-","-","-",0,0,0,0,-1.1200000000000001]
["December","-","-","-","-","-","-","-","-","-","-","-","-","-","-","-","-",0,0,0,0,0]
["Total","-","-","-","-","-",{"$f":"SUM(G35:G46)","v":0},0,0,0,0,0,0,0,0,0,0,{"$f":"SUM(R35:R46)","v":-173},0,-157,{"$f":"SUM(U35:U46)","v":-296},{"$f":"SUM(V35:V46)","v":-165.65}]
["Hidden columns B-Q do not contain any data for CY 2004-2019"]
[{"$f":"'Local SUT'!A71","v":"Source:  Minnesota Department of Revenue, Tax Research Division, November 2025"}]
["end of worksheet"]

{"sheet":"Sauk Centre","index":58,"n_rows":50,"n_cols":22,"rows_kept":50,"cut":false,"hidden":true,"merged":[[32,0,32,19],[49,0,49,19],[1,0,1,19],[0,0,0,21],[2,0,2,19],[17,0,17,19],[47,0,47,19],[48,0,48,20]]}
["Sauk Centre Historical Minnesota Local Sales & Use Tax"]
[{"$f":"'Local SUT'!A2","v":"CY 2004-2024"}]
["Sauk Centre Local Sales Tax (0.5%)"]
["Month",2004,2005,2006,2007,2008,2009,2010,2011,2012,2013,2014,2015,2016,2017,2018,2019,2020,2021,2022,2023,2024]
["January ","-","-","-","-","-","-","-","-","-","-","-","-","-","-","-","-",2,50048,58207,60221,60491]
["February","-","-","-","-","-","-","-","-","-","-","-","-","-","-","-","-",31493,39810,45530,48128,48938]
["March","-","-","-","-","-","-","-","-","-","-","-","-","-","-","-","-",32859,38066,39244,42813,52655]
["April","-","-","-","-","-","-","-","-","-","-","-","-","-","-","-","-",37318,49306,52192,50631,50512]
["May","-","-","-","-","-","-","-","-","-","-","-","-","-","-","-","-",37740,51787,51785,49111,46839]
["June","-","-","-","-","-","-","-","-","-","-","-","-","-","-","-","-",47567,53114,58102,60305,61127]
["July","-","-","-","-","-","-","-","-","-","-","-","-","-","-","-","-",45271,51769,67135,66455,60949]
["August","-","-","-","-","-","-","-","-","-","-","-","-","-","-","-","-",48804,49872,67035,58906,61675.21]
["September","-","-","-","-","-","-","-","-","-","-","-","-","-","-","-","-",47093,52152,58172,59553,61517.56]
["October","-","-","-","-","-","-","-","-","-","-","-","-","-","-","-","-",47063,52890,56124,61763,56812.959999999999]
["November ","-","-","-","-","-","-","-","-","-","-","-","-","-","-","-","-",43663,46332,55606,53475,55483.49]
["December","-","-","-","-","-","-","-","-","-","-","-","-","-","-","-","-",44592,53478,54956,54236,53074.17]
["Total","-","-","-","-","-",{"$f":"SUM(G5:G16)","v":0},0,0,0,0,0,0,0,0,0,0,{"$f":"SUM(R5:R16)","v":463465},588624,664088,{"$f":"SUM(U5:U16)","v":665597},{"$f":"SUM(V5:V16)","v":670074.39}]
["Sauk Centre Local Use Tax (0.5%)"]
["Month",2005,2005,2006,2007,2008,2009,2010,2011,2012,2013,2014,2015,2016,2017,2018,2019,2020,2021,2022,2023,2024]
["January ","-","-","-","-","-","-","-","-","-","-","-","-","-","-","-","-",0,1811,2506,2336,2198]
["February","-","-","-","-","-","-","-","-","-","-","-","-","-","-","-","-",1131,1555,1704,1428,1495]
["March","-","-","-","-","-","-","-","-","-","-","-","-","-","-","-","-",1253,1561,1765,2464,3267]
["April","-","-","-","-","-","-","-","-","-","-","-","-","-","-","-","-",1964,2204,1997,1899,1837]
["May","-","-","-","-","-","-","-","-","-","-","-","-","-","-","-","-",1912,1572,1716,913,2210]
["June","-","-","-","-","-","-","-","-","-","-","-","-","-","-","-","-",2276,2179,2799,2674,2449]
["July","-","-","-","-","-","-","-","-","-","-","-","-","-","-","-","-",2356,2651,8293,3135,2646]
["August","-","-","-","-","-","-","-","-","-","-","-","-","-","-","-","-",1787,1908,3310,2209,2333.2199999999998]
["September","-","-","-","-","-","-","-","-","-","-","-","-","-","-","-","-",1926,2264,2671,2551,2891]
["October","-","-","-","-","-","-","-","-","-","-","-","-","-","-","-","-",1976,3545,2436,2600,2028.11]
["November ","-","-","-","-","-","-","-","-","-","-","-","-","-","-","-","-",3068,2017,2141,3472,4303.37]
["December","-","-","-","-","-","-","-","-","-","-","-","-","-","-","-","-",2821,2090,1988,2799,2120.1]
["Total","-","-","-","-","-",{"$f":"SUM(G20:G31)","v":0},0,0,0,0,0,0,0,0,0,0,{"$f":"SUM(R20:R31)","v":22470},25357,33326,{"$f":"SUM(U20:U31)","v":28480},{"$f":"SUM(V20:V31)","v":29777.8}]
["Sauk Centre Refunds"]
["Month",2005,2005,2006,2007,2008,2009,2010,2011,2012,2013,2014,2015,2016,2017,2018,2019,2020,2021,2022,2023,2024]
["January ","-","-","-","-","-","-","-","-","-","-","-","-","-","-","-","-",0,-190,-189,-154,0]
["February","-","-","-","-","-","-","-","-","-","-","-","-","-","-","-","-",0,0,0,-177,0]
["March","-","-","-","-","-","-","-","-","-","-","-","-","-","-","-","-",0,-191,0,-37,0]
["April","-","-","-","-","-","-","-","-","-","-","-","-","-","-","-","-",0,0,0,0,0]
["May","-","-","-","-","-","-","-","-","-","-","-","-","-","-","-","-",0,0,0,-41,-75]
["June","-","-","-","-","-","-","-","-","-","-","-","-","-","-","-","-",0,0,0,0,0]
["July","-","-","-","-","-","-","-","-","-","-","-","-","-","-","-","-",0,0,0,-2,-9]
["August","-","-","-","-","-","-","-","-","-","-","-","-","-","-","-","-",0,0,0,-16,-23.97]
["September","-","-","-","-","-","-","-","-","-","-","-","-","-","-","-","-",0,0,0,0,0]
["October","-","-","-","-","-","-","-","-","-","-","-","-","-","-","-","-",0,0,0,0,-9.4600000000000009]
["November ","-","-","-","-","-","-","-","-","-","-","-","-","-","-","-","-",0,0,0,0,-7.43]
["December","-","-","-","-","-","-","-","-","-","-","-","-","-","-","-","-",0,-148,0,0,0]
["Total","-","-","-","-","-",{"$f":"SUM(G35:G46)","v":0},0,0,0,0,0,0,0,0,0,0,{"$f":"SUM(R35:R46)","v":0},-529,-189,{"$f":"SUM(U35:U46)","v":-427},{"$f":"SUM(V35:V46)","v":-124.86000000000001}]
["Hidden columns B-Q do not contain any data for CY 2004-2019"]
[{"$f":"'Local SUT'!A71","v":"Source:  Minnesota Department of Revenue, Tax Research Division, November 2025"}]
["end of worksheet"]

{"sheet":"Scanlon","index":59,"n_rows":50,"n_cols":22,"rows_kept":50,"cut":false,"hidden":true,"merged":[[32,0,32,19],[49,0,49,19],[1,0,1,19],[0,0,0,20],[2,0,2,19],[17,0,17,19],[47,0,47,19],[48,0,48,20]]}
["Scanlon Historical Minnesota Local Sales & Use Tax"]
[{"$f":"'Local SUT'!A2","v":"CY 2004-2024"}]
["Scanlon Local Sales Tax (0.5%)"]
["Month",2004,2005,2006,2007,2008,2009,2010,2011,2012,2013,2014,2015,2016,2017,2018,2019,2020,2021,2022,2023,2024]
["January ","-","-","-","-","-","-","-","-","-","-","-","-","-","-","-","-",0,3935,5428,7207,7858]
["February","-","-","-","-","-","-","-","-","-","-","-","-","-","-","-","-",2693,3896,6510,7353,6856]
["March","-","-","-","-","-","-","-","-","-","-","-","-","-","-","-","-",2860,4067,5855,8137,7395]
["April","-","-","-","-","-","-","-","-","-","-","-","-","-","-","-","-",3167,4758,7040,7860,7352]
["May","-","-","-","-","-","-","-","-","-","-","-","-","-","-","-","-",2888,4507,6401,6813,8001]
["June","-","-","-","-","-","-","-","-","-","-","-","-","-","-","-","-",2942,4878,6780,8450,8251]
["July","-","-","-","-","-","-","-","-","-","-","-","-","-","-","-","-",2275,14487,7389,8976,8298]
["August","-","-","-","-","-","-","-","-","-","-","-","-","-","-","-","-",5268,5139,7340,8156,8365.48]
["September","-","-","-","-","-","-","-","-","-","-","-","-","-","-","-","-",3559,5357,7717,8518,8335.2099999999991]
["October","-","-","-","-","-","-","-","-","-","-","-","-","-","-","-","-",4150,15549,7402,7924,6191.95]
["November ","-","-","-","-","-","-","-","-","-","-","-","-","-","-","-","-",3745,6179,7780,8496,8462.14]
["December","-","-","-","-","-","-","-","-","-","-","-","-","-","-","-","-",3684,4883,7818,7361,7631.46]
["Total","-","-","-","-","-",{"$f":"SUM(G5:G16)","v":0},0,0,0,0,0,0,0,0,0,0,{"$f":"SUM(R5:R16)","v":37231},77635,83460,{"$f":"SUM(U5:U16)","v":95251},{"$f":"SUM(V5:V16)","v":92997.24}]
["Scanlon Local Use Tax (0.5%)"]
["Month",2005,2005,2006,2007,2008,2009,2010,2011,2012,2013,2014,2015,2016,2017,2018,2019,2020,2021,2022,2023,2024]
["January ","-","-","-","-","-","-","-","-","-","-","-","-","-","-","-","-",0,170,137,200,179]
["February","-","-","-","-","-","-","-","-","-","-","-","-","-","-","-","-",42,150,89,296,108]
["March","-","-","-","-","-","-","-","-","-","-","-","-","-","-","-","-",20,20,92,203,147]
["April","-","-","-","-","-","-","-","-","-","-","-","-","-","-","-","-",35,171,103,170,178]
["May","-","-","-","-","-","-","-","-","-","-","-","-","-","-","-","-",50,44,207,171,264]
["June","-","-","-","-","-","-","-","-","-","-","-","-","-","-","-","-",15,70,70,94,96]
["July","-","-","-","-","-","-","-","-","-","-","-","-","-","-","-","-",18,291,177,145,103]
["August","-","-","-","-","-","-","-","-","-","-","-","-","-","-","-","-",38,17,61,102,237]
["September","-","-","-","-","-","-","-","-","-","-","-","-","-","-","-","-",184,7,172,131,156]
["October","-","-","-","-","-","-","-","-","-","-","-","-","-","-","-","-",72,349,150,115,102]
["November ","-","-","-","-","-","-","-","-","-","-","-","-","-","-","-","-",26,47,112,166,91.07]
["December","-","-","-","-","-","-","-","-","-","-","-","-","-","-","-","-",39,29,157,160,98.07]
["Total","-","-","-","-","-",{"$f":"SUM(G20:G31)","v":0},0,0,0,0,0,0,0,0,0,0,{"$f":"SUM(R20:R31)","v":539},1365,1527,{"$f":"SUM(U20:U31)","v":1953},{"$f":"SUM(V20:V31)","v":1759.1399999999999}]
["Scanlon Refunds"]
["Month",2005,2005,2006,2007,2008,2009,2010,2011,2012,2013,2014,2015,2016,2017,2018,2019,2020,2021,2022,2023,2024]
["January ","-","-","-","-","-","-","-","-","-","-","-","-","-","-","-","-",0,0,0,0,0]
["February","-","-","-","-","-","-","-","-","-","-","-","-","-","-","-","-",0,0,0,0,0]
["March","-","-","-","-","-","-","-","-","-","-","-","-","-","-","-","-",0,0,0,0,0]
["April","-","-","-","-","-","-","-","-","-","-","-","-","-","-","-","-",0,0,0,0,0]
["May","-","-","-","-","-","-","-","-","-","-","-","-","-","-","-","-",0,0,0,0,0]
["June","-","-","-","-","-","-","-","-","-","-","-","-","-","-","-","-",0,0,0,0,0]
["July","-","-","-","-","-","-","-","-","-","-","-","-","-","-","-","-",0,0,0,0,-7]
["August","-","-","-","-","-","-","-","-","-","-","-","-","-","-","-","-",0,0,0,-30,0]
["September","-","-","-","-","-","-","-","-","-","-","-","-","-","-","-","-",0,0,0,0,0]
["October","-","-","-","-","-","-","-","-","-","-","-","-","-","-","-","-",0,0,0,0,0]
["November ","-","-","-","-","-","-","-","-","-","-","-","-","-","-","-","-",0,0,0,0,0]
["December","-","-","-","-","-","-","-","-","-","-","-","-","-","-","-","-",0,0,0,0,0]
["Total","-","-","-","-","-",{"$f":"SUM(G35:G46)","v":0},0,0,0,0,0,0,0,0,0,0,{"$f":"SUM(R35:R46)","v":0},0,0,{"$f":"SUM(U35:U46)","v":-30},{"$f":"SUM(V35:V46)","v":-7}]
["Hidden columns B-Q do not contain any data for CY 2004-2019"]
[{"$f":"'Local SUT'!A71","v":"Source:  Minnesota Department of Revenue, Tax Research Division, November 2025"}]
["end of worksheet"]