{"text_format":"1","workbook":"xlsx","n_sheets":34,"sheets":["Lod&Liq","Plymouth","Ortonville","Goodhue","Locally Administered","Anoka","Carver","Dakota","Hennepin","Proctor","Kandiyohi","Ramsey","Scott","St. Louis","Washington","Otter Tail","Carlton","Beltrami","Detroit Lakes","Giants Ridge","Mankato","Minneapolis","Marshall","Rochester","North Mankato","St. Cloud","St. Paul","Metro Area Transit","Willmar","Rogers","Lake of the Woods","Sauk Centre","Lake","Two Harbors"],"not_rendered":{"charts":0,"images":0,"macros":1,"external_links":1,"defined_names":7,"comments":0,"pivot_tables":0},"unopened":[],"bounds":{"document_bytes":16777216,"sheet_cells":100000,"rows_first":2000,"rows_last":500,"rows_between":2000,"halvings":0,"cell_chars":16384,"cell_head_chars":4096},"cells_cut":0,"cells_raw":0,"read":"whole","date_system":"1900"}

{"sheet":"Lod&Liq","index":0,"n_rows":72,"n_cols":7,"rows_kept":72,"cut":false,"hidden":false,"merged":[[71,0,71,6],[62,0,62,6],[63,0,63,6],[64,0,64,6],[65,0,65,6],[66,0,66,6],[68,0,68,6],[0,0,0,6],[1,0,1,6],[2,0,2,6],[70,0,70,6],[69,0,69,6],[67,0,67,6],[3,0,3,6]]}
["Table 4. Local Selective Sales & Use Tax"]
["CY 2024"]
[" DOR Administered: For monthly collections (2004 through December 2024), double click on links.1"]
[" Locally Administered: For annual collections (2006 through 2024), double click on link."]
["City ","Lodging2","Liquor","Food & Beverage","Entertainment","Vehicle\nExcise","Total"]
["DOR administered","This cell is intentionally left blank","This cell is intentionally left blank","This cell is intentionally left blank","This cell is intentionally left blank","This cell is intentionally left blank","This cell is intentionally left blank"]
["Detroit Lakes","-","-",{"$f":"'Detroit Lakes'!$V$17","v":553094},"-","-",{"$f":"SUM(B7:F7)","v":553094}]
["Giants Ridge",{"$f":"'Giants Ridge'!$V$32","v":81424},"-",{"$f":"'Giants Ridge'!$V$17","v":29504},{"$f":"'Giants Ridge'!$V$47","v":104261},"-",{"$f":"SUM(B8:F8)","v":215189}]
["Lake of the Woods",{"$f":"'Lake of the Woods'!$V$17","v":463939},"-","-","-","-",{"$f":"SUM(B9:F9)","v":463939}]
["Mankato","-","-",{"$f":"Mankato!$V$32","v":898955.26},{"$f":"Mankato!$V$17","v":45895},"-",{"$f":"SUM(B10:F10)","v":944850.26}]
["Marshall","-","-",{"$f":"Marshall!$V$17","v":699166},"-","-",{"$f":"SUM(B11:F11)","v":699166}]
["Minneapolis",{"$f":"Minneapolis!$V$47","v":11728208},{"$f":"Minneapolis!$V$17","v":6002879},{"$f":"Minneapolis!$V$62","v":14061560.310000001},{"$f":"Minneapolis!$V$32","v":29359293.359999999},"-",{"$f":"SUM(B12:F12)","v":61151940.670000002}]
["North Mankato","-","-",{"$f":"'North Mankato'!$V$17","v":103095.87},"-","-",{"$f":"SUM(B13:F13)","v":103095.87}]
["Ortonville",{"$f":"Ortonville!V20","v":20865},null,null,null,null,{"$f":"SUM(B14:F14)","v":20865}]
["Proctor","-","-",{"$f":"Proctor!$V$17","v":79151.489999999991},"-","-",{"$f":"SUM(B15:F15)","v":79151.489999999991}]
["Plymouth",{"$f":"Plymouth!V17","v":243932},null,null,null,null,{"$f":"SUM(B16:F16)","v":243932}]
["Rogers","-","-","-","-",{"$f":"Rogers!$V$17","v":65260},{"$f":"SUM(B17:F17)","v":65260}]
["Rochester",{"$f":"Rochester!$V$17","v":10945115},"-","-","-","-",10945115]
["Sauk Centre","-","-","-","-",{"$f":"'Sauk Centre'!$V$17","v":24640},24640]
["St. Cloud","-",{"$f":"'St. Cloud'!$V$17","v":191770},{"$f":"'St. Cloud'!$V$32","v":1606185.03},"-","-",1797955.03]
["St. Paul",{"$f":"'St. Paul'!$V$17+'St. Paul'!$V$32","v":5587662},"-","-","-","-",{"$f":"SUM(B21:F21)","v":5587662}]
["Two Harbors",{"$f":"'Two Harbors'!$V$17","v":92156},"-","-","-","-",{"$f":"SUM(B22:F22)","v":92156}]
["Willmar","-","-","-","-",{"$f":"Willmar!$V$17","v":57480},{"$f":"SUM(B23:F23)","v":57480}]
["Locally Administered","This cell is intentionally left blank","This cell is intentionally left blank","This cell is intentionally left blank","This cell is intentionally left blank","This cell is intentionally left blank","This cell is intentionally left blank"]
["Baxter","-","-","-","-",{"$f":"'Locally Administered'!$T$25","v":97684},97684]
["Bloomington",{"$f":"'Locally Administered'!$T$5","v":19912057.890000001},{"$f":"'Locally Administered'!$T$15","v":1866101.15},"-",{"$f":"'Locally Administered'!$T$22","v":2246847.59},"-",24025006.629999999]
["Brainerd","-","-","-","-",29271.82,29271.82]
["Brooklyn Center*",{"$f":"'Locally Administered'!$T$6","v":459045},"-","-","-","-",459045]
["Clearwater","-","-","-","-",{"$f":"'Locally Administered'!$T$27","v":5180},{"$f":"SUM(B29:F29)","v":5180}]
["Duluth",{"$f":"'Locally Administered'!$T$8","v":7958497.1699999999},"-",{"$f":"'Locally Administered'!$T$18","v":6848155.0899999999},"-","-",14806652.26]
["Hutchinson","-","-","-","-",{"$f":"'Locally Administered'!$T$28","v":25242},25242]
["Little Falls","-","-",143475.57,"-","-",143475.57]
["Mankato","-","-","-","-",{"$f":"'Locally Administered'!$T$29","v":207680},{"$f":"SUM(B33:F33)","v":207680}]
["New Ulm","-","-","-","-",{"$f":"'Locally Administered'!$T$30","v":53233.26},53233.26]
["Proctor",{"$f":"'Locally Administered'!$T$9","v":165891.59},"-","-","-","-",165891.59]
["Rochester","-","-","-","-",{"$f":"'Locally Administered'!$T$31","v":428280},{"$f":"SUM(B36:F36)","v":428280}]
["St. Cloud",{"$f":"'Locally Administered'!$T$10","v":1680573},"-","-","-","-",{"$f":"SUM(B37:F37)","v":1680573}]
["Two Harbors**","-","-","-","-","-",0]
["Winona",{"$f":"'Locally Administered'!$T$12","v":123706.87},"-","-","-","-",{"$f":"SUM(B39:F39)","v":123706.87}]
["Worthington","-","-","-","-",{"$f":"'Locally Administered'!$Q$32","v":"-"},{"$f":"SUM(B40:F40)","v":0}]
["City Total",{"$f":"SUM(B7:B40)","v":59463072.520000003},{"$f":"SUM(C7:C40)","v":8060750.1500000004},25022342.620000001,31756296.949999999,993951.08,{"$f":"SUM(G7:G40)","v":125296413.31999999}]
["County","Lodging2","Liquor","Food & Beverage","Entertainment","Vehicle\nExcise","Total"]
["DOR administered","This cell is intentionally left blank","This cell is intentionally left blank","This cell is intentionally left blank","This cell is intentionally left blank","This cell is intentionally left blank","This cell is intentionally left blank"]
["Anoka","-","-","-","-",{"$f":"Anoka!$V$17","v":952818.49},{"$f":"SUM(B44:F44)","v":952818.49}]
["Beltrami","-","-","-","-",{"$f":"Beltrami!$V$17","v":60900},60900]
["Carver","-","-","-","-",{"$f":"Carver!$V$17","v":42240},42240]
["Carlton","-","-","-","-",{"$f":"Carlton!$V$17","v":27960},27960]
["Dakota","-","-","-","-",{"$f":"Dakota!$V$17","v":1400940},1400940]
["Goodhue","-","-","-","-",{"$f":"Goodhue!$V$17","v":107640},107640]
["Hennepin","-","-","-","-",{"$f":"Hennepin!$V$17","v":2595338.4900000002},2595338.4900000002]
["Kandiyohi","-","-","-","-",{"$f":"Kandiyohi!$V$17","v":67900},67900]
["Lake",{"$f":"Lake!$V$17","v":1647414},"-","-","-","-",{"$f":"SUM(B52:F52)","v":1647414}]
["Otter Tail","-","-","-","-",{"$f":"'Otter Tail'!$V$17","v":98420},{"$f":"SUM(B53:F53)","v":98420}]
["Ramsey","-","-","-","-",{"$f":"Ramsey!$V$17","v":1159660},1159660]
["Scott","-","-","-","-",{"$f":"Scott!$V$17","v":258220},258220]
["St. Louis","-","-","-","-",{"$f":"'St. Louis'!$V$17","v":341780},341780]
["Washington","-","-","-","-",{"$f":"Washington!$V$17","v":313220},313220]
["Locally Administered","This cell is intentionally left blank","This cell is intentionally left blank","This cell is intentionally left blank","This cell is intentionally left blank","This cell is intentionally left blank","This cell is intentionally left blank"]
["Cook County",{"$f":"'[1]Locally Administered'!$U$7","v":0},"-","-","-","-",{"$f":"SUM(B59:F59)","v":0}]
["County Total",{"$f":"SUM(B43:B59)","v":1647414},{"$f":"SUM(C43:C59)","v":0},{"$f":"SUM(D43:D59)","v":0},{"$f":"SUM(E43:E59)","v":0},{"$f":"SUM(F43:F59)","v":7427036.9800000004},{"$f":"SUM(G44:G59)","v":9074450.9800000004}]
["Metro Area Transit","-","-","-","-",{"$f":"'Metro Area Transit'!$U$17","v":-1000},{"$f":"SUM(B61:F61)","v":-1000}]
["All Subdivisions Total***",{"$f":"+B41+B60","v":61110486.520000003},{"$f":"+C41+C60","v":8060750.1500000004},{"$f":"+D41+D60","v":25022342.620000001},{"$f":"+E41+E60","v":31756296.949999999},{"$f":"+F41+F60+F61","v":8419988.0600000005},{"$f":"+G41+G61+G60","v":134369864.29999998}]
["1Monthly collection data provided only for taxes administered by the Department of Revenue."]
["2Local lodging taxes are included in this table only if they are authorized under special law.  For lodging, a city or town may also"]
["  impose a tax of up to 3% under a general authorization provided in Minnesota Statutes, Section 469.190 for a local convention "]
["  or tourism bureau.  About 120 cities and towns levy lodging taxes under this general authorization that are not included here. "]
["Note: Metro Area Transit Tax includes Anoka, Dakota, Hennepin, Ramsey, & Washington Counties."]
["*"]
["**The Minnesota Department of Revenue took over Two Harbors Local Lodging Tax administration on October 1, 2020. Figures for before and after this administration change are under Locally Administered & DOR Administered respectively."]
["***Note that the \"through June\" versions of this workbook will be quite skewed along this row because locally administed is only added yearly"]
["Source:  Minnesota Department of Revenue, Tax Research Division, November 2025"]
["end of worksheet"]

{"sheet":"Plymouth","index":1,"n_rows":20,"n_cols":22,"rows_kept":20,"cut":false,"hidden":true,"merged":[[19,0,19,19],[0,0,0,22],[1,0,1,19],[2,0,2,19],[17,0,17,20],[18,0,18,22]]}
["Plymouth Monthly Detail for Minnesota Local Sales & Use Tax"]
[{"$f":"'Lod&Liq'!A2","v":"CY 2024"}]
["Plymouth Lodging Tax (3.00%)"]
["Month",2004,2005,2006,2007,2008,2009,2010,2011,2012,2013,2014,2015,2016,2017,2018,2019,2020,2021,2022,2023,2024]
["January ","-","-","-","-","-","-","-","-","-","-","-","-","-","-","-"]
["February","-","-","-","-","-","-","-","-","-","-","-","-","-","-","-"]
["March","-","-","-","-","-","-","-","-","-","-","-","-","-","-","-"]
["April","-","-","-","-","-","-","-","-","-","-","-","-","-","-","-"]
["May","-","-","-","-","-","-","-","-","-","-","-","-","-","-","-"]
["June","-","-","-","-","-","-","-","-","-","-","-","-","-","-","-"]
["July","-","-","-","-","-","-","-","-","-","-","-","-","-","-","-",null,null,null,null,null,0]
["August","-","-","-","-","-","-","-","-","-","-","-","-","-","-","-",null,null,null,null,null,55013]
["September","-","-","-","-","-","-","-","-","-","-","-","-","-","-","-",null,null,null,null,null,49943]
["October","-","-","-","-","-","-","-","-","-","-","-","-","-","-","-",null,null,null,null,null,52060]
["November ","-","-","-","-","-","-","-","-","-","-","-","-","-","-","-",null,null,null,null,null,49637]
["December","-","-","-","-","-","-","-","-","-","-","-","-","-","-","-",null,null,null,null,null,37279]
["Total","-","-","-","-","-","-","-","-","-","-","-","-","-","-","-",{"$f":"SUM(Q5:Q16)","v":0},0,0,0,0,243932]
["Hidden columns B-N do not contain any data for CY 2004-2016"]
[{"$f":"'Lod&Liq'!A71:F71","v":"Source:  Minnesota Department of Revenue, Tax Research Division, November 2025"}]
["end of worksheet"]

{"sheet":"Ortonville","index":2,"n_rows":20,"n_cols":22,"rows_kept":20,"cut":false,"hidden":false,"merged":[[0,0,4,21],[5,0,5,21]]}
["*Due to disclosure reasons, monthly totals for Ortonville are not available. Ortonville Lodging tax was established in 2024. "]
[]
[]
[]
[]
["Ortonville Lodging Tax (3.00%)"]
[null,2004,2005,2006,2007,2008,2009,2010,2011,2012,2013,2014,2015,2016,2017,2018,2019,2020,2021,2022,2023,2024]
["January ",null,null,null,null,null,null,null,null,null,null,null,null,null,null,null,null,null,null,null,null,"N/A"]
["February",null,null,null,null,null,null,null,null,null,null,null,null,null,null,null,null,null,null,null,null,"N/A"]
["March",null,null,null,null,null,null,null,null,null,null,null,null,null,null,null,null,null,null,null,null,"N/A"]
["April",null,null,null,null,null,null,null,null,null,null,null,null,null,null,null,null,null,null,null,null,"N/A"]
["May",null,null,null,null,null,null,null,null,null,null,null,null,null,null,null,null,null,null,null,null,"N/A"]
["June",null,null,null,null,null,null,null,null,null,null,null,null,null,null,null,null,null,null,null,null,"N/A"]
["July",null,null,null,null,null,null,null,null,null,null,null,null,null,null,null,null,null,null,null,null,"N/A"]
["August",null,null,null,null,null,null,null,null,null,null,null,null,null,null,null,null,null,null,null,null,"N/A"]
["September",null,null,null,null,null,null,null,null,null,null,null,null,null,null,null,null,null,null,null,null,"N/A"]
["October",null,null,null,null,null,null,null,null,null,null,null,null,null,null,null,null,null,null,null,null,"N/A"]
["November ",null,null,null,null,null,null,null,null,null,null,null,null,null,null,null,null,null,null,null,null,"N/A"]
["December",null,null,null,null,null,null,null,null,null,null,null,null,null,null,null,null,null,null,null,null,"N/A"]
["Total",null,null,null,null,null,null,null,null,null,null,null,null,null,null,null,null,null,null,null,null,20865]

{"sheet":"Goodhue","index":3,"n_rows":20,"n_cols":22,"rows_kept":20,"cut":false,"hidden":true,"merged":[[0,0,0,22],[18,0,18,22],[19,0,19,19],[1,0,1,19],[17,0,17,20],[2,0,2,19]]}
["Goodhue County Monthly Detail for Minnesota Local Sales & Use Tax"]
[{"$f":"'Lod&Liq'!A2","v":"CY 2024"}]
["Goodhue County Transit Vehicle Excise Tax ($20)"]
["Month",2004,2005,2006,2007,2008,2009,2010,2011,2012,2013,2014,2015,2016,2017,2018,2019,2020,2021,2022,2023,2024]
["January ","-","-","-","-","-","-","-","-","-","-","-","-","-","-","-",0,13160,9060,10460,13760,9220]
["February","-","-","-","-","-","-","-","-","-","-","-","-","-","-","-",5380,6080,9680,7740,7800,7280]
["March","-","-","-","-","-","-","-","-","-","-","-","-","-","-","-",5960,7720,10760,11340,8280,7320]
["April","-","-","-","-","-","-","-","-","-","-","-","-","-","-","-",10460,10240,12520,11720,9880,12480]
["May","-","-","-","-","-","-","-","-","-","-","-","-","-","-","-",7400,4760,12460,8880,8900,10880]
["June","-","-","-","-","-","-","-","-","-","-","-","-","-","-","-",6980,7340,10300,10340,9460,9500]
["July","-","-","-","-","-","-","-","-","-","-","-","-","-","-","-",9500,18040,11100,10840,11640,8700]
["August","-","-","-","-","-","-","-","-","-","-","-","-","-","-","-",6860,8020,9980,8900,8020,7160]
["September","-","-","-","-","-","-","-","-","-","-","-","-","-","-","-",7980,8260,10100,10000,9760,8060]
["October","-","-","-","-","-","-","-","-","-","-","-","-","-","-","-",13260,11720,9980,8380,8440,9740]
["November ","-","-","-","-","-","-","-","-","-","-","-","-","-","-","-",7440,8660,8900,8500,7260,8940]
["December","-","-","-","-","-","-","-","-","-","-","-","-","-","-","-",7560,6560,9480,6680,6600,8360]
["Total","-","-","-","-","-","-","-","-","-","-","-","-","-","-","-",{"$f":"SUM(Q5:Q16)","v":88780},110560,124320,113780,109800,107640]
["Hidden columns B-N do not contain any data for CY 2004-2016"]
[{"$f":"'Lod&Liq'!A71:F71","v":"Source:  Minnesota Department of Revenue, Tax Research Division, November 2025"}]
["end of worksheet"]

{"sheet":"Locally Administered","index":4,"n_rows":38,"n_cols":20,"rows_kept":38,"cut":false,"hidden":true,"merged":[[0,0,0,19],[37,0,37,17],[1,0,1,17],[34,0,34,17],[33,0,33,18],[35,0,35,18],[36,0,36,18]]}
["Locally Administered Selective Sales & Use Taxes"]
["CY 2006-2024"]
["Locally Administered",2006,2007,2008,2009,2010,2011,2012,2013,2014,2015,2016,2017,2018,2019,2020,2021,2022,2023,2024]
["Lodging:","This cell intentionally left blank","This cell intentionally left blank","This cell intentionally left blank","This cell intentionally left blank","This cell intentionally left blank","This cell intentionally left blank","This cell intentionally left blank","This cell intentionally left blank","This cell intentionally left blank","This cell intentionally left blank","This cell intentionally left blank","This cell intentionally left blank","This cell intentionally left blank","This cell intentionally left blank","This cell intentionally left blank","This cell intentionally left blank","This cell intentionally left blank","This cell intentionally left blank","This cell intentionally left blank"]
["Bloomington",12150792,13220356,13494807,11018530,11861992,12897302,13422224,14433709,16102730,16418917,19439880,18350700,20513496,20095401,6084620,11646726,18316891,19463870,19912057.890000001]
["Brooklyn Center*",369388,353465,309981,295645.625,348372.95500000002,426151.22499999998,441309.89500000002,440625.88,457325.52500000002,537712.60499999998,579759.65,603282.48499999999,583980.56999999995,545552.68500000006,280801.21000000002,366269.19500000001,527007.4,430548,459045]
["Cook County","-","-","-",250478,274713,293575,307000,323787,330917,359781,385417,399478,429491,447534,481405.25,611352.57999999996,610737.81000000006]
["Duluth",2996863,3323225,3432331,3302840,3597495,3836211,4053588,3990722,4449296,5266030,5750630,5845400.2699999996,6222186.5600000005,6373158,4064489,6677522,7502082,7972470,7958497.1699999999]
["Proctor",3638,3938,3812,3542,{"$f":"36395*0.1","v":3639.5},{"$f":"39528*0.1","v":3952.8},12669,13749,14668.5,15581,16444,15454,15289,14914,9593.4699999999993,145297.54,155660.68,145781.84,165891.59]
["St. Cloud",1044517,1116272,1069702,1002729,1111445,1168599,1251438,1336559,1455900,1508300,1662376,1623035,1623034.85,1599444,749418.27,1145819,1517873.78,1710924,1680573]
["Two Harbors**",26832,25758,28663,28038,{"$f":"93553/3","v":31184.333333333332},{"$f":"88937/3","v":29645.666666666668},31218,38805,38389.120000000003,45362,49537,49288,52862,54697,42491,0,0,0,0]
["Winona",75346,79860,78651,75290,76764,85003,90545,88735,96007,99165,93057,98616,96928,105060,57648.817499999997,101403.03,120082.05,122637.52,123706.87]
["Lodging Total",{"$f":"SUM(B5:B12)","v":16667376},18122874,18417947,15977092.625,17305605.78833333,18740439.69166667,19609991.895,20666691.880000003,22945233.145,24250848.605,27977100.649999999,26985253.754999999,29537267.980000004,29235760.684999999,11770467.017500002,20694389.344999999,28750334.719999999,29846231.359999999,30299771.520000003]
["Liquor:","This cell intentionally left blank","This cell intentionally left blank","This cell intentionally left blank","This cell intentionally left blank","This cell intentionally left blank","This cell intentionally left blank","This cell intentionally left blank","This cell intentionally left blank","This cell intentionally left blank","This cell intentionally left blank","This cell intentionally left blank","This cell intentionally left blank","This cell intentionally left blank","This cell intentionally left blank","This cell intentionally left blank","This cell intentionally left blank","This cell intentionally left blank","This cell intentionally left blank","This cell intentionally left blank"]
["Bloomington",1068004,1096490,1107766,1066841,1150998,1321312,1404428,1478608,1519530,1507020,1690665,1710480,1801901,1771723,706127,1273811,1697086,1881763,1866101.15]
["Liquor Total",{"$f":"SUM(B15)","v":1068004},1096490,1107766,1066841,1150998,1321312,1404428,1478608,1519530,1507020,1690665,1710480,1801901,1771723,706127,1273811,1697086,1881763,1866101.15]
["Food & Beverage:","This cell intentionally left blank","This cell intentionally left blank","This cell intentionally left blank","This cell intentionally left blank","This cell intentionally left blank","This cell intentionally left blank","This cell intentionally left blank","This cell intentionally left blank","This cell intentionally left blank","This cell intentionally left blank","This cell intentionally left blank","This cell intentionally left blank","This cell intentionally left blank","This cell intentionally left blank","This cell intentionally left blank","This cell intentionally left blank","This cell intentionally left blank","This cell intentionally left blank","This cell intentionally left blank"]
["Duluth",2449275,2580310,3367034,3932469,4189227,4362601,4391480,3654041,4373296,5379461,5594280,5778484.4699999997,5950571.6999999993,6042886,4317413,5769072,6284269,6769022.5700000003,6848155.0899999999]
["Little Falls",69650,74630,78854,75892,74974,80664,83485,83622,85045,94285,95237,95270,108965,107141,93391.73,114635,121663.88,128839.63,143475.57]
["Food & Beverage Total",{"$f":"SUM(B18:B19)","v":2518925},2654940,3445888,4008361,4264201,4443265,4474965,3737663,4458341,5473746,5689517,5873754.4699999997,6059536.6999999993,6150027,4410804.7300000004,5883707,6405932.8799999999,6897862.2000000002,6991630.6600000001]
["Entertainment:","This cell intentionally left blank","This cell intentionally left blank","This cell intentionally left blank","This cell intentionally left blank","This cell intentionally left blank","This cell intentionally left blank","This cell intentionally left blank","This cell intentionally left blank","This cell intentionally left blank","This cell intentionally left blank","This cell intentionally left blank","This cell intentionally left blank","This cell intentionally left blank","This cell intentionally left blank","This cell intentionally left blank","This cell intentionally left blank","This cell intentionally left blank","This cell intentionally left blank","This cell intentionally left blank"]
["Bloomington",855987,858350,1017748,1083169,1110944,1321094,1248238,1385570,1291588,1249272,1469958,1428680,1587584,1692989,433764,1275477,1743407,1832142,2246847.59]
["Entertainment Total",{"$f":"SUM(B22)","v":855987},858350,1017748,1083169,1110944,1321094,1248238,1385570,1291588,1249272,1469958,1428680,1587584,1692989,433764,1275477,1743407,1832142,2246847.59]
["Vehicle Excise - Cities:","This cell intentionally left blank","This cell intentionally left blank","This cell intentionally left blank","This cell intentionally left blank","This cell intentionally left blank","This cell intentionally left blank","This cell intentionally left blank","This cell intentionally left blank","This cell intentionally left blank","This cell intentionally left blank","This cell intentionally left blank","This cell intentionally left blank","This cell intentionally left blank","This cell intentionally left blank","This cell intentionally left blank","This cell intentionally left blank","This cell intentionally left blank","This cell intentionally left blank","This cell intentionally left blank"]
["Baxter",24244,111992,101216,89489,101836,111992,101734,109595,114263,124500,119631,122634,111086,104453,107440,117757,99272,104925,97684]
["Brainerd","-",30299,33351,30305,25963,30171,30481,34471,38335.83,32190,37470.980000000003,47553,48846,48266,43647.199999999997,45735.44,35623.050000000003,35715.19,29271.82]
["Clearwater","-","-","-","-",166178,299604,44702,95899,0,0,220,0,0,0,0,0,8920,5340,5180]
["Hutchinson","-","-","-","-","-","-",27500,28640,34100,32940,30128,29458,24598,24882,23818,21484,20094,18802,25242]
["Mankato",163260,171340,159080,153200,180080,195960,212640,205880,217300,219240,211960,227440,246060,255480,232950,255955,218450,256570,207680]
["New Ulm",41709,38688,37722,32929,36850,48695,50845,51515,51730.42,51387,51824.73,57081,56039.78,57215.199999999997,61759.01,63132.62,57078.82,60701.279999999999,53233.26]
["Rochester",299260,299500,278520,285680,315560,337170,357580,376880,388300,399900,400880,418120,421940,437080,394000,438490,339360,436400,428280]
["Worthington","-","-","-",12508,21463,21626,19506,34172,39217,47697,49819,54610,48248,"-","-","-","-","-","-"]
["Vehicle Excise - Cities Total",{"$f":"SUM(B25:B32)","v":528473},651819,609889,604111,847930,1045218,844988,937052,883246.25,907854,901933.71,956896,956817.78,927376.2,863614.21,942554.06,778797.87,918453.47,846571.08000000007]
["Note: Local Sales & Use Tax for Worthington ended September 30, 2018. "]
["*Brooklyn Center was revised for all years in 2022."]
["**The Minnesota Department of Revenue took over Two Harbors Local Lodging Tax administration on October 1, 2020. To see figures after this date select Two Harbors under DOR Administered."]
[{"$f":"'Lod&Liq'!A71:F71","v":"Source:  Minnesota Department of Revenue, Tax Research Division, November 2025"}]
["end of worksheet"]

{"sheet":"Anoka","index":5,"n_rows":20,"n_cols":22,"rows_kept":20,"cut":false,"hidden":true,"merged":[[0,0,0,19],[18,0,18,19],[19,0,19,19],[1,0,1,19],[2,0,2,19],[17,0,17,19]]}
["Anoka County Monthly Detail for Minnesota Local Sales & Use Tax"]
[{"$f":"'Lod&Liq'!A2","v":"CY 2024"}]
["Anoka County Transit Vehicle Excise Tax ($20)"]
["Month",2004,2005,2006,2007,2008,2009,2010,2011,2012,2013,2014,2015,2016,2017,2018,2019,2020,2021,2022,2023,2024]
["January ","-","-","-","-","-","-","-","-","-","-","-","-","-","-",52980,75860,82000,72060,71760,101800,80500]
["February","-","-","-","-","-","-","-","-","-","-","-","-","-","-",67100,60980,73160,82520,212220,60720,63380]
["March","-","-","-","-","-","-","-","-","-","-","-","-","-","-",59660,54800,63200,69080,64000,65400,67820]
["April","-","-","-","-","-","-","-","-","-","-","-","-","-","-",82140,86040,76800,112520,99940,124620,79860]
["May","-","-","-","-","-","-","-","-","-","-","-","-","-","-",64640,83560,73360,84020,91020,109760,91720]
["June","-","-","-","-","-","-","-","-","-","-","-","-","-","-",68460,85060,82080,81060,59800,69980,79520]
["July","-","-","-","-","-","-","-","-","-","-","-","-","-","-",64920,88680,104400,87120,77300,89120,98800]
["August","-","-","-","-","-","-","-","-","-","-","-","-","-","-",92460,81560,98980,90420,58280,69600,77778.490000000005]
["September","-","-","-","-","-","-","-","-","-","-","-","-","-","-",68000,77860,84740,67960,63020,81020,89580]
["October","-","-","-","-","-","-","-","-","-","-","-","-","-","-",74100,77240,94720,85740,80620,101920,90600]
["November ","-","-","-","-","-","-","-","-","-","-","-","-","-",61320,64320,77240,84000,88180,67560,70520,72720]
["December","-","-","-","-","-","-","-","-","-","-","-","-","-",61820,57820,71860,65480,80288,41660,69720,60540]
["Total","-","-","-","-","-","-","-","-","-","-","-","-","-",{"$f":"SUM(O5:O16)","v":123140},816600,920740,982920,1000968,987180,{"$f":"SUM(U5:U16)","v":1014180},{"$f":"SUM(V5:V16)","v":952818.49}]
["Hidden columns B-N do not contain any data for CY 2004-2016"]
[{"$f":"'Lod&Liq'!A71:F71","v":"Source:  Minnesota Department of Revenue, Tax Research Division, November 2025"}]
["end of worksheet"]

{"sheet":"Carver","index":6,"n_rows":20,"n_cols":22,"rows_kept":20,"cut":false,"hidden":true,"merged":[[0,0,0,19],[19,0,19,19],[18,0,18,20],[2,0,2,19],[1,0,1,19],[17,0,17,19]]}
["Carver County Monthly Detail for Minnesota Local Sales & Use Tax"]
[{"$f":"'Lod&Liq'!A2","v":"CY 2024"}]
["Carver County Transit Vehicle Excise Tax ($20)"]
["Month",2004,2005,2006,2007,2008,2009,2010,2011,2012,2013,2014,2015,2016,2017,2018,2019,2020,2021,2022,2023,2024]
["January ","-","-","-","-","-","-","-","-","-","-","-","-","-","-",4700,4960,4220,4140,3640,3300,3420]
["February","-","-","-","-","-","-","-","-","-","-","-","-","-","-",3600,3580,3440,3680,3360,2420,6560]
["March","-","-","-","-","-","-","-","-","-","-","-","-","-","-",3960,2960,3360,3600,3580,3120,2440]
["April","-","-","-","-","-","-","-","-","-","-","-","-","-","-",4920,4460,3160,4620,3460,3060,3420]
["May","-","-","-","-","-","-","-","-","-","-","-","-","-","-",4020,4380,2920,5240,4020,3340,3400]
["June","-","-","-","-","-","-","-","-","-","-","-","-","-","-",4760,5300,4300,4780,3260,3760,4880]
["July","-","-","-","-","-","-","-","-","-","-","-","-","-","-",5000,4240,4760,5040,3840,3620,3400]
["August","-","-","-","-","-","-","-","-","-","-","-","-","-","-",4240,4580,5120,4200,3560,3580,3100]
["September","-","-","-","-","-","-","-","-","-","-","-","-","-","-",5120,5040,4680,3940,3560,19000,3100]
["October","-","-","-","-","-","-","-","-","-","-","-","-","-","-",5300,4040,4560,4020,11340,3920,2920]
["November ","-","-","-","-","-","-","-","-","-","-","-","-","-",4140,4820,4540,4420,3900,3040,3480,2800]
["December","-","-","-","-","-","-","-","-","-","-","-","-","-",3700,4080,4320,3660,4380,2000,2920,2800]
["Total","-","-","-","-","-","-","-","-","-","-","-","-","-",{"$f":"SUM(O5:O16)","v":7840},54520,52400,48600,51540,48660,{"$f":"SUM(U5:U16)","v":55520},{"$f":"SUM(V5:V16)","v":42240}]
["Hidden columns B-N do not contain any data for CY 2004-2016"]
[{"$f":"'Lod&Liq'!A71:F71","v":"Source:  Minnesota Department of Revenue, Tax Research Division, November 2025"}]
["end of worksheet"]

{"sheet":"Dakota","index":7,"n_rows":20,"n_cols":22,"rows_kept":20,"cut":false,"hidden":true,"merged":[[0,0,0,19],[19,0,19,19],[18,0,18,19],[1,0,1,19],[2,0,2,19],[17,0,17,19]]}
["Dakota County Monthly Detail for Minnesota Local Sales & Use Tax"]
[{"$f":"'Lod&Liq'!A2","v":"CY 2024"}]
["Dakota County Transit Vehicle Excise Tax ($20)"]
["Month",2004,2005,2006,2007,2008,2009,2010,2011,2012,2013,2014,2015,2016,2017,2018,2019,2020,2021,2022,2023,2024]
["January ","-","-","-","-","-","-","-","-","-","-","-","-","-","-",110340,119400,118760,121980,97720,105440,120160]
["February","-","-","-","-","-","-","-","-","-","-","-","-","-","-",95680,99080,100100,101320,102880,97580,111120]
["March","-","-","-","-","-","-","-","-","-","-","-","-","-","-",94720,87480,113540,98700,90840,95580,101780]
["April","-","-","-","-","-","-","-","-","-","-","-","-","-","-",127880,132200,101200,148560,115180,131240,131820]
["May","-","-","-","-","-","-","-","-","-","-","-","-","-","-",109340,110560,76560,129260,106820,121760,143780]
["June","-","-","-","-","-","-","-","-","-","-","-","-","-","-",140660,130200,112640,140420,122440,128820,115040]
["July","-","-","-","-","-","-","-","-","-","-","-","-","-","-",126140,118100,128640,107560,121480,130900,106980]
["August","-","-","-","-","-","-","-","-","-","-","-","-","-","-",133520,142880,153780,160780,102580,134460,119360]
["September","-","-","-","-","-","-","-","-","-","-","-","-","-","-",133300,139400,126560,101900,132340,126200,120520]
["October","-","-","-","-","-","-","-","-","-","-","-","-","-","-",120960,131860,121660,115140,115040,123200,115920]
["November ","-","-","-","-","-","-","-","-","-","-","-","-","-",101620,113160,125340,106600,108420,106360,109780,115260]
["December","-","-","-","-","-","-","-","-","-","-","-","-","-",99440,107180,136800,90840,90580,104320,111380,99200]
["Total","-","-","-","-","-","-","-","-","-","-","-","-","-",{"$f":"SUM(O5:O16)","v":201060},1412880,1473300,1350880,1424620,1318000,{"$f":"SUM(U5:U16)","v":1416340},{"$f":"SUM(V5:V16)","v":1400940}]
["Hidden columns B-N do not contain any data for CY 2004-2016"]
[{"$f":"'Lod&Liq'!A71:F71","v":"Source:  Minnesota Department of Revenue, Tax Research Division, November 2025"}]
["end of worksheet"]

{"sheet":"Hennepin","index":8,"n_rows":20,"n_cols":22,"rows_kept":20,"cut":false,"hidden":true,"merged":[[0,0,0,19],[19,0,19,19],[18,0,18,20],[2,0,2,19],[1,0,1,19],[17,0,17,19]]}
["Hennepin County Monthly Detail for Minnesota Local Sales & Use Tax"]
[{"$f":"'Lod&Liq'!A2","v":"CY 2024"}]
["Hennepin County Transit Vehicle Excise Tax ($20)"]
["Month",2004,2005,2006,2007,2008,2009,2010,2011,2012,2013,2014,2015,2016,2017,2018,2019,2020,2021,2022,2023,2024]
["January ","-","-","-","-","-","-","-","-","-","-","-","-","-","-",223080,214580,220300,206380,198320,204320,222360]
["February","-","-","-","-","-","-","-","-","-","-","-","-","-","-",187860,176000,200140,180260,166440,215520,187640]
["March","-","-","-","-","-","-","-","-","-","-","-","-","-","-",167040,175540,193900,187680,175780,174100,215920]
["April","-","-","-","-","-","-","-","-","-","-","-","-","-","-",251120,256580,180020,281440,236700,223900,206680]
["May","-","-","-","-","-","-","-","-","-","-","-","-","-","-",204040,241700,140540,238340,202920,219520,278620]
["June","-","-","-","-","-","-","-","-","-","-","-","-","-","-",251660,231860,223440,229140,235380,249560,215100]
["July","-","-","-","-","-","-","-","-","-","-","-","-","-","-",212860,219540,256820,212920,225060,238040,232560]
["August","-","-","-","-","-","-","-","-","-","-","-","-","-",0,253680,258880,266420,254820,201080,218760,213258.49]
["September","-","-","-","-","-","-","-","-","-","-","-","-","-",0,242700,256780,221600,221520,243500,231400,206320]
["October","-","-","-","-","-","-","-","-","-","-","-","-","-",0,239280,238600,234780,214420,234480,235000,202260]
["November ","-","-","-","-","-","-","-","-","-","-","-","-","-",201940,224420,234560,224040,194500,202400,210040,197040]
["December","-","-","-","-","-","-","-","-","-","-","-","-","-",190120,213560,228160,168860,191840,191920,200480,217580]
["Total","-","-","-","-","-","-","-","-","-","-","-","-","-",{"$f":"SUM(O5:O16)","v":392060},2671300,2732780,2530860,2613260,2513980,{"$f":"SUM(U5:U16)","v":2620640},{"$f":"SUM(V5:V16)","v":2595338.4900000002}]
["Hidden columns B-N do not contain any data for CY 2004-2016"]
[{"$f":"'Lod&Liq'!A71:F71","v":"Source:  Minnesota Department of Revenue, Tax Research Division, November 2025"}]
["end of worksheet"]

{"sheet":"Proctor","index":9,"n_rows":20,"n_cols":22,"rows_kept":20,"cut":false,"hidden":true,"merged":[[19,0,19,19],[0,0,0,19],[2,0,2,19],[1,0,1,19],[17,0,17,19],[18,0,18,19]]}
["Proctor Monthly Detail for Minnesota Special Sales & Use Tax "]
[{"$f":"'Lod&Liq'!A2","v":"CY 2024"}]
["Proctor Food & Beverage Tax ( 1.0%)"]
["Month",2004,2005,2006,2007,2008,2009,2010,2011,2012,2013,2014,2015,2016,2017,2018,2019,2020,2021,2022,2023,2024]
["January ","-","-","-","-","-","-","-","-","-","-","-","-",6665,7242,8348,6423,6206,3695,6431,6775,7868]
["February","-","-","-","-","-","-","-","-","-","-","-","-",5702,5627,5777,5417,5662,4528,5524,6044,5797]
["March","-","-","-","-","-","-","-","-","-","-","-","-",5517,5351,5433,4988,5382,4632,5491,5815,5746]
["April","-","-","-","-","-","-","-","-","-","-","-","-",5987,5608,6152,5665,3561,5423,6102,6521,6403]
["May","-","-","-","-","-","-","-","-","-","-","-",4056,5970,5846,5579,5119,1717,5266,6226,5915,6268]
["June","-","-","-","-","-","-","-","-","-","-","-",6216,6196,6559,6040,6109,2924,6157,6131,6257,6334]
["July","-","-","-","-","-","-","-","-","-","-","-",6311,6416,7220,6455,6491,4618,6864,6846,7702,7340]
["August","-","-","-","-","-","-","-","-","-","-","-",6839,7292,6913,6408,6624,5611,7324,7298,6880,6676]
["September","-","-","-","-","-","-","-","-","-","-","-",8520,7620,7282,7209,7636,5928,8048,8292,7543,7601.49]
["October","-","-","-","-","-","-","-","-","-","-","-",6516,6498,6809,15698,6141,5766,6730,7357,7817,6300]
["November ","-","-","-","-","-","-","-","-","-","-","-",7327,6831,7136,6544,6264,5545,7431,7635,7163,7022]
["December","-","-","-","-","-","-","-","-","-","-","-",5888,6125,6048,5612,5534,3819,5658,5771,5918,5796]
["Total","-","-","-","-","-","-","-","-","-","-","-",{"$f":"SUM(M5:M16)","v":51673},76819,77641,85255,{"$f":"SUM(Q5:Q16)","v":72411},{"$f":"SUM(R5:R16)","v":56739},71756,{"$f":"SUM(T5:T16)","v":79104},{"$f":"SUM(U5:U16)","v":80350},{"$f":"SUM(V5:V16)","v":79151.489999999991}]
["Hidden columns B-L do not contain any data for CY 2004-2014"]
[{"$f":"'Lod&Liq'!A71:F71","v":"Source:  Minnesota Department of Revenue, Tax Research Division, November 2025"}]
["end of worksheet"]

{"sheet":"Kandiyohi","index":10,"n_rows":20,"n_cols":22,"rows_kept":20,"cut":false,"hidden":true,"merged":[[0,0,0,20],[19,0,19,19],[17,0,17,19],[18,0,18,20],[1,0,1,19],[2,0,2,19]]}
["Kandiyohi County Monthly Detail for Minnesota Local Sales & Use Tax"]
[{"$f":"'Lod&Liq'!A2","v":"CY 2024"}]
["Kandiyohi County Transit Vehicle Excise Tax ($20) "]
["Month",2004,2005,2006,2007,2008,2009,2010,2011,2012,2013,2014,2015,2016,2017,2018,2019,2020,2021,2022,2023,2024]
["January ","-","-","-","-","-","-","-","-","-","-","-","-","-","-","-",8660,5860,7480,5480,5100,5500]
["February","-","-","-","-","-","-","-","-","-","-","-","-","-","-","-",3160,7300,5280,4880,4720,5300]
["March","-","-","-","-","-","-","-","-","-","-","-","-","-","-","-",2780,5980,5940,6800,5200,5240]
["April","-","-","-","-","-","-","-","-","-","-","-","-","-","-",0,4640,5380,8540,6120,6480,6320]
["May","-","-","-","-","-","-","-","-","-","-","-","-","-","-",3200,3740,5160,5520,4920,5860,6800]
["June","-","-","-","-","-","-","-","-","-","-","-","-","-","-",4560,3940,7160,6840,4920,5940,5780]
["July","-","-","-","-","-","-","-","-","-","-","-","-","-","-",4600,3560,9180,8320,6380,6360,5680]
["August","-","-","-","-","-","-","-","-","-","-","-","-","-","-",4860,5040,7820,5980,5060,5220,5860]
["September","-","-","-","-","-","-","-","-","-","-","-","-","-","-",5940,5040,6980,6200,6640,5320,5660]
["October","-","-","-","-","-","-","-","-","-","-","-","-","-","-",4940,3800,7260,6060,5980,5800,5280]
["November ","-","-","-","-","-","-","-","-","-","-","-","-","-","-",3860,1300,6380,4460,5040,4700,5940]
["December","-","-","-","-","-","-","-","-","-","-","-","-","-","-",3940,5200,5240,4400,5500,5740,4540]
["Total","-","-","-","-","-","-","-","-","-","-","-","-","-","-",{"$f":"SUM(P5:P16)","v":35900},50860,79700,75020,67720,66440,{"$f":"SUM(V5:V16)","v":67900}]
["Hidden columns B-O do not contain any data for CY 2004-2017"]
[{"$f":"'Lod&Liq'!A71:F71","v":"Source:  Minnesota Department of Revenue, Tax Research Division, November 2025"}]
["end of worksheet"]

{"sheet":"Ramsey","index":11,"n_rows":20,"n_cols":22,"rows_kept":20,"cut":false,"hidden":true,"merged":[[0,0,0,19],[19,0,19,19],[18,0,18,19],[1,0,1,19],[2,0,2,19],[17,0,17,19]]}
["Ramsey County Monthly Detail for Minnesota Local Sales & Use Tax"]
[{"$f":"'Lod&Liq'!A2","v":"CY 2024"}]
["Ramsey County Transit Vehicle Excise Tax ($20)"]
["Month",2004,2005,2006,2007,2008,2009,2010,2011,2012,2013,2014,2015,2016,2017,2018,2019,2020,2021,2022,2023,2024]
["January ","-","-","-","-","-","-","-","-","-","-","-","-","-","-",99040,108820,102680,105300,92340,94540,101780]
["February","-","-","-","-","-","-","-","-","-","-","-","-","-","-",81960,89280,95100,88380,94260,81620,80400]
["March","-","-","-","-","-","-","-","-","-","-","-","-","-","-",82380,82360,108180,88420,170040,81540,84540]
["April","-","-","-","-","-","-","-","-","-","-","-","-","-","-",116900,126640,75320,123660,104860,146140,108340]
["May","-","-","-","-","-","-","-","-","-","-","-","-","-","-",99160,101020,60860,105760,87640,89660,122560]
["June","-","-","-","-","-","-","-","-","-","-","-","-","-","-",115580,114120,93720,113600,101640,99580,97540]
["July","-","-","-","-","-","-","-","-","-","-","-","-","-","-",107160,112520,109200,106620,121140,112720,90700]
["August","-","-","-","-","-","-","-","-","-","-","-","-","-","-",126900,113940,104980,115800,75280,110720,98340]
["September","-","-","-","-","-","-","-","-","-","-","-","-","-","-",120920,116660,111720,79540,95860,96000,103280]
["October","-","-","-","-","-","-","-","-","-","-","-","-","-","-",116500,121520,111880,108680,99200,99620,96000]
["November ","-","-","-","-","-","-","-","-","-","-","-","-","-",93300,109460,112420,102760,88500,86580,85820,90220]
["December","-","-","-","-","-","-","-","-","-","-","-","-","-",84180,88380,103600,112000,98420,94860,91340,85960]
["Total","-","-","-","-","-","-","-","-","-","-","-","-","-",{"$f":"SUM(O5:O16)","v":177480},1264340,1302900,1188400,1222680,1223700,{"$f":"SUM(U5:U16)","v":1189300},{"$f":"SUM(V5:V16)","v":1159660}]
["Hidden columns B-N do not contain any data for CY 2004-2016"]
[{"$f":"'Lod&Liq'!A71:F71","v":"Source:  Minnesota Department of Revenue, Tax Research Division, November 2025"}]
["end of worksheet"]

{"sheet":"Scott","index":12,"n_rows":20,"n_cols":22,"rows_kept":20,"cut":false,"hidden":true,"merged":[[18,0,18,19],[19,0,19,19],[0,0,0,19],[1,0,1,19],[2,0,2,19],[17,0,17,19]]}
["Scott County Monthly Detail for Minnesota Local Sales & Use Tax"]
[{"$f":"'Lod&Liq'!A2","v":"CY 2024"}]
["Scott County Transit Vehicle Excise Tax ($20)"]
["Month",2004,2005,2006,2007,2008,2009,2010,2011,2012,2013,2014,2015,2016,2017,2018,2019,2020,2021,2022,2023,2024]
["January ","-","-","-","-","-","-","-","-","-","-","-","-",13660,23400,20380,19720,39080,25180,22620,24900,24240]
["February","-","-","-","-","-","-","-","-","-","-","-","-",12440,15840,21240,25000,27450,19940,19420,18860,21120]
["March","-","-","-","-","-","-","-","-","-","-","-","-",13980,16860,18020,19080,22055,21600,19040,22820,22220]
["April","-","-","-","-","-","-","-","-","-","-","-","-",18920,22540,28160,33520,24855,42000,30760,25600,22100]
["May","-","-","-","-","-","-","-","-","-","-","-","-",18540,22220,21600,29520,18080,32180,23220,23960,21720]
["June","-","-","-","-","-","-","-","-","-","-","-","-",22140,22440,26780,25200,29080,30800,31800,25960,22200]
["July","-","-","-","-","-","-","-","-","-","-","-","-",20560,18760,28460,33860,39440,21640,24880,28500,20960]
["August","-","-","-","-","-","-","-","-","-","-","-","-",19320,24120,24560,25180,29620,33200,23180,23380,21420]
["September","-","-","-","-","-","-","-","-","-","-","-","-",20200,21000,22900,24080,29460,22960,25880,23860,22060]
["October","-","-","-","-","-","-","-","-","-","-","-","-",19720,18880,19940,25780,33980,24600,23400,26060,22160]
["November ","-","-","-","-","-","-","-","-","-","-","-",12400,15540,19180,20720,29550,25040,22060,26460,21500,19980]
["December","-","-","-","-","-","-","-","-","-","-","-",12960,14360,17240,16920,31515,15300,21100,18100,18100,18040]
["Total","-","-","-","-","-","-","-","-","-","-","-",{"$f":"SUM(M5:M16)","v":25360},209380,242480,269680,322005,{"$f":"SUM(R5:R16)","v":333440},{"$f":"SUM(S5:S16)","v":317260},288760,{"$f":"SUM(U5:U16)","v":283500},{"$f":"SUM(V5:V16)","v":258220}]
["Hidden columns B-L do not contain any data for CY 2004-2014"]
[{"$f":"'Lod&Liq'!A71:F71","v":"Source:  Minnesota Department of Revenue, Tax Research Division, November 2025"}]
["end of worksheet"]

{"sheet":"St. Louis","index":13,"n_rows":20,"n_cols":22,"rows_kept":20,"cut":false,"hidden":true,"merged":[[18,0,18,19],[19,0,19,19],[0,0,0,19],[1,0,1,19],[2,0,2,19],[17,0,17,19]]}
["St. Louis County Monthly Detail for Minnesota Local Sales & Use Tax"]
[{"$f":"'Lod&Liq'!A2","v":"CY 2024"}]
["St. Louis County Transit Vehicle Excise Tax ($20)"]
["Month",2004,2005,2006,2007,2008,2009,2010,2011,2012,2013,2014,2015,2016,2017,2018,2019,2020,2021,2022,2023,2024]
["January ","-","-","-","-","-","-","-","-","-","-","-","-",29920,37320,26440,32680,42680,34160,29960,25480,26280]
["February","-","-","-","-","-","-","-","-","-","-","-","-",18460,21900,28640,26440,36540,40360,29340,6440,23820]
["March","-","-","-","-","-","-","-","-","-","-","-","-",22500,24520,27500,33260,36360,30660,31480,24280,26180]
["April","-","-","-","-","-","-","-","-","-","-","-","-",27640,30900,39780,39440,32060,47140,34340,31120,30300]
["May","-","-","-","-","-","-","-","-","-","-","-",26320,28020,27200,34280,36780,25660,39520,25360,28080,30800]
["June","-","-","-","-","-","-","-","-","-","-","-",25040,26380,29340,35640,40380,-5300,37400,31600,32000,30540]
["July","-","-","-","-","-","-","-","-","-","-","-",29820,25920,32580,35900,41080,46200,38980,34860,34420,29060]
["August","-","-","-","-","-","-","-","-","-","-","-",28140,29120,29320,38120,39000,44080,32640,32040,29000,30040]
["September","-","-","-","-","-","-","-","-","-","-","-",27740,31540,32300,38500,44660,36620,35280,31580,32580,30700]
["October","-","-","-","-","-","-","-","-","-","-","-",28480,28420,33000,35400,43520,38440,33880,30880,31020,29120]
["November ","-","-","-","-","-","-","-","-","-","-","-",23960,24280,26240,33940,39200,31580,27180,27800,28740,29960]
["December","-","-","-","-","-","-","-","-","-","-","-",20140,21320,26840,34380,38540,25840,21020,23760,31360,24980]
["Total","-","-","-","-","-","-","-","-","-","-","-",{"$f":"SUM(M5:M16)","v":209640},313520,351460,408520,454980,{"$f":"SUM(R5:R16)","v":390760},{"$f":"SUM(S5:S16)","v":418220},363000,{"$f":"SUM(U5:U16)","v":334520},{"$f":"SUM(V5:V16)","v":341780}]
["Hidden columns B-L do not contain any data for CY 2004-2014"]
[{"$f":"'Lod&Liq'!A71:F71","v":"Source:  Minnesota Department of Revenue, Tax Research Division, November 2025"}]
["end of worksheet"]

{"sheet":"Washington","index":14,"n_rows":20,"n_cols":22,"rows_kept":20,"cut":false,"hidden":true,"merged":[[0,0,0,19],[19,0,19,19],[18,0,18,19],[2,0,2,19],[1,0,1,19],[17,0,17,19]]}
["Washington County Monthly Detail for Minnesota Local Sales & Use Tax"]
[{"$f":"'Lod&Liq'!A2","v":"CY 2024"}]
["Washington County Transit Vehicle Excise Tax ($20)"]
["Month",2004,2005,2006,2007,2008,2009,2010,2011,2012,2013,2014,2015,2016,2017,2018,2019,2020,2021,2022,2023,2024]
["January ","-","-","-","-","-","-","-","-","-","-","-","-","-","-",36000,33200,36520,35160,33440,27300,28020]
["February","-","-","-","-","-","-","-","-","-","-","-","-","-","-",32540,33740,31860,41180,24080,26840,19920]
["March","-","-","-","-","-","-","-","-","-","-","-","-","-","-",26980,28600,24040,24580,28880,24740,22720]
["April","-","-","-","-","-","-","-","-","-","-","-","-","-","-",43680,44160,31580,51080,32220,28240,28700]
["May","-","-","-","-","-","-","-","-","-","-","-","-","-","-",38400,40260,20500,34200,27580,25340,36540]
["June","-","-","-","-","-","-","-","-","-","-","-","-","-","-",38740,34660,31100,31560,25120,27200,29980]
["July","-","-","-","-","-","-","-","-","-","-","-","-","-","-",43020,38800,37660,38420,29920,31920,29680]
["August","-","-","-","-","-","-","-","-","-","-","-","-","-","-",33300,38560,35820,34580,16820,24040,21580]
["September","-","-","-","-","-","-","-","-","-","-","-","-","-","-",26880,32900,28700,34100,23640,23040,22580]
["October","-","-","-","-","-","-","-","-","-","-","-","-","-","-",36340,36460,33400,29020,27120,30980,30760]
["November ","-","-","-","-","-","-","-","-","-","-","-","-","-",25280,31080,29120,22880,26200,19420,24280,21800]
["December","-","-","-","-","-","-","-","-","-","-","-","-","-",27020,33020,31220,31500,20480,18500,18860,20940]
["Total","-","-","-","-","-","-","-","-","-","-","-","-","-",{"$f":"SUM(O5:O16)","v":52300},419980,421680,365560,400560,306740,{"$f":"SUM(U5:U16)","v":312780},{"$f":"SUM(V5:V16)","v":313220}]
["Hidden columns B-N do not contain any data for CY 2004-2016"]
[{"$f":"'Lod&Liq'!A71:F71","v":"Source:  Minnesota Department of Revenue, Tax Research Division, November 2025"}]
["end of worksheet"]

{"sheet":"Otter Tail","index":15,"n_rows":20,"n_cols":22,"rows_kept":20,"cut":false,"hidden":true,"merged":[[0,0,0,19],[18,0,18,19],[19,0,19,19],[1,0,1,19],[2,0,2,19],[17,0,17,19]]}
["Otter Tail County Monthly Detail for Minnesota Local Sales & Use Tax"]
[{"$f":"'Lod&Liq'!A2","v":"CY 2024"}]
["Otter Tail County Transit Vehicle Excise Tax ($20)"]
["Month",2004,2005,2006,2007,2008,2009,2010,2011,2012,2013,2014,2015,2016,2017,2018,2019,2020,2021,2022,2023,2024]
["January ","-","-","-","-","-","-","-","-","-","-","-","-",0,5620,6720,8260,68940,8820,6540,9220,11340]
["February","-","-","-","-","-","-","-","-","-","-","-","-",4700,6900,8420,8780,7140,9220,10620,6540,9800]
["March","-","-","-","-","-","-","-","-","-","-","-","-",4360,5080,31100,66920,67660,8000,7460,6520,6540]
["April","-","-","-","-","-","-","-","-","-","-","-","-",6000,6580,8920,9660,6460,11340,7680,8620,8460]
["May","-","-","-","-","-","-","-","-","-","-","-","-",5240,6380,5520,9560,5980,10800,7360,17146,7940]
["June","-","-","-","-","-","-","-","-","-","-","-","-",5460,6600,8580,9460,9360,9880,6300,8440,8120]
["July","-","-","-","-","-","-","-","-","-","-","-","-",5340,6300,6640,6320,8440,6580,4860,8760,7380]
["August","-","-","-","-","-","-","-","-","-","-","-","-",5040,5700,12000,11520,11320,12560,4900,7320,8000]
["September","-","-","-","-","-","-","-","-","-","-","-","-",5180,6460,8780,9460,8500,7420,8000,7860,7880]
["October","-","-","-","-","-","-","-","-","-","-","-","-",5120,6080,8060,8160,8660,6960,11440,8760,8860]
["November ","-","-","-","-","-","-","-","-","-","-","-","-",4900,5540,7500,-51460,7860,6720,6460,7460,7000]
["December","-","-","-","-","-","-","-","-","-","-","-","-",5280,4780,7960,67840,7160,6460,6300,6780,7100]
["Total","-","-","-","-","-","-","-","-","-","-","-","-",{"$f":"SUM(N5:N16)","v":56620},72020,120200,164480,217480,{"$f":"SUM(S5:S16)","v":104760},87920,{"$f":"SUM(U5:U16)","v":103426},{"$f":"SUM(V5:V16)","v":98420}]
["Hidden columns B-M do not contain any data for CY 2004-2015"]
[{"$f":"'Lod&Liq'!A71:F71","v":"Source:  Minnesota Department of Revenue, Tax Research Division, November 2025"}]
["end of worksheet"]

{"sheet":"Carlton","index":16,"n_rows":20,"n_cols":22,"rows_kept":20,"cut":false,"hidden":true,"merged":[[18,0,18,19],[19,0,19,19],[0,0,0,19],[1,0,1,19],[2,0,2,19],[17,0,17,19]]}
["Carlton County Monthly Detail for Minnesota Local Sales & Use Tax"]
[{"$f":"'Lod&Liq'!A2","v":"CY 2024"}]
["Carlton County Transit Vehicle Excise Tax ($20)"]
["Month",2004,2005,2006,2007,2008,2009,2010,2011,2012,2013,2014,2015,2016,2017,2018,2019,2020,2021,2022,2023,2024]
["January ","-","-","-","-","-","-","-","-","-","-","-","-",3200,1860,3380,2760,2960,2700,7440,2600,2140]
["February","-","-","-","-","-","-","-","-","-","-","-","-",1380,15720,2360,2160,2100,6200,1800,1560,1980]
["March","-","-","-","-","-","-","-","-","-","-","-","-",1780,2380,2440,2160,2300,1540,2320,1400,2100]
["April","-","-","-","-","-","-","-","-","-","-","-","-",2020,3040,4960,3160,2540,3540,3460,2600,2760]
["May","-","-","-","-","-","-","-","-","-","-","-",1040,1880,2720,3360,3860,2060,2780,3220,2280,2300]
["June","-","-","-","-","-","-","-","-","-","-","-",1040,1940,3040,5060,3760,3340,2440,3400,3140,3140]
["July","-","-","-","-","-","-","-","-","-","-","-",1340,2220,3780,5220,4160,4700,3280,3480,2720,2580]
["August","-","-","-","-","-","-","-","-","-","-","-",1180,1480,2420,4220,3360,4980,3180,2180,2720,2200]
["September","-","-","-","-","-","-","-","-","-","-","-",760,1660,2700,3600,3380,3880,1680,3940,2460,2680]
["October","-","-","-","-","-","-","-","-","-","-","-",1680,1880,4880,3640,3600,2900,2480,3400,3100,2160]
["November ","-","-","-","-","-","-","-","-","-","-","-",1000,1380,5080,3260,2840,3280,1940,2000,2660,2180]
["December","-","-","-","-","-","-","-","-","-","-","-",860,3800,2300,2760,2920,2540,2640,2360,2440,1740]
["Total","-","-","-","-","-","-","-","-","-","-","-",{"$f":"SUM(M5:M16)","v":8900},24620,49920,44260,38120,{"$f":"SUM(R5:R16)","v":37580},{"$f":"SUM(S5:S16)","v":34400},39000,{"$f":"SUM(U5:U16)","v":29680},{"$f":"SUM(V5:V16)","v":27960}]
["Hidden columns B-L do not contain any data for CY 2004-2014"]
[{"$f":"'Lod&Liq'!A71:F71","v":"Source:  Minnesota Department of Revenue, Tax Research Division, November 2025"}]
["end of worksheet"]

{"sheet":"Beltrami","index":17,"n_rows":20,"n_cols":22,"rows_kept":20,"cut":false,"hidden":true,"merged":[[18,0,18,19],[19,0,19,19],[0,0,0,19],[1,0,1,19],[2,0,2,19],[17,0,17,19]]}
["Beltrami County Monthly Detail for Minnesota Local Sales & Use Tax"]
[{"$f":"'Lod&Liq'!A2","v":"CY 2024"}]
["Beltrami County Transit Vehicle Excise Tax ($20)"]
["Month",2004,2005,2006,2007,2008,2009,2010,2011,2012,2013,2014,2015,2016,2017,2018,2019,2020,2021,2022,2023,2024]
["January ","-","-","-","-","-","-","-","-","-","-","-",5820,6460,6680,19040,8420,9000,5760,5700,5500,5620]
["February","-","-","-","-","-","-","-","-","-","-","-",5440,5460,3880,4180,8400,4720,3740,4620,3880,3940]
["March","-","-","-","-","-","-","-","-","-","-","-",6420,6840,4640,5960,5700,6000,5800,8340,4580,3900]
["April","-","-","-","-","-","-","-","-","-","-","-",6880,5600,7200,8380,8260,6980,9020,7320,6360,6280]
["May","-","-","-","-","-","-","-","-","-","-",5500,5760,5060,6640,6320,6620,4360,7400,5060,4820,5180]
["June","-","-","-","-","-","-","-","-","-","-",5560,4900,4980,5480,5620,6340,6220,10900,4040,5660,5280]
["July","-","-","-","-","-","-","-","-","-","-",6360,8020,6240,6380,6540,8100,8720,8460,6160,7260,6100]
["August","-","-","-","-","-","-","-","-","-","-",6940,6560,6380,5200,6320,7460,7480,6580,5540,5400,5760]
["September","-","-","-","-","-","-","-","-","-","-",5520,6200,6220,6600,7340,6840,6940,5420,5200,5260,4380]
["October","-","-","-","-","-","-","-","-","-","-",6440,11160,6240,5820,6840,7320,8200,6640,6420,6640,6440]
["November ","-","-","-","-","-","-","-","-","-","-",6260,6300,5500,6500,8140,8300,7080,5660,5180,4720,4040]
["December","-","-","-","-","-","-","-","-","-","-",4580,4660,4220,4040,4760,5340,4840,5720,4320,4540,3980]
["Total","-","-","-","-","-","-","-","-","-","-",{"$f":"SUM(L5:L16)","v":47160},78120,69200,69060,89440,87100,{"$f":"SUM(R5:R16)","v":80540},{"$f":"SUM(S5:S16)","v":81100},67900,{"$f":"SUM(U5:U16)","v":64620},{"$f":"SUM(V5:V16)","v":60900}]
["Hidden columns B-K do not contain any data for CY 2004-2013"]
[{"$f":"'Lod&Liq'!A71:F71","v":"Source:  Minnesota Department of Revenue, Tax Research Division, November 2025"}]
["end of worksheet"]

{"sheet":"Detroit Lakes","index":18,"n_rows":20,"n_cols":22,"rows_kept":20,"cut":false,"hidden":true,"merged":[[19,0,19,19],[2,0,2,19],[1,0,1,19],[0,0,0,19],[17,0,17,19],[18,0,18,19]]}
["Detroit Lakes Monthly Detail for Minnesota Special Sales & Use Tax"]
[{"$f":"'Lod&Liq'!A2","v":"CY 2024"}]
["Detroit Lakes Local Restaurant Food & Beverage Tax (1.0%)"]
["Month",2004,2005,2006,2007,2008,2009,2010,2011,2012,2013,2014,2015,2016,2017,2018,2019,2020,2021,2022,2023,2024]
["January ","-","-","-","-","-","-","-","-",23512,25331,25642,27992,29317,29551,31486,54405,34818,22359,34152,33369,36828]
["February","-","-","-","-","-","-","-","-",21097,20983,21493,25326,26304,28517,30710,53157,29790,27863,30484,31512,34593]
["March","-","-","-","-","-","-","-","-",21258,24090,22408,24299,27415,27243,30517,29045,33043,26820,30405,36817,43671]
["April","-","-","-","-","-","-","-","-",24546,23432,25582,27796,29087,30929,33113,34105,25116,35071,34062,36217,39767]
["May","-","-","-","-","-","-","-",21267,23824,23823,26048,28869,30233,30978,31329,33846,18232,34878,33248,33967,37856]
["June","-","-","-","-","-","-","-",25101,29758,29181,32611,35066,36352,37482,40697,43250,28276,43364,49301,48293,49633]
["July","-","-","-","-","-","-","-",31679,32156,31949,34931,37913,37030,38629,41552,48521,43318,46483,51857,60788,57098]
["August","-","-","-","-","-","-","-",38129,44089,42669,45827,45407,55797,60079,62748,59557,51763,67515,62487,64933,68808]
["September","-","-","-","-","-","-","-",32969,36987,39643,42655,42907,43220,44035,47523,57426,45221,51544,44839,55287,58545]
["October","-","-","-","-","-","-","-",26616,29057,29601,31711,32783,36174,37504,36634,39073,36756,41376,44156,47049,49129]
["November ","-","-","-","-","-","-","-",23750,24675,25961,27783,29001,31669,31443,31646,34037,31984,37014,38369,38973,39094]
["December","-","-","-","-","-","-","-",21092,23091,22896,24714,24572,26780,32764,32314,30306,23722,30778,31667,33959,38072]
["Total","-","-","-","-","-","-","-",{"$f":"SUM(I5:I16)","v":220603},334050,339559,361405,381931,409378,429154,450269,{"$f":"SUM(Q5:Q16)","v":516728},{"$f":"SUM(R5:R16)","v":402039},465065,{"$f":"SUM(T5:T16)","v":485027},{"$f":"SUM(U5:U16)","v":521164},{"$f":"SUM(V5:V16)","v":553094}]
["Hidden columns B-H do not contain any data for CY 2004-2010"]
[{"$f":"'Lod&Liq'!A71:F71","v":"Source:  Minnesota Department of Revenue, Tax Research Division, November 2025"}]
["end of worksheet"]

{"sheet":"Giants Ridge","index":19,"n_rows":50,"n_cols":22,"rows_kept":50,"cut":false,"hidden":true,"merged":[[49,0,49,19],[2,0,2,19],[1,0,1,19],[0,0,0,19],[17,0,17,19],[32,0,32,19],[47,0,47,19],[48,0,48,19]]}
["Biwabik (Giants Ridge) Monthly Detail for Minnesota Special Sales & Use Tax"]
[{"$f":"'Lod&Liq'!A2","v":"CY 2024"}]
["Biwabik (Giants Ridge) Local Food & Beverage Tax (1.0%)"]
["Month",2004,2005,2006,2007,2008,2009,2010,2011,2012,2013,2014,2015,2016,2017,2018,2019,2020,2021,2022,2023,2024]
["January ","-","-","-","-","-","-","-","-",4000,3500,3424,2561,1737,-176086,741,734,1144,277,628,793,819]
["February","-","-","-","-","-","-","-","-",3881,3683,3784,4044,2905,1220,1871,1938,1958,61,5001,3132,6383]
["March","-","-","-","-","-","-","-","-",4783,6129,3555,3282,3122,2044,1891,1905,1941,706,1406,1858,1984]
["April","-","-","-","-","-","-","-","-",5827,6985,5428,5469,3737,1534,1992,1696,1146,1160,2660,2501,1421]
["May","-","-","-","-","-","-","-","-",1783,768,992,607,190,466,524,575,14,747,700,962,6]
["June","-","-","-","-","-","-","-","-",4595,4026,2741,3088,1869,1156,708,821,185,913,731,1101,1416]
["July","-","-","-","-","-","-","-","-",6049,7254,7038,3520,7546,1936,1648,1326,663,2043,2859,3104,6576]
["August","-","-","-","-","-","-","-",682,6459,7115,5878,10409,1911,2058,1456,2320,1398,3458,2270,2341,136]
["September","-","-","-","-","-","-","-",181,8802,9053,9171,7601,2850,3043,1628,2156,1892,255,4254,4371,2317]
["October","-","-","-","-","-","-","-",978,9732,9254,8025,6709,2347,2245,1521,1651,1782,2883,3461,2355,2779]
["November ","-","-","-","-","-","-","-",3352,1688,2155,1654,1866,1556,1198,1102,931,1038,1024,1450,1613,4168]
["December","-","-","-","-","-","-","-",276,537,618,260,85,514,353,491,552,96,235,273,474,1499]
["Total","-","-","-","-","-","-","-",{"$f":"SUM(I5:I16)","v":5469},58136,60540,51950,49241,30284,-158833,15573,{"$f":"SUM(Q5:Q16)","v":16605},{"$f":"SUM(R5:R16)","v":13257},13762,{"$f":"SUM(T5:T16)","v":25693},{"$f":"SUM(U5:U16)","v":24605},{"$f":"SUM(V5:V16)","v":29504}]
["Biwabik (Giants Ridge) Local Lodging Tax (2.0%)"]
["Month",2004,2005,2006,2007,2008,2009,2010,2011,2012,2013,2014,2015,2016,2017,2018,2019,2020,2021,2022,2023,2024]
["January ","-","-","-","-","-","-","-","-",4263,4004,3020,4189,5041,4280,4521,4580,5755,5902,6461,6770,7474]
["February","-","-","-","-","-","-","-","-",4244,3412,4954,6057,6455,3901,5039,5009,4817,5477,6123,7570,6321]
["March","-","-","-","-","-","-","-","-",4259,5753,4328,5059,5472,6521,5635,7449,7746,4959,8494,9816,9371]
["April","-","-","-","-","-","-","-","-",3457,4002,4220,3130,3433,3914,10843,5924,3073,6354,7892,8433,9988]
["May","-","-","-","-","-","-","-","-",1751,996,749,822,686,808,924,1408,135,978,1204,2157,2425]
["June","-","-","-","-","-","-","-","-",1879,1104,1617,2096,1778,2046,2436,2055,1186,2469,1904,2567,2709]
["July","-","-","-","-","-","-","-","-",2625,2239,2918,3354,3289,4224,6261,3892,3534,7853,7658,9833,8181]
["August","-","-","-","-","-","-","-",3844,4305,4452,4575,6254,7392,6739,7287,6907,7043,9936,10243,10274,10753]
["September","-","-","-","-","-","-","-",3829,4075,4659,6230,5474,5592,5959,5412,6219,7618,9284,9640,11084,11355]
["October","-","-","-","-","-","-","-",3319,2655,3255,3304,4109,4406,4826,3513,4474,5693,6306,7210,8321,7184]
["November ","-","-","-","-","-","-","-",1504,957,900,2355,2058,2315,2416,2667,2785,3333,3620,3579,10057,4459]
["December","-","-","-","-","-","-","-",1687,1047,1000,840,1180,2196,1643,-1639,1461,833,1337,1140,3181,1204]
["Total","-","-","-","-","-","-","-",{"$f":"SUM(I20:I31)","v":14183},35517,35776,39110,43782,48055,47277,52899,{"$f":"SUM(Q20:Q31)","v":52163},{"$f":"SUM(R20:R31)","v":50766},64475,{"$f":"SUM(T20:T31)","v":71548},{"$f":"SUM(U20:U31)","v":90063},{"$f":"SUM(V20:V31)","v":81424}]
["Biwabik (Giants Ridge) Local Entertainment Tax (2.0%)"]
["Month",2004,2005,2006,2007,2008,2009,2010,2011,2012,2013,2014,2015,2016,2017,2018,2019,2020,2021,2022,2023,2024]
["January ","-","-","-","-","-","-","-","-",4105,3754,3134,3190,2456,2995,1597,1443,1929,3545,1385,1490,2434]
["February","-","-","-","-","-","-","-","-",3660,3247,3467,4179,3730,3721,5160,6193,8789,0,23722,16520,12544]
["March","-","-","-","-","-","-","-","-",5090,5114,5052,3043,4451,4775,5153,4665,5546,5091,4731,8483,6786]
["April","-","-","-","-","-","-","-","-",4033,6043,5754,4942,4200,1626,6205,4268,4668,7243,10949,11087,5621]
["May","-","-","-","-","-","-","-","-",797,614,975,619,295,364,1634,2236,279,9476,1128,1544,0]
["June","-","-","-","-","-","-","-","-",4555,2646,2166,2152,1587,1292,1656,1003,2320,2070,1974,3074,2777]
["July","-","-","-","-","-","-","-","-",4760,5253,5640,9765,4943,5987,2590,3202,4011,8527,11725,12625,13125]
["August","-","-","-","-","-","-","-",6,5676,6277,6329,4259,6859,7041,2982,6220,7646,13852,8495,10257,15632]
["September","-","-","-","-","-","-","-",60,8357,8014,8780,8393,9491,10876,3602,7171,9618,0,17584,18861,12084]
["October","-","-","-","-","-","-","-",25,6097,6346,6425,6761,5851,7624,3043,4027,9752,11052,12143,11264,11969]
["November ","-","-","-","-","-","-","-",16287,555,1050,1074,1644,1895,4697,918,1151,4852,3102,3391,3433,18674]
["December","-","-","-","-","-","-","-",114,48,164,219,156,225,1047,221,106,141,479,384,561,2615]
["Total","-","-","-","-","-","-","-",{"$f":"SUM(I35:I46)","v":16492},47733,48522,49015,49103,45983,52045,34761,{"$f":"SUM(Q35:Q46)","v":41685},{"$f":"SUM(R35:R46)","v":59551},64437,{"$f":"SUM(T35:T46)","v":97611},{"$f":"SUM(U35:U46)","v":99199},{"$f":"SUM(V35:V46)","v":104261}]
["Hidden columns B-H do not contain any data for CY 2004-2010"]
[{"$f":"'Lod&Liq'!A71:F71","v":"Source:  Minnesota Department of Revenue, Tax Research Division, November 2025"}]
["end of worksheet"]

{"sheet":"Mankato","index":20,"n_rows":35,"n_cols":22,"rows_kept":35,"cut":false,"hidden":true,"merged":[[33,0,33,19],[34,0,34,19],[0,0,0,19],[1,0,1,19],[2,0,2,19],[17,0,17,19],[32,0,32,19]]}
["Mankato Monthly Detail for Minnesota Special Sales & Use Tax"]
[{"$f":"'Lod&Liq'!A2","v":"CY 2024"}]
["Mankato Local Entertainment Tax (0.5%)"]
["Month",2004,2005,2006,2007,2008,2009,2010,2011,2012,2013,2014,2015,2016,2017,2018,2019,2020,2021,2022,2023,2024]
["January ","-","-","-","-","-","-",5736,5736,5456,5405,1994,2802,3433,3123,3293,2845,4152,249,4601,3406,2981]
["February","-","-","-","-","-","-",5814,4423,4682,5238,1743,2759,2483,2304,2669,2629,2611,683,3381,2764,2791]
["March","-","-","-","-","-","-",4732,4736,5315,5357,1667,2584,2899,1810,2068,1996,2664,1050,1927,4713,3694]
["April","-","-","-","-","-","-",7091,6029,5901,6052,1443,890,1426,2931,2465,4772,1208,1233,4383,3277,3279]
["May","-","-","-","-","-",4215,4359,4852,8073,4404,1209,1629,939,4409,1615,2600,96,1078,2355,2459,3917]
["June","-","-","-","-","-",4928,4633,4770,4645,5387,1288,1904,3604,2921,3015,2881,20,1375,2675,2499,2524]
["July","-","-","-","-","-",5045,4539,3836,3629,4477,1828,5054,1584,2100,3809,5484,639,3137,4256,4819,3386]
["August","-","-","-","-","-",2344,4801,5893,9107,4077,2438,2733,3547,3483,3458,4983,757,2224,3284,3898,6089]
["September","-","-","-","-","-",3516,5851,5529,5591,2329,4174,4593,4480,2938,3246,3905,498,4975,5517,5314,5024]
["October","-","-","-","-","-",5956,5162,6403,7306,1454,1818,4464,1044,2545,1902,2583,636,3154,4679,3915,4395]
["November ","-","-","-","-","-",4918,4823,4657,6121,1872,3346,3400,3133,2648,2306,7195,1566,5245,4015,3733,4784]
["December","-","-","-","-","-",4789,4695,4829,5168,2185,2089,2462,2223,2685,2803,3008,461,2214,2927,3576,3031]
["Total","-","-","-","-","-",{"$f":"SUM(G5:G16)","v":35711},62236,61693,70994,48237,25037,35274,30795,33897,32649,{"$f":"SUM(Q5:Q16)","v":44881},{"$f":"SUM(R5:R16)","v":15308},26617,{"$f":"SUM(T5:T16)","v":44000},{"$f":"SUM(U5:U16)","v":44373},{"$f":"SUM(V5:V16)","v":45895}]
["Mankato Local Food & Beverage Tax (0.5%)"]
["Month",2004,2005,2006,2007,2008,2009,2010,2011,2012,2013,2014,2015,2016,2017,2018,2019,2020,2021,2022,2023,2024]
["January ","-","-","-","-","-","-",39570,39179,44640,49577,51295,59967,61436,63572,60631,66970,69815,39798,67651,69663,78861]
["February","-","-","-","-","-","-",36437,38937,41238,43665,79668,59347,56020,55821,54667,55429,57910,47740,63425,69841,66651]
["March","-","-","-","-","-","-",37141,39069,42570,44206,106851,71820,54929,59033,55103,51106,60897,51532,59943,73241,71835]
["April","-","-","-","-","-","-",41061,43994,55626,50764,57331,58920,59619,62708,63958,66192,45296,62634,68588,88852,79998]
["May","-","-","-","-","-",36284,38915,43988,45420,48374,54114,70536,61929,63254,56649,62672,30651,61579,62911,74678,74225]
["June","-","-","-","-","-",38270,39179,40767,44154,46531,59388,58119,57610,60583,57701,62803,39408,66346,77669,71457,71874]
["July","-","-","-","-","-",33618,35198,36557,34034,39889,45556,45884,51232,57743,55081,57048,44977,62251,60482,75353,70223]
["August","-","-","-","-","-",40674,40403,42080,52934,53967,54859,62737,62978,71449,61596,63821,54922,68680,61522,68122,64116]
["September","-","-","-","-","-",41635,40474,47439,47596,53508,54840,167895,68394,61658,61428,62626,55334,66626,68975,72616,94094.26]
["October","-","-","-","-","-",37859,40607,44383,45524,53631,55059,58750,63142,64128,60102,61746,58566,67250,72294,85681,73496]
["November ","-","-","-","-","-",41334,42231,45397,47682,54470,57146,69035,73306,63869,62326,66750,57919,70375,74507,74790,80175]
["December","-","-","-","-","-",38204,36521,39821,50001,50517,52992,54662,56712,58227,57850,60875,45864,60340,66990,68101,73407]
["Total","-","-","-","-","-",{"$f":"SUM(G20:G31)","v":307878},467737,501611,551419,589099,729099,837672,727307,742045,707092,{"$f":"SUM(Q20:Q31)","v":738038},{"$f":"SUM(R20:R31)","v":621559},725151,{"$f":"SUM(T20:T31)","v":804957},{"$f":"SUM(U20:U31)","v":892395},{"$f":"SUM(V20:V31)","v":898955.26}]
["Hidden columns B-F do not contain any data for CY 2004-2008"]
[{"$f":"'Lod&Liq'!A71:F71","v":"Source:  Minnesota Department of Revenue, Tax Research Division, November 2025"}]
["end of worksheet"]

{"sheet":"Minneapolis","index":21,"n_rows":65,"n_cols":22,"rows_kept":65,"cut":false,"hidden":true,"merged":[[63,0,63,19],[64,0,64,19],[0,0,0,19],[1,0,1,19],[2,0,2,19],[47,0,47,19],[32,0,32,19],[17,0,17,19],[62,0,62,19]]}
["Minneapolis Monthly Detail for Minnesota Special Sales & Use Tax"]
[{"$f":"'Lod&Liq'!A2","v":"CY 2024"}]
["Minneapolis Downtown Liquor Tax (3.0%)"]
["Month",2004,2005,2006,2007,2008,2009,2010,2011,2012,2013,2014,2015,2016,2017,2018,2019,2020,2021,2022,2023,2024]
["January ",321062.01,356409,340968.79,363027,353603,358567,320401,324470,380139,451483,400958,400871,436295,534046,513262,535331,542582,19840,365455,414195,564013]
["February",253258,264695,257725.47,300584.52,291103,345283,265260,301268,301591,304256,320386,355624,355857,398165,474617,382229,383991,42720,226602,315962,310803]
["March",259449,277502,252657,241733,337702.04,292479,266057,338081,315174,339789,343067,336548,326928,378350,623742,547392,387539,69780,270905,301780,451569]
["April",274464.27,297289,290176.01,312650,315788.53999999998,294989,332697,312550,820666,362869,367733,418370,380219,409560,401896,464149,173425,51340,375087,358396,458861]
["May",267752,354872.48,280105,281560,327194.49,375973,435205,450454,511587,422086,400143,402316,518319,450933,449562,595383,9993,169970,425039,466810,514736]
["June",306295.26,272402,276780.90000000002,307180.79999999999,334823,293738,527538,392667,427731,494835,456497,500525,456569,473137,497231,580424,38900,255985,404003,507898,602589]
["July",234296,240183.74,225717.67,306290,281935.11,231299,373104,383487,432759,422820,421823,468978,484680,484072,559589,599754,57211,235454,496318,562373,554353]
["August",368356.83,383163,376946.02,360462,367263,344351,502783,567551,547316,610693,636961,601103,518925,592038,606579,560919,105843,355513,387784,421867,461269]
["September",284320,295792,303497,325762,396634.61,309355,409179,489992,415064,461075,500618,464323,531237,507172,582862,613099,103160,314947,515707,517457,587254]
["October",291067,325137.5,452362.69,357958.76,383856,319765,465468,413227,480135,450490,551490,469751,494869,657009,585099,612533,215556,372011,494718,602369,548573]
["November ",305142,279152,317268.68,337007.56,"*  ",361880,448040,352544,469273,444834,423899,461484,528528,553947,524576,522896,115019,423309,481231,555414,458877]
["December",317584,279628.05,300199,385113.18,620644,297447,272588,303650,356480,379559,432874,370028,432745,419037,462099,489948,70234,392991,463526,444642,489982]
["Total",{"$f":"SUM(B5:B16)","v":3483046.37},3626225.7699999996,3674404.23,3879328.8200000003,4010546.79,3825126,4618320,4629941,{"$f":"SUM(J5:J16)","v":5457915},5144789,5256449,5249921,5465171,5857466,6281114,{"$f":"SUM(Q5:Q16)","v":6504057},{"$f":"SUM(R5:R16)","v":2203453},2703860,{"$f":"SUM(T5:T16)","v":4906375},{"$f":"SUM(U5:U16)","v":5469163},{"$f":"SUM(V5:V16)","v":6002879}]
["Minneapolis Local Entertainment Tax - Includes Lodging (3%)"]
["Month",2004,2005,2006,2007,2008,2009,2010,2011,2012,2013,2014,2015,2016,2017,2018,2019,2020,2021,2022,2023,2024]
["January ",570420,745801.43,778638.77,763423.75,696929.62,793915,566550,727614,774404,987185,816397,1117019,1276874,1533118,1627964,1576899,2159627,98704,1988274,2139496,2282006]
["February",817619.88,764829.98,642862,753103.32,693095,855137,588715,639898,742608,704621,867917,1485898,1077974,1287372,1599368,1056706,1217517,23931,1582249,2116194,1066931]
["March",669500,825965.34,734277.76,763534.86,775384.19,598137,737456,874829,669884,720067,840093,848148,1132228,1035052,1757188,1377642,1116748,200553,1063706,1178074,1349026]
["April",712887,729455,786508.62,842373.95,799611,658608,736603,863822,1071163,902553,979117,1121955,1172325,1260675,1256045,1607889,585593,326168,1418777,1439525,2117430]
["May",782513.48,801832.15,843789,784686,817141.09,802604,1322127,1355378,1392630,1337560,1278304,1387957,1507730,1390573,1661254,2586730,79318,499340,1583584,1974288,2512013]
["June",957437.31,650961,770781,990604.29,815603,992792,1706154,1359415,1488484,1382437,1483083,2178800,1811443,1593449,1733406,2109550,-972198,628804,1686975,-778902,3378795]
["July",304201.71000000002,464409.48,381890.48,573015,596061.76,397126,892074,1076567,1170148,1413546,1318733,1914102,1468720,1361504,1944301,1832883,150143,846414,2210640,3408308,3090848]
["August",831651.94,1043592.99,1193386.32,1212986.8700000001,971244.11,1098888,1734174,2481845,2092648,1880567,2840798,2360578,1982676,2507210,2168427,2388108,414613,1037133,1726130,2304772,2441143]
["September",790793,949247.11,2034407.26,858604,1187519.95,705229,1435959,1646579,1332996,1481021,2003601,1693950,2161182,2226559,2436264,2416742,237420,1280929,2648396,2937491,3528913]
["October",655363,855912.81,819125.33,812426,1137589.71,700886,1368648,1402686,1486874,1406397,1452422,1682168,2024859,2411421,2678330,2637020,225826,1751375,2530544,3122868,3125408]
["November ",774105.26,816019.43,907024.07,969243.88,"*  ",962107,1282069,1047004,1170371,1277630,1311783,1603997,2107990,2347442,3868472,2360172,3368499,2181245,2268548,3095252,2369592.41]
["December",975117.22,907773.37,-362543.49,809754.71,1270470,692941,806256,694788,898791,988861,1736441,1392491,1511299,1466404,1991858,1707212,164427,1695628,2228748,2452198,2097187.9500000002]
["Total",{"$f":"SUM(B20:B31)","v":8841609.8000000007},{"$f":"SUM(C20:C31)","v":9555800.0899999999},9530147.120000001,10133756.629999999,9760649.4299999997,9258370,13176785,14170425,{"$f":"SUM(J20:J31)","v":14291001},14482445,16928689,18787063,19235300,20420779,24722877,{"$f":"SUM(Q20:Q31)","v":23657553},{"$f":"SUM(R20:R31)","v":8747533},10570224,{"$f":"SUM(T20:T31)","v":22936571},{"$f":"SUM(U20:U31)","v":25389564},{"$f":"SUM(V20:V31)","v":29359293.359999999}]
["Minneapolis Local Lodging Tax (2.625% from 4/1/02 to 9/30/17; 2.125% starting 10/1/17) in addition to 3.0% Entertainment Tax"]
["Month",2004,2005,2006,2007,2008,2009,2010,2011,2012,2013,2014,2015,2016,2017,2018,2019,2020,2021,2022,2023,2024]
["January ",254818,335246,376971,429313,428981,421180,315352,352000,382725,416520,361875,370370,411035,470160,387902,411991,592196,71048,368485,593412,535896]
["February",281338,378830.3,332924,399382,416021,527807,341134,336857,379048,391682,412890,480543,452781,506994,509568,397684,599969,78746,267954,470293,404292]
["March",352405,354967,399512,420783,438780,376520,325927,345210,389625,403548,407853,441845,471711,464782,765435,427601,589269,110918,269735,440565,484713]
["April",346089,411352,459984,504841.19,543385.03,419276,379621,440348,455570,426531,469252,505217,520475,643475,486174,515798,267561,130809,582028,688487,901856]
["May",391832,459754,534243,501897,611467,482853,476621,506879,497429,564928,579824,666731,725684,684567,623127,796073,24574,185476,592042,828470,953916]
["June",530219,464652,606408,617450.77,654935,532067,529539,528230,562316,605094,700423,1008981,757130,796645,695774,732853,44699,230343,846463,816994,1106542]
["July",180097,335072,180182,441369,446336,297437,266335,421456,419933,577899,569526,664609,628446,737172,664143,681041,60727,265680,1169047,1175972,1410044]
["August",717855,824775,906981,897529.41,713172,727713,874703,919648,903649,822820,1063217,990904,989614,1089704,917366,1012014,116680,443486,950771,1102159,1341073]
["September",522230,606748.19999999995,591363,691311,730511,483813,711600,674488,661887,655302,809282,785406,899820,899524,822644,862942,123194,512459,1103780,1159411,1350898]
["October",462602,552347.81000000006,593598,617921,848932,503831,537249,640813,602245,653173,742565,791405,961759,871760,780128,841426,132230,468311,953716,1309021,1189466]
["November ",562141,566307.66,649989,713120,"*  ",592213,635920,702932,732104,810831,743941,935599,999648,781626,897899,1174264,128809,566914,941058,1282689,1356170]
["December",412544,453435,472235,508215,908323,396041,447431,473929,486521,496269,526131,657976,476310,511579,482237,774550,78193,445344,761489,748804,693342]
["Total",{"$f":"SUM(B35:B46)","v":5014170},{"$f":"SUM(C35:C46)","v":5743486.9700000007},6104390,6743132.3700000001,6740843.0300000003,5760751,5841432,6342790,{"$f":"SUM(J35:J46)","v":6473052},6824597,7386779,8299586,8294413,8457988,8032397,{"$f":"SUM(Q35:Q46)","v":8628237},{"$f":"SUM(R35:R46)","v":2758101},3509534,{"$f":"SUM(T35:T46)","v":8806568},{"$f":"SUM(U35:U46)","v":10616277},{"$f":"SUM(V35:V46)","v":11728208}]
["Minneapolis Downtown Restaurant (3.0%)"]
["Month",2004,2005,2006,2007,2008,2009,2010,2011,2012,2013,2014,2015,2016,2017,2018,2019,2020,2021,2022,2023,2024]
["January ",729892.62,853921,950123.88,920219,955881,1002516,840143,862775,1012737,1059413,1066282,1012675,1044693,1102858,1133099,1052434,1051170,156836,654105,831121,1031096]
["February",577009.14,634925.74,757557.79,778694.53,807301,842601,691381,669204,820040,794250,824174,928909,944782,1054643,1148315,907588,993565,214779,428652,792583,742150]
["March",630777,1085928.3600000001,668264.21,702294.6,768695.34,691805,665433,730121,824181,816130,846681,829044,867304,984159,1299880,1143282,881561,246924,601261,717955,941273]
["April",678665.31,728290,770890.58,834856.02,928093.63,749227,788354,814865,880236,825835,874051,1151211,931584,994042,1041527,1027268,463517,351191,662560,880406,1064616]
["May",695764,773601,762475,817560.83,978252.34,801535,868980,947126,927804,986890,892179,1015676,1134493,1056141,1108069,1224705,73445,402337,848942,1128274,1211206]
["June",741968.88,862807.12,828195.75,921960,968280,867795,1084371,942799,999166,1064886,1127217,1052437,1165338,1130543,1237122,1279208,94753,507710,1085329,1130036,1413548]
["July",465928,552910.64,619536.1,694332,645548.81000000006,554200,735106,838538,890508,923158,1036179,1093737,1106163,1047087,1177952,1179607,114347,511902,1205691,1263738,1432221]
["August",1121419.05,1091348.23,1189837.25,1269187.68,1174749.28,1058464,1161399,1282138,1197244,1165620,1356705,1253719,1272165,1391593,1423018,1449074,271878,806619,1028381,1152951,1272035]
["September",885666.26,791574,916932.01,932642,996157.76,834307,978788,1126306,1026223,1083115,1089648,1137339,1170185,1213575,1286515,1454480,244634,776382,1167738,1271083,1402669]
["October",881820,918392.94,1099320.42,1014154.61,1154049,896955,1168648,1115906,1114826,1152010,1408401,1161124,1215435,1279546,1270208,1381935,311303,742736,1058421,1444000,1371173]
["November ",848855.5,816041,920133.53,921665,"*  ",990873,743081,994849,1048269,1236900,1048931,1219935,1225207,1259852,1316667,1225627,255315,697852,990613,1230405,1217784]
["December",703536.34,760660.15,775140,799454.93,1560625,784457,784325,832914,877001,901071,894145,990340,998961,1036407,966186,1037166,231255,621233,849836,933468,961789.31]
["Total",{"$f":"SUM(B50:B61)","v":8961302.0999999996},{"$f":"SUM(C50:C61)","v":9870400.1799999997},10258406.519999998,10607021.199999999,10937633.16,10074735,10510009,11157541,{"$f":"SUM(J50:J61)","v":11618235},12009278,12464593,12846146,13076310,13550446,14408558,{"$f":"SUM(Q50:Q61)","v":14362374},{"$f":"SUM(R50:R61)","v":4986743},6036501,{"$f":"SUM(T50:T61)","v":10581529},{"$f":"SUM(U50:U61)","v":12776020},{"$f":"SUM(V50:V61)","v":14061560.310000001}]
["*Collections for November 2008 are included in December totals due to a new processing system."]
[{"$f":"'Lod&Liq'!A71:F71","v":"Source:  Minnesota Department of Revenue, Tax Research Division, November 2025"}]
["end of worksheet"]

{"sheet":"Marshall","index":22,"n_rows":20,"n_cols":22,"rows_kept":20,"cut":false,"hidden":true,"merged":[[19,0,19,19],[0,0,0,19],[1,0,1,19],[2,0,2,19],[17,0,17,19],[18,0,18,19]]}
["Marshall Monthly Detail for Minnesota Special Sales & Use Tax"]
[{"$f":"'Lod&Liq'!A2","v":"CY 2024"}]
["Marshall Local Food & Beverage Tax (1.5%)"]
["Month",2004,2005,2006,2007,2008,2009,2010,2011,2012,2013,2014,2015,2016,2017,2018,2019,2020,2021,2022,2023,2024]
["January ","-","-","-","-","-","-","-","-","-","-",37886,39540,40214,39507,42694,43188,44187,33261,50885,49148,57958]
["February","-","-","-","-","-","-","-","-","-","-",31447,36679,36545,38424,39806,36124,38594,36950,45385,49668,50260]
["March","-","-","-","-","-","-","-","-","-","-",31494,36203,36699,36473,37435,35287,40188,37735,44866,47869,53331]
["April","-","-","-","-","-","-","-","-","-","-",36759,40804,40368,44380,44781,44904,33708,47225,52891,52900,58698]
["May","-","-","-","-","-","-","-","-","-","-",35250,39255,41604,41339,40534,42656,25940,47222,52455,55190,59216]
["June","-","-","-","-","-","-","-","-","-","-",38289,41400,42310,41873,45790,50582,32216,49402,65223,59272,59986]
["July","-","-","-","-","-","-","-","-","-","-",34716,38697,39629,40422,55517,43408,37006,51534,58034,59702,62908]
["August","-","-","-","-","-","-","-","-","-",29284,43399,43374,45162,44991,47823,49229,41508,52598,57657,63001,58793]
["September","-","-","-","-","-","-","-","-","-",34388,40463,40560,42404,43253,45862,46575,42170,52408,56503,59442,61110]
["October","-","-","-","-","-","-","-","-","-",36171,38735,40768,41971,43029,44440,45149,42036,48936,54259,58523,55520]
["November ","-","-","-","-","-","-","-","-","-",36372,39800,41046,42141,44865,47182,45756,42550,51366,58066,57537,63191]
["December","-","-","-","-","-","-","-","-","-",32430,36724,39736,39790,40762,42240,41879,34843,47880,51383,53946,58195]
["Total","-","-","-","-","-","-","-","-","-",{"$f":"SUM(K5:K16)","v":168645},444962,478062,488837,499318,534104,{"$f":"SUM(Q5:Q16)","v":524737},{"$f":"SUM(R5:R16)","v":454946},556517,{"$f":"SUM(T5:T16)","v":647607},{"$f":"SUM(U5:U16)","v":666198},{"$f":"SUM(V5:V16)","v":699166}]
["Hidden columns B-J do not contain any data for CY 2004-2012"]
[{"$f":"'Lod&Liq'!A71:F71","v":"Source:  Minnesota Department of Revenue, Tax Research Division, November 2025"}]
["end of worksheet"]

{"sheet":"Rochester","index":23,"n_rows":20,"n_cols":22,"rows_kept":20,"cut":false,"hidden":true,"merged":[[18,0,18,19],[19,0,19,19],[0,0,0,19],[1,0,1,19],[2,0,2,19],[17,0,17,19]]}
["Rochester Monthly Detail for Minnesota Special Sales & Use Tax"]
[{"$f":"'Lod&Liq'!A2","v":"CY 2024"}]
["Rochester Local Lodging Tax (7.0%)"]
["Month",2004,2005,2006,2007,2008,2009,2010,2011,2012,2013,2014,2015,2016,2017,2018,2019,2020,2021,2022,2023,2024]
["January ",164090,254310,230431,214936.44,215187,219802,230819,226469,227584,316491,276423,498368,583431,585628,595437,654674,707500,363727,648504,673130,823064]
["February",226291,203461,221593,254778,271622,246587,254335,260892,268257,293175,576032,563836,600613,646239,785885,741547,790115,452404,645473,795763,769479]
["March",201389.42,201821.13,230752,244291,259616,238978,243619,258253,279494,289490,580655,584804,633584,644701,680458,718788,752735,460773,657008,683147,749880]
["April",231803.38,239447,264322,316518,290281,275026,283127,307302,327836,345829,639856,660835,722774,791365,769275,800759,503735,565927,791672,943167,842890]
["May",218220,333670,242150,269422,289166,277226,282745,296427,296020,454289,660597,665390,694641,795796,876859,909255,120441,610772,757709,845611,974293]
["June",254441.38,254459,281920,297447,289675.01,283789,296915,315254,327237,379282,673502,825652,785418,797138,1056641,906409,-76914,633188,859394,919021,1002961]
["July",225987,274489,286734,315620,292972,277050,281292,282713,346330,320204,616879,454952,484747,742678,796525,825481,524216,888412,893247,952299,1026401]
["August",260890,289438,333137,353282,390628,507583,394423,396274,364198,491300,783975,1127521,1068566,998857,1022774,1185304,682729,746092,798923,935157,978573]
["September",262389,251997.38,318952,340215,335582,354264,334149,337342,374510,402853,743254,832614,856839,892061,951557,953971,567369,752234,878167,968852,995004]
["October",239107,285782,286564,318468,308061,346578,311934,323614,329568,391213,730492,789009,744889,783309,862175,930403,578689,748714,879500,863489,922733]
["November ",247302.58,220259,306029,354962,"* ",325344,278486,323889,377757,402023,768663,809124,824143,976789,1385542,1006928,596522,738673,826017,947037,1035077]
["December",199118,226057,243875,263450,569194,256647,316636,284826,288250,331872,591215,683654,563353,777655,714515,807401,413592,631410,695763,772513,824760]
["Total",{"$f":"SUM(B5:B16)","v":2731028.7600000002},{"$f":"SUM(C5:C16)","v":3035190.51},3246459,3543389.44,3511984.01,3608874,3508480,3613255,{"$f":"SUM(J5:J16)","v":3807041},4418021,7641543,8495759,8562998,9432216,10497643,{"$f":"SUM(Q5:Q16)","v":10440920},{"$f":"SUM(R5:R16)","v":6160729},7592326,9331377,{"$f":"SUM(U5:U16)","v":10299186},{"$f":"SUM(V5:V16)","v":10945115}]
["*Collections for November 2008 are included in December totals due to a new processing system."]
[{"$f":"'Lod&Liq'!A71:F71","v":"Source:  Minnesota Department of Revenue, Tax Research Division, November 2025"}]
["end of worksheet"]

{"sheet":"North Mankato","index":24,"n_rows":20,"n_cols":22,"rows_kept":20,"cut":false,"hidden":true,"merged":[[19,0,19,19],[17,0,17,21],[18,0,18,23],[0,0,0,25],[1,0,1,19],[2,0,2,20]]}
["North Mankato Monthly Detail for Minnesota Special Sales & Use Tax"]
[{"$f":"'Lod&Liq'!A2","v":"CY 2024"}]
["North Mankato Local Food & Beverage Tax (0.5%)"]
["Month",2004,2005,2006,2007,2008,2009,2010,2011,2012,2013,2014,2015,2016,2017,2018,2019,2020,2021,2022,2023,2024]
["January ","-","-","-","-","-","-","-","-","-","-","-","-","-","-","-","-","-",3401,5942,6602,9187]
["February","-","-","-","-","-","-","-","-","-","-","-","-","-","-","-","-","-",4015,4955,6030,7413]
["March","-","-","-","-","-","-","-","-","-","-","-","-","-","-","-","-","-",3725,5129,6259,8035]
["April","-","-","-","-","-","-","-","-","-","-","-","-","-","-","-","-",0,4401,5764,7856,8778]
["May","-","-","-","-","-","-","-","-","-","-","-","-","-","-","-","-",2434,5390,5724,7387,8239]
["June","-","-","-","-","-","-","-","-","-","-","-","-","-","-","-","-",3451,6109,7876,8662,9209]
["July","-","-","-","-","-","-","-","-","-","-","-","-","-","-","-","-",4249,6269,7700,9319,9307]
["August","-","-","-","-","-","-","-","-","-","-","-","-","-","-","-","-",5096,6837,8069,8819,8336]
["September","-","-","-","-","-","-","-","-","-","-","-","-","-","-","-","-",5371,6411,7010,8546,9184.8700000000008]
["October","-","-","-","-","-","-","-","-","-","-","-","-","-","-","-","-",4580,6191,7603,8519,8418]
["November ","-","-","-","-","-","-","-","-","-","-","-","-","-","-","-","-",4872,6162,7222,8684,8827]
["December","-","-","-","-","-","-","-","-","-","-","-","-","-","-","-","-",4001,5261,6020,7448,8162]
["Total","-","-","-","-","-","-","-","-","-",{"$f":"SUM(K5:K16)","v":0},0,0,0,0,0,{"$f":"SUM(Q5:Q16)","v":0},{"$f":"SUM(R5:R16)","v":34054},64172,{"$f":"SUM(T5:T16)","v":79014},{"$f":"SUM(U5:U16)","v":94131},{"$f":"SUM(V5:V16)","v":103095.87}]
["Hidden columns B-Q do not contain any data for CY 2004-2019"]
[{"$f":"'Lod&Liq'!A71:F71","v":"Source:  Minnesota Department of Revenue, Tax Research Division, November 2025"}]
["end of worksheet"]

{"sheet":"St. Cloud","index":25,"n_rows":35,"n_cols":22,"rows_kept":35,"cut":false,"hidden":true,"merged":[[33,0,33,19],[34,0,34,19],[0,0,0,19],[1,0,1,19],[2,0,2,19],[17,0,17,19],[32,0,32,19]]}
["St. Cloud Monthly Detail for Minnesota Special Sales & Use Tax"]
[{"$f":"'Lod&Liq'!A2","v":"CY 2024"}]
["St. Cloud Local Liquor Tax (1.0%)"]
["Month",2004,2005,2006,2007,2008,2009,2010,2011,2012,2013,2014,2015,2016,2017,2018,2019,2020,2021,2022,2023,2024]
["January ",14890,16990,17054,17963,15193,15670,20602,14814,15114,17233,16224,17833,20448,17774,17209,15045,19224,5283,12704,15426,19015]
["February",13839,13189,28376.05,17685,13415,17124,13594,13908,14461,13891,14247,16629,16559,14421,14197,13191,14840,6049,10690,14492,15592]
["March",13187,13256,14527,13955,14918,15258,14608,14189,13943,13796,14161,14402,14572,15016,13093,12607,12602,8525,11585,13734,15208]
["April",15810,16829,17884,19735,15686,16926,16355,22650,16146,16946,18603,17472,17412,18404,17073,19853,7275,10441,14702,19336,19182]
["May",14237,15704,14593,14927,15313,13484,14374,16564,14415,15953,15165,15310,17593,15308,14089,17124,625,10826,14293,16197,16430]
["June",13974,13078,14092,13188,13077,13653,12791,12130,12757,14660,15557,15384,14938,14328,12513,18278,753,11663,12682,17211,15022]
["July",10688,11040,12310,11443,9598,10192,10674,10612,12585,13264,12185,14348,14466,13522,13120,17202,7171,11799,13827,16694,15368]
["August",16485,14397,13722,13937,12664,14919,14938,11690,13075,13507,14787,13596,14374,12463,11892,16242,8288,11707,15456,12954,14583]
["September",12519,12867,14461,13896,12328,12657,14209,12782,13931,14958,15349,15120,15016,13460,13013,17837,9234,12174,12930,13820,15293]
["October",15034,15521,15368,18005,13695,14053,16075,13466,14774,15422,15350,14978,16274,15336,14170,17438,9207,12141,14892,15620,14838]
["November ",15766,15623,15884,15511,"*  ",15125,14860,15124,17064,16002,16713,17020,16780,14525,14169,14336,9853,13577,15330,17214,16230]
["December",10892.61,13029,13842,12925,26294,13016,12977,12234,13552,15030,14565,14572,13954,13948,12596,13257,4720,11745,11765,14352,15009]
["Total",{"$f":"SUM(B5:B16)","v":167321.60999999999},{"$f":"SUM(C5:C16)","v":171523},192113.05,183170,162181,172077,176057,170163,{"$f":"SUM(J5:J16)","v":171817},180662,182906,186664,192386,178505,167134,{"$f":"SUM(Q5:Q16)","v":192410},{"$f":"SUM(R5:R16)","v":103792},125930,160856,{"$f":"SUM(U5:U16)","v":187050},{"$f":"SUM(V5:V16)","v":191770}]
["St. Cloud Local Food & Beverage Tax (1.0%)"]
["Month",2004,2005,2006,2007,2008,2009,2010,2011,2012,2013,2014,2015,2016,2017,2018,2019,2020,2021,2022,2023,2024]
["January ",88110,96636,95664,99292,94090,90769,106753,88749,97063,101064,95940,106395,109806,107856,117169,114047,124060,87058,109844,122763,131899]
["February",79691,77456,87233.42,87884,81800,108390,80850,82908,82242,88334,86733,107019,108575,112379,104171,107451,112705,92391,108534,123669,123171]
["March",77448,83267.05,82541,87558.93,91300,90722,83583,82663,90036,86881,89797,100017,100348,109195,105295,105749,118054,88527,99771,123432,124306]
["April",91369,91448,96231,102107,92286,97056,94595,94485,101339,102180,105761,111792,108762,115940,121641,125209,89623,111506,117153,134855,144355]
["May",83612.69,91769,86416,92419,92080,132016,93737,95821,95283,97462,99536,107136,117454,110005,128126,127635,70075,108355,108566,130481,136176]
["June",83394,89203,90620,91224,94915,91401,89274,88421,91563,98837,100030,108624,109491,107283,114781,122750,83558,115602,148225,132736,134894]
["July",61739,72756,74967,79172,69340,74207,76465,72690,74148,79975,80630,89586,96580,93394,107427,104781,79063,108987,120902,142301,142469]
["August",122708,104869,102518,106167,99896,96546,101713,101033,114420,107387,121440,117940,117739,137926,127010,132585,121392,131603,116547,127737,131289]
["September",89007,90062,91219,95604,95054,90740,90104,97435,100657,100679,106349,110781,110567,118089,124735,123557,105517,119209,125515,131049,139755.57]
["October",90209,93580.97,94024,98868.41,96735,88762,91568,101373,101639,98788,104694,107329,111846,115399,118580,117632,105321,116662,125314,131044,127048]
["November ",88458,90186,89088,93360,"*  ",89766,91501,92679,97150,100091,106005,110379,112264,119569,126185,126018,104808,116839,131524,134021,140379.46]
["December",76348.800000000003,81771,83199,85915.7,150407,81526,80916,82488,89910,92661,94061,94711,92630,104986,111451,111279,83640,103726,120099,123173,130443]
["Total",{"$f":"SUM(B20:B31)","v":1032094.49},{"$f":"SUM(C20:C31)","v":1063004.02},1073720.42,1119572.04,1057903,1131901,1081059,1080745,{"$f":"SUM(J20:J31)","v":1135450},1154339,1190976,1271709,1296062,1352021,1406571,{"$f":"SUM(Q20:Q31)","v":1418693},{"$f":"SUM(R20:R31)","v":1197816},1300465,1431994,{"$f":"SUM(U20:U31)","v":1557261},{"$f":"SUM(V20:V31)","v":1606185.03}]
["*Collections for November 2008 are included in December totals due to a new processing system."]
[{"$f":"'Lod&Liq'!A71:F71","v":"Source:  Minnesota Department of Revenue, Tax Research Division, November 2025"}]
["end of worksheet"]

{"sheet":"St. Paul","index":26,"n_rows":35,"n_cols":22,"rows_kept":35,"cut":false,"hidden":true,"merged":[[33,0,33,19],[34,0,34,19],[0,0,0,19],[1,0,1,19],[2,0,2,19],[17,0,17,19],[32,0,32,19]]}
["St. Paul Monthly Detail for Minnesota Special Sales & Use Tax"]
[{"$f":"'Lod&Liq'!A2","v":"CY 2024"}]
["St. Paul Local Lodging Tax - Less than 50 Rooms (3.0%)"]
["Month",2004,2005,2006,2007,2008,2009,2010,2011,2012,2013,2014,2015,2016,2017,2018,2019,2020,2021,2022,2023,2024]
["January ","-",2030,2460,2581,"-",2552,3167,4305,5190,4869,5174,2647,3560,3700,2922,-74539,16230,8108,16690,22949,25969]
["February","-",2113,2632,2492,"-",2648,2575,3910,4259,4389,4156,3765,2719,6025,5096,14749,15667,-34517,18771,26737,33477]
["March","-",1914,2226,2188,"-",-14107,2633,4760,5180,5011,4241,1856,6408,2025,10986,12748,15965,11216,20325,25934,38677]
["April","-",1905,2593,2507,"-",2843,4066,5495,6550,5963,5239,2651,3117,3320,4548,66703,3623,19060,30071,32917,44745]
["May",397,2111,2280,2369,"-",2565,3423,5392,4850,5302,4606,1977,2402,2943,3219,15061,1721,18980,27693,34296,42917]
["June",943,2203,2528,2451,"-",2585,3497,4476,5413,5141,5449,2622,2408,2653,3030,17421,-247502,19426,28905,37641,42145]
["July",3907,2253,3005,2667,"-",3456,4621,6641,6610,7316,7715,3555,3573,5134,6031,19638,8750,20378,29398,39924,41038]
["August",1178,2659,2868,2120,"-",3939,6931,5412,6269,5935,2379,2287,3046,2834,3727,17341,54731,19410,28412,39752,45500]
["September",1281,2679,2983,3112,"-",3159,5184,5923,6427,6351,2548,2900,3191,3178,4346,16930,12203,17110,28084,43001,42539]
["October",4441,2708,2825,2530,"-",3621,5512,6870,6383,6361,3275,4577,4347,3824,4822,17701,12428,18888,31634,38063,39583]
["November ",2114,2515,2687,2476,"*",2641,3603,5102,5836,4425,2344,2520,2902,1812,295594,12934,10448,19016,23584,34720,34773]
["December",1985,2220,2401,2306,21584,2476,4973,6914,4497,3821,1979,2068,2117,1711,106139,11322,6751,17730,21165,30922,28000]
["Total",{"$f":"SUM(B5:B16)","v":16246},{"$f":"SUM(C5:C16)","v":27310},31488,29799,21584,18378,50185,65200,{"$f":"SUM(J5:J16)","v":67464},64884,49105,33425,39790,39159,450460,{"$f":"SUM(Q5:Q16)","v":148009},{"$f":"SUM(R5:R16)","v":-88985},154805,304732,{"$f":"SUM(U5:U16)","v":406856},{"$f":"SUM(V5:V16)","v":459363}]
["St. Paul Local Lodging Tax - 50 Rooms or More (6.0%)"]
["Month",2004,2005,2006,2007,2008,2009,2010,2011,2012,2013,2014,2015,2016,2017,2018,2019,2020,2021,2022,2023,2024]
["January ","-",143542,213378,175664,173357,227336,159255,167079,171590,156476,191806,205432,231242,246952,252734,257066,266036,86325,227671,261827,294345]
["February","-",159070,185784,176483,247879,195855,184621,203130,206637,218114,212468,252236,272391,252396,293624,237049,340148,81505,171864,259818,274038]
["March","-",197753,180692,198369,244874,202298,174755,198605,232461,228965,248072,259345,321383,329116,446920,313546,379173,76665,181172,304354,326926]
["April","-",233196,281952,277114,314709,327450,305268,305209,315199,311910,301148,283141,317495,421181,393602,385572,187626,101742,434115,456459,424246]
["May",225244,226986,244114,250307,311798.81,194661,227014,262064,243817,293646,259559,290521,347885,327052,386772,383204,55952,124135,331687,349000,491813]
["June",223800,256778,236899,248329,255858,217835,254424,244256,260561,280410,263273,376573,314186,339505,325950,325370,69416,146970,329045,386607,394781]
["July",163660,172635,133104,134796,196764,191111,281289,227434,268190,268121,314780,317154,216838,400969,449495,287104,85671,167699,393856,482542,489323]
["August",376495,367400,403975,438503,309866,306780,264597,340182,294774,293005,343922,390373,528047,411571,376765,570495,92483,273547,485715,419750,585353]
["September",275272,313812,284902,290002,303851,245351,264733,316803,336470,294655,370176,360007,411083,426532,424416,420749,98918,285746,487301,501288,517744]
["October",278813,295512,303088,292242,355325,249145,279146,280433,281946,338427,333174,348819,463159,402770,433308,441855,138882,285557,469464,501694,477347]
["November ",291329,295157,282351,348155,"*",268181,188639,288944,307537,345129,350453,372214,459151,402028,465824,469482,90060,276664,406529,443333,489138]
["December",188743,136101,224088,220697,417603,182771,299769,206978,214058,236637,244743,268993,202166,299573,300547,317263,65692,203939,318825,392021,363245]
["Total",{"$f":"SUM(B20:B31)","v":2023356},{"$f":"SUM(C20:C31)","v":2797942},2974327,3050661,3131884.81,2808774,2883510,3041117,{"$f":"SUM(J20:J31)","v":3133240},3265495,3433574,3724808,4085026,4259645,4549957,{"$f":"SUM(Q20:Q31)","v":4408755},{"$f":"SUM(R20:R31)","v":1870057},2110494,4237244,{"$f":"SUM(U20:U31)","v":4758693},{"$f":"SUM(V20:V31)","v":5128299}]
["*Collections for November 2008 are included in December totals due to a new processing system."]
[{"$f":"'Lod&Liq'!A71:F71","v":"Source:  Minnesota Department of Revenue, Tax Research Division, November 2025"}]
["end of worksheet"]

{"sheet":"Metro Area Transit","index":27,"n_rows":22,"n_cols":22,"rows_kept":22,"cut":false,"hidden":true,"merged":[[20,0,20,19],[21,0,21,19],[0,0,0,19],[1,0,1,19],[2,0,2,19],[17,0,17,19],[18,0,18,19],[19,0,19,19]]}
["Metro Area Transit Monthly Detail for Minnesota Special Sales & Use Tax"]
[{"$f":"'Lod&Liq'!A2","v":"CY 2024"}]
["Metro Area Transit Improvement Local Excise Tax (Vehicle Excise)"]
["Month",2004,2005,2006,2007,2008,2009,2010,2011,2012,2013,2014,2015,2016,2017,2018,2019,2020,2021,2022,2023,2024]
["January ","-","-","-","-","-",414620,530620,694800,492562,-1144660,-1290860,-23020,534900,595900,18480,17240,-57020,0,-40,0,0]
["February","-","-","-","-","-",326160,326880,385480,333060,2024900,421000,505320,464760,483300,9700,17160,-800,80,1040,0,0]
["March","-","-","-","-","-",321040,271040,347560,377920,375000,2211660,439713,607540,484503,6180,-58480,-58260,0,0,0,0]
["April","-","-","-","-","-",390380,445080,527320,561620,524620,616500,603867,569329,621300,6180,60,2700,0,0,0,0]
["May","-","-","-","-","-",357300,369940,446760,421500,471540,509240,521293,534940,550080,32339,80,300,0,0,0,8900]
["June","-","-","-","-","-",348720,361340,444800,466640,779720,588220,539940,556580,583960,20600,3280,140,0,0,0,0]
["July","-","-","-","-","-",365240,369720,440740,419560,557340,475860,1100400,553120,559360,36240,0,6000,4840,0,0,0]
["August","-","-","-","-",361520,450340,413680,465760,533300,594360,596400,597900,601400,622604,2600,0,0,40,0,-1000,0]
["September","-","-","-","-",387920,436700,363680,452540,461860,580693,543020,583558,627220,579820,1560,1000,3820,24140,0,0,0]
["October","-","-","-","-",203020,364300,395180,479400,498660,525681,659710,602060,596400,607080,680,2520,0,0,0,0,0]
["November ","-","-","-","-","*  ",283840,343900,410880,417960,469249,522263,529490,516252,10400,320,60220,3160,0,0,0,0]
["December","-","-","-","-",525200,255920,309000,381900,383280,450240,520859,457140,498640,7740,2063,-58360,0,0,0,0,0]
["Total","-","-","-","-",{"$f":"SUM(F5:F16)","v":1477660},4314560,4500060,5477940,5367922,6208683,{"$f":"SUM(L5:L16)","v":6373872},6457661,6661081,5706047,136942,-15280,{"$f":"SUM(R5:R16)","v":-99960},{"$f":"SUM(S5:S16)","v":29100},1000,{"$f":"SUM(U5:U16)","v":-1000},{"$f":"SUM(V5:V16)","v":8900}]
["Hidden columns B-E do not contain any data for CY 2004-2007"]
["Note: Tax ended September 30, 2017. Collections in later months are late tax payments or refunds."]
["*Collections for November 2008 are included in December totals due to a new processing system."]
[{"$f":"'Lod&Liq'!A71:F71","v":"Source:  Minnesota Department of Revenue, Tax Research Division, November 2025"}]
["end of worksheet"]

{"sheet":"Willmar","index":28,"n_rows":20,"n_cols":22,"rows_kept":20,"cut":false,"hidden":true,"merged":[[19,0,19,19],[0,0,0,21],[2,0,2,19],[1,0,1,19],[18,0,18,19],[17,0,17,19]]}
["Willmar Monthly Detail for Minnesota Special Sales & Use Tax"]
[{"$f":"'Lod&Liq'!A2","v":"CY 2024"}]
["Willmar Vehicle Excise ($20)"]
["Month",2004,2005,2006,2007,2008,2009,2010,2011,2012,2013,2014,2015,2016,2017,2018,2019,2020,2021,2022,2023,2024]
["January ","-","-","-","-","-","-","-","-","-","-","-","-","-","-","-","-",4940,5260,3860,3860,4420]
["February","-","-","-","-","-","-","-","-","-","-","-","-","-","-","-","-",5080,5540,5280,5320,6040]
["March","-","-","-","-","-","-","-","-","-","-","-","-","-","-","-","-",5420,5400,5960,4580,4580]
["April","-","-","-","-","-","-","-","-","-","-","-","-","-","-","-","-",3460,6180,4460,4680,5140]
["May","-","-","-","-","-","-","-","-","-","-","-","-","-","-","-","-",3720,4500,3840,4800,4900]
["June","-","-","-","-","-","-","-","-","-","-","-","-","-","-","-","-",5220,5580,4120,4500,4920]
["July","-","-","-","-","-","-","-","-","-","-","-","-","-","-","-","-",6340,5300,4400,4400,4320]
["August","-","-","-","-","-","-","-","-","-","-","-","-","-","-","-","-",5940,4840,4540,4560,5000]
["September","-","-","-","-","-","-","-","-","-","-","-","-","-","-","-","-",5200,5180,5400,4440,4780]
["October","-","-","-","-","-","-","-","-","-","-","-","-","-","-","-","-",5280,4400,4720,4660,4500]
["November ","-","-","-","-","-","-","-","-","-","-","-","-","-","-","-",4260,5360,3740,4560,4200,4840]
["December","-","-","-","-","-","-","-","-","-","-","-","-","-","-","-",2660,4220,3660,5000,5280,4040]
["Total",{"$f":"SUM(B5:B16)","v":0},{"$f":"SUM(C5:C16)","v":0},0,0,0,0,0,0,0,0,0,0,0,0,0,6920,{"$f":"SUM(R5:R16)","v":60180},59580,{"$f":"SUM(T5:T16)","v":56140},{"$f":"SUM(U5:U16)","v":55280},{"$f":"SUM(V5:V16)","v":57480}]
["Hidden columns B-P do not contain any data for CY 2004-2018"]
[{"$f":"'Lod&Liq'!A71:F71","v":"Source:  Minnesota Department of Revenue, Tax Research Division, November 2025"}]
["end of worksheet"]

{"sheet":"Rogers","index":29,"n_rows":20,"n_cols":22,"rows_kept":20,"cut":false,"hidden":true,"merged":[[19,0,19,19],[0,0,0,23],[1,0,1,19],[2,0,2,19],[17,0,17,20],[18,0,18,19]]}
["Rogers Monthly Detail for Minnesota Special Sales & Use Tax"]
[{"$f":"'Lod&Liq'!A2","v":"CY 2024"}]
["Rogers Vehicle Excise ($20)"]
["Month",2004,2005,2006,2007,2008,2009,2010,2011,2012,2013,2014,2015,2016,2017,2018,2019,2020,2021,2022,2023,2024]
["January ","-","-","-","-","-","-","-","-","-","-","-","-","-","-","-","-",4980,6400,5640,4620,5120]
["February","-","-","-","-","-","-","-","-","-","-","-","-","-","-","-","-",5820,5560,4120,4500,4500]
["March","-","-","-","-","-","-","-","-","-","-","-","-","-","-","-","-",5860,5840,6100,5200,5120]
["April","-","-","-","-","-","-","-","-","-","-","-","-","-","-","-","-",6160,8800,5460,6380,5200]
["May","-","-","-","-","-","-","-","-","-","-","-","-","-","-","-","-",5060,8320,5280,5820,5760]
["June","-","-","-","-","-","-","-","-","-","-","-","-","-","-","-","-",6940,7140,4640,6160,5200]
["July","-","-","-","-","-","-","-","-","-","-","-","-","-","-","-","-",8200,6440,5380,7800,6040]
["August","-","-","-","-","-","-","-","-","-","-","-","-","-","-","-","-",7560,6380,4740,6720,6200]
["September","-","-","-","-","-","-","-","-","-","-","-","-","-","-","-","-",6120,5960,5600,6320,5340]
["October","-","-","-","-","-","-","-","-","-","-","-","-","-","-","-",0,7200,4920,5000,5820,5240]
["November ","-","-","-","-","-","-","-","-","-","-","-","-","-","-","-",6420,5800,5080,5280,6620,5460]
["December","-","-","-","-","-","-","-","-","-","-","-","-","-","-","-",6860,4920,5040,4480,6420,6080]
["Total",{"$f":"SUM(B5:B16)","v":0},{"$f":"SUM(C5:C16)","v":0},0,0,0,0,0,0,0,0,0,0,0,0,0,13280,{"$f":"SUM(R5:R16)","v":74620},75880,61720,{"$f":"SUM(U5:U16)","v":72380},{"$f":"SUM(V5:V16)","v":65260}]
["Hidden columns B-P do not contain any data for CY 2004-2018"]
[{"$f":"'Lod&Liq'!A71:F71","v":"Source:  Minnesota Department of Revenue, Tax Research Division, November 2025"}]
["end of worksheet"]

{"sheet":"Lake of the Woods","index":30,"n_rows":20,"n_cols":22,"rows_kept":20,"cut":false,"hidden":true,"merged":[[19,0,19,19],[0,0,0,26],[17,0,17,21],[18,0,18,23],[1,0,1,19],[2,0,2,19]]}
["Lake of the Woods Monthly Detail for Minnesota Special Sales & Use Tax"]
[{"$f":"'Lod&Liq'!A2","v":"CY 2024"}]
["Lake of the Woods Lodging Tax"]
["Month",2004,2005,2006,2007,2008,2009,2010,2011,2012,2013,2014,2015,2016,2017,2018,2019,2020,2021,2022,2023,2024]
["January ","-","-","-","-","-","-","-","-","-","-","-","-","-","-","-","-","-","-",40550,36691,22934]
["February","-","-","-","-","-","-","-","-","-","-","-","-","-","-","-","-","-",87169,102639,130963,103119]
["March","-","-","-","-","-","-","-","-","-","-","-","-","-","-","-","-","-",72469,77551,65658,59372]
["April","-","-","-","-","-","-","-","-","-","-","-","-","-","-","-","-","-",41073,48718,38042,25566]
["May","-","-","-","-","-","-","-","-","-","-","-","-","-","-","-","-","-",15126,10622,10304,10811]
["June","-","-","-","-","-","-","-","-","-","-","-","-","-","-","-","-","-",32496,29848,28607,30013]
["July","-","-","-","-","-","-","-","-","-","-","-","-","-","-","-","-","-",64844,60303,62472,57297]
["August","-","-","-","-","-","-","-","-","-","-","-","-","-","-","-","-","-",53805,40425,50724,45895]
["September","-","-","-","-","-","-","-","-","-","-","-","-","-","-","-","-","-",54298,46666,45529,42608]
["October","-","-","-","-","-","-","-","-","-","-","-","-","-","-","-","-","-",44195,40480,38683,38113]
["November ","-","-","-","-","-","-","-","-","-","-","-","-","-","-","-","-","-",32279,30600,28008,23755]
["December","-","-","-","-","-","-","-","-","-","-","-","-","-","-","-","-","-",5063,4296,2825,4456]
["Total",{"$f":"SUM(B5:B16)","v":0},{"$f":"SUM(C5:C16)","v":0},0,0,0,0,0,0,0,0,0,0,0,0,0,0,0,502817,{"$f":"SUM(T5:T16)","v":532698},{"$f":"SUM(U5:U16)","v":538506},{"$f":"SUM(V5:V16)","v":463939}]
["Hidden columns B-R do not contain any data for CY 2004-2020"]
[{"$f":"'Lod&Liq'!A71:F71","v":"Source:  Minnesota Department of Revenue, Tax Research Division, November 2025"}]
["end of worksheet"]

{"sheet":"Sauk Centre","index":31,"n_rows":20,"n_cols":22,"rows_kept":20,"cut":false,"hidden":true,"merged":[[19,0,19,19],[1,0,1,19],[0,0,0,23],[2,0,2,19],[18,0,18,21],[17,0,17,19]]}
["Sauk Centre Monthly Detail for Minnesota Special Sales & Use Tax"]
[{"$f":"'Lod&Liq'!A2","v":"CY 2024"}]
["Sauk Centre Vehicle Excise ($20)"]
["Month",2004,2005,2006,2007,2008,2009,2010,2011,2012,2013,2014,2015,2016,2017,2018,2019,2020,2021,2022,2023,2024]
["January ","-","-","-","-","-","-","-","-","-","-","-","-","-","-","-","-",0,2900,2540,2300,2120]
["February","-","-","-","-","-","-","-","-","-","-","-","-","-","-","-","-",2080,2440,1920,1760,1960]
["March","-","-","-","-","-","-","-","-","-","-","-","-","-","-","-","-",2660,2400,3600,2020,2140]
["April","-","-","-","-","-","-","-","-","-","-","-","-","-","-","-","-",2300,4160,2860,1980,2300]
["May","-","-","-","-","-","-","-","-","-","-","-","-","-","-","-","-",2360,7300,2120,2200,2260]
["June","-","-","-","-","-","-","-","-","-","-","-","-","-","-","-","-",2640,2440,1420,2080,1960]
["July","-","-","-","-","-","-","-","-","-","-","-","-","-","-","-","-",2560,3180,2160,2660,1860]
["August","-","-","-","-","-","-","-","-","-","-","-","-","-","-","-","-",1700,2720,2460,1760,1740]
["September","-","-","-","-","-","-","-","-","-","-","-","-","-","-","-","-",3180,2240,2120,1780,2140]
["October","-","-","-","-","-","-","-","-","-","-","-","-","-","-","-","-",3380,2820,2420,2300,2040]
["November ","-","-","-","-","-","-","-","-","-","-","-","-","-","-","-","-",2260,2740,1660,1860,2360]
["December","-","-","-","-","-","-","-","-","-","-","-","-","-","-","-","-",3280,2200,1680,1680,1760]
["Total",{"$f":"SUM(B5:B16)","v":0},{"$f":"SUM(C5:C16)","v":0},0,0,0,0,0,0,0,0,0,0,0,0,0,0,{"$f":"SUM(R5:R16)","v":28400},37540,26960,{"$f":"SUM(U5:U16)","v":24380},{"$f":"SUM(V5:V16)","v":24640}]
["Hidden columns B-P do not contain any data for CY 2004-2018"]
[{"$f":"'Lod&Liq'!A71:F71","v":"Source:  Minnesota Department of Revenue, Tax Research Division, November 2025"}]
["end of worksheet"]

{"sheet":"Lake","index":32,"n_rows":20,"n_cols":22,"rows_kept":20,"cut":false,"hidden":true,"merged":[[19,0,19,19],[1,0,1,19],[17,0,17,22],[18,0,18,24],[0,0,0,23],[2,0,2,19]]}
["Lake County Monthly Detail for Minnesota Special Sales & Use Tax"]
[{"$f":"'Lod&Liq'!A2","v":"CY 2024"}]
["Lake County Local Lodging Tax (4%)"]
["Month",2004,2005,2006,2007,2008,2009,2010,2011,2012,2013,2014,2015,2016,2017,2018,2019,2020,2021,2022,2023,2024]
["January ","-","-","-","-","-","-","-","-","-","-","-","-","-","-","-","-","-",58629,75047,72728,71196]
["February","-","-","-","-","-","-","-","-","-","-","-","-","-","-","-","-","-",61244,73760,83508,72110]
["March","-","-","-","-","-","-","-","-","-","-","-","-","-","-","-","-","-",72249,82352,71519,67453]
["April","-","-","-","-","-","-","-","-","-","-","-","-","-","-","-","-","-",93659,90301,80884,80331]
["May","-","-","-","-","-","-","-","-","-","-","-","-","-","-","-","-","-",85110,75334,62892,57935]
["June","-","-","-","-","-","-","-","-","-","-","-","-","-","-","-","-","-",119393,115190,112034,128460]
["July","-","-","-","-","-","-","-","-","-","-","-","-","-","-","-","-","-",183650,214428,217513,219060]
["August","-","-","-","-","-","-","-","-","-","-","-","-","-","-","-","-","-",275728,267051,254744,247634]
["September","-","-","-","-","-","-","-","-","-","-","-","-","-","-","-","-","-",230795,245368,262777,255058]
["October","-","-","-","-","-","-","-","-","-","-","-","-","-","-","-","-","-",220734,233179,247860,225163]
["November ","-","-","-","-","-","-","-","-","-","-","-","-","-","-","-","-",120130,152806,159004,155330,160919]
["December","-","-","-","-","-","-","-","-","-","-","-","-","-","-","-","-",44201,66835,61128,57275,62095]
["Total",{"$f":"SUM(B5:B16)","v":0},{"$f":"SUM(C5:C16)","v":0},0,0,0,0,0,0,0,0,0,0,0,0,0,0,{"$f":"SUM(R5:R16)","v":164331},1620832,1692142,{"$f":"SUM(U5:U16)","v":1679064},{"$f":"SUM(V5:V16)","v":1647414}]
["Hidden columns B-Q do not contain any data for CY 2004-2019"]
[{"$f":"'Lod&Liq'!A71:F71","v":"Source:  Minnesota Department of Revenue, Tax Research Division, November 2025"}]
["end of worksheet"]

{"sheet":"Two Harbors","index":33,"n_rows":21,"n_cols":22,"rows_kept":21,"cut":false,"hidden":true,"merged":[[0,0,0,23],[20,0,20,19],[1,0,1,19],[17,0,17,22],[19,0,19,24],[18,0,18,24],[2,0,2,19]]}
["Two Harbors Monthly Detail for Minnesota Special Sales & Use Tax"]
[{"$f":"'Lod&Liq'!A2","v":"CY 2024"}]
["Two Harbors Local Lodging Tax (1%)*"]
["Month",2004,2005,2006,2007,2008,2009,2010,2011,2012,2013,2014,2015,2016,2017,2018,2019,2020,2021,2022,2023,2024]
["January ","-","-","-","-","-","-","-","-","-","-","-","-","-","-","-","-","-",1521,7519,4419,4440]
["February","-","-","-","-","-","-","-","-","-","-","-","-","-","-","-","-","-",2642,4741,6567,5372]
["March","-","-","-","-","-","-","-","-","-","-","-","-","-","-","-","-","-",2846,5248,1709,3931]
["April","-","-","-","-","-","-","-","-","-","-","-","-","-","-","-","-","-",4244,5373,5238,5326]
["May","-","-","-","-","-","-","-","-","-","-","-","-","-","-","-","-","-",4458,4305,3934,4349]
["June","-","-","-","-","-","-","-","-","-","-","-","-","-","-","-","-","-",6213,6963,6262,6489]
["July","-","-","-","-","-","-","-","-","-","-","-","-","-","-","-","-","-",7183,10939,10727,10918]
["August","-","-","-","-","-","-","-","-","-","-","-","-","-","-","-","-","-",16385,13708,13172,13136]
["September","-","-","-","-","-","-","-","-","-","-","-","-","-","-","-","-","-",12456,14414,13957,13355]
["October","-","-","-","-","-","-","-","-","-","-","-","-","-","-","-","-","-",11156,11774,12952,10991]
["November ","-","-","-","-","-","-","-","-","-","-","-","-","-","-","-","-",5557,9813,9574,8725,10122]
["December","-","-","-","-","-","-","-","-","-","-","-","-","-","-","-","-",1934,3616,3520,3185,3727]
["Total",{"$f":"SUM(B5:B16)","v":0},{"$f":"SUM(C5:C16)","v":0},0,0,0,0,0,0,0,0,0,0,0,0,0,0,{"$f":"SUM(R5:R16)","v":7491},82533,98078,{"$f":"SUM(U5:U16)","v":90847},{"$f":"SUM(V5:V16)","v":92156}]
["Hidden columns B-Q do not contain any data for CY 2004-2019"]
["*The Minnesota Department of Revenue took over Two Harbors Local Lodging Tax administration on October 1, 2020. To see figures prior to this date select Two Harbors under Locally Administered."]
[{"$f":"'Lod&Liq'!A71:F71","v":"Source:  Minnesota Department of Revenue, Tax Research Division, November 2025"}]
["end of worksheet"]